{"text_format":"1","workbook":"xlsx","n_sheets":18,"sheets":["PLZ 2018-06","A Cockpit","Grunddaten","Notizen","Kundendaten","Branche","Basisdaten","Berechnung Grund","Sach","Berechnung Sparten","Hpfl","RS","Druck","Übersicht und Druck","Antrag","RS Grunddeckung","Tabelle2","Branchenverzeichnis"],"not_rendered":{"charts":0,"images":24,"macros":1,"external_links":0,"defined_names":31,"comments":9,"pivot_tables":0},"unopened":[],"bounds":{"document_bytes":16777216,"sheet_cells":100000,"rows_first":2000,"rows_last":500,"rows_between":2000,"halvings":0,"cell_chars":16384,"cell_head_chars":4096},"cells_cut":0,"cells_raw":0,"read":"whole","date_system":"1900"}

{"sheet":"PLZ 2018-06","index":0,"n_rows":2586,"n_cols":11,"rows_kept":2586,"cut":false,"hidden":true,"merged":[]}
["PLZ","Ort","Bundesland","gültig ab","gültig bis","NamePLZTyp","intern_extern","adressierbar","Postfach","PLZ","Anleitung"]
[{"$f":"J2*1","v":1000},"Wien","W","01.08.2009",null,"PLZ-Postfach","extern","Nein","Ja","1000"]
[{"$f":"J3*1","v":1004},"Wien","W","01.01.1966",null,"InteressentenPLZ","extern","Nein","Ja","1004"]
[1006,"Wien","W","01.02.2015",null,"PLZ-Postfach","extern","Nein","Ja","1006"]
[1010,"Wien","W","01.01.1966",null,"PLZ-Adressierung","extern","Ja","Ja","1010"]
[1011,"Wien Postfach","W","01.01.1966",null,"PLZ-Postfach","extern","Nein","Ja","1011"]
[1015,"Wien","W","01.01.1966",null,"PLZ-Postfach","extern","Nein","Ja","1015"]
[1016,"Wien","W","01.01.1966",null,"PLZ-Postfach","extern","Nein","Ja","1016"]
[1017,"Wien-Parlament","W","22.04.2015",null,"InteressentenPLZ","extern","Nein","Ja","1017"]
[1018,"Wien","W","01.01.1966",null,"PLZ-Postfach","extern","Nein","Ja","1018"]
[1020,"Wien","W","01.01.1966",null,"PLZ-Adressierung","extern","Ja","Ja","1020"]
[1021,"Wien Postfach","W","01.01.1966",null,"PLZ-Postfach","extern","Nein","Ja","1021"]
[1022,"Wien","W","01.01.1966",null,"PLZ-Postfach","extern","Nein","Ja","1022"]
[1023,"Wien","W","01.01.1966",null,"PLZ-Postfach","extern","Nein","Ja","1023"]
[1024,"Wien","W","01.01.1966",null,"PLZ-Postfach","extern","Nein","Ja","1024"]
[1025,"Wien","W","01.01.1966",null,"PLZ-Postfach","extern","Nein","Ja","1025"]
[1026,"Wien","W","01.01.2012",null,"PLZ-Postfach","extern","Nein","Ja","1026"]
[1029,"Wien","W","30.07.2004",null,"InteressentenPLZ","extern","Nein","Ja","1029"]
[1030,"Wien","W","01.01.1966",null,"PLZ-Adressierung","extern","Ja","Ja","1030"]
[1031,"Wien Postfach","W","01.01.1966",null,"PLZ-Postfach","extern","Nein","Ja","1031"]
[1032,"Wien","W","22.08.2012",null,"PLZ-Postfach","extern","Nein","Ja","1032"]
[1033,"Wien","W","01.01.1966",null,"PLZ-Postfach","extern","Nein","Ja","1033"]
[1035,"Wien","W","01.01.1966",null,"PLZ-Postfach","extern","Nein","Ja","1035"]
[1037,"Wien","W","01.01.1966",null,"PLZ-Postfach","extern","Nein","Ja","1037"]
[1038,"Wien","W","01.01.1966",null,"InteressentenPLZ","extern","Nein","Ja","1038"]
[1039,"Wien","W","01.08.2005",null,"InteressentenPLZ","extern","Nein","Ja","1039"]
[1040,"Wien","W","01.01.1966",null,"PLZ-Adressierung","extern","Ja","Ja","1040"]
[1041,"Wien Postfach","W","01.01.1966",null,"PLZ-Postfach","extern","Nein","Ja","1041"]
[1042,"Wien","W","01.01.1966",null,"PLZ-Postfach","extern","Nein","Ja","1042"]
[1043,"Wien","W","01.01.1966",null,"PLZ-Postfach","extern","Nein","Ja","1043"]
[1045,"Wien","W","01.01.1966",null,"InteressentenPLZ","extern","Nein","Ja","1045"]
[1047,"Wien","W","01.10.2011",null,"PLZ-Postfach","extern","Nein","Ja","1047"]
[1050,"Wien","W","01.01.1966",null,"PLZ-Adressierung","extern","Ja","Ja","1050"]
[1051,"Wien Postfach","W","01.01.1966",null,"PLZ-Postfach","extern","Nein","Ja","1051"]
[1052,"Wien","W","01.01.1966",null,"PLZ-Postfach","extern","Nein","Ja","1052"]
[1053,"Wien","W","01.01.1966",null,"PLZ-Postfach","extern","Nein","Ja","1053"]
[1060,"Wien","W","01.01.1966",null,"PLZ-Adressierung","extern","Ja","Ja","1060"]
[1061,"Wien Postfach","W","01.01.1966",null,"PLZ-Postfach","extern","Nein","Ja","1061"]
[1062,"Wien","W","01.01.1966",null,"PLZ-Postfach","extern","Nein","Ja","1062"]
[1063,"Wien-VÖPh","W","01.01.1966",null,"InteressentenPLZ","extern","Nein","Ja","1063"]
[1064,"Wien","W","01.01.1966",null,"PLZ-Postfach","extern","Nein","Ja","1064"]
[1065,"Wien","W","01.09.2012",null,"PLZ-Postfach","extern","Nein","Ja","1065"]
[1070,"Wien","W","01.01.1966",null,"PLZ-Adressierung","extern","Ja","Ja","1070"]
[1071,"Wien Postfach","W","01.01.1966",null,"PLZ-Postfach","extern","Nein","Ja","1071"]
[1072,"Wien","W","01.01.1966",null,"PLZ-Postfach","extern","Nein","Ja","1072"]
[1075,"Wien","W","01.09.2012",null,"PLZ-Postfach","extern","Nein","Ja","1075"]
[1080,"Wien","W","01.01.1966",null,"PLZ-Adressierung","extern","Ja","Ja","1080"]
[1081,"Wien Postfach","W","01.01.1966",null,"PLZ-Postfach","extern","Nein","Ja","1081"]
[1082,"Wien","W","01.01.1966",null,"PLZ-Postfach","extern","Nein","Ja","1082"]
[1090,"Wien","W","01.01.1966",null,"PLZ-Adressierung","extern","Ja","Ja","1090"]
[1091,"Wien Postfach","W","01.01.1966",null,"PLZ-Postfach","extern","Nein","Ja","1091"]
[1092,"Wien","W","01.01.1966",null,"PLZ-Postfach","extern","Nein","Ja","1092"]
[1094,"Wien","W","01.01.1966",null,"PLZ-Postfach","extern","Nein","Ja","1094"]
[1095,"Wien","W","01.01.1966",null,"PLZ-Postfach","extern","Nein","Ja","1095"]
[1097,"Wien","W","01.01.1966",null,"PLZ-Postfach","extern","Nein","Ja","1097"]
[1100,"Wien","W","01.01.1966",null,"PLZ-Adressierung","extern","Ja","Ja","1100"]
[1101,"Wien Postfach","W","01.01.1966",null,"PLZ-Postfach","extern","Nein","Ja","1101"]
[1102,"Wien","W","01.01.1966",null,"PLZ-Postfach","extern","Nein","Ja","1102"]
[1103,"Wien","W","01.12.2012",null,"PLZ-Postfach","extern","Nein","Ja","1103"]
[1104,"Wien","W","01.01.1966",null,"PLZ-Postfach","extern","Nein","Ja","1104"]
[1105,"Wien","W","01.01.1966",null,"PLZ-Postfach","extern","Nein","Ja","1105"]
[1106,"Wien","W","01.01.1966",null,"PLZ-Postfach","extern","Nein","Ja","1106"]
[1107,"Wien","W","01.01.1966",null,"PLZ-Postfach","extern","Nein","Ja","1107"]
[1108,"Wien","W","01.01.1966",null,"PLZ-Postfach","extern","Nein","Ja","1108"]
[1109,"Wien","W","01.01.1966",null,"PLZ-Postfach","extern","Nein","Ja","1109"]
[1110,"Wien","W","01.01.1966",null,"PLZ-Adressierung","extern","Ja","Ja","1110"]
[{"$f":"J67*1","v":1111},"Wien Postfach","W","01.01.1966",null,"PLZ-Postfach","extern","Nein","Ja","1111"]
[1113,"Wien","W","01.01.1966",null,"PLZ-Postfach","extern","Nein","Ja","1113"]
[1114,"Wien","W","01.10.2010",null,"PLZ-Postfach","extern","Nein","Ja","1114"]
[1115,"Wien","W","01.07.2011",null,"PLZ-Postfach","extern","Nein","Ja","1115"]
[1120,"Wien","W","01.01.1966",null,"PLZ-Adressierung","extern","Ja","Ja","1120"]
[1121,"Wien Postfach","W","01.01.1966",null,"PLZ-Postfach","extern","Nein","Ja","1121"]
[1122,"Wien","W","01.01.1966",null,"PLZ-Postfach","extern","Nein","Ja","1122"]
[1124,"Wien","W","01.01.1966",null,"PLZ-Postfach","extern","Nein","Ja","1124"]
[1125,"Wien","W","01.01.1966",null,"PLZ-Postfach","extern","Nein","Ja","1125"]
[1127,"Wien","W","01.01.1966",null,"PLZ-Postfach","extern","Nein","Ja","1127"]
[1128,"Wien","W","01.08.2012",null,"PLZ-Postfach","extern","Nein","Ja","1128"]
[1130,"Wien","W","01.01.1966",null,"PLZ-Adressierung","extern","Ja","Ja","1130"]
[1131,"Wien Postfach","W","01.01.1966",null,"PLZ-Postfach","extern","Nein","Ja","1131"]
[1132,"Wien","W","01.01.1966",null,"PLZ-Postfach","extern","Nein","Ja","1132"]
[1133,"Wien","W","01.01.1966",null,"PLZ-Postfach","extern","Nein","Ja","1133"]
[1134,"Wien","W","01.01.1966",null,"PLZ-Postfach","extern","Nein","Ja","1134"]
[1136,"Wien","W","01.01.1966",null,"InteressentenPLZ","extern","Nein","Ja","1136"]
[1140,"Wien","W","01.01.1966",null,"PLZ-Adressierung","extern","Ja","Ja","1140"]
[1141,"Wien Postfach","W","01.01.1966",null,"PLZ-Postfach","extern","Nein","Ja","1141"]
[1142,"Wien","W","01.01.1966",null,"PLZ-Postfach","extern","Nein","Ja","1142"]
[1143,"Wien","W","01.01.1966",null,"PLZ-Postfach","extern","Nein","Ja","1143"]
[1146,"Wien","W","01.01.2012",null,"PLZ-Postfach","extern","Nein","Ja","1146"]
[1147,"Wien","W","01.01.1966",null,"PLZ-Postfach","extern","Nein","Ja","1147"]
[1148,"Wien","W","31.03.2003",null,"InteressentenPLZ","extern","Nein","Ja","1148"]
[1150,"Wien","W","01.01.1966",null,"PLZ-Adressierung","extern","Ja","Ja","1150"]
[1151,"Wien Postfach","W","01.01.1966",null,"PLZ-Postfach","extern","Nein","Ja","1151"]
[1152,"Wien","W","01.01.1966",null,"PLZ-Postfach","extern","Nein","Ja","1152"]
[1153,"Wien","W","01.01.1966",null,"PLZ-Postfach","extern","Nein","Ja","1153"]
[1155,"Wien","W","01.10.2011",null,"PLZ-Postfach","extern","Nein","Ja","1155"]
[1156,"Wien","W","01.03.2013",null,"PLZ-Postfach","extern","Nein","Ja","1156"]
[1160,"Wien","W","01.01.1966",null,"PLZ-Adressierung","extern","Ja","Ja","1160"]
[1161,"Wien Postfach","W","08.12.2005",null,"PLZ-Postfach","extern","Nein","Ja","1161"]
[1163,"Wien","W","01.01.1966",null,"PLZ-Postfach","extern","Nein","Ja","1163"]
[1165,"Wien","W","01.01.1966",null,"PLZ-Postfach","extern","Nein","Ja","1165"]
[1166,"Wien","W","01.01.1966",null,"PLZ-Postfach","extern","Nein","Ja","1166"]
[1170,"Wien","W","01.01.1966",null,"PLZ-Adressierung","extern","Ja","Ja","1170"]
[1171,"Wien Postfach","W","01.01.1966",null,"PLZ-Postfach","extern","Nein","Ja","1171"]
[1172,"Wien","W","01.01.1966",null,"PLZ-Postfach","extern","Nein","Ja","1172"]
[1180,"Wien","W","01.01.1966",null,"PLZ-Adressierung","extern","Ja","Ja","1180"]
[1181,"Wien Postfach","W","01.01.1966",null,"PLZ-Postfach","extern","Nein","Ja","1181"]
[1182,"Wien","W","01.01.1966",null,"PLZ-Postfach","extern","Nein","Ja","1182"]
[1183,"Wien","W","01.01.1966",null,"PLZ-Postfach","extern","Nein","Ja","1183"]
[1190,"Wien","W","01.01.1966",null,"PLZ-Adressierung","extern","Ja","Ja","1190"]
[1191,"Wien Postfach","W","01.01.1966",null,"PLZ-Postfach","extern","Nein","Ja","1191"]
[1192,"Wien","W","01.01.1966",null,"PLZ-Postfach","extern","Nein","Ja","1192"]
[1193,"Wien","W","01.01.1966",null,"PLZ-Postfach","extern","Nein","Ja","1193"]
[1194,"Wien","W","01.01.1966",null,"PLZ-Postfach","extern","Nein","Ja","1194"]
[1195,"Wien","W","01.01.1966",null,"PLZ-Postfach","extern","Nein","Ja","1195"]
[1196,"Wien","W","01.01.1966",null,"PLZ-Postfach","extern","Nein","Ja","1196"]
[1200,"Wien","W","01.01.1966",null,"PLZ-Adressierung","extern","Ja","Ja","1200"]
[1201,"Wien Postfach","W","01.01.1966",null,"PLZ-Postfach","extern","Nein","Ja","1201"]
[1203,"Wien","W","01.01.1966",null,"PLZ-Postfach","extern","Nein","Ja","1203"]
[1205,"Wien","W","01.01.1966",null,"PLZ-Postfach","extern","Nein","Ja","1205"]
[1208,"Wien","W","01.09.2012",null,"PLZ-Postfach","extern","Nein","Ja","1208"]
[1210,"Wien","W","01.01.1966",null,"PLZ-Adressierung","extern","Ja","Ja","1210"]
[1211,"Wien Postfach","W","01.01.1966",null,"PLZ-Postfach","extern","Nein","Ja","1211"]
[1212,"Wien","W","01.01.1966",null,"PLZ-Postfach","extern","Nein","Ja","1212"]
[1213,"Wien","W","01.01.1966",null,"PLZ-Postfach","extern","Nein","Ja","1213"]
[1215,"Wien","W","01.01.1966",null,"PLZ-Postfach","extern","Nein","Ja","1215"]
[1217,"Wien","W","01.01.1966",null,"PLZ-Postfach","extern","Nein","Ja","1217"]
[1218,"Wien","W","01.01.1966",null,"PLZ-Postfach","extern","Nein","Ja","1218"]
[1219,"Wien","W","01.01.2012",null,"PLZ-Postfach","extern","Nein","Ja","1219"]
[1220,"Wien","W","01.01.1966",null,"PLZ-Adressierung","extern","Ja","Ja","1220"]
[1221,"Wien Postfach","W","01.01.1966",null,"PLZ-Postfach","extern","Nein","Ja","1221"]
[{"$f":"J131*1","v":1222},"Wien","W","01.01.1966",null,"PLZ-Postfach","extern","Nein","Ja","1222"]
[1223,"Wien","W","01.01.1966",null,"PLZ-Postfach","extern","Nein","Ja","1223"]
[1224,"Wien","W","01.01.1966",null,"PLZ-Postfach","extern","Nein","Ja","1224"]
[1225,"Wien","W","01.01.1966",null,"PLZ-Postfach","extern","Nein","Ja","1225"]
[1228,"Wien","W","01.01.1966",null,"PLZ-Postfach","extern","Nein","Ja","1228"]
[1229,"Wien","W","01.01.1966",null,"PLZ-Postfach","extern","Nein","Ja","1229"]
[1230,"Wien","W","01.01.1966",null,"PLZ-Adressierung","extern","Ja","Ja","1230"]
[1231,"Wien Postfach","W","01.01.1966",null,"PLZ-Postfach","extern","Nein","Ja","1231"]
[1233,"Wien","W","01.01.1966",null,"PLZ-Postfach","extern","Nein","Ja","1233"]
[1235,"Wien","W","01.01.1966",null,"PLZ-Postfach","extern","Nein","Ja","1235"]
[1236,"Wien","W","01.01.1966",null,"PLZ-Postfach","extern","Nein","Ja","1236"]
[1238,"Wien","W","01.01.1966",null,"PLZ-Postfach","extern","Nein","Ja","1238"]
[1239,"Wien","W","01.01.1966",null,"PLZ-Postfach","extern","Nein","Ja","1239"]
[1251,"Wien","W","01.09.2012",null,"PLZ-Postfach","extern","Nein","Ja","1251"]
[1252,"Wien","W","01.12.2012",null,"PLZ-Postfach","extern","Nein","Ja","1252"]
[1254,"Wien","W","01.11.2012",null,"PLZ-Postfach","extern","Nein","Ja","1254"]
[1255,"Wien","W","01.01.2013",null,"PLZ-Postfach","extern","Nein","Ja","1255"]
[1300,"Wien-Flughafen","W","01.01.1966",null,"PLZ-Adressierung","extern","Ja","Ja","1300"]
[1310,"Wien","W","01.06.2012",null,"PLZ-Postfach","extern","Nein","Ja","1310"]
[1321,"Wien","W","01.09.2012",null,"PLZ-Postfach","extern","Nein","Ja","1321"]
[1400,"Wien-Vereinte Nationen","W","01.01.1966",null,"PLZ-Postfach","extern","Nein","Ja","1400"]
[1402,"Wien","W","01.11.2005",null,"PLZ-Postfach","extern","Nein","Ja","1402"]
[1423,"Wien","W","01.06.2005",null,"PLZ-Postfach","extern","Nein","Ja","1423"]
[1500,"UNDOF AUTCON","W","01.01.1966",null,"FeldPLZ","extern","Nein","Ja","1500"]
[1502,"AUTCON EUFOR","W","01.01.1966",null,"FeldPLZ","extern","Nein","Ja","1502"]
[1503,"AUTCON KFOR","W","01.01.1966",null,"FeldPLZ","extern","Nein","Ja","1503"]
[1600,"Wien","W","01.01.1966",null,"InteressentenPLZ","extern","Nein","Ja","1600"]
[1601,"Wien","W","01.01.2012",null,"PLZ-Postfach","extern","Nein","Ja","1601"]
[1810,"Wien","W","01.06.2012",null,"PLZ-Postfach","extern","Nein","Ja","1810"]
[2000,"Stockerau","N","01.01.1966",null,"PLZ-Adressierung","extern","Ja","Ja","2000"]
[2002,"Großmugl","N","01.01.1966",null,"PLZ-Adressierung","extern","Ja","Nein","2002"]
[2003,"Leitzersdorf","N","01.01.1966",null,"PLZ-Adressierung","extern","Ja","Nein","2003"]
[2004,"Niederhollabrunn","N","01.01.1966",null,"PLZ-Adressierung","extern","Ja","Nein","2004"]
[2011,"Sierndorf","N","01.01.1966",null,"PLZ-Adressierung","extern","Ja","Ja","2011"]
[2013,"Göllersdorf","N","01.01.1966",null,"PLZ-Adressierung","extern","Ja","Nein","2013"]
[2014,"Breitenwaida","N","01.01.1966",null,"PLZ-Adressierung","extern","Ja","Ja","2014"]
[2020,"Hollabrunn","N","01.01.1966",null,"PLZ-Adressierung","extern","Ja","Ja","2020"]
[2022,"Immendorf","N","01.01.1966",null,"PLZ-Adressierung","extern","Ja","Ja","2022"]
[2023,"Nappersdorf","N","01.01.1966",null,"PLZ-Adressierung","extern","Ja","Nein","2023"]
[2024,"Mailberg","N","01.01.1966",null,"PLZ-Adressierung","extern","Ja","Nein","2024"]
[2031,"Eggendorf im Thale","N","01.01.1966",null,"PLZ-Adressierung","extern","Ja","Nein","2031"]
[2032,"Enzersdorf im Thale","N","01.01.1966",null,"PLZ-Adressierung","extern","Ja","Nein","2032"]
[2033,"Kammersdorf","N","01.01.1966",null,"PLZ-Adressierung","extern","Ja","Nein","2033"]
[2034,"Großharras","N","01.01.1966",null,"PLZ-Adressierung","extern","Ja","Ja","2034"]
[2041,"Wullersdorf","N","01.01.1966",null,"PLZ-Adressierung","extern","Ja","Nein","2041"]
[2042,"Guntersdorf","N","01.01.1966",null,"PLZ-Adressierung","extern","Ja","Nein","2042"]
[2051,"Zellerndorf","N","01.01.1966",null,"PLZ-Adressierung","extern","Ja","Ja","2051"]
[2052,"Pernersdorf-Pfaffendorf","N","01.01.1966",null,"PLZ-Adressierung","extern","Ja","Nein","2052"]
[2053,"Jetzelsdorf","N","01.01.1966",null,"PLZ-Adressierung","extern","Ja","Nein","2053"]
[2054,"Haugsdorf","N","01.01.1966",null,"PLZ-Adressierung","extern","Ja","Ja","2054"]
[2061,"Hadres","N","01.01.1966",null,"PLZ-Adressierung","extern","Ja","Ja","2061"]
[2062,"Seefeld-Großkadolz","N","01.01.1966",null,"PLZ-Adressierung","extern","Ja","Nein","2062"]
[2063,"Zwingendorf","N","01.01.1966",null,"PLZ-Adressierung","extern","Ja","Nein","2063"]
[2064,"Wulzeshofen","N","01.01.1966",null,"PLZ-Adressierung","extern","Ja","Nein","2064"]
[2070,"Retz","N","01.01.1966",null,"PLZ-Adressierung","extern","Ja","Ja","2070"]
[2073,"Schrattenthal","N","01.01.1966",null,"PLZ-Adressierung","extern","Ja","Nein","2073"]
[2074,"Unterretzbach","N","01.01.1966",null,"PLZ-Adressierung","extern","Ja","Ja","2074"]
[2081,"Niederfladnitz","N","01.01.1966",null,"PLZ-Adressierung","extern","Ja","Nein","2081"]
[2082,"Hardegg","N","01.01.1966",null,"PLZ-Adressierung","extern","Ja","Nein","2082"]
[2083,"Pleißing","N","01.01.1966",null,"PLZ-Adressierung","extern","Ja","Nein","2083"]
[2084,"Weitersfeld","N","01.01.1966",null,"PLZ-Adressierung","extern","Ja","Ja","2084"]
[2091,"Langau","N","01.01.1966",null,"PLZ-Adressierung","extern","Ja","Nein","2091"]
[2092,"Riegersburg","N","01.01.1966",null,"PLZ-Adressierung","extern","Ja","Nein","2092"]
[2093,"Geras","N","01.01.1966",null,"PLZ-Adressierung","extern","Ja","Ja","2093"]
[{"$f":"J195*1","v":2094},"Zissersdorf","N","01.01.1966",null,"PLZ-Adressierung","extern","Ja","Nein","2094"]
[2095,"Drosendorf","N","01.01.1966",null,"PLZ-Adressierung","extern","Ja","Nein","2095"]
[2100,"Korneuburg","N","01.01.1966",null,"PLZ-Adressierung","extern","Ja","Ja","2100"]
[2102,"Bisamberg","N","01.01.1966",null,"PLZ-Adressierung","extern","Ja","Ja","2102"]
[2103,"Langenzersdorf","N","01.01.1966",null,"PLZ-Adressierung","extern","Ja","Ja","2103"]
[2104,"Spillern","N","01.01.1966",null,"PLZ-Adressierung","extern","Ja","Ja","2104"]
[2105,"Oberrohrbach","N","01.01.1966",null,"PLZ-Adressierung","extern","Ja","Ja","2105"]
[2106,"Klein-Engersdorf","N","01.07.2011",null,"PLZ-Postfach","extern","Nein","Ja","2106"]
[2111,"Rückersdorf-Harmannsdorf","N","01.01.1966",null,"PLZ-Adressierung","extern","Ja","Nein","2111"]
[2112,"Würnitz","N","01.01.1966",null,"PLZ-Adressierung","extern","Ja","Nein","2112"]
[2113,"Karnabrunn","N","01.01.1966",null,"PLZ-Adressierung","extern","Ja","Nein","2113"]
[2114,"Großrußbach","N","01.01.1966",null,"PLZ-Adressierung","extern","Ja","Nein","2114"]
[2115,"Ernstbrunn","N","01.01.1966",null,"PLZ-Adressierung","extern","Ja","Ja","2115"]
[2116,"Niederleis","N","01.01.1966",null,"PLZ-Adressierung","extern","Ja","Nein","2116"]
[2120,"Wolkersdorf im Weinviertel","N","01.01.1966",null,"PLZ-Adressierung","extern","Ja","Ja","2120"]
[2122,"Ulrichskirchen","N","01.01.1966",null,"PLZ-Adressierung","extern","Ja","Nein","2122"]
[2123,"Schleinbach","N","01.01.1966",null,"PLZ-Adressierung","extern","Ja","Nein","2123"]
[2124,"Niederkreuzstetten","N","01.01.1966",null,"PLZ-Adressierung","extern","Ja","Ja","2124"]
[2125,"Neubau","N","01.01.1966",null,"PLZ-Adressierung","extern","Ja","Nein","2125"]
[2126,"Ladendorf","N","01.01.1966",null,"PLZ-Adressierung","extern","Ja","Nein","2126"]
[2127,"Hautzendorf","N","01.07.2010",null,"PLZ-Postfach","extern","Nein","Ja","2127"]
[2128,"Wolfpassing","N","01.07.2010",null,"PLZ-Postfach","extern","Nein","Ja","2128"]
[2130,"Mistelbach","N","01.01.1966",null,"PLZ-Adressierung","extern","Ja","Ja","2130"]
[2132,"Frättingsdorf","N","01.01.1966",null,"PLZ-Adressierung","extern","Ja","Nein","2132"]
[2133,"Loosdorf","N","01.01.1966",null,"PLZ-Adressierung","extern","Ja","Nein","2133"]
[2134,"Staatz-Kautendorf","N","01.01.1966",null,"PLZ-Adressierung","extern","Ja","Nein","2134"]
[2135,"Neudorf bei Staatz","N","01.01.1966",null,"PLZ-Adressierung","extern","Ja","Ja","2135"]
[2136,"Laa an der Thaya","N","01.01.1966",null,"PLZ-Adressierung","extern","Ja","Ja","2136"]
[2137,"Eibesthal","N","01.07.2010",null,"PLZ-Postfach","extern","Nein","Ja","2137"]
[2141,"Ameis","N","01.01.1966",null,"PLZ-Adressierung","extern","Ja","Nein","2141"]
[2143,"Großkrut","N","01.01.1966",null,"PLZ-Adressierung","extern","Ja","Nein","2143"]
[2144,"Altlichtenwarth","N","01.01.1966",null,"PLZ-Adressierung","extern","Ja","Nein","2144"]
[2145,"Hausbrunn","N","01.01.1966",null,"PLZ-Adressierung","extern","Ja","Ja","2145"]
[2151,"Asparn an der Zaya","N","01.01.1966",null,"PLZ-Adressierung","extern","Ja","Nein","2151"]
[2152,"Gnadendorf","N","01.01.1966",null,"PLZ-Adressierung","extern","Ja","Nein","2152"]
[2153,"Stronsdorf","N","01.01.1966",null,"PLZ-Adressierung","extern","Ja","Nein","2153"]
[2154,"Unterstinkenbrunn","N","01.01.1966",null,"PLZ-Adressierung","extern","Ja","Nein","2154"]
[2161,"Poysbrunn","N","01.01.1966",null,"PLZ-Adressierung","extern","Ja","Ja","2161"]
[2162,"Falkenstein","N","01.01.1966",null,"PLZ-Adressierung","extern","Ja","Nein","2162"]
[2163,"Ottenthal","N","01.01.1966",null,"PLZ-Adressierung","extern","Ja","Ja","2163"]
[2164,"Wildendürnbach","N","01.01.1966",null,"PLZ-Adressierung","extern","Ja","Ja","2164"]
[2165,"Drasenhofen","N","01.01.1966",null,"PLZ-Adressierung","extern","Ja","Nein","2165"]
[2170,"Poysdorf","N","01.01.1966",null,"PLZ-Adressierung","extern","Ja","Ja","2170"]
[2171,"Herrnbaumgarten","N","01.01.1966",null,"PLZ-Adressierung","extern","Ja","Nein","2171"]
[2172,"Schrattenberg","N","01.01.1966",null,"PLZ-Adressierung","extern","Ja","Ja","2172"]
[2173,"Kleinhadersdorf","N","01.07.2010",null,"PLZ-Postfach","extern","Nein","Ja","2173"]
[2181,"Dobermannsdorf","N","01.01.1966",null,"PLZ-Adressierung","extern","Ja","Nein","2181"]
[2182,"Palterndorf","N","01.01.1966",null,"PLZ-Adressierung","extern","Ja","Nein","2182"]
[2183,"Neusiedl an der Zaya","N","01.01.1966",null,"PLZ-Adressierung","extern","Ja","Nein","2183"]
[2184,"Hauskirchen","N","01.01.1966",null,"PLZ-Adressierung","extern","Ja","Nein","2184"]
[2185,"Prinzendorf an der Zaya","N","01.01.1966",null,"PLZ-Adressierung","extern","Ja","Nein","2185"]
[2191,"Gaweinstal","N","01.01.1966",null,"PLZ-Adressierung","extern","Ja","Ja","2191"]
[2192,"Kettlasbrunn","N","01.01.1966",null,"PLZ-Adressierung","extern","Ja","Nein","2192"]
[2193,"Wilfersdorf","N","01.01.1966",null,"PLZ-Adressierung","extern","Ja","Nein","2193"]
[2201,"Gerasdorf","N","01.01.1966",null,"PLZ-Adressierung","extern","Ja","Ja","2201"]
[2202,"Enzersfeld","N","01.01.1966",null,"PLZ-Adressierung","extern","Ja","Ja","2202"]
[2203,"Großebersdorf","N","01.01.1966",null,"PLZ-Adressierung","extern","Ja","Ja","2203"]
[2211,"Pillichsdorf","N","01.01.1966",null,"PLZ-Adressierung","extern","Ja","Ja","2211"]
[2212,"Großengersdorf","N","01.01.1966",null,"PLZ-Adressierung","extern","Ja","Nein","2212"]
[2213,"Bockfließ","N","01.01.1966",null,"PLZ-Adressierung","extern","Ja","Nein","2213"]
[2214,"Auersthal","N","01.01.1966",null,"PLZ-Adressierung","extern","Ja","Ja","2214"]
[2215,"Raggendorf","N","01.01.1966",null,"PLZ-Adressierung","extern","Ja","Nein","2215"]
[2221,"Groß Schweinbarth","N","01.01.1966",null,"PLZ-Adressierung","extern","Ja","Nein","2221"]
[2222,"Bad Pirawarth","N","01.01.1966",null,"PLZ-Adressierung","extern","Ja","Ja","2222"]
[{"$f":"J259*1","v":2223},"Hohenruppersdorf","N","01.01.1966",null,"PLZ-Adressierung","extern","Ja","Nein","2223"]
[2224,"Obersulz","N","01.01.1966",null,"PLZ-Adressierung","extern","Ja","Nein","2224"]
[2225,"Zistersdorf","N","01.01.1966",null,"PLZ-Adressierung","extern","Ja","Ja","2225"]
[2230,"Gänserndorf","N","01.01.1966",null,"PLZ-Adressierung","extern","Ja","Ja","2230"]
[2231,"Strasshof an der Nordbahn","N","01.01.1966",null,"PLZ-Adressierung","extern","Ja","Ja","2231"]
[2232,"Deutsch Wagram","N","01.01.1966",null,"PLZ-Adressierung","extern","Ja","Ja","2232"]
[2241,"Schönkirchen","N","01.01.1966",null,"PLZ-Adressierung","extern","Ja","Nein","2241"]
[2242,"Prottes","N","01.01.1966",null,"PLZ-Adressierung","extern","Ja","Nein","2242"]
[2243,"Matzen","N","01.01.1966",null,"PLZ-Adressierung","extern","Ja","Nein","2243"]
[2244,"Spannberg","N","01.01.1966",null,"PLZ-Adressierung","extern","Ja","Nein","2244"]
[2245,"Velm-Götzendorf","N","01.01.1966",null,"PLZ-Adressierung","extern","Ja","Nein","2245"]
[2251,"Ebenthal","N","01.01.1966",null,"PLZ-Adressierung","extern","Ja","Nein","2251"]
[2252,"Ollersdorf","N","01.01.1966",null,"PLZ-Adressierung","extern","Ja","Nein","2252"]
[2253,"Weikendorf","N","01.01.1966",null,"PLZ-Adressierung","extern","Ja","Nein","2253"]
[2261,"Angern an der March","N","01.01.1966",null,"PLZ-Adressierung","extern","Ja","Ja","2261"]
[2262,"Stillfried","N","01.01.1966",null,"PLZ-Adressierung","extern","Ja","Nein","2262"]
[2263,"Dürnkrut","N","01.01.1966",null,"PLZ-Adressierung","extern","Ja","Ja","2263"]
[2264,"Jedenspeigen","N","01.01.1966",null,"PLZ-Adressierung","extern","Ja","Nein","2264"]
[2265,"Drösing","N","01.01.1966",null,"PLZ-Adressierung","extern","Ja","Ja","2265"]
[2272,"Niederabsdorf","N","01.01.1966",null,"PLZ-Adressierung","extern","Ja","Nein","2272"]
[2273,"Hohenau an der March","N","01.01.1966",null,"PLZ-Adressierung","extern","Ja","Ja","2273"]
[2274,"Rabensburg","N","01.01.1966",null,"PLZ-Adressierung","extern","Ja","Ja","2274"]
[2275,"Bernhardsthal","N","01.01.1966",null,"PLZ-Adressierung","extern","Ja","Nein","2275"]
[2276,"Reintal","N","01.01.1966",null,"PLZ-Adressierung","extern","Ja","Nein","2276"]
[2281,"Raasdorf","N","01.01.1966",null,"PLZ-Adressierung","extern","Ja","Nein","2281"]
[2282,"Markgrafneusiedl","N","01.01.1966",null,"PLZ-Adressierung","extern","Ja","Nein","2282"]
[2283,"Obersiebenbrunn","N","01.01.1966",null,"PLZ-Adressierung","extern","Ja","Ja","2283"]
[2284,"Untersiebenbrunn","N","01.01.1966",null,"PLZ-Adressierung","extern","Ja","Nein","2284"]
[2285,"Leopoldsdorf im Marchfelde","N","01.01.1966",null,"PLZ-Adressierung","extern","Ja","Ja","2285"]
[2286,"Haringsee","N","01.01.1966",null,"PLZ-Adressierung","extern","Ja","Nein","2286"]
[2291,"Lassee","N","01.01.1966",null,"PLZ-Adressierung","extern","Ja","Ja","2291"]
[2292,"Engelhartstetten","N","01.01.1966",null,"PLZ-Adressierung","extern","Ja","Ja","2292"]
[2293,"Marchegg Stadt","N","01.01.1966",null,"PLZ-Adressierung","extern","Ja","Nein","2293"]
[2294,"Marchegg Bahnhof","N","01.01.1966",null,"PLZ-Adressierung","extern","Ja","Ja","2294"]
[2295,"Oberweiden","N","01.01.1966",null,"PLZ-Adressierung","extern","Ja","Nein","2295"]
[2301,"Groß-Enzersdorf","N","01.01.1966",null,"PLZ-Adressierung","extern","Ja","Ja","2301"]
[2304,"Orth an der Donau","N","01.01.1966",null,"PLZ-Adressierung","extern","Ja","Ja","2304"]
[2305,"Eckartsau","N","01.01.1966",null,"PLZ-Adressierung","extern","Ja","Nein","2305"]
[2320,"Schwechat","N","01.01.1966",null,"PLZ-Adressierung","extern","Ja","Ja","2320"]
[2322,"Zwölfaxing","N","01.10.2004",null,"PLZ-Adressierung","extern","Ja","Ja","2322"]
[2324,"Schwechat-Rannersdorf","N","01.01.1966",null,"PLZ-Postfach","extern","Nein","Ja","2324"]
[2325,"Himberg","N","01.01.1966",null,"PLZ-Adressierung","extern","Ja","Ja","2325"]
[2326,"Maria Lanzendorf","N","01.01.1966",null,"PLZ-Adressierung","extern","Ja","Ja","2326"]
[2331,"Vösendorf","N","01.01.1966",null,"PLZ-Adressierung","extern","Ja","Ja","2331"]
[2332,"Hennersdorf","N","01.01.1966",null,"PLZ-Adressierung","extern","Ja","Nein","2332"]
[2333,"Leopoldsdorf","N","01.01.1966",null,"PLZ-Adressierung","extern","Ja","Ja","2333"]
[2334,"Vösendorf","N","01.01.1966",null,"PLZ-Adressierung","extern","Ja","Ja","2334"]
[2340,"Mödling","N","01.01.1966",null,"PLZ-Adressierung","extern","Ja","Ja","2340"]
[2344,"Maria Enzersdorf","N","01.01.1966",null,"PLZ-Adressierung","extern","Ja","Ja","2344"]
[2345,"Brunn am Gebirge","N","01.01.1966",null,"PLZ-Adressierung","extern","Ja","Ja","2345"]
[2346,"Maria Enzersdorf-Südstadt","N","01.01.1966",null,"PLZ-Postfach","extern","Nein","Ja","2346"]
[2348,"Mödling","N","01.07.2010",null,"PLZ-Postfach","extern","Nein","Ja","2348"]
[2349,"Mödling","N","01.03.2012",null,"PLZ-Postfach","extern","Nein","Ja","2349"]
[2351,"Wiener Neudorf","N","01.01.1966",null,"PLZ-Adressierung","extern","Ja","Ja","2351"]
[2352,"Gumpoldskirchen","N","01.01.1966",null,"PLZ-Adressierung","extern","Ja","Ja","2352"]
[2353,"Guntramsdorf","N","01.01.1966",null,"PLZ-Adressierung","extern","Ja","Ja","2353"]
[2355,"Wiener Neudorf","N","01.01.1966",null,"PLZ-Postfach","extern","Nein","Ja","2355"]
[2356,"Wiener Neudorf","N","01.10.2011",null,"PLZ-Postfach","extern","Nein","Ja","2356"]
[2361,"Laxenburg","N","01.01.1966",null,"PLZ-Adressierung","extern","Ja","Ja","2361"]
[2362,"Biedermannsdorf","N","01.01.1966",null,"PLZ-Adressierung","extern","Ja","Ja","2362"]
[2371,"Hinterbrühl","N","01.01.1966",null,"PLZ-Adressierung","extern","Ja","Ja","2371"]
[2372,"Gießhübl","N","01.01.1966",null,"PLZ-Adressierung","extern","Ja","Ja","2372"]
[2380,"Perchtoldsdorf","N","01.01.1966",null,"PLZ-Adressierung","extern","Ja","Ja","2380"]
[2381,"Laab im Walde","N","01.01.1966",null,"PLZ-Adressierung","extern","Ja","Ja","2381"]
[{"$f":"J323*1","v":2382},"Perchtoldsdorf","N","01.03.2012",null,"PLZ-Postfach","extern","Nein","Ja","2382"]
[2384,"Breitenfurt bei Wien","N","01.01.1966",null,"PLZ-Adressierung","extern","Ja","Ja","2384"]
[2391,"Kaltenleutgeben","N","01.01.1966",null,"PLZ-Adressierung","extern","Ja","Ja","2391"]
[2392,"Sulz im Wienerwald","N","01.01.1966",null,"PLZ-Adressierung","extern","Ja","Ja","2392"]
[2393,"Sittendorf","N","01.01.1966",null,"PLZ-Adressierung","extern","Ja","Nein","2393"]
[2401,"Fischamend","N","01.01.1966",null,"PLZ-Adressierung","extern","Ja","Ja","2401"]
[2402,"Maria Ellend","N","01.01.1966",null,"PLZ-Adressierung","extern","Ja","Ja","2402"]
[2403,"Regelsbrunn","N","01.01.1966",null,"PLZ-Adressierung","extern","Ja","Nein","2403"]
[2404,"Petronell","N","01.01.1966",null,"PLZ-Adressierung","extern","Ja","Ja","2404"]
[2405,"Bad Deutsch Altenburg","N","01.01.1966",null,"PLZ-Adressierung","extern","Ja","Nein","2405"]
[2406,"Haslau an der Donau","N","01.07.2010",null,"PLZ-Postfach","extern","Nein","Ja","2406"]
[2410,"Hainburg an der Donau","N","01.01.1966",null,"PLZ-Adressierung","extern","Ja","Ja","2410"]
[2412,"Wolfsthal","N","01.01.1966",null,"PLZ-Adressierung","extern","Ja","Nein","2412"]
[2413,"Berg","N","01.01.1966",null,"PLZ-Adressierung","extern","Ja","Nein","2413"]
[2421,"Kittsee","B","01.01.1966",null,"PLZ-Adressierung","extern","Ja","Nein","2421"]
[2422,"Pama","B","01.01.1966",null,"PLZ-Adressierung","extern","Ja","Ja","2422"]
[2423,"Deutsch Jahrndorf","B","01.01.1966",null,"PLZ-Adressierung","extern","Ja","Nein","2423"]
[2424,"Zurndorf","B","01.01.1966",null,"PLZ-Adressierung","extern","Ja","Ja","2424"]
[2425,"Nickelsdorf","B","01.01.1966",null,"PLZ-Adressierung","extern","Ja","Ja","2425"]
[2431,"Kleinneusiedl","N","01.01.1966",null,"PLZ-Adressierung","extern","Ja","Ja","2431"]
[2432,"Schwadorf","N","01.01.1966",null,"PLZ-Adressierung","extern","Ja","Ja","2432"]
[2433,"Margarethen am Moos","N","01.01.1966",null,"PLZ-Adressierung","extern","Ja","Nein","2433"]
[2434,"Götzendorf an der Leitha","N","01.01.1966",null,"PLZ-Adressierung","extern","Ja","Ja","2434"]
[2435,"Ebergassing","N","01.01.1966",null,"PLZ-Adressierung","extern","Ja","Ja","2435"]
[2440,"Gramatneusiedl","N","01.01.1966",null,"PLZ-Adressierung","extern","Ja","Ja","2440"]
[2441,"Mitterndorf an der Fischa","N","01.01.1966",null,"PLZ-Adressierung","extern","Ja","Nein","2441"]
[2442,"Unterwaltersdorf","N","01.01.1966",null,"PLZ-Adressierung","extern","Ja","Nein","2442"]
[2443,"Deutsch-Brodersdorf","N","01.01.1966",null,"PLZ-Adressierung","extern","Ja","Nein","2443"]
[2444,"Seibersdorf","N","01.01.1966",null,"PLZ-Adressierung","extern","Ja","Nein","2444"]
[2445,"Leithaprodersdorf","N","01.10.2010",null,"PLZ-Postfach","extern","Nein","Ja","2445"]
[2451,"Hof am Leithaberge","N","01.01.1966",null,"PLZ-Adressierung","extern","Ja","Ja","2451"]
[2452,"Mannersdorf am Leithagebirge","N","01.01.1966",null,"PLZ-Adressierung","extern","Ja","Ja","2452"]
[2453,"Sommerein","N","01.01.1966",null,"PLZ-Adressierung","extern","Ja","Ja","2453"]
[2454,"Trautmannsdorf an der Leitha","N","01.01.1966",null,"PLZ-Adressierung","extern","Ja","Nein","2454"]
[2460,"Bruck an der Leitha","N","01.01.1966",null,"PLZ-Adressierung","extern","Ja","Ja","2460"]
[2462,"Wilfleinsdorf","N","01.01.1966",null,"PLZ-Adressierung","extern","Ja","Nein","2462"]
[2463,"Stixneusiedl","N","01.01.1966",null,"PLZ-Adressierung","extern","Ja","Nein","2463"]
[2464,"Göttlesbrunn","N","01.01.1966",null,"PLZ-Adressierung","extern","Ja","Nein","2464"]
[2465,"Höflein","N","01.01.1966",null,"PLZ-Adressierung","extern","Ja","Nein","2465"]
[2471,"Rohrau","N","01.01.1966",null,"PLZ-Adressierung","extern","Ja","Nein","2471"]
[2472,"Prellenkirchen","N","01.01.1966",null,"PLZ-Adressierung","extern","Ja","Nein","2472"]
[2473,"Potzneusiedl","B","01.01.1966",null,"PLZ-Adressierung","extern","Ja","Nein","2473"]
[2474,"Gattendorf","B","01.01.1966",null,"PLZ-Adressierung","extern","Ja","Ja","2474"]
[2475,"Neudorf","B","01.01.1966",null,"PLZ-Adressierung","extern","Ja","Nein","2475"]
[2481,"Achau","N","01.01.1966",null,"PLZ-Adressierung","extern","Ja","Nein","2481"]
[2482,"Münchendorf","N","01.01.1966",null,"PLZ-Adressierung","extern","Ja","Ja","2482"]
[2483,"Ebreichsdorf","N","01.01.1966",null,"PLZ-Adressierung","extern","Ja","Ja","2483"]
[2484,"Weigelsdorf, Fischa","N","01.01.1966",null,"PLZ-Postfach","extern","Nein","Ja","2484"]
[2485,"Wampersdorf","N","01.01.1966",null,"PLZ-Adressierung","extern","Ja","Nein","2485"]
[2486,"Pottendorf","N","01.01.1966",null,"PLZ-Adressierung","extern","Ja","Ja","2486"]
[2490,"Ebenfurth","N","01.01.1966",null,"PLZ-Adressierung","extern","Ja","Ja","2490"]
[2491,"Neufeld an der Leitha","B","01.01.1966",null,"PLZ-Adressierung","extern","Ja","Ja","2491"]
[2492,"Eggendorf","N","01.01.1966",null,"PLZ-Adressierung","extern","Ja","Nein","2492"]
[2493,"Lichtenwörth-Nadelburg","N","01.01.1966",null,"PLZ-Adressierung","extern","Ja","Ja","2493"]
[2500,"Baden","N","01.01.1966",null,"PLZ-Adressierung","extern","Ja","Ja","2500"]
[2502,"Baden-Leesdorf","N","01.01.1966",null,"PLZ-Postfach","extern","Nein","Ja","2502"]
[2504,"Sooß","N","01.12.2012",null,"PLZ-Adressierung","extern","Ja","Nein","2504"]
[2505,"Baden-Leesdorf","N","01.07.2011",null,"PLZ-Postfach","extern","Nein","Ja","2505"]
[2511,"Pfaffstätten","N","01.01.1966",null,"PLZ-Adressierung","extern","Ja","Ja","2511"]
[2512,"Tribuswinkel","N","01.01.1966",null,"PLZ-Adressierung","extern","Ja","Nein","2512"]
[2513,"Traiskirchen","N","01.01.1966",null,"PLZ-Postfach","extern","Nein","Ja","2513"]
[2514,"Traiskirchen","N","01.01.1966",null,"PLZ-Adressierung","extern","Ja","Ja","2514"]
[2521,"Trumau","N","01.01.1966",null,"PLZ-Adressierung","extern","Ja","Ja","2521"]
[2522,"Oberwaltersdorf","N","01.01.1966",null,"PLZ-Adressierung","extern","Ja","Ja","2522"]
[{"$f":"J387*1","v":2523},"Tattendorf","N","01.01.1966",null,"PLZ-Adressierung","extern","Ja","Ja","2523"]
[2524,"Teesdorf","N","01.01.1966",null,"PLZ-Adressierung","extern","Ja","Ja","2524"]
[2525,"Günselsdorf","N","01.01.1966",null,"PLZ-Adressierung","extern","Ja","Ja","2525"]
[2531,"Gaaden","N","01.01.1966",null,"PLZ-Adressierung","extern","Ja","Nein","2531"]
[2532,"Heiligenkreuz im Wienerwald","N","01.01.1966",null,"PLZ-Adressierung","extern","Ja","Ja","2532"]
[2533,"Klausen-Leopoldsdorf","N","01.01.1966",null,"PLZ-Adressierung","extern","Ja","Nein","2533"]
[2534,"Alland","N","01.01.1966",null,"PLZ-Adressierung","extern","Ja","Ja","2534"]
[2540,"Bad Vöslau","N","01.01.1966",null,"PLZ-Adressierung","extern","Ja","Ja","2540"]
[2542,"Kottingbrunn","N","01.01.1966",null,"PLZ-Adressierung","extern","Ja","Ja","2542"]
[2544,"Leobersdorf","N","01.01.1966",null,"PLZ-Adressierung","extern","Ja","Ja","2544"]
[2551,"Enzesfeld-Lindabrunn","N","01.01.1966",null,"PLZ-Adressierung","extern","Ja","Ja","2551"]
[2552,"Hirtenberg","N","01.01.1966",null,"PLZ-Adressierung","extern","Ja","Ja","2552"]
[2560,"Berndorf","N","01.01.1966",null,"PLZ-Adressierung","extern","Ja","Ja","2560"]
[2563,"Pottenstein","N","01.01.1966",null,"PLZ-Adressierung","extern","Ja","Ja","2563"]
[2564,"Weissenbach an der Triesting","N","01.01.1966",null,"PLZ-Adressierung","extern","Ja","Ja","2564"]
[2565,"Neuhaus","N","01.01.1966",null,"PLZ-Adressierung","extern","Ja","Nein","2565"]
[2571,"Altenmarkt-Thenneberg","N","01.01.1966",null,"PLZ-Adressierung","extern","Ja","Ja","2571"]
[2572,"Kaumberg","N","01.01.1966",null,"PLZ-Adressierung","extern","Ja","Nein","2572"]
[2601,"Sollenau","N","01.01.1966",null,"PLZ-Adressierung","extern","Ja","Ja","2601"]
[2602,"Blumau-Neurißhof","N","01.01.1966",null,"PLZ-Adressierung","extern","Ja","Ja","2602"]
[2603,"Felixdorf","N","01.01.1966",null,"PLZ-Adressierung","extern","Ja","Ja","2603"]
[2604,"Theresienfeld","N","01.01.1966",null,"PLZ-Adressierung","extern","Ja","Ja","2604"]
[2620,"Neunkirchen","N","01.01.1966",null,"PLZ-Adressierung","extern","Ja","Ja","2620"]
[2624,"Breitenau","N","01.01.1966",null,"PLZ-Adressierung","extern","Ja","Nein","2624"]
[2625,"Schwarzau am Steinfelde","N","01.01.1966",null,"PLZ-Adressierung","extern","Ja","Nein","2625"]
[2630,"Ternitz","N","01.01.1966",null,"PLZ-Adressierung","extern","Ja","Ja","2630"]
[2631,"Sieding-Stixenstein","N","01.01.1966",null,"PLZ-Adressierung","extern","Ja","Nein","2631"]
[2632,"Wimpassing im Schwarzatale","N","01.01.1966",null,"PLZ-Adressierung","extern","Ja","Ja","2632"]
[2640,"Gloggnitz","N","01.01.1966",null,"PLZ-Adressierung","extern","Ja","Ja","2640"]
[2641,"Schottwien","N","01.01.1966",null,"PLZ-Adressierung","extern","Ja","Nein","2641"]
[2642,"Maria Schutz","N","01.01.1966",null,"PLZ-Adressierung","extern","Ja","Nein","2642"]
[2650,"Payerbach","N","01.01.1966",null,"PLZ-Adressierung","extern","Ja","Ja","2650"]
[2651,"Reichenau an der Rax","N","01.01.1966",null,"PLZ-Adressierung","extern","Ja","Ja","2651"]
[2654,"Prein an der Rax","N","01.01.1966",null,"PLZ-Adressierung","extern","Ja","Nein","2654"]
[2661,"Naßwald","N","01.01.1966",null,"PLZ-Adressierung","extern","Ja","Nein","2661"]
[2662,"Schwarzau im Gebirge","N","01.01.1966",null,"PLZ-Adressierung","extern","Ja","Ja","2662"]
[2663,"Rohr im Gebirge","N","01.01.1966",null,"PLZ-Adressierung","extern","Ja","Nein","2663"]
[2671,"Küb","N","01.01.1966",null,"PLZ-Adressierung","extern","Ja","Nein","2671"]
[2673,"Breitenstein","N","01.01.1966",null,"PLZ-Adressierung","extern","Ja","Nein","2673"]
[2680,"Semmering","N","01.01.1966",null,"PLZ-Adressierung","extern","Ja","Nein","2680"]
[2700,"Wiener Neustadt","N","01.01.1966",null,"PLZ-Adressierung","extern","Ja","Ja","2700"]
[2702,"Wiener Neustadt","N","01.01.1966",null,"PLZ-Postfach","extern","Nein","Ja","2702"]
[2703,"Wiener Neustadt","N","01.01.1966",null,"PLZ-Postfach","extern","Nein","Ja","2703"]
[2705,"Wiener Neustadt","N","01.12.2001",null,"PLZ-Postfach","extern","Nein","Ja","2705"]
[2706,"Wiener Neustadt","N","27.12.2000",null,"InteressentenPLZ","extern","Nein","Ja","2706"]
[2707,"Wiener Neustadt","N","01.01.2010",null,"PLZ-Postfach","extern","Nein","Ja","2707"]
[2721,"Bad Fischau","N","01.01.1966",null,"PLZ-Adressierung","extern","Ja","Ja","2721"]
[2722,"Winzendorf","N","01.01.1966",null,"PLZ-Adressierung","extern","Ja","Ja","2722"]
[2723,"Muthmannsdorf","N","01.01.1966",null,"PLZ-Adressierung","extern","Ja","Nein","2723"]
[2724,"Hohe Wand-Stollhof","N","01.01.1966",null,"PLZ-Adressierung","extern","Ja","Nein","2724"]
[2731,"St. Egyden am Steinfeld","N","01.01.1966",null,"PLZ-Adressierung","extern","Ja","Nein","2731"]
[2732,"Willendorf","N","01.01.1966",null,"PLZ-Adressierung","extern","Ja","Ja","2732"]
[2733,"Grünbach am Schneeberg","N","01.01.1966",null,"PLZ-Adressierung","extern","Ja","Ja","2733"]
[2734,"Puchberg am Schneeberg","N","01.01.1966",null,"PLZ-Adressierung","extern","Ja","Ja","2734"]
[2751,"Steinabrückl","N","01.01.1966",null,"PLZ-Adressierung","extern","Ja","Ja","2751"]
[2752,"Wöllersdorf","N","01.01.1966",null,"PLZ-Adressierung","extern","Ja","Ja","2752"]
[2753,"Markt Piesting","N","01.01.1966",null,"PLZ-Adressierung","extern","Ja","Ja","2753"]
[2754,"Waldegg","N","01.01.1966",null,"PLZ-Adressierung","extern","Ja","Nein","2754"]
[2755,"Oed","N","01.01.1966",null,"PLZ-Adressierung","extern","Ja","Nein","2755"]
[2761,"Miesenbach","N","01.01.1966",null,"PLZ-Adressierung","extern","Ja","Nein","2761"]
[2763,"Pernitz","N","01.01.1966",null,"PLZ-Adressierung","extern","Ja","Ja","2763"]
[2770,"Gutenstein","N","01.01.1966",null,"PLZ-Adressierung","extern","Ja","Ja","2770"]
[2801,"Katzelsdorf","N","01.01.1966",null,"PLZ-Adressierung","extern","Ja","Ja","2801"]
[2802,"Hochwolkersdorf","N","01.01.1966",null,"PLZ-Adressierung","extern","Ja","Ja","2802"]
[{"$f":"J451*1","v":2803},"Schwarzenbach","N","01.01.1966",null,"PLZ-Adressierung","extern","Ja","Ja","2803"]
[2811,"Wiesmath","N","01.01.1966",null,"PLZ-Adressierung","extern","Ja","Ja","2811"]
[2812,"Hollenthon","N","01.01.1966",null,"PLZ-Adressierung","extern","Ja","Nein","2812"]
[2813,"Lichtenegg","N","01.01.1966",null,"PLZ-Adressierung","extern","Ja","Ja","2813"]
[2821,"Lanzenkirchen","N","01.01.1966",null,"PLZ-Adressierung","extern","Ja","Ja","2821"]
[2822,"Bad Erlach","N","01.01.1966",null,"PLZ-Adressierung","extern","Ja","Ja","2822"]
[2823,"Pitten","N","01.01.1966",null,"PLZ-Adressierung","extern","Ja","Nein","2823"]
[2824,"Seebenstein","N","01.01.1966",null,"PLZ-Adressierung","extern","Ja","Ja","2824"]
[2831,"Warth","N","01.01.1966",null,"PLZ-Adressierung","extern","Ja","Ja","2831"]
[2832,"Thernberg","N","01.01.1966",null,"PLZ-Adressierung","extern","Ja","Nein","2832"]
[2833,"Bromberg","N","01.01.1966",null,"PLZ-Adressierung","extern","Ja","Nein","2833"]
[2840,"Grimmenstein","N","01.01.1966",null,"PLZ-Adressierung","extern","Ja","Ja","2840"]
[2842,"Edlitz","N","01.01.1966",null,"PLZ-Adressierung","extern","Ja","Ja","2842"]
[2851,"Krumbach","N","01.01.1966",null,"PLZ-Adressierung","extern","Ja","Ja","2851"]
[2852,"Hochneukirchen","N","01.01.1966",null,"PLZ-Adressierung","extern","Ja","Nein","2852"]
[2853,"Bad Schönau","N","01.01.1966",null,"PLZ-Adressierung","extern","Ja","Nein","2853"]
[2860,"Kirchschlag in der Buckligen Welt","N","01.01.1966",null,"PLZ-Adressierung","extern","Ja","Ja","2860"]
[2870,"Aspang","N","01.01.1966",null,"PLZ-Adressierung","extern","Ja","Ja","2870"]
[2871,"Zöbern","N","01.01.1966",null,"PLZ-Adressierung","extern","Ja","Nein","2871"]
[2872,"Mönichkirchen","N","01.01.1966",null,"PLZ-Adressierung","extern","Ja","Nein","2872"]
[2873,"Feistritz am Wechsel","N","01.01.1966",null,"PLZ-Adressierung","extern","Ja","Nein","2873"]
[2880,"Kirchberg am Wechsel","N","01.01.1966",null,"PLZ-Adressierung","extern","Ja","Ja","2880"]
[2881,"Trattenbach","N","01.01.1966",null,"PLZ-Adressierung","extern","Ja","Nein","2881"]
[3001,"Mauerbach","N","01.01.1966",null,"PLZ-Adressierung","extern","Ja","Ja","3001"]
[3002,"Purkersdorf","N","01.01.1966",null,"PLZ-Adressierung","extern","Ja","Ja","3002"]
[3003,"Gablitz","N","01.01.1966",null,"PLZ-Adressierung","extern","Ja","Ja","3003"]
[3004,"Ried am Riederberg","N","01.01.1966",null,"PLZ-Adressierung","extern","Ja","Nein","3004"]
[3011,"Untertullnerbach","N","01.01.1966",null,"PLZ-Adressierung","extern","Ja","Nein","3011"]
[3012,"Wolfsgraben","N","01.01.1966",null,"PLZ-Adressierung","extern","Ja","Ja","3012"]
[3013,"Tullnerbach-Lawies","N","01.01.1966",null,"PLZ-Adressierung","extern","Ja","Ja","3013"]
[3021,"Pressbaum","N","01.01.1966",null,"PLZ-Adressierung","extern","Ja","Ja","3021"]
[3031,"Rekawinkel","N","01.01.1966",null,"PLZ-Adressierung","extern","Ja","Nein","3031"]
[3032,"Eichgraben","N","01.01.1966",null,"PLZ-Adressierung","extern","Ja","Ja","3032"]
[3033,"Altlengbach","N","01.01.1966",null,"PLZ-Adressierung","extern","Ja","Ja","3033"]
[3034,"Maria Anzbach","N","01.01.1966",null,"PLZ-Adressierung","extern","Ja","Ja","3034"]
[3040,"Neulengbach","N","01.01.1966",null,"PLZ-Adressierung","extern","Ja","Ja","3040"]
[3041,"Asperhofen","N","01.01.1966",null,"PLZ-Adressierung","extern","Ja","Nein","3041"]
[3042,"Würmla","N","01.01.1966",null,"PLZ-Adressierung","extern","Ja","Ja","3042"]
[3051,"St. Christophen","N","01.01.1966",null,"PLZ-Adressierung","extern","Ja","Nein","3051"]
[3052,"Innermanzing","N","01.01.1966",null,"PLZ-Adressierung","extern","Ja","Nein","3052"]
[3053,"Laaben","N","01.01.1966",null,"PLZ-Adressierung","extern","Ja","Nein","3053"]
[3061,"Ollersbach","N","01.01.1966",null,"PLZ-Adressierung","extern","Ja","Nein","3061"]
[3062,"Kirchstetten","N","01.01.1966",null,"PLZ-Adressierung","extern","Ja","Ja","3062"]
[3071,"Böheimkirchen","N","01.01.1966",null,"PLZ-Adressierung","extern","Ja","Ja","3071"]
[3072,"Kasten bei Böheimkirchen","N","01.01.1966",null,"PLZ-Adressierung","extern","Ja","Nein","3072"]
[3073,"Stössing","N","01.01.1966",null,"PLZ-Adressierung","extern","Ja","Nein","3073"]
[3074,"Michelbach","N","01.01.1966",null,"PLZ-Adressierung","extern","Ja","Nein","3074"]
[3100,"St. Pölten","N","01.01.1966",null,"PLZ-Adressierung","extern","Ja","Ja","3100"]
[3101,"St. Pölten Postfach","N","01.01.1966",null,"PLZ-Postfach","extern","Nein","Ja","3101"]
[3103,"St. Pölten","N","01.01.1966",null,"PLZ-Postfach","extern","Nein","Ja","3103"]
[3104,"St. Pölten-Harland","N","01.01.1966",null,"PLZ-Adressierung","extern","Ja","Nein","3104"]
[3105,"St. Pölten-Radlberg","N","01.01.1966",null,"PLZ-Adressierung","extern","Ja","Nein","3105"]
[3106,"St. Pölten-Spratzern","N","01.01.1966",null,"PLZ-Postfach","extern","Nein","Ja","3106"]
[3107,"St. Pölten-Traisenpark","N","01.01.1966",null,"PLZ-Adressierung","extern","Ja","Ja","3107"]
[3108,"St. Pölten-Wagram","N","01.01.1966",null,"PLZ-Postfach","extern","Nein","Ja","3108"]
[3109,"St. Pölten","N","01.01.1966",null,"PLZ-Postfach","extern","Nein","Ja","3109"]
[3110,"Neidling","N","01.01.1966",null,"PLZ-Adressierung","extern","Ja","Nein","3110"]
[3111,"St. Pölten","N","13.10.2007",null,"PLZ-Postfach","extern","Nein","Ja","3111"]
[3121,"Karlstetten","N","01.01.1966",null,"PLZ-Adressierung","extern","Ja","Ja","3121"]
[3122,"Gansbach","N","01.01.1966",null,"PLZ-Adressierung","extern","Ja","Ja","3122"]
[3123,"Obritzberg","N","01.01.1966",null,"PLZ-Adressierung","extern","Ja","Nein","3123"]
[3124,"Oberwölbling","N","01.01.1966",null,"PLZ-Adressierung","extern","Ja","Ja","3124"]
[3125,"Statzendorf","N","01.01.1966",null,"PLZ-Adressierung","extern","Ja","Nein","3125"]
[3130,"Herzogenburg","N","01.01.1966",null,"PLZ-Adressierung","extern","Ja","Ja","3130"]
[{"$f":"J515*1","v":3131},"Getzersdorf","N","01.01.1966",null,"PLZ-Adressierung","extern","Ja","Ja","3131"]
[3133,"Traismauer","N","01.01.1966",null,"PLZ-Adressierung","extern","Ja","Ja","3133"]
[3134,"Nußdorf","N","01.01.2007",null,"PLZ-Adressierung","extern","Ja","Nein","3134"]
[3140,"Pottenbrunn","N","01.01.1966",null,"PLZ-Adressierung","extern","Ja","Ja","3140"]
[3141,"Kapelln","N","01.01.1966",null,"PLZ-Adressierung","extern","Ja","Nein","3141"]
[3142,"Perschling","N","01.01.1966",null,"PLZ-Adressierung","extern","Ja","Nein","3142"]
[3143,"Pyhra","N","01.01.1966",null,"PLZ-Adressierung","extern","Ja","Ja","3143"]
[3144,"Wald","N","01.01.1966",null,"PLZ-Adressierung","extern","Ja","Nein","3144"]
[3150,"Wilhelmsburg","N","01.01.1966",null,"PLZ-Adressierung","extern","Ja","Ja","3150"]
[3151,"St. Georgen am Steinfelde","N","01.01.1966",null,"PLZ-Adressierung","extern","Ja","Ja","3151"]
[3153,"Eschenau","N","01.01.1966",null,"PLZ-Adressierung","extern","Ja","Ja","3153"]
[3160,"Traisen","N","01.01.1966",null,"PLZ-Adressierung","extern","Ja","Ja","3160"]
[3161,"St. Veit an der Gölsen","N","01.01.1966",null,"PLZ-Adressierung","extern","Ja","Ja","3161"]
[3162,"Rainfeld","N","01.01.1966",null,"PLZ-Adressierung","extern","Ja","Nein","3162"]
[3163,"Rohrbach","N","01.01.1966",null,"PLZ-Adressierung","extern","Ja","Nein","3163"]
[3170,"Hainfeld","N","01.01.1966",null,"PLZ-Adressierung","extern","Ja","Ja","3170"]
[3171,"Kleinzell-Salzerbad","N","01.01.1966",null,"PLZ-Adressierung","extern","Ja","Ja","3171"]
[3172,"Ramsau","N","01.01.1966",null,"PLZ-Adressierung","extern","Ja","Ja","3172"]
[3180,"Lilienfeld","N","01.01.1966",null,"PLZ-Adressierung","extern","Ja","Ja","3180"]
[3182,"Marktl, Traisental","N","01.01.1966",null,"InteressentenPLZ","extern","Nein","Ja","3182"]
[3183,"Freiland","N","01.01.1966",null,"PLZ-Adressierung","extern","Ja","Nein","3183"]
[3184,"Türnitz","N","01.01.1966",null,"PLZ-Adressierung","extern","Ja","Ja","3184"]
[3192,"Hohenberg","N","01.01.1966",null,"PLZ-Adressierung","extern","Ja","Nein","3192"]
[3193,"St. Aegyd am Neuwalde","N","01.01.1966",null,"PLZ-Adressierung","extern","Ja","Ja","3193"]
[3195,"Kernhof","N","01.01.1966",null,"PLZ-Adressierung","extern","Ja","Nein","3195"]
[3200,"Ober-Grafendorf","N","01.01.1966",null,"PLZ-Adressierung","extern","Ja","Ja","3200"]
[3202,"Hofstetten","N","01.01.1966",null,"PLZ-Adressierung","extern","Ja","Ja","3202"]
[3203,"Rabenstein an der Pielach","N","01.01.1966",null,"PLZ-Adressierung","extern","Ja","Ja","3203"]
[3204,"Kirchberg an der Pielach","N","01.01.1966",null,"PLZ-Adressierung","extern","Ja","Ja","3204"]
[3205,"Weinburg","N","01.07.2010",null,"PLZ-Adressierung","extern","Ja","Ja","3205"]
[3211,"Loich","N","01.01.1966",null,"PLZ-Adressierung","extern","Ja","Ja","3211"]
[3212,"Schwarzenbach an der Pielach","N","01.01.1966",null,"PLZ-Adressierung","extern","Ja","Nein","3212"]
[3213,"Frankenfels","N","01.01.1966",null,"PLZ-Adressierung","extern","Ja","Ja","3213"]
[3214,"Puchenstuben","N","01.01.1966",null,"PLZ-Adressierung","extern","Ja","Ja","3214"]
[3221,"Gösing an der Mariazellerbahn","N","01.01.1966",null,"PLZ-Adressierung","extern","Ja","Nein","3221"]
[3222,"Annaberg","N","01.01.1966",null,"PLZ-Adressierung","extern","Ja","Nein","3222"]
[3223,"Wienerbruck","N","01.01.1966",null,"PLZ-Adressierung","extern","Ja","Nein","3223"]
[3224,"Mitterbach","N","01.01.1966",null,"PLZ-Adressierung","extern","Ja","Nein","3224"]
[3231,"St. Margarethen an der Sierning","N","01.01.1966",null,"PLZ-Adressierung","extern","Ja","Nein","3231"]
[3232,"Bischofstetten","N","01.01.1966",null,"PLZ-Adressierung","extern","Ja","Ja","3232"]
[3233,"Kilb","N","01.01.1966",null,"PLZ-Adressierung","extern","Ja","Ja","3233"]
[3240,"Mank","N","01.01.1966",null,"PLZ-Adressierung","extern","Ja","Ja","3240"]
[3241,"Kirnberg an der Mank","N","01.01.1966",null,"PLZ-Adressierung","extern","Ja","Nein","3241"]
[3242,"Texing","N","01.01.1966",null,"PLZ-Adressierung","extern","Ja","Ja","3242"]
[3243,"St. Leonhard am Forst","N","01.01.1966",null,"PLZ-Adressierung","extern","Ja","Ja","3243"]
[3244,"Ruprechtshofen","N","01.01.1966",null,"PLZ-Adressierung","extern","Ja","Ja","3244"]
[3250,"Wieselburg","N","01.01.1966",null,"PLZ-Adressierung","extern","Ja","Ja","3250"]
[3251,"Purgstall","N","01.01.1966",null,"PLZ-Adressierung","extern","Ja","Ja","3251"]
[3252,"Petzenkirchen","N","01.01.1966",null,"PLZ-Adressierung","extern","Ja","Ja","3252"]
[3253,"Erlauf","N","01.01.1966",null,"PLZ-Adressierung","extern","Ja","Nein","3253"]
[3254,"Bergland","N","01.06.2013",null,"PLZ-Adressierung","extern","Ja","Nein","3254"]
[3261,"Steinakirchen am Forst","N","01.01.1966",null,"PLZ-Adressierung","extern","Ja","Ja","3261"]
[3262,"Wang","N","01.01.1966",null,"PLZ-Adressierung","extern","Ja","Nein","3262"]
[3263,"Randegg","N","01.01.1966",null,"PLZ-Adressierung","extern","Ja","Nein","3263"]
[3264,"Gresten","N","01.01.1966",null,"PLZ-Adressierung","extern","Ja","Ja","3264"]
[3270,"Scheibbs","N","01.01.1966",null,"PLZ-Adressierung","extern","Ja","Ja","3270"]
[3281,"Oberndorf an der Melk","N","01.01.1966",null,"PLZ-Adressierung","extern","Ja","Ja","3281"]
[3282,"St. Georgen an der Leys","N","01.01.1966",null,"PLZ-Adressierung","extern","Ja","Nein","3282"]
[3283,"St. Anton an der Jeßnitz","N","01.01.1966",null,"PLZ-Adressierung","extern","Ja","Nein","3283"]
[3291,"Kienberg","N","01.01.1966",null,"PLZ-Adressierung","extern","Ja","Nein","3291"]
[3292,"Gaming","N","01.01.1966",null,"PLZ-Adressierung","extern","Ja","Ja","3292"]
[3293,"Lunz am See","N","01.01.1966",null,"PLZ-Adressierung","extern","Ja","Ja","3293"]
[3294,"Langau","N","01.01.1966",null,"PLZ-Adressierung","extern","Ja","Nein","3294"]
[3295,"Lackenhof","N","01.01.1966",null,"PLZ-Adressierung","extern","Ja","Nein","3295"]
[{"$f":"J579*1","v":3300},"Amstetten","N","01.01.1966",null,"PLZ-Adressierung","extern","Ja","Ja","3300"]
[3304,"St. Georgen am Ybbsfelde","N","01.05.2006",null,"PLZ-Adressierung","extern","Ja","Nein","3304"]
[3311,"Zeillern","N","01.01.1966",null,"PLZ-Adressierung","extern","Ja","Ja","3311"]
[3312,"Oed","N","01.01.1966",null,"PLZ-Adressierung","extern","Ja","Nein","3312"]
[3313,"Wallsee","N","01.01.1966",null,"PLZ-Adressierung","extern","Ja","Ja","3313"]
[3314,"Strengberg","N","01.01.1966",null,"PLZ-Adressierung","extern","Ja","Ja","3314"]
[3321,"Ardagger","N","01.01.1966",null,"PLZ-Adressierung","extern","Ja","Ja","3321"]
[3322,"Viehdorf","N","01.01.1966",null,"PLZ-Adressierung","extern","Ja","Ja","3322"]
[3323,"Neustadtl an der Donau","N","01.01.1966",null,"PLZ-Adressierung","extern","Ja","Ja","3323"]
[3324,"Euratsfeld","N","01.01.1966",null,"PLZ-Adressierung","extern","Ja","Ja","3324"]
[3325,"Ferschnitz","N","01.01.1966",null,"PLZ-Adressierung","extern","Ja","Ja","3325"]
[3331,"Kematen","N","01.01.1966",null,"PLZ-Adressierung","extern","Ja","Ja","3331"]
[3332,"Rosenau am Sonntagberg","N","01.01.1966",null,"PLZ-Adressierung","extern","Ja","Ja","3332"]
[3333,"Böhlerwerk","N","01.01.1966",null,"PLZ-Adressierung","extern","Ja","Ja","3333"]
[3334,"Gaflenz","O","01.01.1966",null,"PLZ-Adressierung","extern","Ja","Ja","3334"]
[3335,"Weyer","O","01.01.1966",null,"PLZ-Adressierung","extern","Ja","Ja","3335"]
[3340,"Waidhofen an der Ybbs","N","01.01.1966",null,"PLZ-Adressierung","extern","Ja","Ja","3340"]
[3341,"Ybbsitz","N","01.01.1966",null,"PLZ-Adressierung","extern","Ja","Ja","3341"]
[3342,"Opponitz","N","01.01.1966",null,"PLZ-Adressierung","extern","Ja","Nein","3342"]
[3343,"Hollenstein an der Ybbs","N","01.01.1966",null,"PLZ-Adressierung","extern","Ja","Ja","3343"]
[3344,"St. Georgen am Reith","N","01.01.1966",null,"PLZ-Adressierung","extern","Ja","Nein","3344"]
[3345,"Göstling an der Ybbs","N","01.01.1966",null,"PLZ-Adressierung","extern","Ja","Ja","3345"]
[3350,"Haag","N","01.01.1966",null,"PLZ-Adressierung","extern","Ja","Ja","3350"]
[3351,"Weistrach","N","01.01.1966",null,"PLZ-Adressierung","extern","Ja","Ja","3351"]
[3352,"St. Peter in der Au","N","01.01.1966",null,"PLZ-Adressierung","extern","Ja","Ja","3352"]
[3353,"Seitenstetten","N","01.01.1966",null,"PLZ-Adressierung","extern","Ja","Ja","3353"]
[3354,"Wolfsbach","N","01.01.1966",null,"PLZ-Adressierung","extern","Ja","Ja","3354"]
[3355,"Ertl","N","01.01.1966",null,"PLZ-Adressierung","extern","Ja","Nein","3355"]
[3356,"Biberbach","N","01.01.2011",null,"PLZ-Postfach","extern","Nein","Ja","3356"]
[3361,"Aschbach Markt","N","01.01.1966",null,"PLZ-Adressierung","extern","Ja","Ja","3361"]
[3362,"Mauer-Öhling","N","01.01.1966",null,"PLZ-Adressierung","extern","Ja","Ja","3362"]
[3363,"Ulmerfeld-Hausmening","N","01.01.1966",null,"PLZ-Adressierung","extern","Ja","Ja","3363"]
[3364,"Neuhofen an der Ybbs","N","01.01.1966",null,"PLZ-Adressierung","extern","Ja","Nein","3364"]
[3365,"Allhartsberg","N","01.01.1966",null,"PLZ-Adressierung","extern","Ja","Nein","3365"]
[3366,"Kühberg","N","01.07.2010",null,"PLZ-Postfach","extern","Nein","Ja","3366"]
[3370,"Ybbs an der Donau","N","01.01.1966",null,"PLZ-Adressierung","extern","Ja","Ja","3370"]
[3371,"Neumarkt an der Ybbs","N","01.01.1966",null,"PLZ-Adressierung","extern","Ja","Nein","3371"]
[3372,"Blindenmarkt","N","01.01.1966",null,"PLZ-Adressierung","extern","Ja","Ja","3372"]
[3373,"Kemmelbach","N","01.01.1966",null,"PLZ-Adressierung","extern","Ja","Ja","3373"]
[3374,"Säusenstein","N","01.01.1966",null,"PLZ-Adressierung","extern","Ja","Nein","3374"]
[3375,"Krummnußbaum","N","01.01.1966",null,"PLZ-Adressierung","extern","Ja","Nein","3375"]
[3376,"St. Martin-Karlsbach","N","01.07.2009",null,"PLZ-Adressierung","extern","Ja","Nein","3376"]
[3380,"Pöchlarn","N","01.01.1966",null,"PLZ-Adressierung","extern","Ja","Ja","3380"]
[3381,"Golling","N","01.01.1966",null,"PLZ-Adressierung","extern","Ja","Ja","3381"]
[3382,"Loosdorf","N","01.01.1966",null,"PLZ-Adressierung","extern","Ja","Ja","3382"]
[3383,"Hürm","N","01.01.1966",null,"PLZ-Adressierung","extern","Ja","Ja","3383"]
[3384,"Groß Sierning","N","01.01.1966",null,"PLZ-Adressierung","extern","Ja","Nein","3384"]
[3385,"Prinzersdorf","N","01.01.1966",null,"PLZ-Adressierung","extern","Ja","Ja","3385"]
[3386,"Hafnerbach","N","01.01.1966",null,"PLZ-Adressierung","extern","Ja","Nein","3386"]
[3387,"Groß Sierning","N","01.01.2010",null,"PLZ-Postfach","extern","Nein","Ja","3387"]
[3390,"Melk","N","01.01.1966",null,"PLZ-Adressierung","extern","Ja","Ja","3390"]
[3392,"Schönbühel an der Donau","N","01.01.1966",null,"PLZ-Adressierung","extern","Ja","Nein","3392"]
[3393,"Matzleinsdorf","N","01.01.1966",null,"PLZ-Adressierung","extern","Ja","Nein","3393"]
[3400,"Klosterneuburg","N","01.01.1966",null,"PLZ-Adressierung","extern","Ja","Ja","3400"]
[3402,"Klosterneuburg","N","01.01.1966",null,"PLZ-Postfach","extern","Nein","Ja","3402"]
[3404,"Klosterneuburg","N","01.06.2012",null,"PLZ-Postfach","extern","Nein","Ja","3404"]
[3413,"Hintersdorf","N","01.01.1966",null,"PLZ-Adressierung","extern","Ja","Nein","3413"]
[3420,"Kritzendorf","N","01.01.1966",null,"PLZ-Adressierung","extern","Ja","Ja","3420"]
[3421,"Höflein an der Donau","N","01.01.1966",null,"PLZ-Adressierung","extern","Ja","Nein","3421"]
[3422,"Greifenstein","N","01.01.1966",null,"PLZ-Adressierung","extern","Ja","Nein","3422"]
[3423,"St. Andrä-Wördern","N","01.01.1966",null,"PLZ-Adressierung","extern","Ja","Ja","3423"]
[3424,"Zeiselmauer","N","01.01.1966",null,"PLZ-Adressierung","extern","Ja","Nein","3424"]
[3425,"Langenlebarn","N","01.01.1966",null,"PLZ-Adressierung","extern","Ja","Ja","3425"]
[3426,"Muckendorf-Wipfing","N","01.01.2011",null,"PLZ-Adressierung","extern","Ja","Nein","3426"]
[{"$f":"J643*1","v":3430},"Tulln an der Donau","N","01.01.1966",null,"PLZ-Adressierung","extern","Ja","Ja","3430"]
[3433,"Königstetten","N","01.01.1966",null,"PLZ-Adressierung","extern","Ja","Nein","3433"]
[3434,"Tulbing","N","01.01.1966",null,"PLZ-Adressierung","extern","Ja","Ja","3434"]
[3435,"Zwentendorf an der Donau","N","01.01.1966",null,"PLZ-Adressierung","extern","Ja","Ja","3435"]
[3441,"Judenau","N","01.01.1966",null,"PLZ-Adressierung","extern","Ja","Ja","3441"]
[3442,"Langenrohr","N","01.01.1966",null,"PLZ-Adressierung","extern","Ja","Ja","3442"]
[3443,"Sieghartskirchen","N","01.01.1966",null,"PLZ-Adressierung","extern","Ja","Ja","3443"]
[3451,"Michelhausen","N","01.01.1966",null,"PLZ-Adressierung","extern","Ja","Ja","3451"]
[3452,"Atzenbrugg","N","01.01.1966",null,"PLZ-Adressierung","extern","Ja","Ja","3452"]
[3454,"Sitzenberg-Reidling","N","01.01.1966",null,"PLZ-Adressierung","extern","Ja","Ja","3454"]
[3455,"Heiligeneich","N","01.07.2010",null,"PLZ-Postfach","extern","Nein","Ja","3455"]
[3462,"Absdorf","N","01.01.1966",null,"PLZ-Adressierung","extern","Ja","Ja","3462"]
[3463,"Stetteldorf am Wagram","N","01.01.1966",null,"PLZ-Adressierung","extern","Ja","Ja","3463"]
[3464,"Hausleiten","N","01.01.1966",null,"PLZ-Adressierung","extern","Ja","Ja","3464"]
[3465,"Königsbrunn am Wagram","N","01.01.1966",null,"PLZ-Adressierung","extern","Ja","Nein","3465"]
[3470,"Kirchberg am Wagram","N","01.01.1966",null,"PLZ-Adressierung","extern","Ja","Ja","3470"]
[3471,"Großriedenthal","N","01.01.1966",null,"PLZ-Adressierung","extern","Ja","Nein","3471"]
[3472,"Hohenwarth","N","01.01.1966",null,"PLZ-Adressierung","extern","Ja","Nein","3472"]
[3473,"Mühlbach am Manhartsberg","N","01.01.1966",null,"PLZ-Adressierung","extern","Ja","Nein","3473"]
[3474,"Altenwörth","N","01.01.1966",null,"PLZ-Adressierung","extern","Ja","Nein","3474"]
[3481,"Fels am Wagram","N","01.01.1966",null,"PLZ-Adressierung","extern","Ja","Ja","3481"]
[3482,"Gösing am Wagram","N","01.01.1966",null,"PLZ-Adressierung","extern","Ja","Nein","3482"]
[3483,"Feuersbrunn","N","01.01.1966",null,"PLZ-Adressierung","extern","Ja","Nein","3483"]
[3484,"Grafenwörth","N","01.01.1966",null,"PLZ-Adressierung","extern","Ja","Ja","3484"]
[3485,"Haitzendorf","N","01.01.1966",null,"PLZ-Adressierung","extern","Ja","Nein","3485"]
[3491,"Straß im Straßertale","N","01.01.1966",null,"PLZ-Adressierung","extern","Ja","Nein","3491"]
[3492,"Etsdorf am Kamp","N","01.01.1966",null,"PLZ-Adressierung","extern","Ja","Ja","3492"]
[3493,"Hadersdorf am Kamp","N","01.01.1966",null,"PLZ-Adressierung","extern","Ja","Ja","3493"]
[3494,"Gedersdorf","N","01.01.1966",null,"PLZ-Adressierung","extern","Ja","Nein","3494"]
[3495,"Rohrendorf bei Krems","N","01.01.1966",null,"PLZ-Adressierung","extern","Ja","Ja","3495"]
[3500,"Krems an der Donau","N","01.01.1966",null,"PLZ-Adressierung","extern","Ja","Ja","3500"]
[3501,"Krems-Lerchenfeld","N","01.09.2012",null,"PLZ-Postfach","extern","Nein","Ja","3501"]
[3503,"Krems-Rehberg","N","01.06.1966",null,"PLZ-Postfach","extern","Nein","Ja","3503"]
[3504,"Krems-Stein","N","01.01.1966",null,"PLZ-Postfach","extern","Nein","Ja","3504"]
[3505,"Krems","N","01.06.2013",null,"PLZ-Postfach","extern","Nein","Ja","3505"]
[3506,"Krems-Hollenburg","N","01.01.1966",null,"PLZ-Adressierung","extern","Ja","Nein","3506"]
[3508,"Paudorf","N","01.01.2007",null,"PLZ-Adressierung","extern","Ja","Nein","3508"]
[3511,"Furth bei Göttweig","N","01.01.1966",null,"PLZ-Adressierung","extern","Ja","Ja","3511"]
[3512,"Mautern","N","01.01.1966",null,"PLZ-Adressierung","extern","Ja","Nein","3512"]
[3521,"Obermeisling","N","01.01.1966",null,"PLZ-Adressierung","extern","Ja","Nein","3521"]
[3522,"Lichtenau","N","01.01.1966",null,"PLZ-Adressierung","extern","Ja","Ja","3522"]
[3524,"Grainbrunn","N","01.01.1966",null,"PLZ-Adressierung","extern","Ja","Ja","3524"]
[3525,"Sallingberg","N","01.01.1966",null,"PLZ-Adressierung","extern","Ja","Nein","3525"]
[3531,"Niedernondorf","N","01.01.1966",null,"PLZ-Adressierung","extern","Ja","Nein","3531"]
[3532,"Rastenfeld","N","01.01.1966",null,"PLZ-Adressierung","extern","Ja","Ja","3532"]
[3533,"Friedersbach","N","01.01.1966",null,"PLZ-Adressierung","extern","Ja","Nein","3533"]
[3541,"Senftenberg","N","01.01.1966",null,"PLZ-Adressierung","extern","Ja","Nein","3541"]
[3542,"Gföhl","N","01.01.1966",null,"PLZ-Adressierung","extern","Ja","Ja","3542"]
[3543,"Krumau am Kamp","N","01.01.1966",null,"PLZ-Adressierung","extern","Ja","Nein","3543"]
[3544,"Idolsberg","N","01.01.1966",null,"PLZ-Adressierung","extern","Ja","Nein","3544"]
[3550,"Langenlois","N","01.01.1966",null,"PLZ-Adressierung","extern","Ja","Ja","3550"]
[3552,"Lengenfeld","N","01.01.1966",null,"PLZ-Adressierung","extern","Ja","Nein","3552"]
[3553,"Schiltern","N","01.01.1966",null,"PLZ-Adressierung","extern","Ja","Nein","3553"]
[3561,"Zöbing","N","01.01.1966",null,"PLZ-Adressierung","extern","Ja","Nein","3561"]
[3562,"Schönberg","N","01.01.1966",null,"PLZ-Adressierung","extern","Ja","Ja","3562"]
[3564,"Plank am Kamp","N","01.01.1966",null,"PLZ-Adressierung","extern","Ja","Nein","3564"]
[3571,"Gars am Kamp","N","01.01.1966",null,"PLZ-Adressierung","extern","Ja","Ja","3571"]
[3572,"St. Leonhard am Hornerwald","N","01.01.1966",null,"PLZ-Adressierung","extern","Ja","Nein","3572"]
[3573,"Rosenburg","N","01.01.1966",null,"PLZ-Adressierung","extern","Ja","Nein","3573"]
[3580,"Horn","N","01.01.1966",null,"PLZ-Adressierung","extern","Ja","Ja","3580"]
[3591,"Altenburg","N","01.01.1966",null,"PLZ-Adressierung","extern","Ja","Nein","3591"]
[3592,"Röhrenbach","N","01.01.1966",null,"PLZ-Adressierung","extern","Ja","Nein","3592"]
[3593,"Neupölla","N","01.01.1966",null,"PLZ-Adressierung","extern","Ja","Ja","3593"]
[3594,"Franzen","N","01.01.1966",null,"PLZ-Adressierung","extern","Ja","Nein","3594"]
[{"$f":"J707*1","v":3595},"Brunn an der Wild","N","01.01.1966",null,"PLZ-Adressierung","extern","Ja","Ja","3595"]
[3601,"Dürnstein","N","01.01.1966",null,"PLZ-Adressierung","extern","Ja","Ja","3601"]
[3602,"Rossatz","N","01.01.1966",null,"PLZ-Adressierung","extern","Ja","Nein","3602"]
[3610,"Weißenkirchen in der Wachau","N","01.01.1966",null,"PLZ-Adressierung","extern","Ja","Ja","3610"]
[3611,"Großheinrichschlag","N","01.01.1966",null,"PLZ-Adressierung","extern","Ja","Ja","3611"]
[3613,"Albrechtsberg an der Großen Krems","N","01.01.1966",null,"PLZ-Adressierung","extern","Ja","Nein","3613"]
[3620,"Spitz","N","01.01.1966",null,"PLZ-Adressierung","extern","Ja","Ja","3620"]
[3621,"Mitterarnsdorf","N","01.01.1966",null,"PLZ-Adressierung","extern","Ja","Nein","3621"]
[3622,"Mühldorf","N","01.01.1966",null,"PLZ-Adressierung","extern","Ja","Ja","3622"]
[3623,"Kottes","N","01.01.1966",null,"PLZ-Adressierung","extern","Ja","Nein","3623"]
[3631,"Ottenschlag","N","01.01.1966",null,"PLZ-Adressierung","extern","Ja","Ja","3631"]
[3632,"Bad Traunstein","N","01.01.1966",null,"PLZ-Adressierung","extern","Ja","Ja","3632"]
[3633,"Schönbach","N","01.01.1966",null,"PLZ-Adressierung","extern","Ja","Nein","3633"]
[3641,"Aggsbach Markt","N","01.01.1966",null,"PLZ-Adressierung","extern","Ja","Nein","3641"]
[3642,"Aggsbach Dorf","N","01.01.1966",null,"PLZ-Adressierung","extern","Ja","Nein","3642"]
[3643,"Maria Laach am Jauerling","N","01.01.1966",null,"PLZ-Adressierung","extern","Ja","Nein","3643"]
[3644,"Emmersdorf an der Donau","N","01.01.1966",null,"PLZ-Adressierung","extern","Ja","Nein","3644"]
[3650,"Pöggstall","N","01.01.1966",null,"PLZ-Adressierung","extern","Ja","Ja","3650"]
[3652,"Leiben","N","01.01.1966",null,"PLZ-Adressierung","extern","Ja","Nein","3652"]
[3653,"Weiten","N","01.01.1966",null,"PLZ-Adressierung","extern","Ja","Nein","3653"]
[3654,"Raxendorf","N","01.01.1966",null,"PLZ-Adressierung","extern","Ja","Nein","3654"]
[3660,"Klein-Pöchlarn","N","01.01.1966",null,"PLZ-Adressierung","extern","Ja","Nein","3660"]
[3661,"Artstetten","N","01.01.1966",null,"PLZ-Adressierung","extern","Ja","Nein","3661"]
[3662,"Münichreith","N","01.01.1966",null,"PLZ-Adressierung","extern","Ja","Nein","3662"]
[3663,"Laimbach am Ostrong","N","01.01.1966",null,"PLZ-Adressierung","extern","Ja","Ja","3663"]
[3664,"Martinsberg","N","01.01.1966",null,"PLZ-Adressierung","extern","Ja","Nein","3664"]
[3665,"Gutenbrunn","N","01.01.1966",null,"PLZ-Adressierung","extern","Ja","Nein","3665"]
[3671,"Marbach an der Donau","N","01.01.1966",null,"PLZ-Adressierung","extern","Ja","Ja","3671"]
[3672,"Maria Taferl","N","01.01.1966",null,"PLZ-Adressierung","extern","Ja","Nein","3672"]
[3680,"Persenbeug","N","01.01.1966",null,"PLZ-Adressierung","extern","Ja","Ja","3680"]
[3681,"Hofamt Priel","N","01.03.2013",null,"PLZ-Adressierung","extern","Ja","Nein","3681"]
[3683,"Yspertal","N","01.01.1966",null,"PLZ-Adressierung","extern","Ja","Ja","3683"]
[3684,"St. Oswald","N","01.01.1966",null,"PLZ-Adressierung","extern","Ja","Nein","3684"]
[3691,"Nöchling","N","01.01.1966",null,"PLZ-Adressierung","extern","Ja","Nein","3691"]
[3701,"Großweikersdorf","N","01.01.1966",null,"PLZ-Adressierung","extern","Ja","Ja","3701"]
[3702,"Niederrußbach","N","01.01.1966",null,"PLZ-Adressierung","extern","Ja","Nein","3702"]
[3704,"Glaubendorf","N","01.01.1966",null,"PLZ-Adressierung","extern","Ja","Nein","3704"]
[3710,"Ziersdorf","N","01.01.1966",null,"PLZ-Adressierung","extern","Ja","Ja","3710"]
[3711,"Großmeiseldorf","N","01.01.1966",null,"PLZ-Adressierung","extern","Ja","Nein","3711"]
[3712,"Maissau","N","01.01.1966",null,"PLZ-Adressierung","extern","Ja","Nein","3712"]
[3713,"Harmannsdorf","N","01.01.1966",null,"PLZ-Adressierung","extern","Ja","Nein","3713"]
[3714,"Sitzendorf an der Schmida","N","01.01.1966",null,"PLZ-Adressierung","extern","Ja","Ja","3714"]
[3720,"Ravelsbach","N","01.01.1966",null,"PLZ-Adressierung","extern","Ja","Ja","3720"]
[3721,"Limberg","N","01.01.1966",null,"PLZ-Adressierung","extern","Ja","Nein","3721"]
[3722,"Straning","N","01.01.1966",null,"PLZ-Adressierung","extern","Ja","Nein","3722"]
[3730,"Eggenburg","N","01.01.1966",null,"PLZ-Adressierung","extern","Ja","Ja","3730"]
[3741,"Pulkau","N","01.01.1966",null,"PLZ-Adressierung","extern","Ja","Ja","3741"]
[3742,"Theras","N","01.01.1966",null,"PLZ-Adressierung","extern","Ja","Nein","3742"]
[3743,"Röschitz","N","01.01.1966",null,"PLZ-Adressierung","extern","Ja","Nein","3743"]
[3744,"Stockern","N","01.01.1966",null,"PLZ-Adressierung","extern","Ja","Nein","3744"]
[3751,"Sigmundsherberg","N","01.01.1966",null,"PLZ-Adressierung","extern","Ja","Ja","3751"]
[3752,"Walkenstein","N","01.01.1966",null,"PLZ-Adressierung","extern","Ja","Nein","3752"]
[3753,"Hötzelsdorf","N","01.01.1966",null,"PLZ-Adressierung","extern","Ja","Nein","3753"]
[3754,"Irnfritz","N","01.01.1966",null,"PLZ-Adressierung","extern","Ja","Nein","3754"]
[3761,"Messern","N","01.01.1966",null,"PLZ-Adressierung","extern","Ja","Nein","3761"]
[3762,"Ludweis","N","01.01.1966",null,"PLZ-Adressierung","extern","Ja","Nein","3762"]
[3763,"Japons","N","01.01.1966",null,"PLZ-Adressierung","extern","Ja","Ja","3763"]
[3800,"Göpfritz an der Wild","N","01.01.1966",null,"PLZ-Adressierung","extern","Ja","Nein","3800"]
[3804,"Allentsteig","N","01.01.1966",null,"PLZ-Adressierung","extern","Ja","Ja","3804"]
[3811,"Kirchberg an der Wild","N","01.01.1966",null,"PLZ-Adressierung","extern","Ja","Nein","3811"]
[3812,"Groß Siegharts","N","01.01.1966",null,"PLZ-Adressierung","extern","Ja","Ja","3812"]
[3813,"Dietmanns","N","01.01.1966",null,"PLZ-Adressierung","extern","Ja","Nein","3813"]
[3814,"Aigen","N","01.01.1966",null,"PLZ-Adressierung","extern","Ja","Nein","3814"]
[3820,"Raabs an der Thaya","N","01.01.1966",null,"PLZ-Adressierung","extern","Ja","Ja","3820"]
[{"$f":"J771*1","v":3822},"Karlstein an der Thaya","N","01.01.1966",null,"PLZ-Adressierung","extern","Ja","Nein","3822"]
[3823,"Weikertschlag an der Thaya","N","01.01.1966",null,"PLZ-Adressierung","extern","Ja","Nein","3823"]
[3824,"Großau","N","01.01.1966",null,"PLZ-Adressierung","extern","Ja","Nein","3824"]
[3830,"Waidhofen an der Thaya","N","01.01.1966",null,"PLZ-Adressierung","extern","Ja","Ja","3830"]
[3834,"Pfaffenschlag bei Waidhofen an der Thaya","N","01.01.1966",null,"PLZ-Adressierung","extern","Ja","Nein","3834"]
[3841,"Windigsteig","N","01.01.1966",null,"PLZ-Adressierung","extern","Ja","Nein","3841"]
[3842,"Thaya","N","01.01.1966",null,"PLZ-Adressierung","extern","Ja","Ja","3842"]
[3843,"Dobersberg","N","01.01.1966",null,"PLZ-Adressierung","extern","Ja","Nein","3843"]
[3844,"Waldkirchen an der Thaya","N","01.01.1966",null,"PLZ-Adressierung","extern","Ja","Nein","3844"]
[3851,"Kautzen","N","01.01.1966",null,"PLZ-Adressierung","extern","Ja","Nein","3851"]
[3852,"Gastern","N","01.01.1966",null,"PLZ-Adressierung","extern","Ja","Nein","3852"]
[3860,"Heidenreichstein","N","01.01.1966",null,"PLZ-Adressierung","extern","Ja","Ja","3860"]
[3861,"Eggern","N","01.01.1966",null,"PLZ-Adressierung","extern","Ja","Nein","3861"]
[3862,"Eisgarn","N","01.01.1966",null,"PLZ-Adressierung","extern","Ja","Nein","3862"]
[3863,"Reingers","N","01.01.1966",null,"PLZ-Adressierung","extern","Ja","Nein","3863"]
[3871,"Nagelberg","N","01.01.1966",null,"PLZ-Adressierung","extern","Ja","Nein","3871"]
[3872,"Langegg","N","01.01.1966",null,"PLZ-Adressierung","extern","Ja","Nein","3872"]
[3873,"Brand","N","01.01.1966",null,"PLZ-Adressierung","extern","Ja","Nein","3873"]
[3874,"Litschau","N","01.01.1966",null,"PLZ-Adressierung","extern","Ja","Ja","3874"]
[3900,"Schwarzenau","N","01.01.1966",null,"PLZ-Adressierung","extern","Ja","Ja","3900"]
[3902,"Vitis","N","01.01.1966",null,"PLZ-Adressierung","extern","Ja","Ja","3902"]
[3903,"Echsenbach","N","01.01.1966",null,"PLZ-Adressierung","extern","Ja","Ja","3903"]
[3910,"Zwettl","N","01.01.1966",null,"PLZ-Adressierung","extern","Ja","Ja","3910"]
[3911,"Rappottenstein","N","01.01.1966",null,"PLZ-Adressierung","extern","Ja","Ja","3911"]
[3912,"Grafenschlag","N","01.01.1966",null,"PLZ-Adressierung","extern","Ja","Nein","3912"]
[3913,"Großgöttfritz","N","01.01.1966",null,"PLZ-Adressierung","extern","Ja","Nein","3913"]
[3914,"Waldhausen","N","01.01.1966",null,"PLZ-Adressierung","extern","Ja","Nein","3914"]
[3920,"Groß Gerungs","N","01.01.1966",null,"PLZ-Adressierung","extern","Ja","Ja","3920"]
[3921,"Langschlag","N","01.01.1966",null,"PLZ-Adressierung","extern","Ja","Ja","3921"]
[3922,"Großschönau","N","01.01.1966",null,"PLZ-Adressierung","extern","Ja","Ja","3922"]
[3923,"Jagenbach","N","01.01.1966",null,"PLZ-Adressierung","extern","Ja","Nein","3923"]
[3924,"Rosenau Schloß","N","01.01.1966",null,"PLZ-Adressierung","extern","Ja","Nein","3924"]
[3925,"Arbesbach","N","01.01.1966",null,"PLZ-Adressierung","extern","Ja","Ja","3925"]
[3931,"Schweiggers","N","01.01.1966",null,"PLZ-Adressierung","extern","Ja","Ja","3931"]
[3932,"Kirchberg am Walde","N","01.01.1966",null,"PLZ-Adressierung","extern","Ja","Ja","3932"]
[3942,"Hirschbach","N","01.01.1966",null,"PLZ-Adressierung","extern","Ja","Nein","3942"]
[3943,"Schrems","N","01.01.1966",null,"PLZ-Adressierung","extern","Ja","Ja","3943"]
[3944,"Pürbach","N","01.01.1966",null,"PLZ-Adressierung","extern","Ja","Nein","3944"]
[3945,"Hoheneich","N","01.01.1966",null,"PLZ-Adressierung","extern","Ja","Ja","3945"]
[3950,"Gmünd","N","01.01.1966",null,"PLZ-Adressierung","extern","Ja","Ja","3950"]
[3961,"Waldenstein","N","01.01.1966",null,"PLZ-Adressierung","extern","Ja","Nein","3961"]
[3962,"Heinrichs bei Weitra","N","01.01.1966",null,"PLZ-Adressierung","extern","Ja","Nein","3962"]
[3970,"Weitra","N","01.01.1966",null,"PLZ-Adressierung","extern","Ja","Ja","3970"]
[3971,"St. Martin","N","01.01.1966",null,"PLZ-Adressierung","extern","Ja","Nein","3971"]
[3972,"Bad Großpertholz","N","01.01.1966",null,"PLZ-Adressierung","extern","Ja","Ja","3972"]
[3973,"Karlstift","N","01.01.1966",null,"PLZ-Adressierung","extern","Ja","Nein","3973"]
[4000,"Allhaming","O","01.08.2009",null,"PLZ-Postfach","extern","Nein","Ja","4000"]
[4010,"Linz, Donau","O","01.01.1966",null,"PLZ-Postfach","extern","Nein","Ja","4010"]
[4013,"Linz, Donau","O","01.01.1966",null,"PLZ-Postfach","extern","Nein","Ja","4013"]
[4016,"Linz, Donau","O","01.01.1966",null,"InteressentenPLZ","extern","Nein","Ja","4016"]
[4018,"Linz, Donau","O","01.01.1966",null,"PLZ-Postfach","extern","Nein","Ja","4018"]
[4020,"Linz","O","01.01.1966",null,"PLZ-Adressierung","extern","Ja","Ja","4020"]
[4021,"Linz, Donau Postfach","O","01.01.1966",null,"PLZ-Postfach","extern","Nein","Ja","4021"]
[4023,"Linz, Donau","O","01.01.1966",null,"PLZ-Postfach","extern","Nein","Ja","4023"]
[4024,"Linz, Donau","O","01.09.2012",null,"PLZ-Postfach","extern","Nein","Ja","4024"]
[4025,"Linz, Donau","O","01.01.1966",null,"PLZ-Postfach","extern","Nein","Ja","4025"]
[4026,"Linz, Donau","O","01.11.2012",null,"PLZ-Postfach","extern","Nein","Ja","4026"]
[4027,"Linz","O","01.12.2012",null,"PLZ-Postfach","extern","Nein","Ja","4027"]
[4030,"Linz","O","01.01.1966",null,"PLZ-Adressierung","extern","Ja","Ja","4030"]
[4031,"Linz, Donau Postfach","O","01.01.1966",null,"PLZ-Postfach","extern","Nein","Ja","4031"]
[4032,"Linz","O","01.08.2005",null,"PLZ-Postfach","extern","Nein","Ja","4032"]
[4033,"Linz-Ebelsberg","O","01.01.1966",null,"PLZ-Postfach","extern","Nein","Ja","4033"]
[4036,"Linz","O","01.01.2012",null,"PLZ-Postfach","extern","Nein","Ja","4036"]
[4040,"Linz","O","01.01.1966",null,"PLZ-Adressierung","extern","Ja","Ja","4040"]
[{"$f":"J835*1","v":4041},"Linz, Donau Postfach","O","01.01.1966",null,"PLZ-Postfach","extern","Nein","Ja","4041"]
[4046,"Linz, Donau","O","01.01.1966",null,"PLZ-Postfach","extern","Nein","Ja","4046"]
[4048,"Puchenau","O","01.01.1966",null,"PLZ-Adressierung","extern","Ja","Ja","4048"]
[4050,"Traun","O","01.01.1966",null,"PLZ-Adressierung","extern","Ja","Ja","4050"]
[4052,"Ansfelden","O","01.01.1966",null,"PLZ-Adressierung","extern","Ja","Ja","4052"]
[4053,"Haid","O","01.01.1966",null,"PLZ-Adressierung","extern","Ja","Ja","4053"]
[4055,"Pucking","O","01.01.1966",null,"PLZ-Adressierung","extern","Ja","Nein","4055"]
[4056,"Sankt Martin","O","01.07.2010",null,"PLZ-Postfach","extern","Nein","Ja","4056"]
[4059,"Leonding","O","01.01.1966",null,"PLZ-Postfach","extern","Nein","Ja","4059"]
[4060,"Leonding","O","01.01.1966",null,"PLZ-Adressierung","extern","Ja","Ja","4060"]
[4061,"Pasching","O","01.01.1966",null,"PLZ-Adressierung","extern","Ja","Nein","4061"]
[4062,"Thening","O","01.01.1966",null,"PLZ-Adressierung","extern","Ja","Ja","4062"]
[4063,"Hörsching","O","01.01.1966",null,"PLZ-Adressierung","extern","Ja","Ja","4063"]
[4064,"Oftering","O","01.01.1966",null,"PLZ-Adressierung","extern","Ja","Nein","4064"]
[4066,"Pasching","O","01.01.1966",null,"PLZ-Postfach","extern","Nein","Ja","4066"]
[4070,"Eferding","O","01.01.1966",null,"PLZ-Adressierung","extern","Ja","Ja","4070"]
[4072,"Alkoven","O","01.01.1966",null,"PLZ-Adressierung","extern","Ja","Ja","4072"]
[4073,"Wilhering","O","01.01.1966",null,"PLZ-Adressierung","extern","Ja","Nein","4073"]
[4074,"Stroheim","O","01.01.1966",null,"PLZ-Adressierung","extern","Ja","Nein","4074"]
[4075,"Breitenaich","O","01.01.1966",null,"PLZ-Adressierung","extern","Ja","Ja","4075"]
[4076,"St. Marienkirchen an der Polsenz","O","01.01.1966",null,"PLZ-Adressierung","extern","Ja","Nein","4076"]
[4077,"Straßham","O","01.07.2010",null,"PLZ-Postfach","extern","Nein","Ja","4077"]
[4078,"Fraham","O","01.07.2010",null,"PLZ-Postfach","extern","Nein","Ja","4078"]
[4081,"Hartkirchen","O","01.01.1966",null,"PLZ-Adressierung","extern","Ja","Ja","4081"]
[4082,"Aschach an der Donau","O","01.01.1966",null,"PLZ-Adressierung","extern","Ja","Ja","4082"]
[4083,"Haibach ob der Donau","O","01.01.1966",null,"PLZ-Adressierung","extern","Ja","Ja","4083"]
[4084,"St. Agatha","O","01.01.1966",null,"PLZ-Adressierung","extern","Ja","Ja","4084"]
[4085,"Wesenufer","O","01.01.1966",null,"PLZ-Adressierung","extern","Ja","Ja","4085"]
[4090,"Engelhartszell","O","01.01.1966",null,"PLZ-Adressierung","extern","Ja","Ja","4090"]
[4091,"Vichtenstein","O","01.01.1966",null,"PLZ-Adressierung","extern","Ja","Nein","4091"]
[4092,"Esternberg","O","01.01.1966",null,"PLZ-Adressierung","extern","Ja","Ja","4092"]
[4100,"Ottensheim","O","01.01.1966",null,"PLZ-Adressierung","extern","Ja","Ja","4100"]
[4101,"Feldkirchen an der Donau","O","01.01.1966",null,"PLZ-Adressierung","extern","Ja","Ja","4101"]
[4102,"Goldwörth","O","01.01.2011",null,"PLZ-Adressierung","extern","Ja","Nein","4102"]
[4111,"Walding","O","01.01.1966",null,"PLZ-Adressierung","extern","Ja","Ja","4111"]
[4112,"Rottenegg","O","01.01.1966",null,"PLZ-Adressierung","extern","Ja","Nein","4112"]
[4113,"St. Martin im Mühlkreis","O","01.01.1966",null,"PLZ-Adressierung","extern","Ja","Ja","4113"]
[4114,"Neuhaus an der Donau","O","01.01.1966",null,"PLZ-Adressierung","extern","Ja","Nein","4114"]
[4115,"Kleinzell im Mühlkreis","O","01.01.1966",null,"PLZ-Adressierung","extern","Ja","Nein","4115"]
[4116,"St. Ulrich im Mühlkreis","O","01.01.2012",null,"PLZ-Adressierung","extern","Ja","Nein","4116"]
[4120,"Neufelden","O","01.01.1966",null,"PLZ-Adressierung","extern","Ja","Ja","4120"]
[4121,"Altenfelden","O","01.01.1966",null,"PLZ-Adressierung","extern","Ja","Nein","4121"]
[4122,"Arnreit","O","01.01.1966",null,"PLZ-Adressierung","extern","Ja","Nein","4122"]
[4131,"Kirchberg ob der Donau","O","01.01.1966",null,"PLZ-Adressierung","extern","Ja","Nein","4131"]
[4132,"Lembach im Mühlkreis","O","01.01.1966",null,"PLZ-Adressierung","extern","Ja","Ja","4132"]
[4133,"Niederkappel","O","01.01.1966",null,"PLZ-Adressierung","extern","Ja","Nein","4133"]
[4134,"Putzleinsdorf","O","01.01.1966",null,"PLZ-Adressierung","extern","Ja","Ja","4134"]
[4141,"Pfarrkirchen im Mühlkreis","O","01.01.1966",null,"PLZ-Adressierung","extern","Ja","Nein","4141"]
[4142,"Hofkirchen im Mühlkreis","O","01.01.1966",null,"PLZ-Adressierung","extern","Ja","Nein","4142"]
[4143,"Neustift im Mühlkreis","O","01.01.1966",null,"PLZ-Adressierung","extern","Ja","Ja","4143"]
[4144,"Oberkappel","O","01.01.1966",null,"PLZ-Adressierung","extern","Ja","Nein","4144"]
[4150,"Rohrbach in Oberösterreich","O","01.01.1966",null,"PLZ-Adressierung","extern","Ja","Ja","4150"]
[4151,"Oepping","O","01.07.2010",null,"PLZ-Adressierung","extern","Ja","Ja","4151"]
[4152,"Sarleinsbach","O","01.01.1966",null,"PLZ-Adressierung","extern","Ja","Ja","4152"]
[4153,"Peilstein im Mühlviertel","O","01.01.1966",null,"PLZ-Adressierung","extern","Ja","Ja","4153"]
[4154,"Kollerschlag","O","01.01.1966",null,"PLZ-Adressierung","extern","Ja","Ja","4154"]
[4155,"Nebelberg","O","01.03.2014",null,"PLZ-Adressierung","extern","Ja","Ja","4155"]
[4160,"Aigen-Schlägl","O","01.01.1966",null,"PLZ-Adressierung","extern","Ja","Ja","4160"]
[4161,"Ulrichsberg","O","01.01.1966",null,"PLZ-Adressierung","extern","Ja","Ja","4161"]
[4162,"Julbach","O","01.01.1966",null,"PLZ-Adressierung","extern","Ja","Nein","4162"]
[4163,"Klaffer am Hochficht","O","01.01.1966",null,"PLZ-Adressierung","extern","Ja","Ja","4163"]
[4164,"Schwarzenberg am Böhmerwald","O","01.01.1966",null,"PLZ-Adressierung","extern","Ja","Nein","4164"]
[4170,"Haslach an der Mühl","O","01.01.1966",null,"PLZ-Adressierung","extern","Ja","Ja","4170"]
[4171,"St. Peter am Wimberg","O","01.01.1966",null,"PLZ-Adressierung","extern","Ja","Ja","4171"]
[{"$f":"J899*1","v":4172},"St. Johann am Wimberg","O","01.01.1966",null,"PLZ-Adressierung","extern","Ja","Nein","4172"]
[4173,"St. Veit im Mühlkreis","O","01.01.1966",null,"PLZ-Adressierung","extern","Ja","Nein","4173"]
[4174,"Niederwaldkirchen","O","01.01.1966",null,"PLZ-Adressierung","extern","Ja","Ja","4174"]
[4175,"Herzogsdorf","O","01.01.1966",null,"PLZ-Adressierung","extern","Ja","Ja","4175"]
[4180,"Zwettl an der Rodl","O","01.01.1966",null,"PLZ-Adressierung","extern","Ja","Ja","4180"]
[4181,"Oberneukirchen","O","01.01.1966",null,"PLZ-Adressierung","extern","Ja","Ja","4181"]
[4182,"Waxenberg","O","01.01.1966",null,"PLZ-Adressierung","extern","Ja","Nein","4182"]
[4183,"Traberg","O","01.01.1966",null,"PLZ-Adressierung","extern","Ja","Nein","4183"]
[4184,"Helfenberg","O","01.01.1966",null,"PLZ-Adressierung","extern","Ja","Nein","4184"]
[4190,"Bad Leonfelden","O","01.01.1966",null,"PLZ-Adressierung","extern","Ja","Ja","4190"]
[4191,"Vorderweißenbach","O","01.01.1966",null,"PLZ-Adressierung","extern","Ja","Ja","4191"]
[4192,"Schenkenfelden","O","01.01.1966",null,"PLZ-Adressierung","extern","Ja","Ja","4192"]
[4193,"Reichenthal","O","01.01.1966",null,"PLZ-Adressierung","extern","Ja","Ja","4193"]
[4201,"Gramastetten","O","01.01.1966",null,"PLZ-Adressierung","extern","Ja","Ja","4201"]
[4202,"Hellmonsödt","O","01.01.1966",null,"PLZ-Adressierung","extern","Ja","Ja","4202"]
[4203,"Altenberg bei Linz","O","01.01.1966",null,"PLZ-Adressierung","extern","Ja","Ja","4203"]
[4204,"Reichenau im Mühlkreis","O","01.01.1966",null,"PLZ-Adressierung","extern","Ja","Ja","4204"]
[4205,"Kirchschlag bei Linz","O","01.10.2010",null,"PLZ-Postfach","extern","Nein","Ja","4205"]
[4209,"Engerwitzdorf","O","01.01.1966",null,"PLZ-Adressierung","extern","Ja","Ja","4209"]
[4210,"Gallneukirchen","O","01.01.1966",null,"PLZ-Adressierung","extern","Ja","Ja","4210"]
[4211,"Alberndorf in der Riedmark","O","01.01.1966",null,"PLZ-Adressierung","extern","Ja","Ja","4211"]
[4212,"Neumarkt im Mühlkreis","O","01.01.1966",null,"PLZ-Adressierung","extern","Ja","Ja","4212"]
[4213,"Unterweitersdorf","O","01.07.2010",null,"PLZ-Postfach","extern","Nein","Ja","4213"]
[4221,"Steyregg","O","01.01.1966",null,"PLZ-Adressierung","extern","Ja","Ja","4221"]
[4222,"St. Georgen an der Gusen","O","01.01.1966",null,"PLZ-Adressierung","extern","Ja","Ja","4222"]
[4223,"Katsdorf","O","01.01.1966",null,"PLZ-Adressierung","extern","Ja","Ja","4223"]
[4224,"Wartberg ob der Aist","O","01.01.1966",null,"PLZ-Adressierung","extern","Ja","Ja","4224"]
[4225,"Luftenberg","O","01.01.2011",null,"PLZ-Adressierung","extern","Ja","Nein","4225"]
[4226,"Langenstein","O","01.01.2011",null,"PLZ-Postfach","extern","Nein","Ja","4226"]
[4230,"Pregarten","O","01.01.1966",null,"PLZ-Adressierung","extern","Ja","Ja","4230"]
[4231,"Untergaisbach","O","01.01.1966","13.04.2016","PLZ-Historisch","intern","Nein","Nein","4231"]
[4232,"Hagenberg im Mühlkreis","O","01.01.1966",null,"PLZ-Adressierung","extern","Ja","Ja","4232"]
[4240,"Freistadt","O","01.01.1966",null,"PLZ-Adressierung","extern","Ja","Ja","4240"]
[4242,"Hirschbach im Mühlkreis","O","01.01.1966",null,"PLZ-Adressierung","extern","Ja","Ja","4242"]
[4251,"Sandl","O","01.01.1966",null,"PLZ-Adressierung","extern","Ja","Ja","4251"]
[4252,"Liebenau","O","01.01.1966",null,"PLZ-Adressierung","extern","Ja","Nein","4252"]
[4261,"Rainbach im Mühlkreis","O","01.01.1966",null,"PLZ-Adressierung","extern","Ja","Ja","4261"]
[4262,"Leopoldschlag","O","01.01.1966",null,"PLZ-Adressierung","extern","Ja","Nein","4262"]
[4263,"Windhaag bei Freistadt","O","01.01.1966",null,"PLZ-Adressierung","extern","Ja","Nein","4263"]
[4264,"Grünbach","O","01.01.1966",null,"PLZ-Adressierung","extern","Ja","Nein","4264"]
[4271,"St. Oswald bei Freistadt","O","01.01.1966",null,"PLZ-Adressierung","extern","Ja","Nein","4271"]
[4272,"Weitersfelden","O","01.01.1966",null,"PLZ-Adressierung","extern","Ja","Ja","4272"]
[4273,"Unterweißenbach","O","01.01.1966",null,"PLZ-Adressierung","extern","Ja","Ja","4273"]
[4274,"Schönau im Mühlkreis","O","01.01.1966",null,"PLZ-Adressierung","extern","Ja","Ja","4274"]
[4280,"Königswiesen","O","01.01.1966",null,"PLZ-Adressierung","extern","Ja","Ja","4280"]
[4281,"Mönchdorf","O","01.01.1966",null,"PLZ-Adressierung","extern","Ja","Nein","4281"]
[4282,"Pierbach","O","01.01.1966",null,"PLZ-Adressierung","extern","Ja","Nein","4282"]
[4283,"Bad Zell","O","01.01.1966",null,"PLZ-Adressierung","extern","Ja","Ja","4283"]
[4284,"Tragwein","O","01.01.1966",null,"PLZ-Adressierung","extern","Ja","Ja","4284"]
[4291,"Lasberg","O","01.01.1966",null,"PLZ-Adressierung","extern","Ja","Ja","4291"]
[4292,"Kefermarkt","O","01.01.1966",null,"PLZ-Adressierung","extern","Ja","Ja","4292"]
[4293,"Gutau","O","01.01.1966",null,"PLZ-Adressierung","extern","Ja","Ja","4293"]
[4294,"St. Leonhard bei Freistadt","O","01.01.1966",null,"PLZ-Adressierung","extern","Ja","Nein","4294"]
[4300,"St. Valentin","N","01.01.1966",null,"PLZ-Adressierung","extern","Ja","Ja","4300"]
[4303,"St. Pantaleon","N","01.01.1966",null,"PLZ-Adressierung","extern","Ja","Nein","4303"]
[4310,"Mauthausen","O","01.01.1966",null,"PLZ-Adressierung","extern","Ja","Ja","4310"]
[4311,"Schwertberg","O","01.01.1966",null,"PLZ-Adressierung","extern","Ja","Ja","4311"]
[4312,"Ried in der Riedmark","O","01.01.1966",null,"PLZ-Adressierung","extern","Ja","Ja","4312"]
[4320,"Perg","O","01.01.1966",null,"PLZ-Adressierung","extern","Ja","Ja","4320"]
[4322,"Windhaag bei Perg","O","01.01.1966",null,"PLZ-Adressierung","extern","Ja","Ja","4322"]
[4323,"Münzbach","O","01.01.1966",null,"PLZ-Adressierung","extern","Ja","Nein","4323"]
[4324,"Rechberg","O","01.01.2007",null,"PLZ-Adressierung","extern","Ja","Nein","4324"]
[4331,"Naarn","O","01.01.1966",null,"PLZ-Adressierung","extern","Ja","Nein","4331"]
[4332,"Au an der Donau","O","01.01.1966",null,"PLZ-Adressierung","extern","Ja","Nein","4332"]
[{"$f":"J963*1","v":4341},"Arbing","O","01.01.1966",null,"PLZ-Adressierung","extern","Ja","Nein","4341"]
[4342,"Baumgartenberg","O","01.01.1966",null,"PLZ-Adressierung","extern","Ja","Nein","4342"]
[4343,"Mitterkirchen","O","01.01.1966",null,"PLZ-Adressierung","extern","Ja","Ja","4343"]
[4351,"Saxen","O","01.01.1966",null,"PLZ-Adressierung","extern","Ja","Nein","4351"]
[4352,"Klam","O","01.01.1966",null,"PLZ-Adressierung","extern","Ja","Nein","4352"]
[4360,"Grein","O","01.01.1966",null,"PLZ-Adressierung","extern","Ja","Ja","4360"]
[4362,"Bad Kreuzen","O","01.01.1966",null,"PLZ-Adressierung","extern","Ja","Ja","4362"]
[4363,"Pabneukirchen","O","01.01.1966",null,"PLZ-Adressierung","extern","Ja","Nein","4363"]
[4364,"St. Thomas","O","01.01.1966",null,"PLZ-Adressierung","extern","Ja","Nein","4364"]
[4371,"Dimbach","O","01.01.1966",null,"PLZ-Adressierung","extern","Ja","Nein","4371"]
[4372,"St. Georgen am Walde","O","01.01.1966",null,"PLZ-Adressierung","extern","Ja","Ja","4372"]
[4381,"St. Nikola an der Donau","O","01.01.1966",null,"PLZ-Adressierung","extern","Ja","Nein","4381"]
[4382,"Sarmingstein","O","01.01.1966",null,"PLZ-Adressierung","extern","Ja","Nein","4382"]
[4391,"Waldhausen im Strudengau","O","01.01.1966",null,"PLZ-Adressierung","extern","Ja","Ja","4391"]
[4392,"Dorfstetten","N","01.01.1966",null,"PLZ-Adressierung","extern","Ja","Nein","4392"]
[4400,"Steyr","O","01.01.1966",null,"PLZ-Adressierung","extern","Ja","Ja","4400"]
[4401,"Steyr Postfach","O","01.01.1966",null,"PLZ-Postfach","extern","Nein","Ja","4401"]
[4403,"Steyr","O","01.01.1966",null,"PLZ-Postfach","extern","Nein","Ja","4403"]
[4405,"Steyr-Münichholz","O","01.01.1966",null,"PLZ-Postfach","extern","Nein","Ja","4405"]
[4407,"Steyr-Gleink","O","01.01.1966",null,"PLZ-Adressierung","extern","Ja","Nein","4407"]
[4410,"Steyr","O","01.06.2013",null,"PLZ-Postfach","extern","Nein","Ja","4410"]
[4421,"Aschach an der Steyr","O","01.01.1966",null,"PLZ-Adressierung","extern","Ja","Ja","4421"]
[4431,"Haidershofen","N","01.01.1966",null,"PLZ-Adressierung","extern","Ja","Ja","4431"]
[4432,"Ernsthofen","N","01.01.1966",null,"PLZ-Adressierung","extern","Ja","Ja","4432"]
[4441,"Behamberg","N","01.01.1966",null,"PLZ-Adressierung","extern","Ja","Nein","4441"]
[4442,"Kleinraming","O","01.01.1966",null,"PLZ-Adressierung","extern","Ja","Ja","4442"]
[4443,"Maria Neustift","O","01.01.1966",null,"PLZ-Adressierung","extern","Ja","Ja","4443"]
[4451,"Garsten","O","01.01.1966",null,"PLZ-Adressierung","extern","Ja","Nein","4451"]
[4452,"Ternberg","O","01.01.1966",null,"PLZ-Adressierung","extern","Ja","Ja","4452"]
[4453,"Trattenbach","O","01.01.1966",null,"PLZ-Adressierung","extern","Ja","Nein","4453"]
[4460,"Losenstein","O","01.01.1966",null,"PLZ-Adressierung","extern","Ja","Ja","4460"]
[4461,"Laussa","O","01.01.1966",null,"PLZ-Adressierung","extern","Ja","Nein","4461"]
[4462,"Reichraming","O","01.01.1966",null,"PLZ-Adressierung","extern","Ja","Nein","4462"]
[4463,"Großraming","O","01.01.1966",null,"PLZ-Adressierung","extern","Ja","Ja","4463"]
[4464,"Kleinreifling","O","01.01.1966",null,"PLZ-Adressierung","extern","Ja","Nein","4464"]
[4470,"Enns","O","01.01.1966",null,"PLZ-Adressierung","extern","Ja","Ja","4470"]
[4481,"Asten","O","01.01.1966",null,"PLZ-Adressierung","extern","Ja","Ja","4481"]
[4482,"Ennsdorf","N","01.01.1966",null,"PLZ-Adressierung","extern","Ja","Nein","4482"]
[4483,"Hargelsberg","O","01.01.1966",null,"PLZ-Adressierung","extern","Ja","Ja","4483"]
[4484,"Kronstorf","O","01.01.1966",null,"PLZ-Adressierung","extern","Ja","Ja","4484"]
[4490,"St. Florian","O","01.01.1966",null,"PLZ-Adressierung","extern","Ja","Ja","4490"]
[4491,"Niederneukirchen","O","01.01.1966",null,"PLZ-Adressierung","extern","Ja","Nein","4491"]
[4492,"Hofkirchen im Traunkreis","O","01.01.1966",null,"PLZ-Adressierung","extern","Ja","Ja","4492"]
[4493,"Wolfern","O","01.01.1966",null,"PLZ-Adressierung","extern","Ja","Ja","4493"]
[4501,"Neuhofen an der Krems","O","01.01.1966",null,"PLZ-Adressierung","extern","Ja","Ja","4501"]
[4502,"St. Marien","O","01.01.1966",null,"PLZ-Adressierung","extern","Ja","Ja","4502"]
[4511,"Allhaming","O","01.01.1966",null,"PLZ-Adressierung","extern","Ja","Nein","4511"]
[4521,"Schiedlberg","O","01.01.1966",null,"PLZ-Adressierung","extern","Ja","Nein","4521"]
[4522,"Sierning","O","01.01.1966",null,"PLZ-Adressierung","extern","Ja","Ja","4522"]
[4523,"Neuzeug","O","01.01.1966",null,"PLZ-Adressierung","extern","Ja","Ja","4523"]
[4531,"Kematen an der Krems","O","01.01.1966",null,"PLZ-Adressierung","extern","Ja","Ja","4531"]
[4532,"Rohr im Kremstal","O","01.01.1966",null,"PLZ-Adressierung","extern","Ja","Ja","4532"]
[4533,"Piberbach","O","01.01.1966",null,"PLZ-Adressierung","extern","Ja","Nein","4533"]
[4540,"Bad Hall","O","01.01.1966",null,"PLZ-Adressierung","extern","Ja","Ja","4540"]
[4541,"Adlwang","O","01.01.1966",null,"PLZ-Adressierung","extern","Ja","Nein","4541"]
[4542,"Nußbach","O","01.01.1966",null,"PLZ-Adressierung","extern","Ja","Nein","4542"]
[4550,"Kremsmünster","O","01.01.1966",null,"PLZ-Adressierung","extern","Ja","Ja","4550"]
[4551,"Ried im Traunkreis","O","01.01.1966",null,"PLZ-Adressierung","extern","Ja","Ja","4551"]
[4552,"Wartberg an der Krems","O","01.01.1966",null,"PLZ-Adressierung","extern","Ja","Ja","4552"]
[4553,"Schlierbach","O","01.01.1966",null,"PLZ-Adressierung","extern","Ja","Ja","4553"]
[4554,"Oberschlierbach","O","01.09.2012",null,"PLZ-Adressierung","extern","Ja","Nein","4554"]
[4560,"Kirchdorf an der Krems","O","01.01.1966",null,"PLZ-Adressierung","extern","Ja","Ja","4560"]
[4562,"Steinbach am Ziehberg","O","01.01.1966",null,"PLZ-Adressierung","extern","Ja","Nein","4562"]
[4563,"Micheldorf","O","01.01.1966",null,"PLZ-Adressierung","extern","Ja","Ja","4563"]
[{"$f":"J1027*1","v":4564},"Klaus an der Pyhrnbahn","O","01.01.1966",null,"PLZ-Adressierung","extern","Ja","Ja","4564"]
[4565,"Inzersdorf im Kremstal","O","01.07.2010",null,"PLZ-Adressierung","extern","Ja","Ja","4565"]
[4571,"Steyrling","O","01.01.1966",null,"PLZ-Adressierung","extern","Ja","Nein","4571"]
[4572,"St. Pankraz","O","01.01.1966",null,"PLZ-Adressierung","extern","Ja","Nein","4572"]
[4573,"Hinterstoder","O","01.01.1966",null,"PLZ-Adressierung","extern","Ja","Ja","4573"]
[4574,"Vorderstoder","O","01.01.1966",null,"PLZ-Adressierung","extern","Ja","Nein","4574"]
[4575,"Roßleithen","O","01.01.1966",null,"PLZ-Adressierung","extern","Ja","Nein","4575"]
[4580,"Windischgarsten","O","01.01.1966",null,"PLZ-Adressierung","extern","Ja","Ja","4580"]
[4581,"Rosenau am Hengstpaß","O","01.01.1966",null,"PLZ-Adressierung","extern","Ja","Ja","4581"]
[4582,"Spital am Pyhrn","O","01.01.1966",null,"PLZ-Adressierung","extern","Ja","Ja","4582"]
[4591,"Molln","O","01.01.1966",null,"PLZ-Adressierung","extern","Ja","Ja","4591"]
[4592,"Leonstein","O","01.01.1966",null,"PLZ-Adressierung","extern","Ja","Ja","4592"]
[4593,"Obergrünburg","O","01.01.1966",null,"PLZ-Adressierung","extern","Ja","Nein","4593"]
[4594,"Grünburg","O","01.01.1966",null,"PLZ-Adressierung","extern","Ja","Ja","4594"]
[4595,"Waldneukirchen","O","01.01.1966",null,"PLZ-Adressierung","extern","Ja","Nein","4595"]
[4596,"Steinbach an der Steyr","O","01.01.2012",null,"PLZ-Adressierung","extern","Ja","Ja","4596"]
[4600,"Wels","O","01.01.1966",null,"PLZ-Adressierung","extern","Ja","Ja","4600"]
[4601,"Wels","O","01.01.1966",null,"PLZ-Postfach","extern","Nein","Ja","4601"]
[4602,"Wels Postfach","O","01.01.1966",null,"PLZ-Postfach","extern","Nein","Ja","4602"]
[4603,"Wels","O","01.01.1966",null,"PLZ-Postfach","extern","Nein","Ja","4603"]
[4605,"Wels","O","01.01.1966",null,"PLZ-Postfach","extern","Nein","Ja","4605"]
[4606,"Wels","O","01.01.1966",null,"PLZ-Postfach","extern","Nein","Ja","4606"]
[4609,"Thalheim bei Wels","O","01.01.1966",null,"PLZ-Postfach","extern","Nein","Ja","4609"]
[4610,"Wels","O","01.01.2011",null,"PLZ-Postfach","extern","Nein","Ja","4610"]
[4611,"Buchkirchen","O","01.01.1966",null,"PLZ-Adressierung","extern","Ja","Ja","4611"]
[4612,"Scharten","O","01.01.1966",null,"PLZ-Adressierung","extern","Ja","Nein","4612"]
[4613,"Mistelbach bei Wels","O","01.01.1966",null,"PLZ-Adressierung","extern","Ja","Nein","4613"]
[4614,"Marchtrenk","O","01.01.1966",null,"PLZ-Adressierung","extern","Ja","Ja","4614"]
[4615,"Holzhausen","O","01.01.2001",null,"PLZ-Adressierung","extern","Ja","Nein","4615"]
[4616,"Weißkirchen","O","01.01.1966",null,"PLZ-Adressierung","extern","Ja","Ja","4616"]
[4618,"Höllwiesen","O","01.01.2011",null,"PLZ-Postfach","extern","Nein","Ja","4618"]
[4619,"Wels","O","01.07.2011",null,"PLZ-Postfach","extern","Nein","Ja","4619"]
[4621,"Sipbachzell","O","01.01.1966",null,"PLZ-Adressierung","extern","Ja","Ja","4621"]
[4622,"Eggendorf im Traunkreis","O","01.01.1966",null,"PLZ-Adressierung","extern","Ja","Nein","4622"]
[4623,"Gunskirchen","O","01.01.1966",null,"PLZ-Adressierung","extern","Ja","Ja","4623"]
[4624,"Pennewang","O","01.01.1966",null,"PLZ-Adressierung","extern","Ja","Nein","4624"]
[4625,"Offenhausen","O","01.01.1966",null,"PLZ-Adressierung","extern","Ja","Ja","4625"]
[4631,"Krenglbach","O","01.01.1966",null,"PLZ-Adressierung","extern","Ja","Ja","4631"]
[4632,"Pichl bei Wels","O","01.01.1966",null,"PLZ-Adressierung","extern","Ja","Ja","4632"]
[4633,"Kematen am Innbach","O","01.01.1966",null,"PLZ-Adressierung","extern","Ja","Ja","4633"]
[4641,"Steinhaus","O","01.01.1966",null,"PLZ-Adressierung","extern","Ja","Ja","4641"]
[4642,"Sattledt","O","01.01.1966",null,"PLZ-Adressierung","extern","Ja","Ja","4642"]
[4643,"Pettenbach","O","01.01.1966",null,"PLZ-Adressierung","extern","Ja","Ja","4643"]
[4644,"Scharnstein","O","01.01.1966",null,"PLZ-Adressierung","extern","Ja","Ja","4644"]
[4645,"Grünau im Almtal","O","01.01.1966",null,"PLZ-Adressierung","extern","Ja","Ja","4645"]
[4650,"Lambach","O","01.01.1966",null,"PLZ-Adressierung","extern","Ja","Ja","4650"]
[4651,"Stadl-Paura","O","01.01.1966",null,"PLZ-Adressierung","extern","Ja","Ja","4651"]
[4652,"Steinerkirchen an der Traun","O","01.01.1966",null,"PLZ-Adressierung","extern","Ja","Ja","4652"]
[4653,"Eberstalzell","O","01.01.1966",null,"PLZ-Adressierung","extern","Ja","Ja","4653"]
[4654,"Bad Wimsbach-Neydharting","O","01.01.1966",null,"PLZ-Adressierung","extern","Ja","Nein","4654"]
[4655,"Vorchdorf","O","01.01.1966",null,"PLZ-Adressierung","extern","Ja","Ja","4655"]
[4656,"Kirchham","O","01.01.1966",null,"PLZ-Adressierung","extern","Ja","Ja","4656"]
[4657,"Fischlham","O","01.07.2010",null,"PLZ-Postfach","extern","Nein","Ja","4657"]
[4659,"Edt bei Lambach","O","01.01.1966",null,"PLZ-Postfach","extern","Nein","Ja","4659"]
[4661,"Roitham am Traunfall","O","01.01.1966",null,"PLZ-Adressierung","extern","Ja","Nein","4661"]
[4662,"Steyrermühl","O","01.01.1966",null,"PLZ-Adressierung","extern","Ja","Nein","4662"]
[4663,"Laakirchen","O","01.01.1966",null,"PLZ-Adressierung","extern","Ja","Ja","4663"]
[4664,"Oberweis","O","01.01.1966",null,"PLZ-Adressierung","extern","Ja","Nein","4664"]
[4671,"Neukirchen bei Lambach","O","01.01.1966",null,"PLZ-Adressierung","extern","Ja","Nein","4671"]
[4672,"Bachmanning","O","01.01.1966",null,"PLZ-Adressierung","extern","Ja","Ja","4672"]
[4673,"Gaspoltshofen","O","01.01.1966",null,"PLZ-Adressierung","extern","Ja","Ja","4673"]
[4674,"Altenhof am Hausruck","O","01.01.1966",null,"PLZ-Adressierung","extern","Ja","Nein","4674"]
[4675,"Weibern","O","01.01.1966",null,"PLZ-Adressierung","extern","Ja","Ja","4675"]
[4676,"Aistersheim","O","01.01.1966",null,"PLZ-Adressierung","extern","Ja","Nein","4676"]
[{"$f":"J1091*1","v":4680},"Haag am Hausruck","O","01.01.1966",null,"PLZ-Adressierung","extern","Ja","Ja","4680"]
[4681,"Rottenbach","O","01.01.1966",null,"PLZ-Adressierung","extern","Ja","Ja","4681"]
[4682,"Geboltskirchen","O","01.01.1966",null,"PLZ-Adressierung","extern","Ja","Ja","4682"]
[4690,"Schwanenstadt","O","01.01.1966",null,"PLZ-Adressierung","extern","Ja","Ja","4690"]
[4691,"Breitenschützing","O","01.01.1966",null,"PLZ-Adressierung","extern","Ja","Nein","4691"]
[4692,"Niederthalheim","O","01.01.1966",null,"PLZ-Adressierung","extern","Ja","Nein","4692"]
[4693,"Desselbrunn","O","01.01.1966",null,"PLZ-Adressierung","extern","Ja","Nein","4693"]
[4694,"Ohlsdorf","O","01.01.1966",null,"PLZ-Adressierung","extern","Ja","Ja","4694"]
[4701,"Bad Schallerbach","O","01.01.1966",null,"PLZ-Adressierung","extern","Ja","Ja","4701"]
[4702,"Wallern an der Trattnach","O","01.01.1966",null,"PLZ-Adressierung","extern","Ja","Nein","4702"]
[4707,"Schlüßlberg","O","01.01.1966",null,"PLZ-Adressierung","extern","Ja","Ja","4707"]
[4710,"Grieskirchen","O","01.01.1966",null,"PLZ-Adressierung","extern","Ja","Ja","4710"]
[4712,"Michaelnbach","O","01.01.1966",null,"PLZ-Adressierung","extern","Ja","Nein","4712"]
[4713,"Gallspach","O","01.01.1966",null,"PLZ-Adressierung","extern","Ja","Nein","4713"]
[4714,"Meggenhofen","O","01.01.1966",null,"PLZ-Adressierung","extern","Ja","Ja","4714"]
[4715,"Taufkirchen an der Trattnach","O","01.01.1966",null,"PLZ-Adressierung","extern","Ja","Nein","4715"]
[4716,"Hofkirchen an der Trattnach","O","01.01.1966",null,"PLZ-Adressierung","extern","Ja","Nein","4716"]
[4720,"Neumarkt im Hausruckkreis","O","01.01.1966",null,"PLZ-Adressierung","extern","Ja","Ja","4720"]
[4721,"Altschwendt","O","01.01.1966",null,"PLZ-Adressierung","extern","Ja","Nein","4721"]
[4722,"Peuerbach","O","01.01.1966",null,"PLZ-Adressierung","extern","Ja","Ja","4722"]
[4723,"Natternbach","O","01.01.1966",null,"PLZ-Adressierung","extern","Ja","Ja","4723"]
[4724,"Neukirchen am Walde","O","01.01.1966",null,"PLZ-Adressierung","extern","Ja","Ja","4724"]
[4725,"St. Aegidi","O","01.01.1966",null,"PLZ-Adressierung","extern","Ja","Ja","4725"]
[4730,"Waizenkirchen","O","01.01.1966",null,"PLZ-Adressierung","extern","Ja","Ja","4730"]
[4731,"Prambachkirchen","O","01.01.1966",null,"PLZ-Adressierung","extern","Ja","Ja","4731"]
[4732,"St. Thomas","O","01.01.1966",null,"PLZ-Adressierung","extern","Ja","Nein","4732"]
[4733,"Heiligenberg","O","01.01.2007",null,"PLZ-Adressierung","extern","Ja","Nein","4733"]
[4741,"Wendling","O","01.01.1966",null,"PLZ-Adressierung","extern","Ja","Nein","4741"]
[4742,"Pram","O","01.01.1966",null,"PLZ-Adressierung","extern","Ja","Nein","4742"]
[4743,"Peterskirchen","O","01.01.1966",null,"PLZ-Adressierung","extern","Ja","Nein","4743"]
[4751,"Dorf","O","01.01.1966",null,"PLZ-Adressierung","extern","Ja","Nein","4751"]
[4752,"Riedau","O","01.01.1966",null,"PLZ-Adressierung","extern","Ja","Ja","4752"]
[4753,"Taiskirchen im Innkreis","O","01.01.1966",null,"PLZ-Adressierung","extern","Ja","Ja","4753"]
[4754,"Andrichsfurt","O","01.01.1966",null,"PLZ-Adressierung","extern","Ja","Nein","4754"]
[4755,"Zell an der Pram","O","01.01.1966",null,"PLZ-Adressierung","extern","Ja","Nein","4755"]
[4760,"Raab","O","01.01.1966",null,"PLZ-Adressierung","extern","Ja","Ja","4760"]
[4761,"Enzenkirchen","O","01.01.1966",null,"PLZ-Adressierung","extern","Ja","Ja","4761"]
[4762,"St. Willibald","O","01.01.1966",null,"PLZ-Adressierung","extern","Ja","Nein","4762"]
[4770,"Andorf","O","01.01.1966",null,"PLZ-Adressierung","extern","Ja","Ja","4770"]
[4771,"Sigharting","O","01.01.1966",null,"PLZ-Adressierung","extern","Ja","Nein","4771"]
[4772,"Lambrechten","O","01.01.1966",null,"PLZ-Adressierung","extern","Ja","Nein","4772"]
[4773,"Eggerding","O","01.01.1966",null,"PLZ-Adressierung","extern","Ja","Nein","4773"]
[4774,"St. Marienkirchen bei Schärding","O","01.01.1966",null,"PLZ-Adressierung","extern","Ja","Nein","4774"]
[4775,"Taufkirchen an der Pram","O","01.01.1966",null,"PLZ-Adressierung","extern","Ja","Ja","4775"]
[4776,"Diersbach","O","01.01.1966",null,"PLZ-Adressierung","extern","Ja","Nein","4776"]
[4777,"Mayrhof","O","01.07.2007",null,"PLZ-Adressierung","extern","Ja","Nein","4777"]
[4780,"Schärding","O","01.01.1966",null,"PLZ-Adressierung","extern","Ja","Ja","4780"]
[4782,"St. Florian am Inn","O","01.01.1966",null,"PLZ-Adressierung","extern","Ja","Nein","4782"]
[4783,"Wernstein am Inn","O","01.01.1966",null,"PLZ-Adressierung","extern","Ja","Nein","4783"]
[4784,"Schardenberg","O","01.01.1966",null,"PLZ-Adressierung","extern","Ja","Ja","4784"]
[4785,"Freinberg","O","01.01.1966",null,"PLZ-Adressierung","extern","Ja","Nein","4785"]
[4786,"Brunnenthal","O","01.01.2006",null,"PLZ-Adressierung","extern","Ja","Nein","4786"]
[4791,"Rainbach im Innkreis","O","01.01.1966",null,"PLZ-Adressierung","extern","Ja","Nein","4791"]
[4792,"Münzkirchen","O","01.01.1966",null,"PLZ-Adressierung","extern","Ja","Ja","4792"]
[4793,"St. Roman","O","01.01.1966",null,"PLZ-Adressierung","extern","Ja","Nein","4793"]
[4794,"Kopfing im Innkreis","O","01.01.1966",null,"PLZ-Adressierung","extern","Ja","Nein","4794"]
[4800,"Attnang-Puchheim","O","01.01.1966",null,"PLZ-Adressierung","extern","Ja","Ja","4800"]
[4801,"Traunkirchen","O","01.01.1966",null,"PLZ-Adressierung","extern","Ja","Ja","4801"]
[4802,"Ebensee","O","01.01.1966",null,"PLZ-Adressierung","extern","Ja","Ja","4802"]
[4810,"Gmunden","O","01.01.1966",null,"PLZ-Adressierung","extern","Ja","Ja","4810"]
[4812,"Pinsdorf","O","01.01.1966",null,"PLZ-Adressierung","extern","Ja","Nein","4812"]
[4813,"Altmünster","O","01.01.1966",null,"PLZ-Adressierung","extern","Ja","Ja","4813"]
[4814,"Neukirchen","O","01.01.1966",null,"PLZ-Adressierung","extern","Ja","Ja","4814"]
[4816,"Gschwandt","O","01.01.1966",null,"PLZ-Adressierung","extern","Ja","Ja","4816"]
[{"$f":"J1155*1","v":4817},"St. Konrad","O","01.01.1966",null,"PLZ-Adressierung","extern","Ja","Ja","4817"]
[4820,"Bad Ischl","O","01.01.1966",null,"PLZ-Adressierung","extern","Ja","Ja","4820"]
[4821,"Lauffen","O","01.01.1966",null,"PLZ-Adressierung","extern","Ja","Nein","4821"]
[4822,"Bad Goisern am Hallstättersee","O","01.01.1966",null,"PLZ-Adressierung","extern","Ja","Ja","4822"]
[4823,"Steeg","O","01.01.1966",null,"PLZ-Adressierung","extern","Ja","Nein","4823"]
[4824,"Gosau","O","01.01.1966",null,"PLZ-Adressierung","extern","Ja","Nein","4824"]
[4825,"Gosau-Hintertal","O","01.01.1966",null,"PLZ-Adressierung","extern","Ja","Nein","4825"]
[4829,"Bad Ischl","O","01.01.1966",null,"PLZ-Postfach","extern","Nein","Ja","4829"]
[4830,"Hallstatt","O","01.01.1966",null,"PLZ-Adressierung","extern","Ja","Ja","4830"]
[4831,"Obertraun","O","01.01.1966",null,"PLZ-Adressierung","extern","Ja","Nein","4831"]
[4839,"Vöcklabruck","O","01.06.2013",null,"PLZ-Postfach","extern","Nein","Ja","4839"]
[4840,"Vöcklabruck","O","01.01.1966",null,"PLZ-Adressierung","extern","Ja","Ja","4840"]
[4841,"Ungenach","O","01.01.1966",null,"PLZ-Adressierung","extern","Ja","Ja","4841"]
[4842,"Zell am Pettenfirst","O","01.01.1966",null,"PLZ-Adressierung","extern","Ja","Nein","4842"]
[4843,"Ampflwang","O","01.01.1966",null,"PLZ-Adressierung","extern","Ja","Ja","4843"]
[4844,"Regau","O","01.01.1966",null,"PLZ-Adressierung","extern","Ja","Ja","4844"]
[4845,"Rutzenmoos","O","01.01.1966",null,"PLZ-Adressierung","extern","Ja","Nein","4845"]
[4846,"Redlham","O","01.07.2009",null,"PLZ-Adressierung","extern","Ja","Nein","4846"]
[4847,"Vöcklabruck","O","01.07.2010",null,"PLZ-Postfach","extern","Nein","Ja","4847"]
[4849,"Puchkirchen am Trattberg","O","01.10.2010",null,"PLZ-Adressierung","extern","Ja","Ja","4849"]
[4850,"Timelkam","O","01.01.1966",null,"PLZ-Adressierung","extern","Ja","Nein","4850"]
[4851,"Gampern","O","01.01.1966",null,"PLZ-Adressierung","extern","Ja","Nein","4851"]
[4852,"Weyregg am Attersee","O","01.01.1966",null,"PLZ-Adressierung","extern","Ja","Ja","4852"]
[4853,"Steinbach am Attersee","O","01.01.1966",null,"PLZ-Adressierung","extern","Ja","Ja","4853"]
[4854,"Weißenbach","O","01.01.1966",null,"PLZ-Adressierung","extern","Ja","Nein","4854"]
[4860,"Lenzing","O","01.01.1966",null,"PLZ-Adressierung","extern","Ja","Ja","4860"]
[4861,"Schörfling","O","01.01.1966",null,"PLZ-Adressierung","extern","Ja","Ja","4861"]
[4863,"Seewalchen am Attersee","O","01.01.1966",null,"PLZ-Adressierung","extern","Ja","Ja","4863"]
[4864,"Attersee","O","01.01.1966",null,"PLZ-Adressierung","extern","Ja","Nein","4864"]
[4865,"Nußdorf am Attersee","O","01.01.1966",null,"PLZ-Adressierung","extern","Ja","Nein","4865"]
[4866,"Unterach","O","01.01.1966",null,"PLZ-Adressierung","extern","Ja","Ja","4866"]
[4870,"Vöcklamarkt","O","01.01.1966",null,"PLZ-Adressierung","extern","Ja","Ja","4870"]
[4871,"Zipf","O","01.01.1966",null,"PLZ-Adressierung","extern","Ja","Nein","4871"]
[4872,"Neukirchen an der Vöckla","O","01.01.1966",null,"PLZ-Adressierung","extern","Ja","Nein","4872"]
[4873,"Frankenburg am Hausruck","O","01.01.1966",null,"PLZ-Adressierung","extern","Ja","Ja","4873"]
[4874,"Pramet","O","01.06.1966","31.03.2001","PLZ-Historisch","intern","Nein","Nein","4874"]
[4875,"Redleiten","O","01.07.2010",null,"PLZ-Postfach","extern","Nein","Ja","4875"]
[4880,"St. Georgen im Attergau","O","01.01.1966",null,"PLZ-Adressierung","extern","Ja","Ja","4880"]
[4881,"Straß im Attergau","O","01.01.1966",null,"PLZ-Adressierung","extern","Ja","Nein","4881"]
[4882,"Oberwang","O","01.01.1966",null,"PLZ-Adressierung","extern","Ja","Ja","4882"]
[4890,"Frankenmarkt","O","01.01.1966",null,"PLZ-Adressierung","extern","Ja","Ja","4890"]
[4891,"Pöndorf","O","01.01.1966",null,"PLZ-Adressierung","extern","Ja","Nein","4891"]
[4892,"Fornach","O","01.01.1966",null,"PLZ-Adressierung","extern","Ja","Nein","4892"]
[4893,"Zell am Moos","O","01.01.1966",null,"PLZ-Adressierung","extern","Ja","Ja","4893"]
[4894,"Oberhofen am Irrsee","O","01.01.1966",null,"PLZ-Adressierung","extern","Ja","Ja","4894"]
[4901,"Ottnang","O","01.01.1966",null,"PLZ-Adressierung","extern","Ja","Ja","4901"]
[4902,"Wolfsegg am Hausruck","O","01.01.1966",null,"PLZ-Adressierung","extern","Ja","Ja","4902"]
[4903,"Manning","O","01.01.2012",null,"PLZ-Adressierung","extern","Ja","Nein","4903"]
[4904,"Atzbach","O","01.01.1966",null,"PLZ-Adressierung","extern","Ja","Nein","4904"]
[4905,"Thomasroith","O","01.01.1966","31.12.2011","PLZ-Historisch","intern","Nein","Nein","4905"]
[4906,"Eberschwang","O","01.01.1966",null,"PLZ-Adressierung","extern","Ja","Ja","4906"]
[4910,"Ried im Innkreis","O","01.01.1966",null,"PLZ-Adressierung","extern","Ja","Ja","4910"]
[4911,"Tumeltsham","O","01.03.2013",null,"PLZ-Adressierung","extern","Ja","Nein","4911"]
[4912,"Neuhofen im Innkreis","O","01.03.2006",null,"PLZ-Adressierung","extern","Ja","Nein","4912"]
[4920,"Schildorn","O","01.07.2008",null,"PLZ-Adressierung","extern","Ja","Nein","4920"]
[4921,"Hohenzell","O","01.01.1966",null,"PLZ-Adressierung","extern","Ja","Nein","4921"]
[4922,"Geiersberg","O","01.01.1966",null,"PLZ-Adressierung","extern","Ja","Nein","4922"]
[4923,"Lohnsburg","O","01.01.1966",null,"PLZ-Adressierung","extern","Ja","Ja","4923"]
[4924,"Waldzell","O","01.01.1966",null,"PLZ-Adressierung","extern","Ja","Ja","4924"]
[4925,"Pramet","O","01.04.2001",null,"PLZ-Adressierung","extern","Ja","Nein","4925"]
[4926,"St. Marienkirchen am Hausruck","O","01.01.1966",null,"PLZ-Adressierung","extern","Ja","Nein","4926"]
[4931,"Mettmach","O","01.01.1966",null,"PLZ-Adressierung","extern","Ja","Ja","4931"]
[4932,"Kirchheim im Innkreis","O","01.01.1966",null,"PLZ-Adressierung","extern","Ja","Ja","4932"]
[4933,"Wildenau","O","01.01.1966",null,"PLZ-Adressierung","extern","Ja","Nein","4933"]
[{"$f":"J1219*1","v":4941},"Mehrnbach","O","01.01.1966",null,"PLZ-Adressierung","extern","Ja","Nein","4941"]
[4942,"Gurten","O","01.01.1966",null,"PLZ-Adressierung","extern","Ja","Ja","4942"]
[4943,"Geinberg","O","01.01.1966",null,"PLZ-Adressierung","extern","Ja","Nein","4943"]
[4950,"Altheim","O","01.01.1966",null,"PLZ-Adressierung","extern","Ja","Ja","4950"]
[4951,"Polling im Innkreis","O","01.01.1966",null,"PLZ-Adressierung","extern","Ja","Nein","4951"]
[4952,"Weng im Innkreis","O","01.01.1966",null,"PLZ-Adressierung","extern","Ja","Nein","4952"]
[4961,"Mühlheim am Inn","O","01.01.1966",null,"PLZ-Adressierung","extern","Ja","Nein","4961"]
[4962,"Mining","O","01.01.1966",null,"PLZ-Adressierung","extern","Ja","Ja","4962"]
[4963,"St. Peter am Hart","O","01.01.1966",null,"PLZ-Adressierung","extern","Ja","Nein","4963"]
[4970,"Eitzing","O","01.10.2006",null,"PLZ-Adressierung","extern","Ja","Nein","4970"]
[4971,"Aurolzmünster","O","01.01.1966",null,"PLZ-Adressierung","extern","Ja","Ja","4971"]
[4972,"Utzenaich","O","01.01.1966",null,"PLZ-Adressierung","extern","Ja","Nein","4972"]
[4973,"St. Martin","O","01.01.1966",null,"PLZ-Adressierung","extern","Ja","Ja","4973"]
[4974,"Ort im Innkreis","O","01.01.1966",null,"PLZ-Adressierung","extern","Ja","Ja","4974"]
[4975,"Suben","O","01.01.1966",null,"PLZ-Adressierung","extern","Ja","Ja","4975"]
[4980,"Antiesenhofen","O","01.01.1966",null,"PLZ-Adressierung","extern","Ja","Nein","4980"]
[4981,"Reichersberg","O","01.01.1966",null,"PLZ-Adressierung","extern","Ja","Nein","4981"]
[4982,"Obernberg am Inn","O","01.01.1966",null,"PLZ-Adressierung","extern","Ja","Ja","4982"]
[4983,"St. Georgen bei Obernberg am Inn","O","01.01.2008",null,"PLZ-Adressierung","extern","Ja","Nein","4983"]
[4984,"Weilbach","O","01.01.1966",null,"PLZ-Adressierung","extern","Ja","Nein","4984"]
[4985,"Katzenberg","O","01.10.2010",null,"PLZ-Postfach","extern","Nein","Ja","4985"]
[5000,"Wals bei Salzburg","Sa","01.08.2009",null,"PLZ-Postfach","extern","Nein","Ja","5000"]
[5010,"Salzburg","Sa","01.01.1966",null,"PLZ-Postfach","extern","Nein","Ja","5010"]
[5012,"Salzburg","Sa","01.12.2012",null,"PLZ-Postfach","extern","Nein","Ja","5012"]
[5013,"Salzburg-Liefering","Sa","01.01.1966",null,"PLZ-Postfach","extern","Nein","Ja","5013"]
[5014,"Salzburg","Sa","01.01.1966",null,"PLZ-Postfach","extern","Nein","Ja","5014"]
[5015,"Salzburg","Sa","01.01.1966",null,"InteressentenPLZ","extern","Nein","Ja","5015"]
[5016,"Salzburg","Sa","01.01.1966",null,"PLZ-Postfach","extern","Nein","Ja","5016"]
[5017,"Salzburg","Sa","01.01.1966",null,"PLZ-Postfach","extern","Nein","Ja","5017"]
[5018,"Salzburg-Europark","Sa","01.01.1966",null,"PLZ-Postfach","extern","Nein","Ja","5018"]
[5020,"Salzburg","Sa","01.01.1966",null,"PLZ-Adressierung","extern","Ja","Nein","5020"]
[5021,"Salzburg Postfach","Sa","01.01.1966",null,"PLZ-Postfach","extern","Nein","Ja","5021"]
[5022,"Salzburg","Sa","01.01.1966",null,"PLZ-Postfach","extern","Nein","Ja","5022"]
[5023,"Salzburg-Gnigl","Sa","01.01.1966",null,"PLZ-Adressierung","extern","Ja","Ja","5023"]
[5024,"Salzburg","Sa","01.01.1966",null,"PLZ-Postfach","extern","Nein","Ja","5024"]
[5025,"Salzburg-Parsch","Sa","01.01.1966",null,"PLZ-Postfach","extern","Nein","Ja","5025"]
[5026,"Salzburg-Aigen","Sa","01.01.1966",null,"PLZ-Adressierung","extern","Ja","Ja","5026"]
[5027,"Salzburg","Sa","01.01.1966",null,"PLZ-Postfach","extern","Nein","Ja","5027"]
[5032,"Salzburg","Sa","01.01.1966",null,"PLZ-Postfach","extern","Nein","Ja","5032"]
[5033,"Salzburg","Sa","01.01.1966",null,"PLZ-Postfach","extern","Nein","Ja","5033"]
[5061,"Elsbethen-Glasenbach","Sa","01.01.1966",null,"PLZ-Adressierung","extern","Ja","Nein","5061"]
[5071,"Wals","Sa","01.01.1966",null,"PLZ-Adressierung","extern","Ja","Ja","5071"]
[5072,"Siezenheim","Sa","01.01.1966",null,"PLZ-Postfach","extern","Nein","Ja","5072"]
[5081,"Anif","Sa","01.01.1966",null,"PLZ-Adressierung","extern","Ja","Nein","5081"]
[5082,"Grödig","Sa","01.01.1966",null,"PLZ-Adressierung","extern","Ja","Ja","5082"]
[5083,"Gartenau-St. Leonhard","Sa","01.01.1966",null,"PLZ-Adressierung","extern","Ja","Nein","5083"]
[5084,"Großgmain","Sa","01.01.1966",null,"PLZ-Adressierung","extern","Ja","Ja","5084"]
[5089,"Niederalm","Sa","01.12.2005",null,"PLZ-Postfach","extern","Nein","Ja","5089"]
[5090,"Lofer","Sa","01.01.1966",null,"PLZ-Adressierung","extern","Ja","Nein","5090"]
[5091,"Unken","Sa","01.01.1966",null,"PLZ-Adressierung","extern","Ja","Ja","5091"]
[5092,"St. Martin bei Lofer","Sa","01.01.1966",null,"PLZ-Adressierung","extern","Ja","Nein","5092"]
[5093,"Weißbach bei Lofer","Sa","01.01.1966",null,"PLZ-Adressierung","extern","Ja","Nein","5093"]
[5101,"Bergheim","Sa","01.01.1966",null,"PLZ-Adressierung","extern","Ja","Ja","5101"]
[5102,"Anthering","Sa","01.01.1966",null,"PLZ-Adressierung","extern","Ja","Ja","5102"]
[5110,"Oberndorf bei Salzburg","Sa","01.01.1966",null,"PLZ-Adressierung","extern","Ja","Ja","5110"]
[5111,"Bürmoos","Sa","01.01.1966",null,"PLZ-Adressierung","extern","Ja","Ja","5111"]
[5112,"Lamprechtshausen","Sa","01.01.1966",null,"PLZ-Adressierung","extern","Ja","Ja","5112"]
[5113,"St. Georgen bei Salzburg","Sa","01.01.1966",null,"PLZ-Adressierung","extern","Ja","Nein","5113"]
[5114,"Göming","Sa","01.01.1966",null,"PLZ-Adressierung","extern","Ja","Nein","5114"]
[5120,"St. Pantaleon","O","01.01.1966",null,"PLZ-Adressierung","extern","Ja","Ja","5120"]
[5121,"Ostermiething","O","01.01.1966",null,"PLZ-Adressierung","extern","Ja","Ja","5121"]
[5122,"Ach","O","01.01.1966",null,"PLZ-Adressierung","extern","Ja","Ja","5122"]
[5131,"Franking","O","01.01.1966",null,"PLZ-Adressierung","extern","Ja","Nein","5131"]
[5132,"Geretsberg","O","01.01.1966",null,"PLZ-Adressierung","extern","Ja","Nein","5132"]
[{"$f":"J1283*1","v":5133},"Gilgenberg am Weilhart","O","01.01.1966",null,"PLZ-Adressierung","extern","Ja","Nein","5133"]
[5134,"Schwand im Innkreis","O","01.01.1966",null,"PLZ-Adressierung","extern","Ja","Ja","5134"]
[5141,"Moosdorf","O","01.01.1966",null,"PLZ-Adressierung","extern","Ja","Nein","5141"]
[5142,"Eggelsberg","O","01.01.1966",null,"PLZ-Adressierung","extern","Ja","Ja","5142"]
[5143,"Feldkirchen bei Mattighofen","O","01.01.1966",null,"PLZ-Adressierung","extern","Ja","Nein","5143"]
[5144,"Handenberg","O","01.01.1966",null,"PLZ-Adressierung","extern","Ja","Nein","5144"]
[5145,"Neukirchen an der Enknach","O","01.01.1966",null,"PLZ-Adressierung","extern","Ja","Nein","5145"]
[5151,"Nußdorf am Haunsberg","Sa","01.01.1966",null,"PLZ-Adressierung","extern","Ja","Nein","5151"]
[5152,"Michaelbeuern","Sa","01.01.1966",null,"PLZ-Adressierung","extern","Ja","Nein","5152"]
[5161,"Elixhausen","Sa","01.01.1966",null,"PLZ-Adressierung","extern","Ja","Ja","5161"]
[5162,"Obertrum am See","Sa","01.01.1966",null,"PLZ-Adressierung","extern","Ja","Ja","5162"]
[5163,"Mattsee","Sa","01.01.1966",null,"PLZ-Adressierung","extern","Ja","Ja","5163"]
[5164,"Seeham","Sa","01.01.1966",null,"PLZ-Adressierung","extern","Ja","Nein","5164"]
[5165,"Berndorf bei Salzburg","Sa","01.01.1966",null,"PLZ-Adressierung","extern","Ja","Ja","5165"]
[5166,"Perwang am Grabensee","O","01.07.2010",null,"PLZ-Adressierung","extern","Ja","Nein","5166"]
[5201,"Seekirchen","Sa","01.01.1966",null,"PLZ-Adressierung","extern","Ja","Ja","5201"]
[5202,"Neumarkt am Wallersee","Sa","01.01.1966",null,"PLZ-Adressierung","extern","Ja","Ja","5202"]
[5203,"Köstendorf","Sa","01.01.1966",null,"PLZ-Adressierung","extern","Ja","Ja","5203"]
[5204,"Straßwalchen","Sa","01.01.1966",null,"PLZ-Adressierung","extern","Ja","Ja","5204"]
[5205,"Schleedorf","Sa","01.01.1966",null,"PLZ-Adressierung","extern","Ja","Nein","5205"]
[5211,"Friedburg","O","01.01.1966",null,"PLZ-Adressierung","extern","Ja","Ja","5211"]
[5212,"Schneegattern","O","01.01.1966",null,"PLZ-Adressierung","extern","Ja","Nein","5212"]
[5221,"Lochen am See","O","01.01.1966",null,"PLZ-Adressierung","extern","Ja","Ja","5221"]
[5222,"Munderfing","O","01.01.1966",null,"PLZ-Adressierung","extern","Ja","Ja","5222"]
[5223,"Pfaffstätt","O","01.01.2009",null,"PLZ-Adressierung","extern","Ja","Nein","5223"]
[5224,"Auerbach","O","01.01.2009",null,"PLZ-Adressierung","extern","Ja","Nein","5224"]
[5225,"Jeging","O","01.08.2008",null,"PLZ-Adressierung","extern","Ja","Nein","5225"]
[5230,"Mattighofen","O","01.01.1966",null,"PLZ-Adressierung","extern","Ja","Ja","5230"]
[5231,"Schalchen","O","01.01.1966",null,"PLZ-Adressierung","extern","Ja","Nein","5231"]
[5232,"Kirchberg bei Mattighofen","O","01.01.1966",null,"PLZ-Adressierung","extern","Ja","Nein","5232"]
[5233,"Pischelsdorf am Engelbach","O","01.01.1966",null,"PLZ-Adressierung","extern","Ja","Nein","5233"]
[5241,"Maria Schmolln","O","01.01.1966",null,"PLZ-Adressierung","extern","Ja","Nein","5241"]
[5242,"St. Johann am Walde","O","01.01.1966",null,"PLZ-Adressierung","extern","Ja","Ja","5242"]
[5251,"Höhnhart","O","01.01.1966",null,"PLZ-Adressierung","extern","Ja","Nein","5251"]
[5252,"Aspach","O","01.01.1966",null,"PLZ-Adressierung","extern","Ja","Ja","5252"]
[5261,"Uttendorf","O","01.01.1966",null,"PLZ-Adressierung","extern","Ja","Ja","5261"]
[5270,"Mauerkirchen","O","01.01.1966",null,"PLZ-Adressierung","extern","Ja","Ja","5270"]
[5271,"Moosbach","O","01.01.1966",null,"PLZ-Adressierung","extern","Ja","Nein","5271"]
[5272,"Treubach","O","01.01.1966",null,"PLZ-Adressierung","extern","Ja","Nein","5272"]
[5273,"Roßbach","O","01.01.1966",null,"PLZ-Adressierung","extern","Ja","Nein","5273"]
[5274,"Burgkirchen","O","01.01.1966",null,"PLZ-Adressierung","extern","Ja","Nein","5274"]
[5280,"Braunau am Inn","O","01.01.1966",null,"PLZ-Adressierung","extern","Ja","Ja","5280"]
[5282,"Braunau","O","01.01.1966",null,"PLZ-Adressierung","extern","Ja","Nein","5282"]
[5283,"Braunau am Inn","O","01.05.2012",null,"PLZ-Postfach","extern","Nein","Ja","5283"]
[5300,"Hallwang","Sa","01.01.1966",null,"PLZ-Adressierung","extern","Ja","Ja","5300"]
[5301,"Eugendorf","Sa","01.01.1966",null,"PLZ-Adressierung","extern","Ja","Ja","5301"]
[5302,"Henndorf am Wallersee","Sa","01.01.1966",null,"PLZ-Adressierung","extern","Ja","Ja","5302"]
[5303,"Thalgau","Sa","01.01.1966",null,"PLZ-Adressierung","extern","Ja","Ja","5303"]
[5310,"Mondsee","O","01.01.1966",null,"PLZ-Adressierung","extern","Ja","Ja","5310"]
[5311,"Loibichl","O","01.01.1966",null,"PLZ-Adressierung","extern","Ja","Nein","5311"]
[5321,"Koppl","Sa","01.01.1966",null,"PLZ-Adressierung","extern","Ja","Ja","5321"]
[5322,"Hof bei Salzburg","Sa","01.01.1966",null,"PLZ-Adressierung","extern","Ja","Ja","5322"]
[5323,"Ebenau","Sa","01.01.1966",null,"PLZ-Adressierung","extern","Ja","Nein","5323"]
[5324,"Faistenau","Sa","01.01.1966",null,"PLZ-Adressierung","extern","Ja","Ja","5324"]
[5325,"Plainfeld","Sa","01.01.1966",null,"PLZ-Adressierung","extern","Ja","Nein","5325"]
[5330,"Fuschl am See","Sa","01.01.1966",null,"PLZ-Adressierung","extern","Ja","Ja","5330"]
[5340,"St. Gilgen","Sa","01.01.1966",null,"PLZ-Adressierung","extern","Ja","Ja","5340"]
[5342,"Abersee","Sa","01.01.1966",null,"PLZ-Adressierung","extern","Ja","Nein","5342"]
[5350,"Strobl","Sa","01.01.1966",null,"PLZ-Adressierung","extern","Ja","Ja","5350"]
[5351,"Aigen-Voglhub","Sa","01.01.1966","28.02.2018","PLZ-Historisch","intern","Ja","Nein","5351"]
[5360,"St. Wolfgang im Salzkammergut","O","01.01.1966",null,"PLZ-Adressierung","extern","Ja","Ja","5360"]
[5400,"Hallein","Sa","01.01.1966",null,"PLZ-Adressierung","extern","Ja","Ja","5400"]
[5411,"Oberalm","Sa","01.01.1966",null,"PLZ-Adressierung","extern","Ja","Ja","5411"]
[5412,"Puch bei Hallein","Sa","01.01.1966",null,"PLZ-Adressierung","extern","Ja","Nein","5412"]
[{"$f":"J1347*1","v":5421},"Adnet","Sa","01.01.1966",null,"PLZ-Adressierung","extern","Ja","Ja","5421"]
[5422,"Heilbad Dürrnberg","Sa","01.01.1966",null,"PLZ-Adressierung","extern","Ja","Nein","5422"]
[5423,"St. Koloman","Sa","01.01.1966",null,"PLZ-Adressierung","extern","Ja","Ja","5423"]
[5424,"Bad Vigaun","Sa","01.01.1966",null,"PLZ-Adressierung","extern","Ja","Ja","5424"]
[5425,"Krispl","Sa","01.12.2013",null,"PLZ-Adressierung","extern","Ja","Nein","5425"]
[5431,"Kuchl","Sa","01.01.1966",null,"PLZ-Adressierung","extern","Ja","Ja","5431"]
[5440,"Golling an der Salzach","Sa","01.01.1966",null,"PLZ-Adressierung","extern","Ja","Ja","5440"]
[5441,"Abtenau","Sa","01.01.1966",null,"PLZ-Adressierung","extern","Ja","Ja","5441"]
[5442,"Rußbach am Paß Gschütt","Sa","01.01.1966",null,"PLZ-Adressierung","extern","Ja","Ja","5442"]
[5450,"Werfen","Sa","01.01.1966",null,"PLZ-Adressierung","extern","Ja","Ja","5450"]
[5451,"Tenneck","Sa","01.01.1966",null,"PLZ-Adressierung","extern","Ja","Nein","5451"]
[5452,"Pfarrwerfen","Sa","01.01.1966",null,"PLZ-Adressierung","extern","Ja","Nein","5452"]
[5453,"Werfenweng","Sa","01.01.1966",null,"PLZ-Adressierung","extern","Ja","Ja","5453"]
[5500,"Bischofshofen","Sa","01.01.1966",null,"PLZ-Adressierung","extern","Ja","Ja","5500"]
[5505,"Mühlbach am Hochkönig","Sa","01.01.1966",null,"PLZ-Adressierung","extern","Ja","Ja","5505"]
[5511,"Hüttau","Sa","01.01.1966",null,"PLZ-Adressierung","extern","Ja","Nein","5511"]
[5521,"Niedernfritz","Sa","01.01.1966",null,"PLZ-Adressierung","extern","Ja","Nein","5521"]
[5522,"St. Martin am Tennengebirge","Sa","01.01.1966",null,"PLZ-Adressierung","extern","Ja","Ja","5522"]
[5523,"Lungötz","Sa","01.01.1966",null,"PLZ-Adressierung","extern","Ja","Nein","5523"]
[5524,"Annaberg","Sa","01.01.1966",null,"PLZ-Adressierung","extern","Ja","Ja","5524"]
[5531,"Eben im Pongau","Sa","01.01.1966",null,"PLZ-Adressierung","extern","Ja","Ja","5531"]
[5532,"Filzmoos","Sa","01.01.1966",null,"PLZ-Adressierung","extern","Ja","Ja","5532"]
[5541,"Altenmarkt im Pongau","Sa","01.01.1966",null,"PLZ-Adressierung","extern","Ja","Ja","5541"]
[5542,"Flachau","Sa","01.01.1966",null,"PLZ-Adressierung","extern","Ja","Ja","5542"]
[5550,"Radstadt","Sa","01.01.1966",null,"PLZ-Adressierung","extern","Ja","Ja","5550"]
[5552,"Forstau","Sa","01.10.2007",null,"PLZ-Adressierung","extern","Ja","Nein","5552"]
[5561,"Untertauern","Sa","01.06.1966",null,"PLZ-Adressierung","extern","Ja","Nein","5561"]
[5562,"Obertauern","Sa","01.01.1966",null,"PLZ-Adressierung","extern","Ja","Nein","5562"]
[5563,"Tweng","Sa","01.01.1966",null,"PLZ-Adressierung","extern","Ja","Nein","5563"]
[5570,"Mauterndorf","Sa","01.01.1966",null,"PLZ-Adressierung","extern","Ja","Ja","5570"]
[5571,"Mariapfarr","Sa","01.01.1966",null,"PLZ-Adressierung","extern","Ja","Ja","5571"]
[5572,"St. Andrä im Lungau","Sa","01.01.2006",null,"PLZ-Adressierung","extern","Ja","Nein","5572"]
[5573,"Weißpriach","Sa","09.10.2008",null,"PLZ-Adressierung","extern","Ja","Nein","5573"]
[5574,"Göriach","Sa","01.04.2009",null,"PLZ-Adressierung","extern","Ja","Nein","5574"]
[5575,"Lessach","Sa","01.03.2013",null,"PLZ-Adressierung","extern","Ja","Nein","5575"]
[5580,"Tamsweg","Sa","01.01.1966",null,"PLZ-Adressierung","extern","Ja","Ja","5580"]
[5581,"St. Margarethen im Lungau","Sa","01.10.2004",null,"PLZ-Adressierung","extern","Ja","Nein","5581"]
[5582,"St. Michael im Lungau","Sa","01.01.1966",null,"PLZ-Adressierung","extern","Ja","Ja","5582"]
[5583,"Muhr","Sa","01.01.1966",null,"PLZ-Adressierung","extern","Ja","Nein","5583"]
[5584,"Zederhaus","Sa","01.01.1966",null,"PLZ-Adressierung","extern","Ja","Ja","5584"]
[5585,"Unternberg","Sa","01.01.1966",null,"PLZ-Adressierung","extern","Ja","Nein","5585"]
[5591,"Ramingstein","Sa","01.01.1966",null,"PLZ-Adressierung","extern","Ja","Nein","5591"]
[5592,"Thomatal","Sa","01.01.2006",null,"PLZ-Adressierung","extern","Ja","Nein","5592"]
[5600,"St. Johann im Pongau","Sa","01.01.1966",null,"PLZ-Adressierung","extern","Ja","Ja","5600"]
[5602,"Wagrain","Sa","01.01.1966",null,"PLZ-Adressierung","extern","Ja","Ja","5602"]
[5603,"Kleinarl","Sa","01.01.1966",null,"PLZ-Adressierung","extern","Ja","Ja","5603"]
[5611,"Großarl","Sa","01.01.1966",null,"PLZ-Adressierung","extern","Ja","Ja","5611"]
[5612,"Hüttschlag","Sa","01.01.1966",null,"PLZ-Adressierung","extern","Ja","Nein","5612"]
[5620,"Schwarzach im Pongau","Sa","01.01.1966",null,"PLZ-Adressierung","extern","Ja","Ja","5620"]
[5621,"St. Veit im Pongau","Sa","01.01.1966",null,"PLZ-Adressierung","extern","Ja","Nein","5621"]
[5622,"Goldegg","Sa","01.01.1966",null,"PLZ-Adressierung","extern","Ja","Nein","5622"]
[5623,"Schwarzach im Pongau","Sa","12.04.2007",null,"InteressentenPLZ","extern","Nein","Ja","5623"]
[5630,"Bad Hofgastein","Sa","01.01.1966",null,"PLZ-Adressierung","extern","Ja","Ja","5630"]
[5632,"Dorfgastein","Sa","01.01.1966",null,"PLZ-Adressierung","extern","Ja","Nein","5632"]
[5640,"Bad Gastein","Sa","01.01.1966",null,"PLZ-Adressierung","extern","Ja","Ja","5640"]
[5645,"Böckstein","Sa","01.01.1966",null,"PLZ-Adressierung","extern","Ja","Nein","5645"]
[5651,"Lend","Sa","01.01.1966",null,"PLZ-Adressierung","extern","Ja","Nein","5651"]
[5652,"Dienten am Hochkönig","Sa","01.01.1966",null,"PLZ-Adressierung","extern","Ja","Nein","5652"]
[5660,"Taxenbach","Sa","01.01.1966",null,"PLZ-Adressierung","extern","Ja","Ja","5660"]
[5661,"Rauris","Sa","01.01.1966",null,"PLZ-Adressierung","extern","Ja","Ja","5661"]
[5662,"Gries","Sa","01.01.1966",null,"PLZ-Adressierung","extern","Ja","Nein","5662"]
[5671,"Bruck an der Großglocknerstraße","Sa","01.01.1966",null,"PLZ-Adressierung","extern","Ja","Ja","5671"]
[5672,"Fusch an der Glocknerstraße","Sa","01.01.1966",null,"PLZ-Adressierung","extern","Ja","Nein","5672"]
[5700,"Zell am See","Sa","01.01.1966",null,"PLZ-Adressierung","extern","Ja","Ja","5700"]
[{"$f":"J1411*1","v":5702},"Zell am See-Schüttdorf","Sa","01.01.1966",null,"PLZ-Postfach","extern","Nein","Ja","5702"]
[5710,"Kaprun","Sa","01.01.1966",null,"PLZ-Adressierung","extern","Ja","Ja","5710"]
[5721,"Piesendorf","Sa","01.01.1966",null,"PLZ-Adressierung","extern","Ja","Ja","5721"]
[5722,"Niedernsill","Sa","01.01.1966",null,"PLZ-Adressierung","extern","Ja","Ja","5722"]
[5723,"Uttendorf","Sa","01.01.1966",null,"PLZ-Adressierung","extern","Ja","Ja","5723"]
[5724,"Stuhlfelden","Sa","01.01.1966",null,"PLZ-Adressierung","extern","Ja","Ja","5724"]
[5730,"Mittersill","Sa","01.01.1966",null,"PLZ-Adressierung","extern","Ja","Ja","5730"]
[5731,"Hollersbach im Pinzgau","Sa","01.01.1966",null,"PLZ-Adressierung","extern","Ja","Nein","5731"]
[5732,"Mühlbach","Sa","01.01.1966",null,"PLZ-Adressierung","extern","Ja","Nein","5732"]
[5733,"Bramberg am Wildkogel","Sa","01.01.1966",null,"PLZ-Adressierung","extern","Ja","Ja","5733"]
[5741,"Neukirchen am Großvenediger","Sa","01.01.1966",null,"PLZ-Adressierung","extern","Ja","Ja","5741"]
[5742,"Wald im Pinzgau","Sa","01.01.1966",null,"PLZ-Adressierung","extern","Ja","Ja","5742"]
[5743,"Krimml","Sa","01.01.1966",null,"PLZ-Adressierung","extern","Ja","Nein","5743"]
[5751,"Maishofen","Sa","01.01.1966",null,"PLZ-Adressierung","extern","Ja","Ja","5751"]
[5752,"Viehhofen","Sa","01.01.1966",null,"PLZ-Adressierung","extern","Ja","Nein","5752"]
[5753,"Saalbach","Sa","01.01.1966",null,"PLZ-Adressierung","extern","Ja","Ja","5753"]
[5754,"Hinterglemm","Sa","01.01.1966",null,"PLZ-Adressierung","extern","Ja","Nein","5754"]
[5760,"Saalfelden am Steinernen Meer","Sa","01.01.1966",null,"PLZ-Adressierung","extern","Ja","Ja","5760"]
[5761,"Maria Alm am Steinernen Meer","Sa","01.01.1966",null,"PLZ-Adressierung","extern","Ja","Nein","5761"]
[5771,"Leogang","Sa","01.01.1966",null,"PLZ-Adressierung","extern","Ja","Ja","5771"]
[6000,"Hall in Tirol","T","01.08.2009",null,"PLZ-Postfach","extern","Nein","Ja","6000"]
[6010,"Innsbruck","T","01.01.1966",null,"PLZ-Postfach","extern","Nein","Ja","6010"]
[6013,"Innsbruck","T","01.01.1966",null,"PLZ-Postfach","extern","Nein","Ja","6013"]
[6018,"Innsbruck","T","01.09.2012",null,"PLZ-Postfach","extern","Nein","Ja","6018"]
[6019,"Innsbruck","T","01.06.2012",null,"PLZ-Postfach","extern","Nein","Ja","6019"]
[6020,"Innsbruck","T","01.01.1966",null,"PLZ-Adressierung","extern","Ja","Nein","6020"]
[6021,"Innsbruck Postfach","T","01.01.1966",null,"PLZ-Postfach","extern","Nein","Ja","6021"]
[6022,"Innsbruck","T","01.01.1966",null,"PLZ-Postfach","extern","Nein","Ja","6022"]
[6023,"Innsbruck","T","01.01.1966",null,"PLZ-Postfach","extern","Nein","Ja","6023"]
[6027,"Innsbruck","T","01.01.1966",null,"PLZ-Postfach","extern","Nein","Ja","6027"]
[6029,"Innsbruck","T","01.01.1966",null,"PLZ-Postfach","extern","Nein","Ja","6029"]
[6031,"Innsbruck","T","01.10.2011",null,"PLZ-Postfach","extern","Nein","Ja","6031"]
[6033,"Innsbruck-Arzl","T","01.01.1966",null,"PLZ-Postfach","extern","Nein","Ja","6033"]
[6034,"Innsbruck","T","01.03.2012",null,"PLZ-Postfach","extern","Nein","Ja","6034"]
[6050,"Hall in Tirol","T","01.01.1966",null,"PLZ-Postfach","extern","Nein","Ja","6050"]
[6060,"Hall in Tirol","T","01.01.1966",null,"PLZ-Adressierung","extern","Ja","Ja","6060"]
[6063,"Rum","T","01.01.1966",null,"PLZ-Adressierung","extern","Ja","Ja","6063"]
[6065,"Thaur","T","01.01.1966",null,"PLZ-Adressierung","extern","Ja","Ja","6065"]
[6067,"Absam","T","01.01.1966",null,"PLZ-Adressierung","extern","Ja","Ja","6067"]
[6068,"Mils","T","01.01.1966",null,"PLZ-Adressierung","extern","Ja","Ja","6068"]
[6069,"Gnadenwald","T","01.09.2008",null,"PLZ-Adressierung","extern","Ja","Nein","6069"]
[6070,"Ampass","T","09.10.2008",null,"PLZ-Adressierung","extern","Ja","Nein","6070"]
[6071,"Aldrans","T","01.01.1966",null,"PLZ-Adressierung","extern","Ja","Nein","6071"]
[6072,"Lans","T","01.01.1966",null,"PLZ-Adressierung","extern","Ja","Nein","6072"]
[6073,"Sistrans","T","01.01.1966",null,"PLZ-Adressierung","extern","Ja","Ja","6073"]
[6074,"Rinn","T","01.01.1966",null,"PLZ-Adressierung","extern","Ja","Ja","6074"]
[6075,"Tulfes","T","01.01.1966",null,"PLZ-Adressierung","extern","Ja","Nein","6075"]
[6080,"Innsbruck-Igls","T","01.01.1966",null,"PLZ-Adressierung","extern","Ja","Ja","6080"]
[6082,"Patsch","T","01.01.1966",null,"PLZ-Adressierung","extern","Ja","Nein","6082"]
[6083,"Ellbögen","T","01.09.2008",null,"PLZ-Adressierung","extern","Ja","Nein","6083"]
[6091,"Götzens","T","01.01.1966",null,"PLZ-Adressierung","extern","Ja","Ja","6091"]
[6092,"Birgitz","T","01.01.2008",null,"PLZ-Adressierung","extern","Ja","Nein","6092"]
[6094,"Axams","T","01.01.1966",null,"PLZ-Adressierung","extern","Ja","Ja","6094"]
[6095,"Grinzens","T","01.08.2008",null,"PLZ-Adressierung","extern","Ja","Nein","6095"]
[6100,"Seefeld in Tirol","T","01.01.1966",null,"PLZ-Adressierung","extern","Ja","Ja","6100"]
[6103,"Reith bei Seefeld","T","01.01.1966",null,"PLZ-Adressierung","extern","Ja","Nein","6103"]
[6105,"Leutasch","T","01.01.1966",null,"PLZ-Adressierung","extern","Ja","Ja","6105"]
[6108,"Scharnitz","T","01.01.1966",null,"PLZ-Adressierung","extern","Ja","Ja","6108"]
[6111,"Volders","T","01.01.1966",null,"PLZ-Adressierung","extern","Ja","Nein","6111"]
[6112,"Wattens","T","01.01.1966",null,"PLZ-Adressierung","extern","Ja","Ja","6112"]
[6113,"Wattenberg","T","17.07.2008",null,"PLZ-Adressierung","extern","Ja","Nein","6113"]
[6114,"Kolsass","T","01.01.1966",null,"PLZ-Adressierung","extern","Ja","Ja","6114"]
[6115,"Kolsassberg","T","01.01.2009",null,"PLZ-Adressierung","extern","Ja","Nein","6115"]
[6116,"Weer","T","01.12.2012",null,"PLZ-Adressierung","extern","Ja","Nein","6116"]
[{"$f":"J1475*1","v":6121},"Baumkirchen","T","01.01.1966",null,"PLZ-Adressierung","extern","Ja","Nein","6121"]
[6122,"Fritzens","T","01.01.1966",null,"PLZ-Adressierung","extern","Ja","Nein","6122"]
[6123,"Terfens","T","01.01.1966",null,"PLZ-Adressierung","extern","Ja","Ja","6123"]
[6130,"Schwaz","T","01.01.1966",null,"PLZ-Adressierung","extern","Ja","Ja","6130"]
[6133,"Weerberg","T","01.01.1966",null,"PLZ-Adressierung","extern","Ja","Nein","6133"]
[6134,"Vomp","T","01.01.1966",null,"PLZ-Adressierung","extern","Ja","Ja","6134"]
[6135,"Stans","T","01.01.1966",null,"PLZ-Adressierung","extern","Ja","Nein","6135"]
[6136,"Pill","T","01.07.2009",null,"PLZ-Adressierung","extern","Ja","Nein","6136"]
[6141,"Schönberg im Stubaital","T","01.01.1966",null,"PLZ-Adressierung","extern","Ja","Ja","6141"]
[6142,"Mieders","T","01.01.1966",null,"PLZ-Adressierung","extern","Ja","Nein","6142"]
[6143,"Matrei am Brenner","T","01.01.1966",null,"PLZ-Adressierung","extern","Ja","Ja","6143"]
[6145,"Navis","T","01.10.2008",null,"PLZ-Adressierung","extern","Ja","Nein","6145"]
[6150,"Steinach am Brenner","T","01.01.1966",null,"PLZ-Adressierung","extern","Ja","Ja","6150"]
[6152,"Trins","T","01.01.1966",null,"PLZ-Adressierung","extern","Ja","Nein","6152"]
[6154,"St. Jodok am Brenner","T","01.01.1966",null,"PLZ-Adressierung","extern","Ja","Nein","6154"]
[6156,"Gries am Brenner","T","01.01.1966",null,"PLZ-Adressierung","extern","Ja","Nein","6156"]
[6157,"Obernberg am Brenner","T","01.01.2008",null,"PLZ-Adressierung","extern","Ja","Nein","6157"]
[6161,"Natters","T","01.01.1966",null,"PLZ-Adressierung","extern","Ja","Nein","6161"]
[6162,"Mutters","T","01.01.1966",null,"PLZ-Adressierung","extern","Ja","Nein","6162"]
[6165,"Telfes im Stubai","T","01.01.1966",null,"PLZ-Adressierung","extern","Ja","Nein","6165"]
[6166,"Fulpmes","T","01.01.1966",null,"PLZ-Adressierung","extern","Ja","Ja","6166"]
[6167,"Neustift im Stubaital","T","01.01.1966",null,"PLZ-Adressierung","extern","Ja","Ja","6167"]
[6170,"Zirl","T","01.01.1966",null,"PLZ-Adressierung","extern","Ja","Ja","6170"]
[6173,"Oberperfuss","T","01.01.1966",null,"PLZ-Adressierung","extern","Ja","Nein","6173"]
[6175,"Kematen in Tirol","T","01.01.1966",null,"PLZ-Adressierung","extern","Ja","Ja","6175"]
[6176,"Völs","T","01.01.1966",null,"PLZ-Adressierung","extern","Ja","Nein","6176"]
[6177,"Völs","T","01.01.1966",null,"PLZ-Postfach","extern","Nein","Ja","6177"]
[6178,"Unterperfuss","T","01.01.2009",null,"PLZ-Adressierung","extern","Ja","Nein","6178"]
[6179,"Ranggen","T","09.10.2008",null,"PLZ-Adressierung","extern","Ja","Nein","6179"]
[6181,"Sellrain","T","01.01.1966",null,"PLZ-Adressierung","extern","Ja","Ja","6181"]
[6182,"Gries im Sellrain","T","01.01.1966",null,"PLZ-Adressierung","extern","Ja","Ja","6182"]
[6183,"Kühtai","T","01.01.1966",null,"PLZ-Adressierung","extern","Ja","Nein","6183"]
[6184,"St. Sigmund","T","09.10.2008",null,"PLZ-Adressierung","extern","Ja","Nein","6184"]
[6200,"Jenbach","T","01.01.1966",null,"PLZ-Adressierung","extern","Ja","Ja","6200"]
[6202,"Buch bei Jenbach","T","01.07.2010",null,"PLZ-Postfach","extern","Nein","Ja","6202"]
[6210,"Wiesing","T","01.01.2007",null,"PLZ-Adressierung","extern","Ja","Nein","6210"]
[6212,"Maurach","T","01.01.1966",null,"PLZ-Adressierung","extern","Ja","Ja","6212"]
[6213,"Pertisau","T","01.01.1966",null,"PLZ-Adressierung","extern","Ja","Ja","6213"]
[6215,"Achenkirch","T","01.01.1966",null,"PLZ-Adressierung","extern","Ja","Ja","6215"]
[6220,"Buch in Tirol","T","01.01.2011",null,"PLZ-Adressierung","extern","Ja","Nein","6220"]
[6222,"Gallzein","T","01.06.2008",null,"PLZ-Adressierung","extern","Ja","Nein","6222"]
[6230,"Brixlegg","T","01.01.1966",null,"PLZ-Adressierung","extern","Ja","Ja","6230"]
[6232,"Münster","T","01.01.1966",null,"PLZ-Adressierung","extern","Ja","Nein","6232"]
[6233,"Kramsach","T","01.01.1966",null,"PLZ-Adressierung","extern","Ja","Ja","6233"]
[6234,"Brandenberg","T","01.01.1966",null,"PLZ-Adressierung","extern","Ja","Nein","6234"]
[6235,"Reith im Alpbachtal","T","01.01.1966",null,"PLZ-Adressierung","extern","Ja","Nein","6235"]
[6236,"Alpbach","T","01.01.1966",null,"PLZ-Adressierung","extern","Ja","Ja","6236"]
[6240,"Rattenberg","T","01.01.1966",null,"PLZ-Adressierung","extern","Ja","Nein","6240"]
[6241,"Radfeld","T","01.07.2009",null,"PLZ-Adressierung","extern","Ja","Ja","6241"]
[6250,"Kundl","T","01.01.1966",null,"PLZ-Adressierung","extern","Ja","Ja","6250"]
[6252,"Breitenbach am Inn","T","01.01.1966",null,"PLZ-Adressierung","extern","Ja","Ja","6252"]
[6260,"Bruck am Ziller","T","09.10.2008",null,"PLZ-Adressierung","extern","Ja","Nein","6260"]
[6261,"Strass im Zillertal","T","01.01.1966",null,"PLZ-Adressierung","extern","Ja","Ja","6261"]
[6262,"Schlitters","T","01.01.1966",null,"PLZ-Adressierung","extern","Ja","Nein","6262"]
[6263,"Fügen","T","01.01.1966",null,"PLZ-Adressierung","extern","Ja","Ja","6263"]
[6264,"Fügenberg","T","01.01.2010",null,"PLZ-Adressierung","extern","Ja","Nein","6264"]
[6265,"Hart im Zillertal","T","01.01.2008",null,"PLZ-Adressierung","extern","Ja","Nein","6265"]
[6271,"Uderns","T","01.01.1966",null,"PLZ-Adressierung","extern","Ja","Ja","6271"]
[6272,"Kaltenbach","T","01.01.1966",null,"PLZ-Adressierung","extern","Ja","Ja","6272"]
[6273,"Ried im Zillertal","T","01.01.2012",null,"PLZ-Adressierung","extern","Ja","Nein","6273"]
[6274,"Aschau","T","01.01.1966",null,"PLZ-Adressierung","extern","Ja","Nein","6274"]
[6275,"Stumm","T","09.10.2008",null,"PLZ-Adressierung","extern","Ja","Ja","6275"]
[6276,"Stummerberg","T","01.10.2008",null,"PLZ-Adressierung","extern","Ja","Nein","6276"]
[6277,"Zellberg","T","01.04.2009",null,"PLZ-Adressierung","extern","Ja","Nein","6277"]
[{"$f":"J1539*1","v":6278},"Hainzenberg","T","01.10.2009",null,"PLZ-Adressierung","extern","Ja","Nein","6278"]
[6280,"Zell am Ziller","T","01.01.1966",null,"PLZ-Adressierung","extern","Ja","Ja","6280"]
[6281,"Gerlos","T","01.01.1966",null,"PLZ-Adressierung","extern","Ja","Ja","6281"]
[6283,"Hippach","T","01.01.1966",null,"PLZ-Adressierung","extern","Ja","Ja","6283"]
[6284,"Ramsau im Zillertal","T","01.01.2008",null,"PLZ-Adressierung","extern","Ja","Nein","6284"]
[6290,"Mayrhofen","T","01.01.1966",null,"PLZ-Adressierung","extern","Ja","Ja","6290"]
[6292,"Finkenberg","T","01.01.1966",null,"PLZ-Adressierung","extern","Ja","Nein","6292"]
[6293,"Tux","T","01.01.1966",null,"PLZ-Adressierung","extern","Ja","Ja","6293"]
[6294,"Hintertux","T","01.01.1966",null,"PLZ-Adressierung","extern","Ja","Nein","6294"]
[6295,"Ginzling","T","01.01.1966",null,"PLZ-Adressierung","extern","Ja","Nein","6295"]
[6300,"Wörgl","T","01.01.1966",null,"PLZ-Adressierung","extern","Ja","Ja","6300"]
[6305,"Itter","T","01.09.2006",null,"PLZ-Adressierung","extern","Ja","Nein","6305"]
[6306,"Söll","T","01.01.1966",null,"PLZ-Adressierung","extern","Ja","Ja","6306"]
[6311,"Wildschönau-Oberau","T","01.01.1966",null,"PLZ-Adressierung","extern","Ja","Ja","6311"]
[6313,"Wildschönau-Auffach","T","01.01.1966",null,"PLZ-Adressierung","extern","Ja","Ja","6313"]
[6314,"Wildschönau-Niederau","T","01.01.1966",null,"PLZ-Adressierung","extern","Ja","Nein","6314"]
[6320,"Angerberg","T","01.01.2009",null,"PLZ-Adressierung","extern","Ja","Nein","6320"]
[6321,"Angath","T","01.10.2010",null,"PLZ-Adressierung","extern","Ja","Nein","6321"]
[6322,"Kirchbichl","T","01.01.1966",null,"PLZ-Adressierung","extern","Ja","Ja","6322"]
[6323,"Bad Häring","T","01.01.1966",null,"PLZ-Adressierung","extern","Ja","Ja","6323"]
[6324,"Mariastein","T","01.11.2007",null,"PLZ-Adressierung","extern","Ja","Nein","6324"]
[6330,"Kufstein","T","01.01.1966",null,"PLZ-Adressierung","extern","Ja","Ja","6330"]
[6331,"Kufstein","T","01.08.2011",null,"PLZ-Postfach","extern","Nein","Ja","6331"]
[6332,"Kufstein","T","01.01.1966",null,"PLZ-Postfach","extern","Nein","Ja","6332"]
[6333,"Kufstein","T","01.01.1966",null,"PLZ-Postfach","extern","Nein","Ja","6333"]
[6334,"Schwoich","T","01.10.2007",null,"PLZ-Adressierung","extern","Ja","Nein","6334"]
[6335,"Thiersee","T","01.01.1966",null,"PLZ-Adressierung","extern","Ja","Ja","6335"]
[6336,"Langkampfen","T","01.01.1966",null,"PLZ-Adressierung","extern","Ja","Nein","6336"]
[6341,"Ebbs","T","01.01.1966",null,"PLZ-Adressierung","extern","Ja","Ja","6341"]
[6342,"Niederndorf","T","01.01.1966",null,"PLZ-Adressierung","extern","Ja","Ja","6342"]
[6343,"Erl","T","01.01.1966",null,"PLZ-Adressierung","extern","Ja","Nein","6343"]
[6344,"Walchsee","T","01.01.1966",null,"PLZ-Adressierung","extern","Ja","Ja","6344"]
[6345,"Kössen","T","01.01.1966",null,"PLZ-Adressierung","extern","Ja","Ja","6345"]
[6346,"Niederndorferberg","T","01.01.2011",null,"PLZ-Adressierung","extern","Ja","Nein","6346"]
[6347,"Rettenschöss","T","01.12.2013",null,"PLZ-Adressierung","extern","Ja","Nein","6347"]
[6351,"Scheffau am Wilden Kaiser","T","01.01.1966",null,"PLZ-Adressierung","extern","Ja","Nein","6351"]
[6352,"Ellmau","T","01.01.1966",null,"PLZ-Adressierung","extern","Ja","Ja","6352"]
[6353,"Going am Wilden Kaiser","T","01.01.1966",null,"PLZ-Adressierung","extern","Ja","Ja","6353"]
[6361,"Hopfgarten","T","01.01.1966",null,"PLZ-Adressierung","extern","Ja","Ja","6361"]
[6362,"Kelchsau","T","01.10.2010",null,"PLZ-Postfach","extern","Nein","Ja","6362"]
[6363,"Westendorf","T","01.01.1966",null,"PLZ-Adressierung","extern","Ja","Ja","6363"]
[6364,"Brixen im Thale","T","01.01.1966",null,"PLZ-Adressierung","extern","Ja","Ja","6364"]
[6365,"Kirchberg in Tirol","T","01.01.1966",null,"PLZ-Adressierung","extern","Ja","Ja","6365"]
[6370,"Kitzbühel","T","01.01.1966",null,"PLZ-Adressierung","extern","Ja","Ja","6370"]
[6371,"Aurach","T","01.07.2009",null,"PLZ-Adressierung","extern","Ja","Nein","6371"]
[6372,"Oberndorf in Tirol","T","01.01.1966",null,"PLZ-Adressierung","extern","Ja","Ja","6372"]
[6373,"Jochberg","T","01.01.1966",null,"PLZ-Adressierung","extern","Ja","Ja","6373"]
[6380,"St. Johann in Tirol","T","01.01.1966",null,"PLZ-Adressierung","extern","Ja","Ja","6380"]
[6382,"Kirchdorf in Tirol","T","01.01.1966",null,"PLZ-Adressierung","extern","Ja","Ja","6382"]
[6383,"Erpfendorf","T","01.01.1966",null,"PLZ-Adressierung","extern","Ja","Ja","6383"]
[6384,"Waidring","T","01.01.1966",null,"PLZ-Adressierung","extern","Ja","Ja","6384"]
[6385,"Schwendt","T","01.11.2008",null,"PLZ-Adressierung","extern","Ja","Nein","6385"]
[6391,"Fieberbrunn","T","01.01.1966",null,"PLZ-Adressierung","extern","Ja","Ja","6391"]
[6392,"St. Jakob in Haus","T","09.10.2008",null,"PLZ-Adressierung","extern","Ja","Nein","6392"]
[6393,"St. Ulrich am Pillersee","T","01.01.1966",null,"PLZ-Adressierung","extern","Ja","Ja","6393"]
[6395,"Hochfilzen","T","01.01.1966",null,"PLZ-Adressierung","extern","Ja","Nein","6395"]
[6401,"Inzing","T","01.01.1966",null,"PLZ-Adressierung","extern","Ja","Ja","6401"]
[6402,"Hatting","T","01.01.2005",null,"PLZ-Adressierung","extern","Ja","Nein","6402"]
[6403,"Flaurling","T","01.01.1966",null,"PLZ-Adressierung","extern","Ja","Nein","6403"]
[6404,"Polling","T","01.06.2008",null,"PLZ-Adressierung","extern","Ja","Ja","6404"]
[6405,"Pfaffenhofen","T","01.01.1966",null,"PLZ-Adressierung","extern","Ja","Nein","6405"]
[6406,"Oberhofen im Inntal","T","01.01.1966",null,"PLZ-Adressierung","extern","Ja","Nein","6406"]
[6408,"Pettnau","T","01.01.2007",null,"PLZ-Adressierung","extern","Ja","Nein","6408"]
[6410,"Telfs","T","01.01.1966",null,"PLZ-Adressierung","extern","Ja","Ja","6410"]
[{"$f":"J1603*1","v":6412},"Telfs-St. Georgen","T","01.01.1966",null,"PLZ-Postfach","extern","Nein","Ja","6412"]
[6413,"Wildermieming","T","01.12.2013",null,"PLZ-Adressierung","extern","Ja","Nein","6413"]
[6414,"Mieming","T","01.01.1966",null,"PLZ-Adressierung","extern","Ja","Ja","6414"]
[6416,"Obsteig","T","01.01.1966",null,"PLZ-Adressierung","extern","Ja","Nein","6416"]
[6421,"Rietz","T","01.01.1966",null,"PLZ-Adressierung","extern","Ja","Nein","6421"]
[6422,"Stams","T","01.01.1966",null,"PLZ-Adressierung","extern","Ja","Nein","6422"]
[6423,"Mötz","T","01.01.1966",null,"PLZ-Adressierung","extern","Ja","Nein","6423"]
[6424,"Silz","T","01.01.1966",null,"PLZ-Adressierung","extern","Ja","Ja","6424"]
[6425,"Haiming","T","01.01.1966",null,"PLZ-Adressierung","extern","Ja","Ja","6425"]
[6426,"Roppen","T","01.01.1966",null,"PLZ-Adressierung","extern","Ja","Ja","6426"]
[6430,"Ötztal Bahnhof","T","01.01.1966",null,"PLZ-Adressierung","extern","Ja","Ja","6430"]
[6432,"Sautens","T","01.01.1966",null,"PLZ-Adressierung","extern","Ja","Ja","6432"]
[6433,"Oetz","T","01.01.1966",null,"PLZ-Adressierung","extern","Ja","Nein","6433"]
[6441,"Umhausen","T","01.01.1966",null,"PLZ-Adressierung","extern","Ja","Ja","6441"]
[6444,"Längenfeld","T","01.01.1966",null,"PLZ-Adressierung","extern","Ja","Ja","6444"]
[6450,"Sölden","T","01.01.1966",null,"PLZ-Adressierung","extern","Ja","Ja","6450"]
[6452,"Hochsölden","T","01.01.1966",null,"PLZ-Adressierung","extern","Ja","Nein","6452"]
[6456,"Obergurgl","T","01.01.1966",null,"PLZ-Adressierung","extern","Ja","Ja","6456"]
[6458,"Vent","T","01.01.1966",null,"PLZ-Adressierung","extern","Ja","Nein","6458"]
[6460,"Imst","T","01.01.1966",null,"PLZ-Adressierung","extern","Ja","Ja","6460"]
[6462,"Karres","T","01.09.2008",null,"PLZ-Adressierung","extern","Ja","Nein","6462"]
[6463,"Karrösten","T","01.09.2012",null,"PLZ-Adressierung","extern","Ja","Nein","6463"]
[6464,"Tarrenz","T","01.01.1966",null,"PLZ-Adressierung","extern","Ja","Ja","6464"]
[6465,"Nassereith","T","01.01.1966",null,"PLZ-Adressierung","extern","Ja","Ja","6465"]
[6471,"Arzl im Pitztal","T","01.01.1966",null,"PLZ-Adressierung","extern","Ja","Ja","6471"]
[6473,"Wenns","T","01.01.1966",null,"PLZ-Adressierung","extern","Ja","Ja","6473"]
[6474,"Jerzens","T","01.01.1966",null,"PLZ-Adressierung","extern","Ja","Nein","6474"]
[6481,"St. Leonhard im Pitztal","T","01.01.1966",null,"PLZ-Adressierung","extern","Ja","Ja","6481"]
[6491,"Schönwies","T","01.01.1966",null,"PLZ-Adressierung","extern","Ja","Nein","6491"]
[6492,"Imsterberg","T","01.01.2009",null,"PLZ-Adressierung","extern","Ja","Nein","6492"]
[6493,"Mils","T","01.07.2009",null,"PLZ-Adressierung","extern","Ja","Nein","6493"]
[6500,"Landeck","T","01.01.1966",null,"PLZ-Adressierung","extern","Ja","Ja","6500"]
[6511,"Zams","T","01.01.1966",null,"PLZ-Adressierung","extern","Ja","Ja","6511"]
[6521,"Fließ","T","01.01.1966",null,"PLZ-Adressierung","extern","Ja","Nein","6521"]
[6522,"Prutz","T","01.01.1966",null,"PLZ-Adressierung","extern","Ja","Ja","6522"]
[6524,"Feichten im Kaunertal","T","01.01.1966",null,"PLZ-Adressierung","extern","Ja","Nein","6524"]
[6525,"Faggen","T","01.06.2012",null,"PLZ-Adressierung","extern","Ja","Nein","6525"]
[6526,"Kauns","T","01.12.2015",null,"PLZ-Adressierung","extern","Ja","Nein","6526"]
[6527,"Kaunerberg","T","09.10.2008",null,"PLZ-Adressierung","extern","Ja","Nein","6527"]
[6528,"Fendels","T","01.12.2008",null,"PLZ-Adressierung","extern","Ja","Nein","6528"]
[6531,"Ried im Oberinntal","T","01.01.1966",null,"PLZ-Adressierung","extern","Ja","Nein","6531"]
[6532,"Ladis","T","01.06.2008",null,"PLZ-Adressierung","extern","Ja","Nein","6532"]
[6533,"Fiss","T","01.01.1966",null,"PLZ-Adressierung","extern","Ja","Nein","6533"]
[6534,"Serfaus","T","01.01.1966",null,"PLZ-Adressierung","extern","Ja","Ja","6534"]
[6541,"Tösens","T","01.01.1966",null,"PLZ-Adressierung","extern","Ja","Nein","6541"]
[6542,"Pfunds","T","01.01.1966",null,"PLZ-Adressierung","extern","Ja","Ja","6542"]
[6543,"Nauders","T","01.01.1966",null,"PLZ-Adressierung","extern","Ja","Ja","6543"]
[6544,"Spiss","T","01.11.2008",null,"PLZ-Adressierung","extern","Ja","Nein","6544"]
[6551,"Pians","T","01.01.1966",null,"PLZ-Adressierung","extern","Ja","Nein","6551"]
[6552,"Tobadill","T","01.08.2008",null,"PLZ-Adressierung","extern","Ja","Nein","6552"]
[6553,"See","T","01.01.1966",null,"PLZ-Adressierung","extern","Ja","Ja","6553"]
[6555,"Kappl","T","01.01.1966",null,"PLZ-Adressierung","extern","Ja","Ja","6555"]
[6561,"Ischgl","T","01.01.1966",null,"PLZ-Adressierung","extern","Ja","Ja","6561"]
[6562,"Mathon","T","01.01.1966",null,"PLZ-Adressierung","extern","Ja","Nein","6562"]
[6563,"Galtür","T","01.01.1966",null,"PLZ-Adressierung","extern","Ja","Ja","6563"]
[6571,"Strengen","T","01.01.1966",null,"PLZ-Adressierung","extern","Ja","Nein","6571"]
[6572,"Flirsch","T","01.01.1966",null,"PLZ-Adressierung","extern","Ja","Nein","6572"]
[6574,"Pettneu am Arlberg","T","01.01.1966",null,"PLZ-Adressierung","extern","Ja","Ja","6574"]
[6580,"St. Anton am Arlberg","T","01.01.1966",null,"PLZ-Adressierung","extern","Ja","Ja","6580"]
[6591,"Grins","T","01.01.1966",null,"PLZ-Adressierung","extern","Ja","Nein","6591"]
[6600,"Reutte","T","01.01.1966",null,"PLZ-Adressierung","extern","Ja","Ja","6600"]
[6604,"Höfen","T","01.04.2009",null,"PLZ-Adressierung","extern","Ja","Nein","6604"]
[6610,"Wängle","T","09.10.2008",null,"PLZ-Adressierung","extern","Ja","Nein","6610"]
[6611,"Heiterwang","T","01.01.1966",null,"PLZ-Adressierung","extern","Ja","Nein","6611"]
[{"$f":"J1667*1","v":6621},"Bichlbach","T","01.01.1966",null,"PLZ-Adressierung","extern","Ja","Ja","6621"]
[6622,"Berwang","T","01.01.1966",null,"PLZ-Adressierung","extern","Ja","Nein","6622"]
[6623,"Namlos","T","09.10.2008",null,"PLZ-Adressierung","extern","Ja","Nein","6623"]
[6631,"Lermoos","T","01.01.1966",null,"PLZ-Adressierung","extern","Ja","Ja","6631"]
[6632,"Ehrwald","T","01.01.1966",null,"PLZ-Adressierung","extern","Ja","Nein","6632"]
[6633,"Biberwier","T","01.01.1966",null,"PLZ-Adressierung","extern","Ja","Nein","6633"]
[6642,"Stanzach","T","01.01.1966",null,"PLZ-Adressierung","extern","Ja","Nein","6642"]
[6644,"Elmen","T","01.01.1966",null,"PLZ-Adressierung","extern","Ja","Nein","6644"]
[6645,"Vorderhornbach","T","01.01.2007",null,"PLZ-Adressierung","extern","Ja","Nein","6645"]
[6646,"Hinterhornbach","T","01.06.2008",null,"PLZ-Adressierung","extern","Ja","Nein","6646"]
[6647,"Pfafflar","T","01.07.2008",null,"PLZ-Adressierung","extern","Ja","Nein","6647"]
[6650,"Gramais","T","01.12.2008",null,"PLZ-Adressierung","extern","Ja","Nein","6650"]
[6651,"Häselgehr","T","01.01.1966",null,"PLZ-Adressierung","extern","Ja","Nein","6651"]
[6652,"Elbigenalp","T","01.01.1966",null,"PLZ-Adressierung","extern","Ja","Nein","6652"]
[6653,"Bach","T","01.01.1966",null,"PLZ-Adressierung","extern","Ja","Nein","6653"]
[6654,"Holzgau","T","01.01.1966",null,"PLZ-Adressierung","extern","Ja","Nein","6654"]
[6655,"Steeg","T","01.01.1966",null,"PLZ-Adressierung","extern","Ja","Nein","6655"]
[6670,"Forchach","T","01.10.2008",null,"PLZ-Adressierung","extern","Ja","Nein","6670"]
[6671,"Weißenbach am Lech","T","01.01.1966",null,"PLZ-Adressierung","extern","Ja","Nein","6671"]
[6672,"Nesselwängle","T","01.01.1966",null,"PLZ-Adressierung","extern","Ja","Nein","6672"]
[6673,"Grän","T","01.01.1966",null,"PLZ-Adressierung","extern","Ja","Nein","6673"]
[6675,"Tannheim","T","01.01.1966",null,"PLZ-Adressierung","extern","Ja","Ja","6675"]
[6677,"Schattwald","T","01.01.1966",null,"PLZ-Adressierung","extern","Ja","Nein","6677"]
[6682,"Vils","T","01.01.1966",null,"PLZ-Adressierung","extern","Ja","Ja","6682"]
[6691,"Jungholz","T","01.01.1966",null,"PLZ-Adressierung","extern","Ja","Nein","6691"]
[6700,"Bludenz","V","01.01.1966",null,"PLZ-Adressierung","extern","Ja","Ja","6700"]
[6701,"Bludenz Postfach","V","01.01.1966",null,"PLZ-Postfach","extern","Nein","Ja","6701"]
[6706,"Bürs","V","01.01.1966",null,"PLZ-Adressierung","extern","Ja","Ja","6706"]
[6707,"Bürserberg","V","01.01.1966",null,"PLZ-Adressierung","extern","Ja","Nein","6707"]
[6708,"Brand","V","01.01.1966",null,"PLZ-Adressierung","extern","Ja","Nein","6708"]
[6710,"Nenzing","V","01.01.1966",null,"PLZ-Adressierung","extern","Ja","Ja","6710"]
[6712,"Thüringen","V","01.01.1966",null,"PLZ-Adressierung","extern","Ja","Ja","6712"]
[6713,"Ludesch","V","01.01.1966",null,"PLZ-Adressierung","extern","Ja","Ja","6713"]
[6714,"Nüziders","V","01.01.1966",null,"PLZ-Adressierung","extern","Ja","Ja","6714"]
[6719,"Bludesch","V","01.01.1966",null,"PLZ-Adressierung","extern","Ja","Ja","6719"]
[6721,"Thüringerberg","V","01.01.1966",null,"PLZ-Adressierung","extern","Ja","Nein","6721"]
[6722,"St. Gerold","V","01.01.1966",null,"PLZ-Adressierung","extern","Ja","Nein","6722"]
[6723,"Blons","V","01.01.1966",null,"PLZ-Adressierung","extern","Ja","Nein","6723"]
[6731,"Sonntag","V","01.01.1966",null,"PLZ-Adressierung","extern","Ja","Ja","6731"]
[6733,"Fontanella","V","01.01.1966",null,"PLZ-Adressierung","extern","Ja","Nein","6733"]
[6741,"Raggal","V","01.01.1966",null,"PLZ-Adressierung","extern","Ja","Nein","6741"]
[6751,"Braz","V","01.01.1966",null,"PLZ-Adressierung","extern","Ja","Ja","6751"]
[6752,"Dalaas","V","01.01.1966",null,"PLZ-Adressierung","extern","Ja","Ja","6752"]
[6754,"Klösterle","V","01.01.1966",null,"PLZ-Adressierung","extern","Ja","Nein","6754"]
[6762,"Stuben","V","01.01.1966",null,"PLZ-Adressierung","extern","Ja","Nein","6762"]
[6763,"Zürs","V","01.01.1966",null,"PLZ-Adressierung","extern","Ja","Nein","6763"]
[6764,"Lech","V","01.01.1966",null,"PLZ-Adressierung","extern","Ja","Ja","6764"]
[6767,"Warth","V","01.01.1966",null,"PLZ-Adressierung","extern","Ja","Ja","6767"]
[6771,"St. Anton im Montafon","V","01.01.1966",null,"PLZ-Adressierung","extern","Ja","Nein","6771"]
[6773,"Vandans","V","01.01.1966",null,"PLZ-Adressierung","extern","Ja","Ja","6773"]
[6774,"Tschagguns","V","01.01.1966",null,"PLZ-Adressierung","extern","Ja","Nein","6774"]
[6780,"Schruns","V","01.01.1966",null,"PLZ-Adressierung","extern","Ja","Ja","6780"]
[6781,"Bartholomäberg","V","01.04.2010",null,"PLZ-Adressierung","extern","Ja","Nein","6781"]
[6782,"Silbertal","V","01.05.2010",null,"PLZ-Adressierung","extern","Ja","Nein","6782"]
[6787,"Gargellen","V","01.01.1966",null,"PLZ-Adressierung","extern","Ja","Nein","6787"]
[6791,"St. Gallenkirch","V","01.01.1966",null,"PLZ-Adressierung","extern","Ja","Ja","6791"]
[6793,"Gaschurn","V","01.01.1966",null,"PLZ-Adressierung","extern","Ja","Nein","6793"]
[6794,"Partenen","V","01.01.1966",null,"PLZ-Adressierung","extern","Ja","Nein","6794"]
[6800,"Feldkirch","V","01.01.1966",null,"PLZ-Adressierung","extern","Ja","Ja","6800"]
[6801,"Feldkirch Postfach","V","01.01.1966",null,"PLZ-Postfach","extern","Nein","Ja","6801"]
[6805,"Feldkirch-Gisingen","V","01.01.1966",null,"PLZ-Postfach","extern","Nein","Ja","6805"]
[6806,"Feldkirch-Tosters","V","01.01.1966",null,"PLZ-Postfach","extern","Nein","Ja","6806"]
[6807,"Feldkirch-Tisis","V","01.01.1966",null,"PLZ-Postfach","extern","Nein","Ja","6807"]
[6808,"Feldkirch-Nofels","V","31.03.2011",null,"PLZ-Postfach","extern","Nein","Ja","6808"]
[{"$f":"J1731*1","v":6811},"Göfis","V","01.01.1966",null,"PLZ-Adressierung","extern","Ja","Nein","6811"]
[6812,"Meiningen","V","01.01.1966",null,"PLZ-Adressierung","extern","Ja","Nein","6812"]
[6820,"Frastanz","V","01.01.1966",null,"PLZ-Adressierung","extern","Ja","Ja","6820"]
[6822,"Satteins","V","01.01.1966",null,"PLZ-Adressierung","extern","Ja","Nein","6822"]
[6824,"Schlins","V","01.01.1966",null,"PLZ-Adressierung","extern","Ja","Nein","6824"]
[6830,"Rankweil","V","01.01.1966",null,"PLZ-Adressierung","extern","Ja","Ja","6830"]
[6832,"Sulz-Röthis","V","01.01.1966",null,"PLZ-Adressierung","extern","Ja","Ja","6832"]
[6833,"Klaus-Weiler","V","01.01.1966",null,"PLZ-Adressierung","extern","Ja","Ja","6833"]
[6834,"Übersaxen","V","01.05.2006",null,"PLZ-Adressierung","extern","Ja","Nein","6834"]
[6835,"Zwischenwasser","V","01.01.2010",null,"PLZ-Adressierung","extern","Ja","Nein","6835"]
[6836,"Viktorsberg","V","09.10.2008",null,"PLZ-Adressierung","extern","Ja","Nein","6836"]
[6837,"Weiler","V","01.12.2016",null,"PLZ-Adressierung","extern","Ja","Nein","6837"]
[6840,"Götzis","V","01.01.1966",null,"PLZ-Adressierung","extern","Ja","Ja","6840"]
[6841,"Mäder","V","01.01.1966",null,"PLZ-Adressierung","extern","Ja","Nein","6841"]
[6842,"Koblach","V","01.01.1966",null,"PLZ-Adressierung","extern","Ja","Ja","6842"]
[6844,"Altach","V","01.01.1966",null,"PLZ-Adressierung","extern","Ja","Nein","6844"]
[6845,"Hohenems","V","01.01.1966",null,"PLZ-Adressierung","extern","Ja","Ja","6845"]
[6850,"Dornbirn","V","01.01.1966",null,"PLZ-Adressierung","extern","Ja","Ja","6850"]
[6851,"Dornbirn Postfach","V","01.01.1966",null,"PLZ-Postfach","extern","Nein","Ja","6851"]
[6853,"Dornbirn","V","01.01.1966",null,"PLZ-Postfach","extern","Nein","Ja","6853"]
[6854,"Dornbirn-Messepark","V","01.01.1966",null,"PLZ-Postfach","extern","Nein","Ja","6854"]
[6855,"Dornbirn","V","01.12.2012",null,"PLZ-Postfach","extern","Nein","Ja","6855"]
[6857,"Dornbirn-Haselstauden","V","01.01.1966",null,"PLZ-Postfach","extern","Nein","Ja","6857"]
[6858,"Schwarzach","V","01.01.1966",null,"PLZ-Adressierung","extern","Ja","Ja","6858"]
[6861,"Alberschwende","V","01.01.1966",null,"PLZ-Adressierung","extern","Ja","Ja","6861"]
[6863,"Egg","V","01.01.1966",null,"PLZ-Adressierung","extern","Ja","Nein","6863"]
[6866,"Andelsbuch","V","01.01.1966",null,"PLZ-Adressierung","extern","Ja","Nein","6866"]
[6867,"Schwarzenberg","V","01.01.1966",null,"PLZ-Adressierung","extern","Ja","Nein","6867"]
[6870,"Bezau","V","01.01.1966",null,"PLZ-Adressierung","extern","Ja","Ja","6870"]
[6874,"Bizau","V","01.01.1966",null,"PLZ-Adressierung","extern","Ja","Nein","6874"]
[6881,"Mellau","V","01.01.1966",null,"PLZ-Adressierung","extern","Ja","Nein","6881"]
[6882,"Schnepfau","V","01.01.1966",null,"PLZ-Adressierung","extern","Ja","Nein","6882"]
[6883,"Au","V","01.01.1966",null,"PLZ-Adressierung","extern","Ja","Ja","6883"]
[6884,"Damüls","V","01.01.1966",null,"PLZ-Adressierung","extern","Ja","Ja","6884"]
[6886,"Schoppernau","V","01.01.1966",null,"PLZ-Adressierung","extern","Ja","Nein","6886"]
[6888,"Schröcken","V","01.01.1966",null,"PLZ-Adressierung","extern","Ja","Nein","6888"]
[6890,"Lustenau","V","01.01.1966",null,"PLZ-Adressierung","extern","Ja","Ja","6890"]
[6893,"Lustenau-Rheindorf","V","01.01.1966",null,"PLZ-Postfach","extern","Nein","Ja","6893"]
[6900,"Bregenz","V","01.01.1966",null,"PLZ-Adressierung","extern","Ja","Ja","6900"]
[6901,"Bregenz Postfach","V","01.01.1966",null,"PLZ-Postfach","extern","Nein","Ja","6901"]
[6902,"Bregenz","V","01.06.2012",null,"PLZ-Postfach","extern","Nein","Ja","6902"]
[6904,"Bregenz-Schendlingen","V","01.01.1966",null,"PLZ-Postfach","extern","Nein","Ja","6904"]
[6905,"Bregenz-Achsiedlung","V","01.01.1966",null,"PLZ-Postfach","extern","Nein","Ja","6905"]
[6911,"Lochau","V","01.01.1966",null,"PLZ-Adressierung","extern","Ja","Ja","6911"]
[6912,"Hörbranz","V","01.01.1966",null,"PLZ-Adressierung","extern","Ja","Ja","6912"]
[6914,"Hohenweiler","V","01.01.1966",null,"PLZ-Adressierung","extern","Ja","Nein","6914"]
[6921,"Kennelbach","V","01.01.1966",null,"PLZ-Adressierung","extern","Ja","Ja","6921"]
[6922,"Wolfurt","V","01.01.1966",null,"PLZ-Adressierung","extern","Ja","Ja","6922"]
[6923,"Lauterach","V","01.01.1966",null,"PLZ-Adressierung","extern","Ja","Ja","6923"]
[6932,"Langen bei Bregenz","V","01.01.1966",null,"PLZ-Adressierung","extern","Ja","Ja","6932"]
[6933,"Doren","V","01.01.1966",null,"PLZ-Adressierung","extern","Ja","Ja","6933"]
[6934,"Sulzberg","V","01.01.1966",null,"PLZ-Adressierung","extern","Ja","Ja","6934"]
[6941,"Langenegg","V","01.01.1966",null,"PLZ-Adressierung","extern","Ja","Nein","6941"]
[6942,"Krumbach","V","01.01.1966",null,"PLZ-Adressierung","extern","Ja","Ja","6942"]
[6943,"Riefensberg","V","01.01.1966",null,"PLZ-Adressierung","extern","Ja","Nein","6943"]
[6951,"Lingenau","V","01.01.1966",null,"PLZ-Adressierung","extern","Ja","Ja","6951"]
[6952,"Hittisau","V","01.01.1966",null,"PLZ-Adressierung","extern","Ja","Ja","6952"]
[6953,"Sibratsgfäll","V","01.07.2010",null,"PLZ-Postfach","extern","Nein","Ja","6953"]
[6960,"Wolfurt-Bahnhof","V","01.01.1966",null,"PLZ-Adressierung","extern","Ja","Ja","6960"]
[6961,"Wolfurt-Bahnhof Postfach","V","01.01.1966",null,"PLZ-Postfach","extern","Nein","Ja","6961"]
[6971,"Hard","V","01.01.1966",null,"PLZ-Adressierung","extern","Ja","Ja","6971"]
[6972,"Fußach","V","01.01.1966",null,"PLZ-Adressierung","extern","Ja","Ja","6972"]
[6973,"Höchst","V","01.01.1966",null,"PLZ-Adressierung","extern","Ja","Ja","6973"]
[6974,"Gaißau","V","01.01.1966",null,"PLZ-Adressierung","extern","Ja","Ja","6974"]
[{"$f":"J1795*1","v":6991},"Riezlern","V","01.01.1966",null,"PLZ-Adressierung","extern","Ja","Ja","6991"]
[6992,"Hirschegg","V","01.01.1966",null,"PLZ-Adressierung","extern","Ja","Nein","6992"]
[6993,"Mittelberg","V","01.01.1966",null,"PLZ-Adressierung","extern","Ja","Nein","6993"]
[7000,"Eisenstadt","B","01.01.1966",null,"PLZ-Adressierung","extern","Ja","Ja","7000"]
[7001,"Eisenstadt Postfach","B","01.01.1966",null,"PLZ-Postfach","extern","Nein","Ja","7001"]
[7002,"Eisenstadt","B","01.01.1966",null,"PLZ-Postfach","extern","Nein","Ja","7002"]
[7011,"Siegendorf","B","01.01.1966",null,"PLZ-Adressierung","extern","Ja","Ja","7011"]
[7012,"Zagersdorf","B","01.09.2015",null,"PLZ-Adressierung","extern","Ja","Nein","7012"]
[7013,"Klingenbach","B","01.01.1966",null,"PLZ-Adressierung","extern","Ja","Nein","7013"]
[7020,"Loipersbach im Burgenland","B","01.03.2012",null,"PLZ-Adressierung","extern","Ja","Nein","7020"]
[7021,"Draßburg","B","01.01.1966",null,"PLZ-Adressierung","extern","Ja","Ja","7021"]
[7022,"Schattendorf","B","01.01.1966",null,"PLZ-Adressierung","extern","Ja","Ja","7022"]
[7023,"Zemendorf","B","01.01.1966",null,"PLZ-Adressierung","extern","Ja","Ja","7023"]
[7024,"Hirm","B","01.01.1966",null,"PLZ-Adressierung","extern","Ja","Ja","7024"]
[7031,"Krensdorf","B","01.01.1966",null,"PLZ-Adressierung","extern","Ja","Nein","7031"]
[7032,"Sigleß","B","01.01.1966",null,"PLZ-Adressierung","extern","Ja","Nein","7032"]
[7033,"Pöttsching","B","01.01.1966",null,"PLZ-Adressierung","extern","Ja","Nein","7033"]
[7034,"Zillingtal","B","01.01.1966",null,"PLZ-Adressierung","extern","Ja","Nein","7034"]
[7035,"Steinbrunn","B","01.01.1966",null,"PLZ-Adressierung","extern","Ja","Nein","7035"]
[7041,"Wulkaprodersdorf","B","01.01.1966",null,"PLZ-Adressierung","extern","Ja","Ja","7041"]
[7042,"Antau","B","01.07.2010",null,"PLZ-Adressierung","extern","Ja","Nein","7042"]
[7051,"Großhöflein","B","01.01.1966",null,"PLZ-Adressierung","extern","Ja","Ja","7051"]
[7052,"Müllendorf","B","01.01.1966",null,"PLZ-Adressierung","extern","Ja","Nein","7052"]
[7053,"Hornstein","B","01.01.1966",null,"PLZ-Adressierung","extern","Ja","Ja","7053"]
[7061,"Trausdorf an der Wulka","B","01.01.1966",null,"PLZ-Adressierung","extern","Ja","Ja","7061"]
[7062,"St. Margarethen im Burgenland","B","01.01.1966",null,"PLZ-Adressierung","extern","Ja","Ja","7062"]
[7063,"Oggau","B","01.01.1966",null,"PLZ-Adressierung","extern","Ja","Ja","7063"]
[7064,"Oslip","B","01.01.1966",null,"PLZ-Adressierung","extern","Ja","Nein","7064"]
[7071,"Rust","B","01.01.1966",null,"PLZ-Adressierung","extern","Ja","Ja","7071"]
[7072,"Mörbisch am See","B","01.01.1966",null,"PLZ-Adressierung","extern","Ja","Ja","7072"]
[7073,"Rust, Burgenland","B","01.01.1966",null,"InteressentenPLZ","extern","Nein","Ja","7073"]
[7081,"Schützen am Gebirge","B","01.01.1966",null,"PLZ-Adressierung","extern","Ja","Nein","7081"]
[7082,"Donnerskirchen","B","01.01.1966",null,"PLZ-Adressierung","extern","Ja","Ja","7082"]
[7083,"Purbach am Neusiedler See","B","01.01.1966",null,"PLZ-Adressierung","extern","Ja","Ja","7083"]
[7091,"Breitenbrunn am Neusiedler See","B","01.01.1966",null,"PLZ-Adressierung","extern","Ja","Ja","7091"]
[7092,"Winden am See","B","01.01.1966",null,"PLZ-Adressierung","extern","Ja","Ja","7092"]
[7093,"Jois","B","01.01.1966",null,"PLZ-Adressierung","extern","Ja","Ja","7093"]
[7100,"Neusiedl am See","B","01.01.1966",null,"PLZ-Adressierung","extern","Ja","Ja","7100"]
[7111,"Parndorf","B","01.01.1966",null,"PLZ-Adressierung","extern","Ja","Ja","7111"]
[7121,"Weiden am See","B","01.01.1966",null,"PLZ-Adressierung","extern","Ja","Nein","7121"]
[7122,"Gols","B","01.01.1966",null,"PLZ-Adressierung","extern","Ja","Ja","7122"]
[7123,"Mönchhof","B","01.01.1966",null,"PLZ-Adressierung","extern","Ja","Nein","7123"]
[7131,"Halbturn","B","01.01.1966",null,"PLZ-Adressierung","extern","Ja","Ja","7131"]
[7132,"Frauenkirchen","B","01.01.1966",null,"PLZ-Adressierung","extern","Ja","Ja","7132"]
[7141,"Podersdorf am See","B","01.01.1966",null,"PLZ-Adressierung","extern","Ja","Ja","7141"]
[7142,"Illmitz","B","01.01.1966",null,"PLZ-Adressierung","extern","Ja","Ja","7142"]
[7143,"Apetlon","B","01.01.1966",null,"PLZ-Adressierung","extern","Ja","Ja","7143"]
[7151,"Wallern im Burgenland","B","01.01.1966",null,"PLZ-Adressierung","extern","Ja","Ja","7151"]
[7152,"Pamhagen","B","01.01.1966",null,"PLZ-Adressierung","extern","Ja","Ja","7152"]
[7161,"St. Andrä am Zicksee","B","01.01.1966",null,"PLZ-Adressierung","extern","Ja","Ja","7161"]
[7162,"Tadten","B","01.01.1966",null,"PLZ-Adressierung","extern","Ja","Ja","7162"]
[7163,"Andau","B","01.01.1966",null,"PLZ-Adressierung","extern","Ja","Ja","7163"]
[7201,"Neudörfl","B","01.01.1966",null,"PLZ-Adressierung","extern","Ja","Ja","7201"]
[7202,"Bad Sauerbrunn","B","01.01.1966",null,"PLZ-Adressierung","extern","Ja","Ja","7202"]
[7203,"Wiesen","B","01.01.1966",null,"PLZ-Adressierung","extern","Ja","Ja","7203"]
[7210,"Mattersburg","B","01.01.1966",null,"PLZ-Adressierung","extern","Ja","Ja","7210"]
[7212,"Forchtenstein","B","01.01.1966",null,"PLZ-Adressierung","extern","Ja","Ja","7212"]
[7221,"Marz","B","01.01.1966",null,"PLZ-Adressierung","extern","Ja","Nein","7221"]
[7222,"Rohrbach bei Mattersburg","B","01.01.1966",null,"PLZ-Adressierung","extern","Ja","Ja","7222"]
[7223,"Sieggraben","B","01.01.1966",null,"PLZ-Adressierung","extern","Ja","Nein","7223"]
[7301,"Deutschkreutz","B","01.01.1966",null,"PLZ-Adressierung","extern","Ja","Ja","7301"]
[7302,"Nikitsch","B","01.01.1966",null,"PLZ-Adressierung","extern","Ja","Nein","7302"]
[7304,"Großwarasdorf","B","01.01.1966",null,"PLZ-Adressierung","extern","Ja","Nein","7304"]
[7311,"Neckenmarkt","B","01.01.1966",null,"PLZ-Adressierung","extern","Ja","Ja","7311"]
[{"$f":"J1859*1","v":7312},"Horitschon","B","01.01.1966",null,"PLZ-Adressierung","extern","Ja","Ja","7312"]
[7321,"Lackendorf","B","01.01.1966",null,"PLZ-Adressierung","extern","Ja","Nein","7321"]
[7322,"Lackenbach","B","01.01.1966",null,"PLZ-Adressierung","extern","Ja","Ja","7322"]
[7323,"Ritzing","B","01.01.1966",null,"PLZ-Adressierung","extern","Ja","Nein","7323"]
[7331,"Weppersdorf","B","01.01.1966",null,"PLZ-Adressierung","extern","Ja","Ja","7331"]
[7332,"Kobersdorf","B","01.01.1966",null,"PLZ-Adressierung","extern","Ja","Ja","7332"]
[7341,"Markt St. Martin","B","01.01.1966",null,"PLZ-Adressierung","extern","Ja","Ja","7341"]
[7342,"Kaisersdorf","B","01.01.1966",null,"PLZ-Adressierung","extern","Ja","Nein","7342"]
[7343,"Neutal","B","01.01.1966",null,"PLZ-Adressierung","extern","Ja","Ja","7343"]
[7344,"Stoob","B","01.01.1966",null,"PLZ-Adressierung","extern","Ja","Ja","7344"]
[7350,"Oberpullendorf","B","01.01.1966",null,"PLZ-Adressierung","extern","Ja","Ja","7350"]
[7361,"Lutzmannsburg","B","01.01.1966",null,"PLZ-Adressierung","extern","Ja","Ja","7361"]
[7371,"Unterrabnitz","B","01.01.1966",null,"PLZ-Adressierung","extern","Ja","Nein","7371"]
[7372,"Draßmarkt","B","01.01.1966",null,"PLZ-Adressierung","extern","Ja","Nein","7372"]
[7373,"Piringsdorf","B","01.10.2010",null,"PLZ-Adressierung","extern","Ja","Ja","7373"]
[7374,"Weingraben","B","01.09.2014",null,"PLZ-Adressierung","extern","Ja","Nein","7374"]
[7400,"Oberwart","B","01.01.1966",null,"PLZ-Adressierung","extern","Ja","Ja","7400"]
[7410,"Loipersdorf-Kitzladen","B","01.12.2015",null,"PLZ-Adressierung","extern","Ja","Nein","7410"]
[7411,"Markt Allhau","B","01.01.1966",null,"PLZ-Adressierung","extern","Ja","Ja","7411"]
[7412,"Wolfau","B","01.01.1966",null,"PLZ-Adressierung","extern","Ja","Nein","7412"]
[7413,"Buchschachen","B","01.07.2010",null,"PLZ-Postfach","extern","Nein","Ja","7413"]
[7421,"Tauchen-Schaueregg","St","01.01.1966",null,"PLZ-Adressierung","extern","Ja","Nein","7421"]
[7422,"Riedlingsdorf","B","01.01.1966",null,"PLZ-Adressierung","extern","Ja","Nein","7422"]
[7423,"Pinkafeld","B","01.01.1966",null,"PLZ-Adressierung","extern","Ja","Ja","7423"]
[7424,"Grafenschachen","B","01.07.2010",null,"PLZ-Postfach","extern","Nein","Ja","7424"]
[7431,"Bad Tatzmannsdorf","B","01.01.1966",null,"PLZ-Adressierung","extern","Ja","Ja","7431"]
[7432,"Oberschützen","B","01.01.1966",null,"PLZ-Adressierung","extern","Ja","Ja","7432"]
[7433,"Mariasdorf","B","01.01.1966",null,"PLZ-Adressierung","extern","Ja","Nein","7433"]
[7434,"Bernstein","B","01.01.1966",null,"PLZ-Adressierung","extern","Ja","Nein","7434"]
[7435,"Unterkohlstätten","B","01.01.1966",null,"PLZ-Adressierung","extern","Ja","Nein","7435"]
[7441,"Pilgersdorf","B","01.01.1966",null,"PLZ-Adressierung","extern","Ja","Nein","7441"]
[7442,"Lockenhaus","B","01.01.1966",null,"PLZ-Adressierung","extern","Ja","Ja","7442"]
[7443,"Rattersdorf-Liebing","B","01.01.1966",null,"PLZ-Adressierung","extern","Ja","Nein","7443"]
[7444,"Mannersdorf an der Rabnitz","B","01.01.1966",null,"PLZ-Adressierung","extern","Ja","Nein","7444"]
[7451,"Oberloisdorf","B","01.01.1966",null,"PLZ-Adressierung","extern","Ja","Nein","7451"]
[7452,"Unterpullendorf","B","01.01.1966",null,"PLZ-Adressierung","extern","Ja","Nein","7452"]
[7453,"Steinberg-Dörfl","B","01.01.1966",null,"PLZ-Adressierung","extern","Ja","Nein","7453"]
[7461,"Stadtschlaining","B","01.01.1966",null,"PLZ-Adressierung","extern","Ja","Ja","7461"]
[7463,"Weiden bei Rechnitz","B","01.01.1966",null,"PLZ-Adressierung","extern","Ja","Nein","7463"]
[7464,"Markt Neuhodis","B","01.01.1966",null,"PLZ-Adressierung","extern","Ja","Nein","7464"]
[7471,"Rechnitz","B","01.01.1966",null,"PLZ-Adressierung","extern","Ja","Ja","7471"]
[7472,"Schachendorf","B","01.01.1966",null,"PLZ-Adressierung","extern","Ja","Nein","7472"]
[7473,"Hannersdorf","B","01.01.1966",null,"PLZ-Adressierung","extern","Ja","Nein","7473"]
[7474,"Deutsch Schützen","B","01.01.1966",null,"PLZ-Adressierung","extern","Ja","Nein","7474"]
[7501,"Rotenturm an der Pinka","B","01.01.1966",null,"PLZ-Adressierung","extern","Ja","Ja","7501"]
[7503,"Großpetersdorf","B","01.01.1966",null,"PLZ-Adressierung","extern","Ja","Ja","7503"]
[7504,"Jabing","B","01.10.2010",null,"PLZ-Postfach","extern","Nein","Ja","7504"]
[7511,"Mischendorf","B","01.01.1966",null,"PLZ-Adressierung","extern","Ja","Nein","7511"]
[7512,"Kohfidisch","B","01.01.1966",null,"PLZ-Adressierung","extern","Ja","Nein","7512"]
[7521,"Eberau","B","01.01.1966",null,"PLZ-Adressierung","extern","Ja","Nein","7521"]
[7522,"Strem","B","01.01.1966",null,"PLZ-Adressierung","extern","Ja","Ja","7522"]
[7531,"Kemeten","B","01.01.1966",null,"PLZ-Adressierung","extern","Ja","Nein","7531"]
[7532,"Litzelsdorf","B","01.01.1966",null,"PLZ-Adressierung","extern","Ja","Ja","7532"]
[7533,"Ollersdorf im Burgenland","B","01.01.1966",null,"PLZ-Adressierung","extern","Ja","Nein","7533"]
[7534,"Olbendorf","B","01.01.1966",null,"PLZ-Adressierung","extern","Ja","Nein","7534"]
[7535,"St. Michael im Burgenland","B","01.01.1966",null,"PLZ-Adressierung","extern","Ja","Ja","7535"]
[7536,"Güttenbach","B","01.01.2012",null,"PLZ-Adressierung","extern","Ja","Nein","7536"]
[7537,"Neuberg im Burgenland","B","01.10.2011",null,"PLZ-Adressierung","extern","Ja","Nein","7537"]
[7540,"Güssing","B","01.01.1966",null,"PLZ-Adressierung","extern","Ja","Ja","7540"]
[7542,"Gerersdorf bei Güssing","B","01.01.1966",null,"PLZ-Adressierung","extern","Ja","Nein","7542"]
[7543,"Kukmirn","B","01.01.1966",null,"PLZ-Adressierung","extern","Ja","Nein","7543"]
[7544,"Tobaj","B","01.12.2014",null,"PLZ-Adressierung","extern","Ja","Nein","7544"]
[7551,"Stegersbach","B","01.01.1966",null,"PLZ-Adressierung","extern","Ja","Ja","7551"]
[7552,"Stinatz","B","01.01.1966",null,"PLZ-Adressierung","extern","Ja","Nein","7552"]
[{"$f":"J1923*1","v":7561},"Heiligenkreuz im Lafnitztal","B","01.01.1966",null,"PLZ-Adressierung","extern","Ja","Ja","7561"]
[7562,"Eltendorf","B","01.01.1966",null,"PLZ-Adressierung","extern","Ja","Nein","7562"]
[7563,"Königsdorf","B","01.01.1966",null,"PLZ-Adressierung","extern","Ja","Nein","7563"]
[7564,"Dobersdorf","B","01.01.1966",null,"PLZ-Adressierung","extern","Ja","Nein","7564"]
[7571,"Rudersdorf","B","01.01.1966",null,"PLZ-Adressierung","extern","Ja","Ja","7571"]
[7572,"Deutsch Kaltenbrunn","B","01.01.1966",null,"PLZ-Adressierung","extern","Ja","Nein","7572"]
[8000,"Graz","St","01.08.2009",null,"PLZ-Postfach","extern","Nein","Ja","8000"]
[8006,"Graz","St","01.12.2012",null,"PLZ-Postfach","extern","Nein","Ja","8006"]
[8007,"Graz","St","01.09.2012",null,"PLZ-Postfach","extern","Nein","Ja","8007"]
[8008,"Graz","St","01.07.2011",null,"PLZ-Postfach","extern","Nein","Ja","8008"]
[8010,"Graz","St","01.01.1966",null,"PLZ-Adressierung","extern","Ja","Ja","8010"]
[8011,"Graz Postfach","St","01.01.1966",null,"PLZ-Postfach","extern","Nein","Ja","8011"]
[8012,"Graz","St","30.09.2002",null,"InteressentenPLZ","extern","Nein","Ja","8012"]
[8014,"Hönigtal","St","01.07.2010",null,"PLZ-Postfach","extern","Nein","Ja","8014"]
[8015,"Graz","St","01.01.1966",null,"PLZ-Postfach","extern","Nein","Ja","8015"]
[8016,"Graz","St","01.01.1966",null,"PLZ-Postfach","extern","Nein","Ja","8016"]
[8017,"Graz","St","01.01.1966",null,"PLZ-Postfach","extern","Nein","Ja","8017"]
[8018,"Graz","St","01.01.1966",null,"PLZ-Postfach","extern","Nein","Ja","8018"]
[8019,"Graz","St","01.01.1966",null,"PLZ-Postfach","extern","Nein","Ja","8019"]
[8020,"Graz","St","01.01.1966",null,"PLZ-Adressierung","extern","Ja","Ja","8020"]
[8021,"Graz Postfach","St","01.01.1966",null,"PLZ-Postfach","extern","Nein","Ja","8021"]
[8022,"Graz","St","01.01.1966",null,"PLZ-Postfach","extern","Nein","Ja","8022"]
[8023,"Graz","St","01.01.1966",null,"PLZ-Postfach","extern","Nein","Ja","8023"]
[8024,"Graz","St","01.01.1966",null,"PLZ-Postfach","extern","Nein","Ja","8024"]
[8025,"Graz","St","01.01.1966",null,"PLZ-Postfach","extern","Nein","Ja","8025"]
[8026,"Graz","St","01.01.1966",null,"PLZ-Postfach","extern","Nein","Ja","8026"]
[8028,"Graz","St","01.06.2012",null,"PLZ-Postfach","extern","Nein","Ja","8028"]
[8035,"Graz","St","01.01.1966",null,"PLZ-Postfach","extern","Nein","Ja","8035"]
[8036,"Graz","St","01.01.1966",null,"PLZ-Adressierung","extern","Ja","Ja","8036"]
[8040,"Graz-Liebenau","St","01.12.2012",null,"PLZ-Postfach","extern","Nein","Ja","8040"]
[8041,"Graz-Liebenau","St","01.01.1966",null,"PLZ-Adressierung","extern","Ja","Ja","8041"]
[8042,"Graz-St. Peter","St","01.01.1966",null,"PLZ-Adressierung","extern","Ja","Ja","8042"]
[8043,"Graz-Kroisbach","St","01.01.1966",null,"PLZ-Adressierung","extern","Ja","Ja","8043"]
[8044,"Graz-Mariatrost","St","01.01.1966",null,"PLZ-Adressierung","extern","Ja","Ja","8044"]
[8045,"Graz-Andritz","St","01.01.1966",null,"PLZ-Adressierung","extern","Ja","Ja","8045"]
[8046,"Graz-St. Veit","St","01.01.1966",null,"PLZ-Adressierung","extern","Ja","Nein","8046"]
[8047,"Graz-Ragnitz","St","01.01.1966",null,"PLZ-Adressierung","extern","Ja","Ja","8047"]
[8049,"Graz","St","01.01.2012",null,"PLZ-Postfach","extern","Nein","Ja","8049"]
[8051,"Graz-Gösting","St","01.01.1966",null,"PLZ-Adressierung","extern","Ja","Ja","8051"]
[8052,"Graz-Wetzelsdorf","St","01.01.1966",null,"PLZ-Adressierung","extern","Ja","Ja","8052"]
[8053,"Graz-Neuhart","St","01.01.1966",null,"PLZ-Adressierung","extern","Ja","Ja","8053"]
[8054,"Graz-Straßgang","St","01.01.1966",null,"PLZ-Adressierung","extern","Ja","Ja","8054"]
[8055,"Graz-Puntigam","St","01.01.1966",null,"PLZ-Adressierung","extern","Ja","Ja","8055"]
[8056,"Graz","St","01.01.1966",null,"PLZ-Postfach","extern","Nein","Ja","8056"]
[8057,"Graz-Straßgang","St","01.09.2013",null,"PLZ-Postfach","extern","Nein","Ja","8057"]
[8061,"St. Radegund bei Graz","St","01.01.1966",null,"PLZ-Adressierung","extern","Ja","Ja","8061"]
[8062,"Kumberg","St","01.01.1966",null,"PLZ-Adressierung","extern","Ja","Ja","8062"]
[8063,"Eggersdorf bei Graz","St","01.01.1966",null,"PLZ-Adressierung","extern","Ja","Ja","8063"]
[8071,"Hausmannstätten","St","01.01.1966",null,"PLZ-Adressierung","extern","Ja","Ja","8071"]
[8072,"Fernitz","St","01.01.1966",null,"PLZ-Adressierung","extern","Ja","Ja","8072"]
[8073,"Feldkirchen bei Graz","St","01.01.1966",null,"PLZ-Adressierung","extern","Ja","Ja","8073"]
[8074,"Raaba","St","01.01.1966",null,"PLZ-Adressierung","extern","Ja","Ja","8074"]
[8075,"Hart bei Graz","St","01.01.1966",null,"PLZ-Adressierung","extern","Ja","Ja","8075"]
[8076,"Vasoldsberg","St","01.06.2013",null,"PLZ-Adressierung","extern","Ja","Ja","8076"]
[8077,"Gössendorf","St","01.07.2010",null,"PLZ-Adressierung","extern","Ja","Ja","8077"]
[8081,"Heiligenkreuz am Waasen","St","01.01.1966",null,"PLZ-Adressierung","extern","Ja","Ja","8081"]
[8082,"Kirchbach in Steiermark","St","01.01.1966",null,"PLZ-Adressierung","extern","Ja","Ja","8082"]
[8083,"St. Stefan im Rosental","St","01.01.1966",null,"PLZ-Adressierung","extern","Ja","Ja","8083"]
[8091,"Jagerberg","St","01.01.1966",null,"PLZ-Adressierung","extern","Ja","Ja","8091"]
[8092,"Mettersdorf am Saßbach","St","01.01.1966",null,"PLZ-Adressierung","extern","Ja","Nein","8092"]
[8093,"St. Peter am Ottersbach","St","01.01.1966",null,"PLZ-Adressierung","extern","Ja","Ja","8093"]
[8101,"Gratkorn","St","01.01.1966",null,"PLZ-Adressierung","extern","Ja","Ja","8101"]
[8102,"Semriach","St","01.01.1966",null,"PLZ-Adressierung","extern","Ja","Ja","8102"]
[8103,"Rein","St","01.01.1966",null,"PLZ-Adressierung","extern","Ja","Nein","8103"]
[{"$f":"J1987*1","v":8111},"Judendorf-Straßengel","St","01.01.1966",null,"PLZ-Adressierung","extern","Ja","Ja","8111"]
[8112,"Gratwein","St","01.01.1966",null,"PLZ-Adressierung","extern","Ja","Nein","8112"]
[8113,"St. Oswald bei Plankenwarth","St","01.01.1966",null,"PLZ-Adressierung","extern","Ja","Nein","8113"]
[8114,"Stübing","St","01.01.1966",null,"PLZ-Adressierung","extern","Ja","Nein","8114"]
[8120,"Peggau","St","01.01.1966",null,"PLZ-Adressierung","extern","Ja","Ja","8120"]
[8121,"Deutschfeistritz","St","01.01.1966",null,"PLZ-Adressierung","extern","Ja","Ja","8121"]
[8122,"Waldstein","St","01.01.1966",null,"PLZ-Adressierung","extern","Ja","Nein","8122"]
[8124,"Übelbach","St","01.01.1966",null,"PLZ-Adressierung","extern","Ja","Ja","8124"]
[8130,"Frohnleiten","St","01.01.1966",null,"PLZ-Adressierung","extern","Ja","Ja","8130"]
[8131,"Mixnitz","St","01.01.1966",null,"PLZ-Adressierung","extern","Ja","Nein","8131"]
[8132,"Pernegg an der Mur","St","01.01.1966",null,"PLZ-Adressierung","extern","Ja","Ja","8132"]
[8141,"Unterpremstätten","St","01.01.1966",null,"PLZ-Adressierung","extern","Ja","Ja","8141"]
[8142,"Wundschuh","St","01.01.1966",null,"PLZ-Adressierung","extern","Ja","Nein","8142"]
[8143,"Dobl","St","01.01.1966",null,"PLZ-Adressierung","extern","Ja","Ja","8143"]
[8144,"Tobelbad","St","01.01.1966",null,"PLZ-Adressierung","extern","Ja","Nein","8144"]
[8151,"Hitzendorf","St","01.01.1966",null,"PLZ-Adressierung","extern","Ja","Ja","8151"]
[8152,"Stallhofen","St","01.01.1966",null,"PLZ-Adressierung","extern","Ja","Ja","8152"]
[8153,"Geistthal","St","01.01.1966",null,"PLZ-Adressierung","extern","Ja","Nein","8153"]
[8160,"Weiz","St","01.01.1966",null,"PLZ-Adressierung","extern","Ja","Ja","8160"]
[8162,"Passail","St","01.01.1966",null,"PLZ-Adressierung","extern","Ja","Ja","8162"]
[8163,"Fladnitz an der Teichalm","St","01.01.1966",null,"PLZ-Adressierung","extern","Ja","Ja","8163"]
[8171,"St. Kathrein am Offenegg","St","01.01.1966",null,"PLZ-Adressierung","extern","Ja","Nein","8171"]
[8172,"Heilbrunn","St","01.01.1966",null,"PLZ-Adressierung","extern","Ja","Nein","8172"]
[8181,"St. Ruprecht an der Raab","St","01.01.1966",null,"PLZ-Adressierung","extern","Ja","Ja","8181"]
[8182,"Puch bei Weiz","St","01.01.1966",null,"PLZ-Adressierung","extern","Ja","Ja","8182"]
[8183,"Floing","St","01.01.1966",null,"PLZ-Adressierung","extern","Ja","Ja","8183"]
[8184,"Anger","St","01.01.1966",null,"PLZ-Adressierung","extern","Ja","Ja","8184"]
[8190,"Birkfeld","St","01.01.1966",null,"PLZ-Adressierung","extern","Ja","Ja","8190"]
[8191,"Koglhof","St","01.01.1966",null,"PLZ-Adressierung","extern","Ja","Nein","8191"]
[8192,"Strallegg","St","01.01.1966",null,"PLZ-Adressierung","extern","Ja","Ja","8192"]
[8193,"Dorfviertel","St","01.07.2010",null,"PLZ-Postfach","extern","Nein","Ja","8193"]
[8194,"Waisenegg","St","01.03.2015",null,"PLZ-Postfach","extern","Nein","Ja","8194"]
[8200,"Gleisdorf","St","01.01.1966",null,"PLZ-Adressierung","extern","Ja","Ja","8200"]
[8201,"Gleisdorf","St","01.06.2012",null,"PLZ-Postfach","extern","Nein","Ja","8201"]
[8211,"Ilztal","St","01.01.1966",null,"PLZ-Adressierung","extern","Ja","Ja","8211"]
[8212,"Pischelsdorf am Kulm","St","01.01.1966",null,"PLZ-Adressierung","extern","Ja","Ja","8212"]
[8221,"Hirnsdorf","St","01.01.1966",null,"PLZ-Adressierung","extern","Ja","Nein","8221"]
[8222,"St. Johann bei Herberstein","St","01.01.1966",null,"PLZ-Adressierung","extern","Ja","Nein","8222"]
[8223,"Stubenberg am See","St","01.01.1966",null,"PLZ-Adressierung","extern","Ja","Ja","8223"]
[8224,"Kaindorf bei Hartberg","St","01.01.1966",null,"PLZ-Adressierung","extern","Ja","Ja","8224"]
[8225,"Pöllau bei Hartberg","St","01.01.1966",null,"PLZ-Adressierung","extern","Ja","Ja","8225"]
[8226,"Obersaifen","St","01.10.2010",null,"PLZ-Postfach","extern","Nein","Ja","8226"]
[8230,"Hartberg","St","01.01.1966",null,"PLZ-Adressierung","extern","Ja","Ja","8230"]
[8232,"Grafendorf bei Hartberg","St","01.01.1966",null,"PLZ-Adressierung","extern","Ja","Ja","8232"]
[8233,"Lafnitz","St","01.01.1966",null,"PLZ-Adressierung","extern","Ja","Ja","8233"]
[8234,"Rohrbach an der Lafnitz","St","01.01.1966",null,"PLZ-Adressierung","extern","Ja","Ja","8234"]
[8240,"Friedberg","St","01.01.1966",null,"PLZ-Adressierung","extern","Ja","Ja","8240"]
[8241,"Dechantskirchen","St","01.01.1966",null,"PLZ-Adressierung","extern","Ja","Ja","8241"]
[8242,"St. Lorenzen am Wechsel","St","01.01.1966",null,"PLZ-Adressierung","extern","Ja","Nein","8242"]
[8243,"Pinggau","St","01.01.1966",null,"PLZ-Adressierung","extern","Ja","Ja","8243"]
[8244,"Schäffern","St","01.01.1966",null,"PLZ-Adressierung","extern","Ja","Nein","8244"]
[8250,"Vorau","St","01.01.1966",null,"PLZ-Adressierung","extern","Ja","Ja","8250"]
[8251,"Bruck an der Lafnitz","St","01.01.1966",null,"PLZ-Adressierung","extern","Ja","Nein","8251"]
[8252,"Mönichwald","St","01.01.1966",null,"PLZ-Adressierung","extern","Ja","Nein","8252"]
[8253,"Waldbach","St","01.01.1966",null,"PLZ-Adressierung","extern","Ja","Ja","8253"]
[8254,"Wenigzell","St","01.01.1966",null,"PLZ-Adressierung","extern","Ja","Ja","8254"]
[8255,"St. Jakob","St","01.01.1966",null,"PLZ-Adressierung","extern","Ja","Ja","8255"]
[8261,"Sinabelkirchen","St","01.01.1966",null,"PLZ-Adressierung","extern","Ja","Ja","8261"]
[8262,"Ilz","St","01.01.1966",null,"PLZ-Adressierung","extern","Ja","Ja","8262"]
[8263,"Großwilfersdorf","St","01.01.1966",null,"PLZ-Adressierung","extern","Ja","Ja","8263"]
[8264,"Hainersdorf","St","01.01.1966",null,"PLZ-Adressierung","extern","Ja","Nein","8264"]
[8265,"Großsteinbach","St","01.01.1966",null,"PLZ-Adressierung","extern","Ja","Nein","8265"]
[8271,"Bad Waltersdorf","St","01.01.1966",null,"PLZ-Adressierung","extern","Ja","Ja","8271"]
[8272,"Sebersdorf","St","01.01.1966",null,"PLZ-Adressierung","extern","Ja","Nein","8272"]
[{"$f":"J2051*1","v":8273},"Ebersdorf","St","01.01.1966",null,"PLZ-Adressierung","extern","Ja","Nein","8273"]
[8274,"Buch","St","01.01.1966",null,"PLZ-Adressierung","extern","Ja","Ja","8274"]
[8280,"Fürstenfeld","St","01.01.1966",null,"PLZ-Adressierung","extern","Ja","Ja","8280"]
[8282,"Loipersdorf bei Fürstenfeld","St","01.01.1966",null,"PLZ-Adressierung","extern","Ja","Ja","8282"]
[8283,"Bad Blumau","St","01.01.1966",null,"PLZ-Adressierung","extern","Ja","Ja","8283"]
[8291,"Burgau","St","01.01.1966",null,"PLZ-Adressierung","extern","Ja","Ja","8291"]
[8292,"Neudau","St","01.01.1966",null,"PLZ-Adressierung","extern","Ja","Nein","8292"]
[8293,"Wörth an der Lafnitz","St","01.01.1966",null,"PLZ-Adressierung","extern","Ja","Nein","8293"]
[8294,"Unterrohr","St","01.01.1966",null,"PLZ-Adressierung","extern","Ja","Nein","8294"]
[8295,"St. Johann in der Haide","St","01.01.1966",null,"PLZ-Adressierung","extern","Ja","Ja","8295"]
[8301,"Laßnitzhöhe","St","01.01.1966",null,"PLZ-Adressierung","extern","Ja","Ja","8301"]
[8302,"Nestelbach bei Graz","St","01.01.1966",null,"PLZ-Adressierung","extern","Ja","Nein","8302"]
[8311,"Markt Hartmannsdorf","St","01.01.1966",null,"PLZ-Adressierung","extern","Ja","Ja","8311"]
[8312,"Ottendorf an der Rittschein","St","01.01.1966",null,"PLZ-Adressierung","extern","Ja","Nein","8312"]
[8313,"Breitenfeld an der Rittschein","St","01.01.1966",null,"PLZ-Adressierung","extern","Ja","Nein","8313"]
[8321,"St. Margarethen an der Raab","St","01.01.1966",null,"PLZ-Adressierung","extern","Ja","Ja","8321"]
[8322,"Studenzen","St","01.01.1966",null,"PLZ-Adressierung","extern","Ja","Nein","8322"]
[8323,"St. Marein bei Graz","St","01.01.1966",null,"PLZ-Adressierung","extern","Ja","Ja","8323"]
[8324,"Kirchberg an der Raab","St","01.01.1966",null,"PLZ-Adressierung","extern","Ja","Ja","8324"]
[8330,"Feldbach","St","01.01.1966",null,"PLZ-Adressierung","extern","Ja","Ja","8330"]
[8331,"Gossendorf","St","01.10.2010",null,"PLZ-Postfach","extern","Nein","Ja","8331"]
[8332,"Edelsbach bei Feldbach","St","01.01.1966",null,"PLZ-Adressierung","extern","Ja","Nein","8332"]
[8333,"Riegersburg","St","01.01.1966",null,"PLZ-Adressierung","extern","Ja","Ja","8333"]
[8334,"Lödersdorf","St","01.01.1966",null,"PLZ-Adressierung","extern","Ja","Nein","8334"]
[8335,"Gniebing","St","01.03.2011",null,"PLZ-Postfach","extern","Nein","Ja","8335"]
[8341,"Paldau","St","01.01.1966",null,"PLZ-Adressierung","extern","Ja","Ja","8341"]
[8342,"Gnas","St","01.01.1966",null,"PLZ-Adressierung","extern","Ja","Ja","8342"]
[8343,"Trautmannsdorf in Oststeiermark","St","01.01.1966",null,"PLZ-Adressierung","extern","Ja","Nein","8343"]
[8344,"Bad Gleichenberg","St","01.01.1966",null,"PLZ-Adressierung","extern","Ja","Ja","8344"]
[8345,"Straden","St","01.01.1966",null,"PLZ-Adressierung","extern","Ja","Ja","8345"]
[8350,"Fehring","St","01.01.1966",null,"PLZ-Adressierung","extern","Ja","Ja","8350"]
[8352,"Unterlamm","St","01.01.1966",null,"PLZ-Adressierung","extern","Ja","Ja","8352"]
[8353,"Kapfenstein","St","01.01.1966",null,"PLZ-Adressierung","extern","Ja","Ja","8353"]
[8354,"St. Anna am Aigen","St","01.01.1966",null,"PLZ-Adressierung","extern","Ja","Nein","8354"]
[8355,"Tieschen","St","01.01.1966",null,"PLZ-Adressierung","extern","Ja","Nein","8355"]
[8361,"Hatzendorf","St","01.01.1966",null,"PLZ-Adressierung","extern","Ja","Ja","8361"]
[8362,"Söchau","St","01.01.1966",null,"PLZ-Adressierung","extern","Ja","Ja","8362"]
[8363,"Übersbach","St","01.10.2010",null,"PLZ-Postfach","extern","Nein","Ja","8363"]
[8380,"Jennersdorf","B","01.01.1966",null,"PLZ-Adressierung","extern","Ja","Ja","8380"]
[8382,"Mogersdorf","B","01.01.1966",null,"PLZ-Adressierung","extern","Ja","Ja","8382"]
[8383,"St. Martin an der Raab","B","01.01.1966",null,"PLZ-Adressierung","extern","Ja","Nein","8383"]
[8384,"Minihof-Liebau","B","01.01.1966",null,"PLZ-Adressierung","extern","Ja","Ja","8384"]
[8385,"Neuhaus am Klausenbach","B","01.01.1966",null,"PLZ-Adressierung","extern","Ja","Nein","8385"]
[8401,"Kalsdorf bei Graz","St","01.01.1966",null,"PLZ-Adressierung","extern","Ja","Ja","8401"]
[8402,"Werndorf","St","01.01.1966",null,"PLZ-Adressierung","extern","Ja","Ja","8402"]
[8403,"Lebring","St","01.01.1966",null,"PLZ-Adressierung","extern","Ja","Ja","8403"]
[8404,"Kalsdorf bei Graz","St","01.01.1966",null,"InteressentenPLZ","extern","Nein","Ja","8404"]
[8410,"Wildon","St","01.01.1966",null,"PLZ-Adressierung","extern","Ja","Ja","8410"]
[8411,"Hengsberg","St","01.01.1966",null,"PLZ-Adressierung","extern","Ja","Nein","8411"]
[8412,"Allerheiligen bei Wildon","St","01.01.1966",null,"PLZ-Adressierung","extern","Ja","Ja","8412"]
[8413,"St. Georgen an der Stiefing","St","01.01.1966",null,"PLZ-Adressierung","extern","Ja","Ja","8413"]
[8421,"Wolfsberg im Schwarzautal","St","01.01.1966",null,"PLZ-Adressierung","extern","Ja","Ja","8421"]
[8422,"St. Nikolai ob Draßling","St","01.01.1966",null,"PLZ-Adressierung","extern","Ja","Nein","8422"]
[8423,"St. Veit am Vogau","St","01.01.1966",null,"PLZ-Adressierung","extern","Ja","Nein","8423"]
[8424,"Gabersdorf","St","01.01.1966",null,"PLZ-Adressierung","extern","Ja","Nein","8424"]
[8430,"Leibnitz","St","01.01.1966",null,"PLZ-Adressierung","extern","Ja","Ja","8430"]
[8431,"Gralla","St","01.01.2011",null,"PLZ-Adressierung","extern","Ja","Ja","8431"]
[8432,"Kaindorf an der Sulm","St","01.07.2010",null,"PLZ-Postfach","extern","Nein","Ja","8432"]
[8434,"Tillmitsch Links der Laßnitz","St","01.06.2012",null,"PLZ-Postfach","extern","Nein","Ja","8434"]
[8435,"Wagna","St","01.01.1966",null,"PLZ-Adressierung","extern","Ja","Nein","8435"]
[8441,"Fresing","St","01.01.1966",null,"PLZ-Adressierung","extern","Ja","Ja","8441"]
[8442,"Kitzeck im Sausal","St","01.01.1966",null,"PLZ-Adressierung","extern","Ja","Nein","8442"]
[8443,"Gleinstätten","St","01.01.1966",null,"PLZ-Adressierung","extern","Ja","Ja","8443"]
[8444,"St. Andrä im Sausal","St","01.01.1966",null,"PLZ-Adressierung","extern","Ja","Nein","8444"]
[{"$f":"J2115*1","v":8451},"Heimschuh","St","01.01.1966",null,"PLZ-Adressierung","extern","Ja","Ja","8451"]
[8452,"Großklein","St","01.01.1966",null,"PLZ-Adressierung","extern","Ja","Ja","8452"]
[8453,"St. Johann im Saggautal","St","01.01.1966",null,"PLZ-Adressierung","extern","Ja","Nein","8453"]
[8454,"Arnfels","St","01.01.1966",null,"PLZ-Adressierung","extern","Ja","Ja","8454"]
[8455,"Oberhaag","St","01.01.1966",null,"PLZ-Adressierung","extern","Ja","Ja","8455"]
[8461,"Ehrenhausen","St","01.01.1966",null,"PLZ-Adressierung","extern","Ja","Ja","8461"]
[8462,"Gamlitz","St","01.01.1966",null,"PLZ-Adressierung","extern","Ja","Ja","8462"]
[8463,"Leutschach","St","01.01.1966",null,"PLZ-Adressierung","extern","Ja","Ja","8463"]
[8471,"Spielfeld","St","01.01.1966",null,"PLZ-Adressierung","extern","Ja","Nein","8471"]
[8472,"Straß in Steiermark","St","01.01.1966",null,"PLZ-Adressierung","extern","Ja","Ja","8472"]
[8473,"Weitersfeld an der Mur","St","01.01.1966",null,"PLZ-Adressierung","extern","Ja","Nein","8473"]
[8480,"Mureck","St","01.01.1966",null,"PLZ-Adressierung","extern","Ja","Ja","8480"]
[8481,"Weinburg am Saßbach","St","01.01.1966",null,"PLZ-Adressierung","extern","Ja","Nein","8481"]
[8482,"Gosdorf","St","01.01.1966","14.02.2017","PLZ-Historisch","intern","Nein","Nein","8482"]
[8483,"Deutsch Goritz","St","01.01.1966",null,"PLZ-Adressierung","extern","Ja","Ja","8483"]
[8484,"Unterpurkla","St","01.01.1966",null,"PLZ-Adressierung","extern","Ja","Nein","8484"]
[8490,"Bad Radkersburg","St","01.01.1966",null,"PLZ-Adressierung","extern","Ja","Ja","8490"]
[8492,"Halbenrain","St","01.01.1966",null,"PLZ-Adressierung","extern","Ja","Ja","8492"]
[8493,"Klöch","St","01.01.1966",null,"PLZ-Adressierung","extern","Ja","Ja","8493"]
[8501,"Lieboch","St","01.01.1966",null,"PLZ-Adressierung","extern","Ja","Ja","8501"]
[8502,"Lannach","St","01.01.1966",null,"PLZ-Adressierung","extern","Ja","Ja","8502"]
[8503,"St. Josef Weststeiermark","St","01.01.1966",null,"PLZ-Adressierung","extern","Ja","Ja","8503"]
[8504,"Preding","St","01.01.1966",null,"PLZ-Adressierung","extern","Ja","Ja","8504"]
[8505,"St. Nikolai im Sausal","St","01.01.1966",null,"PLZ-Adressierung","extern","Ja","Ja","8505"]
[8506,"Mettersdorf","St","01.10.2010",null,"PLZ-Postfach","extern","Nein","Ja","8506"]
[8510,"Stainz","St","01.01.1966",null,"PLZ-Adressierung","extern","Ja","Ja","8510"]
[8511,"St. Stefan ob Stainz","St","01.01.1966",null,"PLZ-Adressierung","extern","Ja","Ja","8511"]
[8521,"Wettmannstätten","St","01.01.1966",null,"PLZ-Adressierung","extern","Ja","Ja","8521"]
[8522,"Groß St. Florian","St","01.01.1966",null,"PLZ-Adressierung","extern","Ja","Ja","8522"]
[8523,"Frauental an der Laßnitz","St","01.01.1966",null,"PLZ-Adressierung","extern","Ja","Ja","8523"]
[8524,"Bad Gams","St","01.01.1966",null,"PLZ-Adressierung","extern","Ja","Ja","8524"]
[8530,"Deutschlandsberg","St","01.01.1966",null,"PLZ-Adressierung","extern","Ja","Ja","8530"]
[8541,"Schwanberg","St","01.01.1966",null,"PLZ-Adressierung","extern","Ja","Ja","8541"]
[8542,"St. Peter im Sulmtal","St","01.01.1966",null,"PLZ-Adressierung","extern","Ja","Ja","8542"]
[8543,"St. Martin im Sulmtal","St","01.01.1966",null,"PLZ-Adressierung","extern","Ja","Ja","8543"]
[8544,"Pölfing-Brunn","St","01.01.1966",null,"PLZ-Adressierung","extern","Ja","Ja","8544"]
[8551,"Wies","St","01.01.1966",null,"PLZ-Adressierung","extern","Ja","Ja","8551"]
[8552,"Eibiswald","St","01.01.1966",null,"PLZ-Adressierung","extern","Ja","Ja","8552"]
[8553,"St. Oswald ob Eibiswald","St","01.01.1966",null,"PLZ-Adressierung","extern","Ja","Nein","8553"]
[8554,"Soboth","St","01.01.1966",null,"PLZ-Adressierung","extern","Ja","Nein","8554"]
[8555,"Wernersdorf","St","01.07.2010",null,"PLZ-Postfach","extern","Nein","Ja","8555"]
[8561,"Söding","St","01.01.1966",null,"PLZ-Adressierung","extern","Ja","Ja","8561"]
[8562,"Mooskirchen","St","01.01.1966",null,"PLZ-Adressierung","extern","Ja","Ja","8562"]
[8563,"Ligist","St","01.01.1966",null,"PLZ-Adressierung","extern","Ja","Ja","8563"]
[8564,"Krottendorf-Gaisfeld","St","01.01.1966",null,"PLZ-Adressierung","extern","Ja","Ja","8564"]
[8565,"St. Johann ob Hohenburg","St","01.01.1966",null,"PLZ-Adressierung","extern","Ja","Nein","8565"]
[8570,"Voitsberg","St","01.01.1966",null,"PLZ-Adressierung","extern","Ja","Ja","8570"]
[8571,"Bärnbach","St","01.06.2012",null,"PLZ-Postfach","extern","Nein","Ja","8571"]
[8572,"Bärnbach","St","01.01.1966",null,"PLZ-Adressierung","extern","Ja","Nein","8572"]
[8573,"Kainach bei Voitsberg","St","01.01.1966",null,"PLZ-Adressierung","extern","Ja","Nein","8573"]
[8580,"Köflach","St","01.01.1966",null,"PLZ-Adressierung","extern","Ja","Ja","8580"]
[8582,"Rosental an der Kainach","St","01.01.1966",null,"PLZ-Adressierung","extern","Ja","Nein","8582"]
[8583,"Edelschrott","St","01.01.1966",null,"PLZ-Adressierung","extern","Ja","Ja","8583"]
[8584,"Hirschegg","St","01.01.1966",null,"PLZ-Adressierung","extern","Ja","Nein","8584"]
[8591,"Maria Lankowitz","St","01.01.1966",null,"PLZ-Adressierung","extern","Ja","Ja","8591"]
[8592,"Salla","St","01.01.1966",null,"PLZ-Adressierung","extern","Ja","Nein","8592"]
[8593,"Graden","St","01.01.1966",null,"PLZ-Adressierung","extern","Ja","Nein","8593"]
[8600,"Bruck an der Mur","St","01.01.1966",null,"PLZ-Adressierung","extern","Ja","Ja","8600"]
[8605,"Kapfenberg","St","01.01.1966",null,"PLZ-Adressierung","extern","Ja","Ja","8605"]
[8606,"Kapfenberg","St","01.06.2012",null,"PLZ-Postfach","extern","Nein","Ja","8606"]
[8607,"Kapfenberg","St","01.01.1966",null,"PLZ-Postfach","extern","Nein","Ja","8607"]
[8611,"St. Katharein an der Laming","St","01.01.1966",null,"PLZ-Adressierung","extern","Ja","Ja","8611"]
[8612,"Tragöß-Oberort","St","01.01.1966",null,"PLZ-Adressierung","extern","Ja","Nein","8612"]
[8614,"Breitenau","St","01.01.1966",null,"PLZ-Adressierung","extern","Ja","Ja","8614"]
[{"$f":"J2179*1","v":8616},"Gasen","St","01.01.1966",null,"PLZ-Adressierung","extern","Ja","Nein","8616"]
[8621,"Thörl","St","01.01.1966",null,"PLZ-Adressierung","extern","Ja","Ja","8621"]
[8622,"Etmißl","St","01.01.1966",null,"PLZ-Adressierung","extern","Ja","Nein","8622"]
[8623,"Aflenz Kurort","St","01.01.1966",null,"PLZ-Adressierung","extern","Ja","Ja","8623"]
[8624,"Au","St","01.01.1966",null,"PLZ-Adressierung","extern","Ja","Nein","8624"]
[8625,"Turnau","St","01.01.1966",null,"PLZ-Adressierung","extern","Ja","Nein","8625"]
[8630,"Mariazell","St","01.01.1966",null,"PLZ-Adressierung","extern","Ja","Ja","8630"]
[8632,"Gußwerk","St","01.01.1966",null,"PLZ-Adressierung","extern","Ja","Ja","8632"]
[8634,"Wegscheid","St","01.01.1966",null,"PLZ-Adressierung","extern","Ja","Nein","8634"]
[8635,"Gollrad","St","01.01.1966",null,"PLZ-Adressierung","extern","Ja","Nein","8635"]
[8636,"Seewiesen","St","01.01.1966",null,"PLZ-Adressierung","extern","Ja","Nein","8636"]
[8641,"St. Marein im Mürztal","St","01.01.1966",null,"PLZ-Adressierung","extern","Ja","Nein","8641"]
[8642,"St. Lorenzen im Mürztal","St","01.01.1966",null,"PLZ-Adressierung","extern","Ja","Ja","8642"]
[8643,"Allerheiligen im Mürztal","St","01.01.1966",null,"PLZ-Adressierung","extern","Ja","Ja","8643"]
[8644,"Mürzhofen","St","01.01.1966",null,"PLZ-Adressierung","extern","Ja","Nein","8644"]
[8650,"Kindberg","St","01.01.1966",null,"PLZ-Adressierung","extern","Ja","Ja","8650"]
[8652,"Kindberg-Aumühl","St","01.01.1966",null,"PLZ-Adressierung","extern","Ja","Ja","8652"]
[8653,"Stanz im Mürztal","St","01.01.1966",null,"PLZ-Adressierung","extern","Ja","Ja","8653"]
[8654,"Fischbach","St","01.01.1966",null,"PLZ-Adressierung","extern","Ja","Nein","8654"]
[8661,"Wartberg im Mürztal","St","01.01.1966",null,"PLZ-Adressierung","extern","Ja","Ja","8661"]
[8662,"Mitterdorf im Mürztal","St","01.01.1966",null,"PLZ-Adressierung","extern","Ja","Ja","8662"]
[8663,"Dorf Veitsch","St","01.01.1966",null,"PLZ-Adressierung","extern","Ja","Ja","8663"]
[8664,"Großveitsch","St","01.01.1966",null,"PLZ-Adressierung","extern","Ja","Nein","8664"]
[8665,"Langenwang","St","01.01.1966",null,"PLZ-Adressierung","extern","Ja","Ja","8665"]
[8670,"Krieglach","St","01.01.1966",null,"PLZ-Adressierung","extern","Ja","Ja","8670"]
[8671,"Alpl","St","01.01.1966",null,"PLZ-Adressierung","extern","Ja","Nein","8671"]
[8672,"St. Kathrein am Hauenstein","St","01.01.1966",null,"PLZ-Adressierung","extern","Ja","Nein","8672"]
[8673,"Ratten","St","01.01.1966",null,"PLZ-Adressierung","extern","Ja","Ja","8673"]
[8674,"Rettenegg","St","01.01.1966",null,"PLZ-Adressierung","extern","Ja","Ja","8674"]
[8680,"Mürzzuschlag","St","01.01.1966",null,"PLZ-Adressierung","extern","Ja","Ja","8680"]
[8682,"Mürzzuschlag-Hönigsberg","St","01.01.1966",null,"PLZ-Adressierung","extern","Ja","Ja","8682"]
[8684,"Spital am Semmering","St","01.01.1966",null,"PLZ-Adressierung","extern","Ja","Ja","8684"]
[8685,"Steinhaus am Semmering","St","01.01.1966",null,"PLZ-Adressierung","extern","Ja","Nein","8685"]
[8691,"Kapellen","St","01.01.1966",null,"PLZ-Adressierung","extern","Ja","Nein","8691"]
[8692,"Neuberg an der Mürz","St","01.01.1966",null,"PLZ-Adressierung","extern","Ja","Ja","8692"]
[8693,"Mürzsteg","St","01.01.1966",null,"PLZ-Adressierung","extern","Ja","Nein","8693"]
[8694,"Frein an der Mürz","St","01.01.1966",null,"PLZ-Adressierung","extern","Ja","Nein","8694"]
[8700,"Leoben","St","01.01.1966",null,"PLZ-Adressierung","extern","Ja","Ja","8700"]
[8703,"Hinterberg","St","01.09.2013",null,"PLZ-Postfach","extern","Nein","Ja","8703"]
[8704,"Leoben","St","01.01.1966",null,"PLZ-Postfach","extern","Nein","Ja","8704"]
[8707,"Leoben","St","01.01.1966",null,"PLZ-Postfach","extern","Nein","Ja","8707"]
[8709,"Leoben-Lerchenfeld","St","01.01.1966",null,"PLZ-Postfach","extern","Nein","Ja","8709"]
[8712,"Niklasdorf","St","01.01.1966",null,"PLZ-Adressierung","extern","Ja","Ja","8712"]
[8713,"St. Stefan ob Leoben","St","01.01.1966",null,"PLZ-Adressierung","extern","Ja","Ja","8713"]
[8714,"Kraubath an der Mur","St","01.01.1966",null,"PLZ-Adressierung","extern","Ja","Ja","8714"]
[8715,"St. Lorenzen bei Knittelfeld","St","01.01.1966",null,"PLZ-Adressierung","extern","Ja","Ja","8715"]
[8720,"Knittelfeld","St","01.01.1966",null,"PLZ-Adressierung","extern","Ja","Ja","8720"]
[8722,"Knittelfeld","St","01.01.1966",null,"PLZ-Postfach","extern","Nein","Ja","8722"]
[8723,"Kobenz","St","01.12.2012",null,"PLZ-Adressierung","extern","Ja","Nein","8723"]
[8724,"Spielberg","St","01.01.1966",null,"PLZ-Adressierung","extern","Ja","Ja","8724"]
[8731,"Bischoffeld","St","01.01.1966",null,"PLZ-Adressierung","extern","Ja","Ja","8731"]
[8732,"Seckau","St","01.01.1966",null,"PLZ-Adressierung","extern","Ja","Nein","8732"]
[8733,"St. Marein bei Knittelfeld","St","01.01.1966",null,"PLZ-Adressierung","extern","Ja","Nein","8733"]
[8734,"Großlobming","St","01.01.1966",null,"PLZ-Adressierung","extern","Ja","Ja","8734"]
[8740,"Zeltweg","St","01.01.1966",null,"PLZ-Adressierung","extern","Ja","Ja","8740"]
[8741,"Weißkirchen in Steiermark","St","01.01.1966",null,"PLZ-Adressierung","extern","Ja","Ja","8741"]
[8742,"Obdach","St","01.01.1966",null,"PLZ-Adressierung","extern","Ja","Ja","8742"]
[8743,"Eppenstein","St","01.07.2010",null,"PLZ-Postfach","extern","Nein","Ja","8743"]
[8750,"Judenburg","St","01.01.1966",null,"PLZ-Adressierung","extern","Ja","Ja","8750"]
[8751,"Judenburg - Murdorf","St","01.01.1966",null,"PLZ-Postfach","extern","Nein","Ja","8751"]
[8753,"Fohnsdorf","St","01.01.1966",null,"PLZ-Adressierung","extern","Ja","Ja","8753"]
[8754,"Thalheim","St","01.01.1966",null,"PLZ-Adressierung","extern","Ja","Nein","8754"]
[8755,"St. Peter ob Judenburg","St","01.01.1966",null,"PLZ-Adressierung","extern","Ja","Nein","8755"]
[8756,"St. Georgen ob Judenburg","St","01.01.1966",null,"PLZ-Adressierung","extern","Ja","Nein","8756"]
[{"$f":"J2243*1","v":8761},"Pöls","St","01.01.1966",null,"PLZ-Adressierung","extern","Ja","Ja","8761"]
[8762,"Oberzeiring","St","01.01.1966",null,"PLZ-Adressierung","extern","Ja","Ja","8762"]
[8763,"Möderbrugg","St","01.01.1966",null,"PLZ-Adressierung","extern","Ja","Nein","8763"]
[8764,"Pusterwald","St","01.01.1966",null,"PLZ-Adressierung","extern","Ja","Nein","8764"]
[8765,"St. Johann am Tauern","St","01.01.1966",null,"PLZ-Adressierung","extern","Ja","Nein","8765"]
[8766,"Bretstein","St","01.09.2012",null,"PLZ-Postfach","extern","Nein","Ja","8766"]
[8770,"St. Michael in Obersteiermark","St","01.01.1966",null,"PLZ-Adressierung","extern","Ja","Ja","8770"]
[8772,"Timmersdorf","St","01.01.1966",null,"PLZ-Adressierung","extern","Ja","Ja","8772"]
[8773,"Kammern im Liesingtal","St","01.01.1966",null,"PLZ-Adressierung","extern","Ja","Nein","8773"]
[8774,"Mautern in Steiermark","St","01.01.1966",null,"PLZ-Adressierung","extern","Ja","Nein","8774"]
[8775,"Kalwang","St","01.01.1966",null,"PLZ-Adressierung","extern","Ja","Ja","8775"]
[8781,"Wald am Schoberpaß","St","01.01.1966",null,"PLZ-Adressierung","extern","Ja","Nein","8781"]
[8782,"Treglwang","St","01.01.1966",null,"PLZ-Adressierung","extern","Ja","Nein","8782"]
[8783,"Gaishorn am See","St","01.01.1966",null,"PLZ-Adressierung","extern","Ja","Nein","8783"]
[8784,"Trieben","St","01.01.1966",null,"PLZ-Adressierung","extern","Ja","Ja","8784"]
[8785,"Hohentauern","St","01.01.1966",null,"PLZ-Adressierung","extern","Ja","Nein","8785"]
[8786,"Rottenmann","St","01.01.1966",null,"PLZ-Adressierung","extern","Ja","Ja","8786"]
[8790,"Eisenerz","St","01.01.1966",null,"PLZ-Adressierung","extern","Ja","Ja","8790"]
[8792,"St. Peter-Freienstein","St","01.01.1966",null,"PLZ-Adressierung","extern","Ja","Ja","8792"]
[8793,"Trofaiach","St","01.01.1966",null,"PLZ-Adressierung","extern","Ja","Ja","8793"]
[8794,"Vordernberg","St","01.01.1966",null,"PLZ-Adressierung","extern","Ja","Nein","8794"]
[8795,"Radmer","St","01.01.1966",null,"PLZ-Adressierung","extern","Ja","Nein","8795"]
[8800,"Unzmarkt","St","01.01.1966",null,"PLZ-Adressierung","extern","Ja","Ja","8800"]
[8811,"Scheifling","St","01.01.1966",null,"PLZ-Adressierung","extern","Ja","Ja","8811"]
[8812,"Mariahof","St","01.01.1966",null,"PLZ-Adressierung","extern","Ja","Nein","8812"]
[8813,"St. Lambrecht","St","01.01.1966",null,"PLZ-Adressierung","extern","Ja","Ja","8813"]
[8820,"Neumarkt in Steiermark","St","01.01.1966",null,"PLZ-Adressierung","extern","Ja","Ja","8820"]
[8822,"Mühlen","St","01.01.1966",null,"PLZ-Adressierung","extern","Ja","Nein","8822"]
[8831,"Niederwölz","St","01.01.1966",null,"PLZ-Adressierung","extern","Ja","Nein","8831"]
[8832,"Oberwölz","St","01.01.1966",null,"PLZ-Adressierung","extern","Ja","Ja","8832"]
[8833,"Teufenbach","St","01.01.1966",null,"PLZ-Adressierung","extern","Ja","Ja","8833"]
[8841,"Frojach","St","01.01.1966",null,"PLZ-Adressierung","extern","Ja","Nein","8841"]
[8842,"Katsch an der Mur","St","01.01.1966",null,"PLZ-Adressierung","extern","Ja","Ja","8842"]
[8843,"St. Peter am Kammersberg","St","01.01.1966",null,"PLZ-Adressierung","extern","Ja","Ja","8843"]
[8844,"Schöder","St","01.01.1966",null,"PLZ-Adressierung","extern","Ja","Nein","8844"]
[8850,"Murau","St","01.01.1966",null,"PLZ-Adressierung","extern","Ja","Ja","8850"]
[8852,"Stolzalpe","St","01.01.1966",null,"PLZ-Adressierung","extern","Ja","Nein","8852"]
[8853,"Ranten","St","01.01.1966",null,"PLZ-Adressierung","extern","Ja","Nein","8853"]
[8854,"Krakaudorf","St","01.01.1966",null,"PLZ-Adressierung","extern","Ja","Nein","8854"]
[8861,"St. Georgen ob Murau","St","01.01.1966",null,"PLZ-Adressierung","extern","Ja","Nein","8861"]
[8862,"Stadl an der Mur","St","01.01.1966",null,"PLZ-Adressierung","extern","Ja","Ja","8862"]
[8863,"Predlitz","St","01.01.1966",null,"PLZ-Adressierung","extern","Ja","Nein","8863"]
[8864,"Turrach","St","01.01.1966",null,"PLZ-Adressierung","extern","Ja","Nein","8864"]
[8900,"Selzthal","St","01.01.1966",null,"PLZ-Adressierung","extern","Ja","Ja","8900"]
[8903,"Lassing","St","01.01.1966",null,"PLZ-Adressierung","extern","Ja","Nein","8903"]
[8904,"Ardning","St","01.01.1966",null,"PLZ-Adressierung","extern","Ja","Nein","8904"]
[8911,"Admont","St","01.01.1966",null,"PLZ-Adressierung","extern","Ja","Ja","8911"]
[8912,"Johnsbach","St","01.01.1966",null,"PLZ-Adressierung","extern","Ja","Nein","8912"]
[8913,"Weng","St","01.01.1966",null,"PLZ-Adressierung","extern","Ja","Nein","8913"]
[8920,"Hieflau","St","01.01.1966",null,"PLZ-Adressierung","extern","Ja","Ja","8920"]
[8921,"Lainbach","St","01.01.1966",null,"PLZ-Adressierung","extern","Ja","Nein","8921"]
[8922,"Gams bei Hieflau","St","01.01.1966",null,"PLZ-Adressierung","extern","Ja","Ja","8922"]
[8923,"Palfau","St","01.01.1966",null,"PLZ-Adressierung","extern","Ja","Nein","8923"]
[8924,"Wildalpen","St","01.01.1966",null,"PLZ-Adressierung","extern","Ja","Nein","8924"]
[8931,"Landl","St","01.01.1966",null,"PLZ-Adressierung","extern","Ja","Ja","8931"]
[8932,"Weißenbach an der Enns","St","01.01.1966",null,"PLZ-Adressierung","extern","Ja","Nein","8932"]
[8933,"St. Gallen","St","01.01.1966",null,"PLZ-Adressierung","extern","Ja","Ja","8933"]
[8934,"Altenmarkt bei St. Gallen","St","01.01.1966",null,"PLZ-Adressierung","extern","Ja","Ja","8934"]
[8940,"Liezen","St","01.01.1966",null,"PLZ-Adressierung","extern","Ja","Ja","8940"]
[8941,"Weißenbach bei Liezen","St","01.12.2011",null,"PLZ-Postfach","extern","Nein","Ja","8941"]
[8942,"Wörschach","St","01.01.1966",null,"PLZ-Adressierung","extern","Ja","Ja","8942"]
[8943,"Aigen im Ennstal","St","01.01.1966",null,"PLZ-Adressierung","extern","Ja","Ja","8943"]
[8950,"Stainach","St","01.01.1966",null,"PLZ-Adressierung","extern","Ja","Ja","8950"]
[8951,"Trautenfels","St","01.01.1966",null,"PLZ-Adressierung","extern","Ja","Nein","8951"]
[{"$f":"J2307*1","v":8952},"Irdning","St","01.01.1966",null,"PLZ-Adressierung","extern","Ja","Ja","8952"]
[8953,"Donnersbach","St","01.01.1966",null,"PLZ-Adressierung","extern","Ja","Nein","8953"]
[8954,"St. Martin am Grimming","St","01.01.1966",null,"PLZ-Adressierung","extern","Ja","Nein","8954"]
[8960,"Öblarn","St","01.01.1966",null,"PLZ-Adressierung","extern","Ja","Ja","8960"]
[8961,"Stein an der Enns","St","01.01.1966",null,"PLZ-Adressierung","extern","Ja","Ja","8961"]
[8962,"Gröbming","St","01.01.1966",null,"PLZ-Adressierung","extern","Ja","Ja","8962"]
[8963,"Sankt Nikolai im Sölktal","St","01.07.2010",null,"PLZ-Postfach","extern","Nein","Ja","8963"]
[8965,"Pruggern","St","01.01.1966",null,"PLZ-Adressierung","extern","Ja","Nein","8965"]
[8966,"Aich-Assach","St","01.01.1966",null,"PLZ-Adressierung","extern","Ja","Ja","8966"]
[8967,"Haus","St","01.01.1966",null,"PLZ-Adressierung","extern","Ja","Ja","8967"]
[8970,"Schladming","St","01.01.1966",null,"PLZ-Adressierung","extern","Ja","Ja","8970"]
[8971,"Rohrmoos-Untertal","St","01.01.1966",null,"PLZ-Adressierung","extern","Ja","Nein","8971"]
[8972,"Ramsau","St","01.01.1966",null,"PLZ-Adressierung","extern","Ja","Ja","8972"]
[8973,"Pichl","St","01.01.1966",null,"PLZ-Adressierung","extern","Ja","Nein","8973"]
[8974,"Mandling","St","01.01.1966",null,"PLZ-Adressierung","extern","Ja","Nein","8974"]
[8982,"Tauplitz","St","01.01.1966",null,"PLZ-Adressierung","extern","Ja","Ja","8982"]
[8983,"Bad Mitterndorf","St","01.01.1966",null,"PLZ-Adressierung","extern","Ja","Ja","8983"]
[8984,"Kainisch","St","01.01.1966",null,"PLZ-Adressierung","extern","Ja","Nein","8984"]
[8990,"Bad Aussee","St","01.01.1966",null,"PLZ-Adressierung","extern","Ja","Ja","8990"]
[8992,"Altaussee","St","01.01.1966",null,"PLZ-Adressierung","extern","Ja","Ja","8992"]
[8993,"Grundlsee","St","01.01.1966",null,"PLZ-Adressierung","extern","Ja","Ja","8993"]
[9000,"Villach","K","01.08.2009",null,"PLZ-Postfach","extern","Nein","Ja","9000"]
[9010,"Klagenfurt am Wörthersee","K","01.01.1966",null,"PLZ-Postfach","extern","Nein","Ja","9010"]
[9020,"Klagenfurt am Wörthersee","K","01.01.1966",null,"PLZ-Adressierung","extern","Ja","Ja","9020"]
[9021,"Klagenfurt am Wörthersee Postfach","K","01.01.1966",null,"PLZ-Postfach","extern","Nein","Ja","9021"]
[9023,"Klagenfurt am Wörthersee","K","01.01.1966",null,"PLZ-Postfach","extern","Nein","Ja","9023"]
[9024,"Klagenfurt am Wörthersee","K","01.01.1966",null,"PLZ-Postfach","extern","Nein","Ja","9024"]
[9025,"Klagenfurt am Wörthersee","K","01.01.1966",null,"PLZ-Postfach","extern","Nein","Ja","9025"]
[9026,"Klagenfurt am Wörthersee","K","01.01.1966",null,"PLZ-Postfach","extern","Nein","Ja","9026"]
[9027,"Klagenfurt am Wörthersee","K","01.01.1966",null,"PLZ-Postfach","extern","Nein","Ja","9027"]
[9028,"Klagenfurt am Wörthersee","K","01.01.1966",null,"PLZ-Postfach","extern","Nein","Ja","9028"]
[9033,"Klagenfurt","K","01.03.2012",null,"PLZ-Postfach","extern","Nein","Ja","9033"]
[9034,"Klagenfurt","K","01.09.2012",null,"PLZ-Postfach","extern","Nein","Ja","9034"]
[9035,"Klagenfurt","K","01.12.2012",null,"PLZ-Postfach","extern","Nein","Ja","9035"]
[9061,"Klagenfurt-Wölfnitz","K","01.01.1966",null,"PLZ-Adressierung","extern","Ja","Ja","9061"]
[9062,"Moosburg","K","01.01.1966",null,"PLZ-Adressierung","extern","Ja","Ja","9062"]
[9063,"Maria Saal","K","01.01.1966",null,"PLZ-Adressierung","extern","Ja","Nein","9063"]
[9064,"Pischeldorf","K","01.01.1966",null,"PLZ-Adressierung","extern","Ja","Ja","9064"]
[9065,"Ebenthal","K","01.01.1966",null,"PLZ-Adressierung","extern","Ja","Ja","9065"]
[9071,"Köttmannsdorf","K","01.01.1966",null,"PLZ-Adressierung","extern","Ja","Ja","9071"]
[9072,"Ludmannsdorf","K","01.01.1966",null,"PLZ-Adressierung","extern","Ja","Nein","9072"]
[9073,"Klagenfurt-Viktring","K","01.01.1966",null,"PLZ-Adressierung","extern","Ja","Ja","9073"]
[9074,"Keutschach","K","01.01.1966",null,"PLZ-Adressierung","extern","Ja","Nein","9074"]
[9081,"Reifnitz","K","01.01.1966",null,"PLZ-Adressierung","extern","Ja","Nein","9081"]
[9082,"Maria Wörth","K","01.01.1966",null,"PLZ-Adressierung","extern","Ja","Nein","9082"]
[9100,"Völkermarkt","K","01.01.1966",null,"PLZ-Adressierung","extern","Ja","Ja","9100"]
[9102,"Mittertrixen","K","01.01.1966",null,"PLZ-Adressierung","extern","Ja","Nein","9102"]
[9103,"Diex","K","01.01.1966",null,"PLZ-Adressierung","extern","Ja","Ja","9103"]
[9104,"Pustritz","K","01.01.1966","14.02.2017","PLZ-Historisch","intern","Nein","Nein","9104"]
[9111,"Haimburg","K","01.01.1966",null,"PLZ-Adressierung","extern","Ja","Nein","9111"]
[9112,"Griffen","K","01.01.1966",null,"PLZ-Adressierung","extern","Ja","Ja","9112"]
[9113,"Ruden","K","01.01.1966",null,"PLZ-Adressierung","extern","Ja","Ja","9113"]
[9121,"Tainach","K","01.01.1966",null,"PLZ-Adressierung","extern","Ja","Ja","9121"]
[9122,"St. Kanzian am Klopeiner See","K","01.01.1966",null,"PLZ-Adressierung","extern","Ja","Ja","9122"]
[9123,"St. Primus","K","01.01.1966",null,"PLZ-Adressierung","extern","Ja","Nein","9123"]
[9125,"Kühnsdorf","K","01.01.1966",null,"PLZ-Adressierung","extern","Ja","Ja","9125"]
[9130,"Poggersdorf","K","01.01.2007",null,"PLZ-Adressierung","extern","Ja","Nein","9130"]
[9131,"Grafenstein","K","01.01.1966",null,"PLZ-Adressierung","extern","Ja","Ja","9131"]
[9132,"Gallizien","K","01.01.1966",null,"PLZ-Adressierung","extern","Ja","Ja","9132"]
[9133,"Sittersdorf","K","01.01.1966",null,"PLZ-Adressierung","extern","Ja","Ja","9133"]
[9135,"Bad Eisenkappel","K","01.01.1966",null,"PLZ-Adressierung","extern","Ja","Ja","9135"]
[9141,"Eberndorf","K","01.01.1966",null,"PLZ-Adressierung","extern","Ja","Ja","9141"]
[9142,"Globasnitz","K","01.01.1966",null,"PLZ-Adressierung","extern","Ja","Ja","9142"]
[9143,"St. Michael ob Bleiburg","K","01.01.1966",null,"PLZ-Adressierung","extern","Ja","Ja","9143"]
[{"$f":"J2371*1","v":9150},"Bleiburg","K","01.01.1966",null,"PLZ-Adressierung","extern","Ja","Ja","9150"]
[9155,"Neuhaus","K","01.01.2007",null,"PLZ-Adressierung","extern","Ja","Nein","9155"]
[9161,"Maria Rain","K","01.01.1966",null,"PLZ-Adressierung","extern","Ja","Nein","9161"]
[9162,"Strau","K","01.01.1966",null,"PLZ-Adressierung","extern","Ja","Ja","9162"]
[9163,"Unterbergen","K","01.01.1966",null,"PLZ-Adressierung","extern","Ja","Nein","9163"]
[9170,"Ferlach","K","01.01.1966",null,"PLZ-Adressierung","extern","Ja","Ja","9170"]
[9171,"Ferlach","K","01.06.2010",null,"PLZ-Postfach","extern","Nein","Ja","9171"]
[9172,"Zell-Pfarre","K","01.07.2010",null,"PLZ-Postfach","extern","Nein","Ja","9172"]
[9173,"St. Margareten im Rosental","K","01.01.1966",null,"PLZ-Adressierung","extern","Ja","Ja","9173"]
[9181,"Feistritz im Rosental","K","01.01.1966",null,"PLZ-Adressierung","extern","Ja","Nein","9181"]
[9182,"Maria Elend","K","01.01.1966",null,"PLZ-Adressierung","extern","Ja","Nein","9182"]
[9183,"Rosenbach","K","01.01.1966",null,"PLZ-Adressierung","extern","Ja","Nein","9183"]
[9184,"St. Jakob im Rosental","K","01.01.1966",null,"PLZ-Adressierung","extern","Ja","Ja","9184"]
[9201,"Krumpendorf","K","01.01.1966",null,"PLZ-Adressierung","extern","Ja","Ja","9201"]
[9210,"Pörtschach am Wörther See","K","01.01.1966",null,"PLZ-Adressierung","extern","Ja","Ja","9210"]
[9212,"Techelsberg am Wörther See","K","01.03.2006",null,"PLZ-Adressierung","extern","Ja","Nein","9212"]
[9220,"Velden am Wörther See","K","01.01.1966",null,"PLZ-Adressierung","extern","Ja","Ja","9220"]
[9231,"Köstenberg","K","01.01.1966",null,"PLZ-Adressierung","extern","Ja","Nein","9231"]
[9232,"Rosegg","K","01.01.1966",null,"PLZ-Adressierung","extern","Ja","Ja","9232"]
[9241,"Wernberg","K","01.01.1966",null,"PLZ-Adressierung","extern","Ja","Ja","9241"]
[9300,"St. Veit an der Glan","K","01.01.1966",null,"PLZ-Adressierung","extern","Ja","Ja","9300"]
[9302,"St. Veit an der Glan","K","01.01.1966",null,"PLZ-Postfach","extern","Nein","Ja","9302"]
[9311,"Kraig","K","01.01.1966",null,"PLZ-Adressierung","extern","Ja","Nein","9311"]
[9312,"Meiselding","K","01.01.1966",null,"PLZ-Adressierung","extern","Ja","Nein","9312"]
[9313,"St. Georgen am Längsee","K","01.01.1966",null,"PLZ-Adressierung","extern","Ja","Nein","9313"]
[9314,"Launsdorf","K","01.01.1966",null,"PLZ-Adressierung","extern","Ja","Nein","9314"]
[9321,"Kappel am Krappfeld","K","01.01.1966",null,"PLZ-Adressierung","extern","Ja","Ja","9321"]
[9322,"Micheldorf","K","01.01.1966",null,"PLZ-Adressierung","extern","Ja","Ja","9322"]
[9323,"Wildbad Einöd","St","01.01.1966",null,"PLZ-Adressierung","extern","Ja","Nein","9323"]
[9324,"Passering","K","01.07.2010",null,"PLZ-Postfach","extern","Nein","Ja","9324"]
[9330,"Treibach-Althofen","K","01.01.1966",null,"PLZ-Adressierung","extern","Ja","Ja","9330"]
[9334,"Guttaring","K","01.01.1966",null,"PLZ-Adressierung","extern","Ja","Ja","9334"]
[9335,"Lölling","K","01.01.1966",null,"PLZ-Adressierung","extern","Ja","Ja","9335"]
[9341,"Straßburg","K","01.01.1966",null,"PLZ-Adressierung","extern","Ja","Ja","9341"]
[9342,"Gurk","K","01.01.1966",null,"PLZ-Adressierung","extern","Ja","Ja","9342"]
[9343,"Zweinitz","K","01.01.1966",null,"PLZ-Adressierung","extern","Ja","Nein","9343"]
[9344,"Weitensfeld","K","01.01.1966",null,"PLZ-Adressierung","extern","Ja","Ja","9344"]
[9345,"Kleinglödnitz","K","01.01.1966",null,"PLZ-Adressierung","extern","Ja","Nein","9345"]
[9346,"Glödnitz","K","01.01.1966",null,"PLZ-Adressierung","extern","Ja","Nein","9346"]
[9360,"Friesach","K","01.01.1966",null,"PLZ-Adressierung","extern","Ja","Ja","9360"]
[9361,"St. Salvator","K","01.01.1966",null,"PLZ-Adressierung","extern","Ja","Nein","9361"]
[9362,"Grades","K","01.01.1966",null,"PLZ-Adressierung","extern","Ja","Nein","9362"]
[9363,"Metnitz","K","01.01.1966",null,"PLZ-Adressierung","extern","Ja","Ja","9363"]
[9371,"Brückl","K","01.01.1966",null,"PLZ-Adressierung","extern","Ja","Ja","9371"]
[9372,"Eberstein","K","01.01.1966",null,"PLZ-Adressierung","extern","Ja","Ja","9372"]
[9373,"Klein St. Paul","K","01.01.1966",null,"PLZ-Adressierung","extern","Ja","Nein","9373"]
[9374,"Wieting","K","01.01.1966",null,"PLZ-Adressierung","extern","Ja","Nein","9374"]
[9375,"Hüttenberg","K","01.01.1966",null,"PLZ-Adressierung","extern","Ja","Ja","9375"]
[9376,"Knappenberg","K","01.01.1966",null,"PLZ-Adressierung","extern","Ja","Nein","9376"]
[9400,"Wolfsberg","K","01.01.1966",null,"PLZ-Adressierung","extern","Ja","Ja","9400"]
[9402,"Wolfsberg, Kärnten","K","01.01.1966",null,"PLZ-Postfach","extern","Nein","Ja","9402"]
[9411,"St. Michael","K","01.01.1966",null,"PLZ-Adressierung","extern","Ja","Nein","9411"]
[9412,"St. Margarethen im Lavanttal","K","01.01.1966",null,"PLZ-Adressierung","extern","Ja","Nein","9412"]
[9413,"St. Gertraud","K","01.01.1966",null,"PLZ-Adressierung","extern","Ja","Nein","9413"]
[9421,"Eitweg","K","01.01.1966",null,"PLZ-Adressierung","extern","Ja","Ja","9421"]
[9422,"Maria Rojach","K","01.01.1966",null,"PLZ-Adressierung","extern","Ja","Nein","9422"]
[9423,"St. Georgen","K","01.01.1966",null,"PLZ-Adressierung","extern","Ja","Nein","9423"]
[9431,"St. Stefan","K","01.01.1966",null,"PLZ-Adressierung","extern","Ja","Ja","9431"]
[9433,"St. Andrä","K","01.01.1966",null,"PLZ-Adressierung","extern","Ja","Ja","9433"]
[9441,"Twimberg","K","01.01.1966",null,"PLZ-Adressierung","extern","Ja","Nein","9441"]
[9451,"Preitenegg","K","01.01.1966",null,"PLZ-Adressierung","extern","Ja","Ja","9451"]
[9461,"Prebl","K","01.01.1966",null,"PLZ-Adressierung","extern","Ja","Nein","9461"]
[9462,"Bad St. Leonhard im Lavanttal","K","01.01.1966",null,"PLZ-Adressierung","extern","Ja","Ja","9462"]
[9463,"Reichenfels","K","01.01.1966",null,"PLZ-Adressierung","extern","Ja","Ja","9463"]
[{"$f":"J2435*1","v":9470},"St. Paul im Lavanttal","K","01.01.1966",null,"PLZ-Adressierung","extern","Ja","Ja","9470"]
[9472,"Ettendorf","K","01.01.1966",null,"PLZ-Adressierung","extern","Ja","Nein","9472"]
[9473,"Lavamünd","K","01.01.1966",null,"PLZ-Adressierung","extern","Ja","Ja","9473"]
[9500,"Villach","K","01.01.1966",null,"PLZ-Adressierung","extern","Ja","Ja","9500"]
[9501,"Villach","K","01.01.1966",null,"PLZ-Postfach","extern","Nein","Ja","9501"]
[9502,"Villach","K","01.01.2012",null,"PLZ-Postfach","extern","Nein","Ja","9502"]
[9503,"Villach","K","01.01.1966",null,"PLZ-Postfach","extern","Nein","Ja","9503"]
[9504,"Villach-Warmbad Villach","K","01.01.1966",null,"PLZ-Adressierung","extern","Ja","Nein","9504"]
[9507,"Villach","K","01.01.1966",null,"PLZ-Postfach","extern","Nein","Ja","9507"]
[9508,"Villach","K","01.01.1966",null,"PLZ-Postfach","extern","Nein","Ja","9508"]
[9509,"Zauchen","K","01.04.2011",null,"PLZ-Postfach","extern","Nein","Ja","9509"]
[9510,"Villach","K","01.07.2011",null,"PLZ-Postfach","extern","Nein","Ja","9510"]
[9520,"Sattendorf","K","01.01.1966",null,"PLZ-Adressierung","extern","Ja","Nein","9520"]
[9521,"Treffen","K","01.01.1966",null,"PLZ-Adressierung","extern","Ja","Ja","9521"]
[9523,"Villach-Landskron","K","01.01.1966",null,"PLZ-Adressierung","extern","Ja","Ja","9523"]
[9524,"Villach-St. Magdalen","K","01.01.1966",null,"PLZ-Adressierung","extern","Ja","Ja","9524"]
[9530,"Bad Bleiberg","K","01.01.1966",null,"PLZ-Adressierung","extern","Ja","Ja","9530"]
[9531,"Kreuth","K","01.01.1966",null,"PLZ-Adressierung","extern","Ja","Nein","9531"]
[9535,"Schiefling am Wörthersee","K","01.01.1966",null,"PLZ-Adressierung","extern","Ja","Nein","9535"]
[9536,"St. Egyden","K","01.01.1966",null,"PLZ-Adressierung","extern","Ja","Nein","9536"]
[9541,"Einöde","K","01.01.1966",null,"PLZ-Adressierung","extern","Ja","Nein","9541"]
[9542,"Afritz","K","01.01.1966",null,"PLZ-Adressierung","extern","Ja","Ja","9542"]
[9543,"Arriach","K","01.01.1966",null,"PLZ-Adressierung","extern","Ja","Nein","9543"]
[9544,"Feld am See","K","01.01.1966",null,"PLZ-Adressierung","extern","Ja","Ja","9544"]
[9545,"Radenthein","K","01.01.1966",null,"PLZ-Adressierung","extern","Ja","Ja","9545"]
[9546,"Bad Kleinkirchheim","K","01.01.1966",null,"PLZ-Adressierung","extern","Ja","Ja","9546"]
[9551,"Bodensdorf","K","01.01.1966",null,"PLZ-Adressierung","extern","Ja","Ja","9551"]
[9552,"Steindorf am Ossiacher See","K","01.01.1966",null,"PLZ-Adressierung","extern","Ja","Nein","9552"]
[9554,"St. Urban","K","01.07.2007",null,"PLZ-Adressierung","extern","Ja","Nein","9554"]
[9555,"Glanegg","K","01.01.1966",null,"PLZ-Adressierung","extern","Ja","Nein","9555"]
[9556,"Liebenfels","K","01.01.1966",null,"PLZ-Adressierung","extern","Ja","Nein","9556"]
[9560,"Feldkirchen in Kärnten","K","01.01.1966",null,"PLZ-Adressierung","extern","Ja","Ja","9560"]
[9562,"Himmelberg","K","01.01.1966",null,"PLZ-Adressierung","extern","Ja","Nein","9562"]
[9563,"Gnesau","K","01.01.1966",null,"PLZ-Adressierung","extern","Ja","Nein","9563"]
[9564,"Patergassen","K","01.01.1966",null,"PLZ-Adressierung","extern","Ja","Nein","9564"]
[9565,"Ebene Reichenau","K","01.01.1966",null,"PLZ-Adressierung","extern","Ja","Nein","9565"]
[9570,"Ossiach","K","01.01.1966",null,"PLZ-Adressierung","extern","Ja","Nein","9570"]
[9571,"Sirnitz","K","01.01.1966",null,"PLZ-Adressierung","extern","Ja","Nein","9571"]
[9572,"Deutsch Griffen","K","01.01.1966",null,"PLZ-Adressierung","extern","Ja","Nein","9572"]
[9580,"Villach-Drobollach am Faaker See","K","01.01.1966",null,"PLZ-Adressierung","extern","Ja","Nein","9580"]
[9581,"Ledenitzen","K","01.01.1966",null,"PLZ-Adressierung","extern","Ja","Ja","9581"]
[9582,"Latschach","K","01.01.1966",null,"PLZ-Adressierung","extern","Ja","Nein","9582"]
[9583,"Faak am See","K","01.01.1966",null,"PLZ-Adressierung","extern","Ja","Ja","9583"]
[9584,"Finkenstein","K","01.01.1966",null,"PLZ-Adressierung","extern","Ja","Ja","9584"]
[9585,"Gödersdorf","K","01.01.1966",null,"PLZ-Adressierung","extern","Ja","Nein","9585"]
[9586,"Fürnitz","K","01.01.1966",null,"PLZ-Adressierung","extern","Ja","Ja","9586"]
[9587,"Riegersdorf","K","01.01.1966",null,"PLZ-Adressierung","extern","Ja","Nein","9587"]
[9601,"Arnoldstein","K","01.01.1966",null,"PLZ-Adressierung","extern","Ja","Ja","9601"]
[9602,"Thörl-Maglern","K","01.01.1966",null,"PLZ-Adressierung","extern","Ja","Nein","9602"]
[9611,"Nötsch","K","01.01.1966",null,"PLZ-Adressierung","extern","Ja","Ja","9611"]
[9612,"St. Georgen im Gailtal","K","01.01.1966",null,"PLZ-Adressierung","extern","Ja","Nein","9612"]
[9613,"Feistritz an der Gail","K","01.01.1966",null,"PLZ-Adressierung","extern","Ja","Nein","9613"]
[9614,"Vorderberg","K","01.01.1966",null,"PLZ-Adressierung","extern","Ja","Nein","9614"]
[9615,"Görtschach","K","01.01.1966",null,"PLZ-Adressierung","extern","Ja","Nein","9615"]
[9620,"Hermagor","K","01.01.1966",null,"PLZ-Adressierung","extern","Ja","Ja","9620"]
[9622,"Weißbriach","K","01.01.1966",null,"PLZ-Adressierung","extern","Ja","Nein","9622"]
[9623,"St. Stefan an der Gail","K","01.01.1966",null,"PLZ-Adressierung","extern","Ja","Ja","9623"]
[9624,"Egg","K","01.01.1966",null,"PLZ-Adressierung","extern","Ja","Nein","9624"]
[9631,"Jenig","K","01.01.1966",null,"PLZ-Adressierung","extern","Ja","Nein","9631"]
[9632,"Kirchbach","K","01.01.1966",null,"PLZ-Adressierung","extern","Ja","Ja","9632"]
[9633,"Reisach","K","01.01.1966",null,"PLZ-Adressierung","extern","Ja","Nein","9633"]
[9634,"Gundersheim","K","01.01.1966",null,"PLZ-Adressierung","extern","Ja","Nein","9634"]
[9635,"Dellach","K","01.01.1966",null,"PLZ-Adressierung","extern","Ja","Ja","9635"]
[9640,"Kötschach-Mauthen","K","01.01.1966",null,"PLZ-Adressierung","extern","Ja","Ja","9640"]
[{"$f":"J2499*1","v":9642},"Laas","K","01.07.2010",null,"PLZ-Postfach","extern","Nein","Ja","9642"]
[9651,"St. Jakob im Lesachtal","K","01.01.1966",null,"PLZ-Adressierung","extern","Ja","Nein","9651"]
[9652,"Birnbaum","K","01.01.1966",null,"PLZ-Adressierung","extern","Ja","Nein","9652"]
[9653,"Liesing","K","01.01.1966",null,"PLZ-Adressierung","extern","Ja","Nein","9653"]
[9654,"St. Lorenzen im Lesachtal","K","01.01.1966",null,"PLZ-Adressierung","extern","Ja","Ja","9654"]
[9655,"Maria Luggau","K","01.01.1966",null,"PLZ-Adressierung","extern","Ja","Nein","9655"]
[9701,"Rothenthurn","K","01.01.1966",null,"PLZ-Adressierung","extern","Ja","Nein","9701"]
[9702,"Ferndorf","K","01.01.1966",null,"PLZ-Adressierung","extern","Ja","Ja","9702"]
[9710,"Feistritz an der Drau","K","01.01.1966",null,"PLZ-Adressierung","extern","Ja","Ja","9710"]
[9711,"Paternion","K","01.01.1966",null,"PLZ-Adressierung","extern","Ja","Ja","9711"]
[9712,"Fresach","K","01.01.1966",null,"PLZ-Adressierung","extern","Ja","Nein","9712"]
[9713,"Zlan","K","01.01.1966",null,"PLZ-Adressierung","extern","Ja","Ja","9713"]
[9714,"Stockenboi","K","01.01.1966",null,"PLZ-Adressierung","extern","Ja","Nein","9714"]
[9721,"Weißenstein","K","01.01.1966",null,"PLZ-Adressierung","extern","Ja","Ja","9721"]
[9722,"Gummern","K","01.01.1966",null,"PLZ-Adressierung","extern","Ja","Ja","9722"]
[9751,"Sachsenburg","K","01.01.1966",null,"PLZ-Adressierung","extern","Ja","Nein","9751"]
[9753,"Lind im Drautal","K","01.01.1966",null,"PLZ-Adressierung","extern","Ja","Nein","9753"]
[9754,"Steinfeld","K","01.01.1966",null,"PLZ-Adressierung","extern","Ja","Ja","9754"]
[9761,"Greifenburg","K","01.01.1966",null,"PLZ-Adressierung","extern","Ja","Ja","9761"]
[9762,"Weißensee","K","01.01.1966",null,"PLZ-Adressierung","extern","Ja","Ja","9762"]
[9771,"Berg im Drautal","K","01.01.1966",null,"PLZ-Adressierung","extern","Ja","Ja","9771"]
[9772,"Dellach","K","01.01.1966",null,"PLZ-Adressierung","extern","Ja","Ja","9772"]
[9773,"Irschen","K","01.01.1966",null,"PLZ-Adressierung","extern","Ja","Nein","9773"]
[9781,"Oberdrauburg","K","01.01.1966",null,"PLZ-Adressierung","extern","Ja","Ja","9781"]
[9782,"Nikolsdorf","T","01.01.1966",null,"PLZ-Adressierung","extern","Ja","Nein","9782"]
[9800,"Spittal an der Drau","K","01.01.1966",null,"PLZ-Adressierung","extern","Ja","Nein","9800"]
[9802,"Spittal an der Drau","K","01.01.1966",null,"PLZ-Postfach","extern","Nein","Ja","9802"]
[9803,"Spittal an der Drau","K","01.01.1966",null,"PLZ-Postfach","extern","Nein","Ja","9803"]
[9805,"Baldramsdorf","K","01.01.1966",null,"PLZ-Adressierung","extern","Ja","Nein","9805"]
[9811,"Lendorf","K","01.01.1966",null,"PLZ-Adressierung","extern","Ja","Nein","9811"]
[9812,"Pusarnitz","K","01.01.1966",null,"PLZ-Adressierung","extern","Ja","Nein","9812"]
[9813,"Möllbrücke","K","01.01.1966",null,"PLZ-Adressierung","extern","Ja","Ja","9813"]
[9814,"Mühldorf","K","01.01.1966",null,"PLZ-Adressierung","extern","Ja","Nein","9814"]
[9815,"Kolbnitz","K","01.01.1966",null,"PLZ-Adressierung","extern","Ja","Nein","9815"]
[9816,"Penk","K","01.01.1966",null,"PLZ-Adressierung","extern","Ja","Ja","9816"]
[9821,"Obervellach","K","01.01.1966",null,"PLZ-Adressierung","extern","Ja","Ja","9821"]
[9822,"Mallnitz","K","01.01.1966",null,"PLZ-Adressierung","extern","Ja","Nein","9822"]
[9831,"Flattach","K","01.01.1966",null,"PLZ-Adressierung","extern","Ja","Ja","9831"]
[9832,"Stall","K","01.01.1966",null,"PLZ-Adressierung","extern","Ja","Ja","9832"]
[9833,"Rangersdorf","K","01.01.1966",null,"PLZ-Adressierung","extern","Ja","Ja","9833"]
[9841,"Winklern","K","01.01.1966",null,"PLZ-Adressierung","extern","Ja","Ja","9841"]
[9842,"Mörtschach","K","01.01.1966",null,"PLZ-Adressierung","extern","Ja","Ja","9842"]
[9843,"Großkirchheim","K","01.01.1966",null,"PLZ-Adressierung","extern","Ja","Nein","9843"]
[9844,"Heiligenblut","K","01.01.1966",null,"PLZ-Adressierung","extern","Ja","Nein","9844"]
[9851,"Lieserbrücke","K","01.01.1966",null,"PLZ-Adressierung","extern","Ja","Nein","9851"]
[9852,"Trebesing","K","01.01.1966",null,"PLZ-Adressierung","extern","Ja","Nein","9852"]
[9853,"Gmünd","K","01.01.1966",null,"PLZ-Adressierung","extern","Ja","Ja","9853"]
[9854,"Malta","K","01.01.1966",null,"PLZ-Adressierung","extern","Ja","Nein","9854"]
[9861,"Eisentratten","K","01.01.1966",null,"PLZ-Adressierung","extern","Ja","Nein","9861"]
[9862,"Kremsbrücke","K","01.01.1966",null,"PLZ-Adressierung","extern","Ja","Nein","9862"]
[9863,"Rennweg","K","01.01.1966",null,"PLZ-Adressierung","extern","Ja","Ja","9863"]
[9871,"Seeboden","K","01.01.1966",null,"PLZ-Adressierung","extern","Ja","Ja","9871"]
[9872,"Millstatt am See","K","01.01.1966",null,"PLZ-Adressierung","extern","Ja","Nein","9872"]
[9873,"Döbriach","K","01.01.1966",null,"PLZ-Adressierung","extern","Ja","Nein","9873"]
[9900,"Lienz","T","01.01.1966",null,"PLZ-Adressierung","extern","Ja","Ja","9900"]
[9903,"Oberlienz","T","01.10.2011",null,"PLZ-Adressierung","extern","Ja","Nein","9903"]
[9904,"Thurn","T","21.09.2008",null,"PLZ-Adressierung","extern","Ja","Nein","9904"]
[9905,"Gaimberg","T","01.10.2009",null,"PLZ-Adressierung","extern","Ja","Nein","9905"]
[9906,"Lavant","T","01.07.2011",null,"PLZ-Adressierung","extern","Ja","Nein","9906"]
[9907,"Tristach","T","01.07.2010",null,"PLZ-Adressierung","extern","Ja","Nein","9907"]
[9908,"Amlach","T","01.09.2012",null,"PLZ-Adressierung","extern","Ja","Nein","9908"]
[9909,"Leisach","T","01.07.2009",null,"PLZ-Adressierung","extern","Ja","Nein","9909"]
[9911,"Assling","T","01.01.1966",null,"PLZ-Adressierung","extern","Ja","Nein","9911"]
[9912,"Anras","T","01.01.1966",null,"PLZ-Adressierung","extern","Ja","Nein","9912"]
[{"$f":"J2563*1","v":9913},"Abfaltersbach","T","01.01.1966",null,"PLZ-Adressierung","extern","Ja","Ja","9913"]
[9918,"Strassen","T","01.04.2011",null,"PLZ-Adressierung","extern","Ja","Nein","9918"]
[9919,"Heinfels","T","01.01.2011",null,"PLZ-Adressierung","extern","Ja","Nein","9919"]
[9920,"Sillian","T","01.01.1966",null,"PLZ-Adressierung","extern","Ja","Ja","9920"]
[9922,"Strassen","T","01.07.2010",null,"PLZ-Postfach","extern","Nein","Ja","9922"]
[9931,"Außervillgraten","T","01.01.1966",null,"PLZ-Adressierung","extern","Ja","Nein","9931"]
[9932,"Innervillgraten","T","01.01.1966",null,"PLZ-Adressierung","extern","Ja","Ja","9932"]
[9941,"Kartitsch","T","01.01.1966",null,"PLZ-Adressierung","extern","Ja","Ja","9941"]
[9942,"Obertilliach","T","01.01.1966",null,"PLZ-Adressierung","extern","Ja","Nein","9942"]
[9943,"Untertilliach","T","01.01.2009",null,"PLZ-Adressierung","extern","Ja","Nein","9943"]
[9951,"Ainet","T","01.01.1966",null,"PLZ-Adressierung","extern","Ja","Ja","9951"]
[9952,"St. Johann im Walde","T","01.01.2010",null,"PLZ-Adressierung","extern","Ja","Nein","9952"]
[9953,"Huben","T","01.01.1966","01.09.2005","PLZ-Historisch","intern","Nein","Nein","9953"]
[9954,"Schlaiten","T","01.10.2007",null,"PLZ-Adressierung","extern","Ja","Nein","9954"]
[9961,"Hopfgarten in Defereggen","T","01.01.1966",null,"PLZ-Adressierung","extern","Ja","Nein","9961"]
[9962,"St. Veit in Defereggen","T","01.01.1966",null,"PLZ-Adressierung","extern","Ja","Nein","9962"]
[9963,"St. Jakob in Defereggen","T","01.01.1966",null,"PLZ-Adressierung","extern","Ja","Ja","9963"]
[9971,"Matrei in Osttirol","T","01.01.1966",null,"PLZ-Adressierung","extern","Ja","Ja","9971"]
[9972,"Virgen","T","01.01.1966",null,"PLZ-Adressierung","extern","Ja","Ja","9972"]
[9974,"Prägraten","T","01.01.1966",null,"PLZ-Adressierung","extern","Ja","Nein","9974"]
[9981,"Kals","T","01.01.1966",null,"PLZ-Adressierung","extern","Ja","Ja","9981"]
[9990,"Nußdorf-Debant","T","01.01.1966",null,"PLZ-Adressierung","extern","Ja","Nein","9990"]
[9991,"Dölsach","T","01.01.1966",null,"PLZ-Adressierung","extern","Ja","Ja","9991"]
[9992,"Iselsberg-Stronach","T","01.07.2009",null,"PLZ-Adressierung","extern","Ja","Nein","9992"]

{"sheet":"A Cockpit","index":1,"n_rows":9,"n_cols":7,"rows_kept":9,"cut":false,"hidden":true,"merged":[[4,5,4,6]]}
[]
["Hinweis: Wenn Zeilen in den Tabellenblättern eingefügt/gelöscht werden, in denen Zeilen ausgeblendet werden, müssen die neuen Zeilennummern im VBA korrigiert werden!"]
["Auf der Antragsseite müssen die Seitenumbrüche angepasst werden, falls ein Rechner aktiviert/deaktiviert wird. "]
[]
[null,"EFM-Rechner",null,null,null,"Gewählt"]
[null,null,null,null,null,"Klauselpaket",{"$f":"IF(C7=\"an\",C8,\"\")","v":""}]
[null,"Status","aus"]
[null,"Klauselpaket","Es gilt die EFM/Safe7 Rahmenvereinbarung 12/2017."]
[null,"Ausgeblendete Zellen","Antrag 206, 213, Elementar 116, 135"]

{"sheet":"Grunddaten","index":2,"n_rows":55,"n_cols":6,"rows_kept":55,"cut":false,"hidden":false,"merged":[[3,1,3,2],[15,1,15,2],[19,1,19,2],[16,1,16,2],[29,1,29,2],[22,1,22,2],[23,1,23,2],[24,1,24,2],[25,1,25,2],[26,1,26,2],[27,1,27,2],[53,1,53,2],[17,1,17,2],[38,1,38,2],[34,1,34,2],[36,1,36,2],[30,1,30,2],[31,1,31,2],[39,1,39,2],[20,1,20,2],[21,1,21,2],[37,1,37,2],[40,1,40,2],[35,1,35,2],[41,1,41,2],[33,1,33,2]]}
[]
[null,{"$f":"\"Schnellrechner Gewerbe Plus V\"&Grunddaten!F3","v":"Schnellrechner Gewerbe Plus V2026-01"},null,null,null,"Version Rechner"]
[null,null,null,null,null,"2026-01"]
[null,"Kontaktdaten des Vermittlers"]
[null,"Name"]
[null,"Straße, Hausnummer"]
[null,"PLZ, Ort"]
[null,"Telefon"]
[null,"E-Mail"]
[null,"Webadresse"]
[null,"Vermittlernummer"]
[]
[null,"NV-Code"]
[null,null,{"$f":"IF(C13=\"\",\"\",IF(OR(C13=Kundendaten!C42,,C13=Kundendaten!D42),\"\",\"Rabattcode ungültig\"))","v":""}]
[]
[]
[null,"Hinweis"]
[null,"Das Rechenprogramm ist auf Excel 2007 aufwärts optimiert. Falls Sie eine ältere Version benutzen, werden grafische Effekte teilweise nicht richtig angezeigt, die Berechnungsergebnisse sind jedoch korrekt. "]
[]
[null,"Tipp: "]
[null,"Geben Sie oben Ihre Kontaktdaten ein. Speichern Sie die Datei anschließend auf Ihrem Computer und aktivieren Sie den Schreibschutz (im Arbeitsplatz Rechtsklick auf die Datei > Eigenschaften > Reiter \"Allgemein\": Häkchen bei Schreibgeschützt setzen. Dadurch wird beim Speichern der Excel-Datei immer eine neue Kopie angelegt, d.h. im ursprünglichen Rechner fangen Sie immer mit einer \"frischen\" Berechnung an. "]
[]
[null,"Excel-Datei an NV versenden"]
[null,"Diese Excel-Datei enthält Makros, welche für die Druckfunktion notwendig sind. Aus Sicherheitsgründen kann die NV jedoch per Mail keine Excel-Dateien mit Makros empfangen. Falls Sie uns die Datei zukommen lassen müssen, speichen Sie sie vorher als Excel ohne Makros: "]
[null,"1. Datei > Speichern unter"]
[null,"2. Dateityp \"Excel-Arbeitsmappe\" auswählen (.xlsx) - NICHT \"Excel 97-2003\""]
[null,"3. Beim nachfolgenden Dialog \"ja\" wählen, Datei speichern und versenden"]
[]
[]
[null,"Bedienungshinweise"]
[null,"Alle hellblauen Felder sind befüllbar. "]
[null,"Jeweils am oberen Rand finden Sie die Navigation, mit der Sie zwischen den einzelnen Blättern wechseln können."]
[]
[null,"Als pdf drucken"]
[null,"Um das Offert als PDF zu speichern, benüten Sie einen externen Pdf-Drucker nutzen, z. B. den PDF Creator: "]
[null,"http://www.chip.de/downloads/PDFCreator_13009777.html"]
[null,"Nach erfolgter Installation des Druckers können Sie das Angebot als pdf ausdrucken. Falls Sie die Deckungsübersicht für die Haushalts- und Eigenheimversicherung ebenfalls drucken wollen, setzten Sie ein Häkchen bei \"inkl. Deckungsübersicht drucken\". "]
[null,"Sobald Sie auf den Button \"Angebot/Antrag drucken\" klicken, sehen Sie eine Druckvorschau. Klicken Sie oben auf \"Drucken\", wählen Sie den PDF-Creator aus und klicken auf OK. Im Menü des PDFCreator wählen Sie \"speichern\". Anschließend können Sie den Speicherort und Dateinamen festlegen. "]
[]
[]
[]
[]
[]
[]
[]
[]
[]
[]
[]
[]
[]
[]
[]
[null,"Kontaktdaten bei Niederösterreichischer Versicherung"]
[null,"E-Mail-Adresse für Anträge","stefan.helferstorfer@noevers.at"]

{"sheet":"Notizen","index":3,"n_rows":72,"n_cols":18,"rows_kept":72,"cut":false,"hidden":true,"merged":[[46,0,46,5],[46,6,46,11],[46,12,46,17]]}
[]
[]
["Aufbau"]
["Check KTE max. 3.500.000",null,null,null,null,null,"Technsiche Fragen"]
["Auswahl Gewerbe/reiner Vermieter",null,null,null,null,null,"Nicht benötige Deckungen ausblenden?"]
["Auswahl Branche",null,null,null,null,null,"Anfragepflichtige Sparten (z.B. Technik) ausblenden"]
["Angabe Risikoorte, Gebäude, KTE, Waren"]
["Spartenteil",null,null,null,null,null,"Versicherungsfragen"]
[null,null,null,null,null,null,"Mehrere Branchen: Je Gebäude festgelegt? Immer jeweils höchster Satz?"]
[null,null,null,null,null,null,"Durchschnittsprämiensatz"]
["Berechnungsabbruch bei",null,null,null,null,null,"Mindestprämie"]
["Keine Branche/mehr als 5",{"$f":"IF(OR(Branche!A5>5,Branche!A5=0),1,0)","v":1},null,null,null,null,"Kühlgut gilt immer für alle Risikoorte?","ja"]
["Branchenverzeichnis VT",{"$f":"'Berechnung Grund'!F27","v":0},null,null,null,null,"Wie viele Branchen?"]
["ED-Sicherungen JT",{"$f":"'Berechnung Grund'!I27","v":0},null,null,null,null,"Sturm: Offenes Gebäude und weiches Dach Zuschlag kummuliert?"]
["ED-Sicherungen S",{"$f":"'Berechnung Grund'!P27","v":0},null,null,null,null,"Technik und Feuer EC je Risikoort wählbar? Technik Pauschal und indir. Blitz kombinierbar?","entweswe"]
["Basisdaten unvollständig",{"$f":"41-COUNTBLANK(Basisdaten!S5:S45)","v":0},null,null,null,null,"Technik indirekter Blitz gilt für alle Risikoorte?"]
[null,null,null,null,null,null,"Geld im Sicherheitsbehältnis ER-Summe?"]
[null,null,null,null,null,null,"EC: je Risikoort einzeln? Nebenkosten prämienfrei?"]
[null,null,null,null,null,null,"EC-BU auch ohne Feuer-BU möglich?"]
[null,null,null,null,null,null,"Berechnen sich NK anhand der Bruchteil oder Vollwertsumme?"]
[null,null,null,null,null,null,"Botenberaubung Erhöhte VS: Zuschlag nur für Erhöhung oder alles?"]
[null,null,null,null,null,null,"Glasbruch, Haftpflicht: Reiner Vermieter - wo erfolgt Typbestimmung?","beide"]
[]
[null,null,null,null,null,null,"Hpfl: Welche HP bei mehreren Branchen?","immer höhere"]
["Rabatte",null,null,null,null,null,"Hpfl: Bausteine ohne Prämie prämienfrei dabei?"]
["NÖ-Vorteil 10 % F, Glas, HHV, UV",null,null,null,null,null,"Hpfl: VS-Erhöhung auch für Zusatzbausteine?"]
["Nachlass 20 % EC, EC-BU, Technik, EDV, 10 % Kühlgut",null,null,null,null,null,"Hpfl: Deckungen Grundpaket obligat?"]
["Kein ZW-Nachlass",null,null,null,null,null,"Hpfl: Paket individuell?"]
["Steuer 11 %, F/BU 15 %, Kül/EDV 11,2 %, Transport 12,6%",null,null,null,null,null,"Hpfl: Auslandsdeckung Export/Import HP 4 Druckfehler?"]
["Bruchteilversicherung laut Staffel",null,null,null,null,null,"Familienbetriebe automatisch bei 0 EUR LuG","weg"]
[null,null,null,null,null,null,"Nachlässe/Zuschläge HPfl auch auf Erweiterungen?"]
["Gebäudebewertung",null,null,null,null,null,"Hpfl Export/Import 25 %-Grenze separat bestimmbar?"]
["Bauartklasse I oder II",null,null,null,null,null,"Hpfl: Welche Mindestprämie? Tabelle oder Paket?",null,null,null,null,null,"Beantwortet"]
["Dachung hart/nicht hart",null,null,null,null,null,null,null,null,null,null,null,"Anzahl Risikoorte, Gebäude je Ort"]
["Art: Wohn/Büro, Produktion",null,null,null,null,null,null,null,null,null,null,null,"Feuer Sicherungen: Je Gebäude oder je Betrieb? > Betrieb"]
["Gewerbliche Nutzfläche",null,null,null,null,null,null,null,null,null,null,null,"Bezeichung des Gebäudes angeben? > ja"]
[null,null,null,null,null,null,"Maklerbetreuung Fragen",null,null,null,null,null,"Daten Kundenerfassung (GmbH etc., FBN, EU mit Geburtsdatum)"]
["Feuer",null,null,null,null,null,"Welche Gebäudebezeichnungen möglich?",null,null,null,null,null,"Bruchteil für KTE und Vorräte getrennt, Sparten einzeln bestimmbar? > ja"]
["Prämie laut Ba",null,null,null,null,null,"Mehrkosten/Mietentgang-BU unabhängige Sparte?",null,null,null,null,null,"Einzelne Gebäude aus Sparten ausschließen? > Sturm, LW je Gebäude, Glasbruch/Einbruch je Risikoort"]
["Behältnisse je Risikoort?",null,null,null,null,null,"Sicherungen einbauen?"]
["Zuschlag Dachung 50 % nur für betr. Gebäude",null,null,null,null,null,"Glasbruch: Je Risikoort einzeln wählbar? M² je Risikoort einzeln wählbar?"]
[null,null,null,null,null,null,"Glas: Kabinenverglasung auch als Einzelsparte?"]
[null,null,null,null,null,null,"Glas: Mieträumlichkeiten nur bei reiner Vermieter? Nachlass auf alle Erweiterungen?"]
[]
[]
[]
["Eingabe",null,null,null,null,null,"Berechnung",null,null,null,null,null,"Antrag"]
["Erledigte Bausteine","Gebäude","KTE","Vorräte ","Allgemein","Erweit.","Erledigte Bausteine","Gebäude","KTE","Vorräte ","Allgemein","Erweit.","Erledigte Bausteine","Gebäude","KTE","Vorräte ","Allgemein","Erweit."]
["Feuer","x","x","x","x","x",{"$f":"A49","v":"Feuer"},"x","x","x","x","x",{"$f":"G49","v":"Feuer"},"x","x","x","x","x"]
["Feuer-EC",null,null,null,"x","x",{"$f":"A50","v":"Feuer-EC"},null,null,null,"x","x",{"$f":"G50","v":"Feuer-EC"},null,null,null,"x","x"]
["Feuer-BU",null,null,null,"x","x","Feuer-BU",null,null,null,"x","x","Feuer-BU",null,null,null,"x","x"]
["Mietentgang-BU",null,null,null,"x","x","Mietentgang-BU",null,null,null,"x","x","Mietentgang-BU"]
["Mehrkosten-BU",null,null,null,"x","x","Mehrkosten-BU",null,null,null,"x","x","Mehrkosten-BU"]
["EC-BU",null,null,null,"x","x","EC-BU",null,null,null,"x","x","EC-BU",null,null,null,"x","x"]
["EC-Mietentgang",null,null,null,"x","x","EC-Mietentgang",null,null,null,"x","x","EC-Mietentgang"]
["EC-Mehrkosetn",null,null,null,"x","x","EC-Mehrkosetn",null,null,null,"x","x","EC-Mehrkosetn"]
["ED",null,"x","x",null,"x","ED",null,"x","x",null,"x","ED",null,"x","x",null,"x"]
["Botenberaubung",null,null,null,"x","x","Botenberaubung",null,null,null,"x","x","Botenberaubung",null,null,null,"x","x"]
["LW","x","x","x","x","x","LW","x","x","x","x","x","LW","x","x","x","x","x"]
["Glas","x","x",null,null,"x","Glas","x","x",null,null,"x","Glas","x","x",null,null,"x"]
["Sturm","x","x","x","x","x","Sturm","x","x","x","x","x","Sturm","x","x","x","x","x"]
["Katastrophenschutz",null,null,null,"x",null,"Katastrophenschutz",null,null,null,"x",null,"Katastrophenschutz"]
["Hpfl","x",null,null,"x","x","Hpfl","x",null,null,"x","x","Hpfl","x",null,null,"x","x"]
["Hpfl Haus- und Grundbesitz","x",null,null,null,null,"Hpfl Haus- und Grundbesitz","x",null,null,null,null,"Hpfl Haus- und Grundbesitz"]
["RS",null,null,null,"x","x","RS",null,null,null,"x","x","RS",null,null,null,"x","x"]
["Technik",null,"x",null,null,"x","Technik",null,"x",null,null,"x","Technik",null,"x",null,null,"x"]
["EDV",null,"x",null,null,"x","EDV",null,"x",null,null,"x","EDV",null,"x",null,null,"x"]
["Kühlgut",null,null,null,"x","x","Kühlgut",null,null,null,"x","x","Kühlgut",null,null,null,"x","x"]
["Transport",null,null,null,"x","x","Transport",null,null,null,"x","x","Transport",null,null,null,"x","x"]
[]
[]
["Fehlende"]

{"sheet":"Kundendaten","index":4,"n_rows":67,"n_cols":17,"rows_kept":67,"cut":false,"hidden":false,"merged":[[1,13,1,15],[17,13,17,15],[24,14,24,15],[23,14,23,15],[22,14,22,15],[2,14,2,15],[7,14,7,15],[8,14,8,15],[3,14,3,15],[5,14,5,15],[32,14,32,15],[30,14,30,15],[4,14,4,15],[19,16,20,19],[29,14,29,15],[20,14,20,15],[6,14,6,15],[18,14,18,15],[13,13,13,15],[14,14,14,15],[9,14,9,15],[10,14,10,15],[43,16,43,20],[44,7,44,8],[43,13,43,15],[44,13,47,15],[19,14,19,15],[34,13,34,15],[35,14,35,15],[41,14,41,15],[36,14,36,15],[25,14,25,15],[36,8,36,9],[21,14,21,15],[31,14,31,15],[26,14,26,15],[28,13,28,15],[35,8,35,9],[42,14,42,15],[48,14,48,15],[49,14,49,15],[40,13,40,15],[45,7,45,8]]}
[]
[null,null,null,null,null,null,null,null,null,null,null,null,null,"Kundendaten"]
[null,null,null,null,null,null,null,null,null,null,null,null,null,"Firmenbezeichnung (ohne Rechtsform)",null,null,{"$f":"IF($H$33=\"nein\",\"\",IF(O3=\"\",\"Fehlende Angabe\",\"\"))","v":"Fehlende Angabe"}]
[null,null,null,null,null,null,"Rechtsformen",null,null,null,null,null,null,"Rechtsform",null,null,{"$f":"IF($H$33=\"nein\",\"\",IF(O4=\"\",\"Fehlende Angabe\",\"\"))","v":"Fehlende Angabe"}]
[null,null,null,null,null,null,"Einzelunternehmen",null,null,null,null,null,null,"Firmenbuchnummer (optional)"]
[null,null,null,null,null,null,"OG",null,null,null,null,null,null,"Geschlecht",null,null,{"$f":"IF($H$33=\"nein\",\"\",IF(O6=\"\",\"Fehlende Angabe\",\"\"))","v":"Fehlende Angabe"}]
[null,null,null,null,null,null,"KG",null,null,null,null,null,null,"Geburtsdatum",null,null,{"$f":"IF($H$33=\"nein\",\"\",IF(O7=\"\",\"Fehlende Angabe\",\"\"))","v":"Fehlende Angabe"}]
[null,null,null,null,null,null,"GmbH",null,null,null,null,null,null,"Straße, Hausnummer",null,null,{"$f":"IF($H$33=\"nein\",\"\",IF(O8=\"\",\"Fehlende Angabe\",\"\"))","v":"Fehlende Angabe"}]
[null,null,null,null,null,null,"GmbH und Co KG",null,null,null,null,null,null,"PLZ",null,null,{"$f":"IF($H$33=\"nein\",\"\",IF(O9=\"\",\"Fehlende Angabe\",\"\"))","v":"Fehlende Angabe"}]
[null,null,null,null,null,null,"Verein",null,null,null,null,null,null,"Ort",{"$f":"VLOOKUP(O9,PLZ,2,FALSE)","v":{"$error":"#N/A"}}]
[null,null,null,"Varianten","Gewählt",null,"Genossenschaft",null,null,null,null,null,null,"Ort (falls abweichende Gemeinde)"]
[null,null,null,"Reiner Vermieter",{"$f":"IF(O15=\"\",D12,O15)","v":"Betrieb"},null,"AG"]
[null,null,null,"Betrieb",{"$f":"IF(E12=D13,1,0)","v":1}]
[null,null,null,null,null,null,null,null,null,null,null,null,null,"Berechnungsvariante"]
[null,null,null,null,null,null,null,null,null,null,null,null,null,"Berechnung für","Betrieb",null,{"$f":"IF(O15=\"\",\"Bitte auswählen\",\"\")","v":""}]
[]
[]
[null,null,null,"Prämienzahler",null,null,null,null,null,null,null,null,null,"Antragsdaten"]
[null,null,null,{"$f":"IF(O25=\"\",O3&\" \"&O4,O25)","v":" "},null,null,null,null,null,null,null,null,null,"Beginn (frühestens heute)",null,null,{"$f":"IF($H$33=\"nein\",\"\",IF(I36=\"\",\"Fehlende Angabe\",\"\"))","v":""}]
[null,null,null,{"$f":"IF(O25=\"\",O8,O27)","v":0},null,null,null,null,null,null,null,null,null,"HF verlegen auf anderen Monat:","nein",null,{"$f":"IF(O19<I36,\"Beginn kann nicht in der Vergangenheit liegen, heutiges Datum wird herangezogen\",\"\")","v":"Beginn kann nicht in der Vergangenheit liegen, heutiges Datum wird herangezogen"}]
[null,null,null,{"$f":"IF(O25=\"\",O9&\" \"&IF(O11=\"\",O10,O11),O26)","v":{"$error":"#N/A"}},null,null,null,null,null,null,null,null,null,"Ablauf",{"$f":"IF(OR(O20=\"nein\",O20=\"\"),I37,IF(MONTH(I37)<O20,DATE(YEAR(I36)+10,O20,1),DATE(YEAR(I36)+11,O20,1)))","v":"2036-03-23"}]
[null,null,null,null,null,null,null,"Zahlart",null,null,null,null,null,"Zahlungsart","SEPA-Lastschrift",null,{"$f":"IF($H$33=\"nein\",\"\",IF(O22=\"\",\"Fehlende Angabe\",\"\"))","v":""}]
[null,null,null,null,null,null,null,"SEPA-Lastschrift",null,null,null,null,null,"BIC",null,null,{"$f":"IF($H$33=\"nein\",\"\",IF(AND($O$22=\"Abbuchung\",O23=\"\"),\"Fehlende Angabe\",\"\"))","v":""}]
[null,null,null,"Zahlweise",null,null,null,"Erlagschein",null,null,null,null,null,"IBAN",null,null,{"$f":"IF($H$33=\"nein\",\"\",IF(AND($O$22=\"Abbuchung\",O24=\"\"),\"Fehlende Angabe\",\"\"))","v":""}]
[null,null,null,"Jährlich",1,null,null,"Gewählt",null,null,null,null,null,"Inhaber (falls vom VN abweichend)"]
[null,null,null,"halbjährlich",2,null,null,{"$f":"IF(O22=\"\",H24,O22)","v":"SEPA-Lastschrift"},null,null,null,null,null,"PLZ, Ort (falls andere Adresse als VN)"]
[null,null,null,"vierteljährlich",4,null,null,null,null,null,null,null,null,"Straße, Hausnummer (falls andere Adresse als VN)"]
[null,null,null,"monatlich",12]
[null,null,null,"Gewählt",null,null,null,null,null,null,null,null,null,"Antragsfragen"]
[null,null,null,{"$f":"IF(O43=\"\",D25,O43)","v":"Jährlich"},{"$f":"VLOOKUP(D30,D25:E28,2,FALSE)","v":1},null,null,null,null,null,true,null,null,"Kündigung durch den Vorversicherer?"]
[null,null,null,null,null,null,null,null,null,null,false,null,null,"Konvertierung NV-Vertrag?"]
[null,null,null,null,null,null,null,null,null,null,null,null,null,"Vorpolizzennummer",null,null,{"$f":"IF($H$33=\"nein\",\"\",IF(AND(H46=\"ja\",O32=\"\"),\"Fehlende Angabe\",\"\"))","v":""}]
[null,"Konvert./Neugeschäft SR",null,null,null,null,null,null,null,null,null,null,null,"Sonderrabatt-Erhöhung bis zu 35 %","Nein"]
[null,"Nein"]
[null,"Konvertierung Mehrprämie erreicht","Mehrprämie bei Konvertierung erreicht",null,null,null,null,null,null,null,null,null,null,"Elektronische Kommunikation"]
[null,"Neugeschäft, Schadensatz < 60 %","Neugeschäft mit Schadensatz unter 60 %",null,null,null,null,"Beginn",{"$f":"MAX(TODAY(),O19)","v":"2026-03-23"},null,null,null,null,"Elektronische Kommunikation gewünscht?"]
[null,"Rabatt ja/nein",{"$f":"IF(OR(O33=B35,O33=B36),35%,0%)","v":0},null,null,null,null,"Ablauf per",{"$f":"DATE(YEAR(I36)+10,MONTH(I36),DAY(I36))","v":"2036-03-23"},null,null,null,null,"E-Mail-Adresse"]
[]
[null,null,null,null,null,null,null,"Prämie"]
[]
[null,null,"Code:",null,null,null,null,null,null,null,null,null,null,"Zahlweise, Rabatte & Antrag"]
[null,null,"NVAGRAR","NVSPEZIAL",null,null,null,null,null,null,null,null,null,"Jahresbruttoprämie",{"$f":"'Übersicht und Druck'!R3","v":{"$error":"#N/A"}}]
[null,"Standard","mit Code","mit Code","Maximal-Rabatt","Rabatt-Angabe","Für Berechnung",null,null,null,null,null,null,"Zahlweise","Jährlich"]
["Sonderrabatt Gesamt",0.99,0.3,0.99,{"$f":"MAX(C37,IF(Grunddaten!$C$13=$C$42,C44,IF(Grunddaten!$C$13=$D$42,D44,B44)))","v":0.99},{"$f":"IF(O49=\"\",0,O49/100)","v":0.5},{"$f":"MIN(E44,F44)","v":0.5},null,null,null,null,null,null,"Gewerbeoffensive 24",null,null,{"$f":"IF(F44>E44,\"Maximalrabatt überschritten, für Berechnung werden \"&G44*100&\" % herangezogen\",\"\")","v":""}]
[null,null,null,null,null,null,null,{"$f":"IF(K30=TRUE,\"ja\",\"nein\")","v":"ja"},null,null,null,null,null,{"$f":"VLOOKUP(C62,C58:D61,2,FALSE)","v":"Bitte Branchen auswählen, damit Sie sehen, ob Anspruch auf die Gewerbe-Aktion besteht. "}]
[null,null,null,null,null,null,null,{"$f":"IF(K31=TRUE,\"ja\",\"nein\")","v":"nein"},null,null,false]
[null,"Deckungsübersicht",true]
[]
[null,"El. Kommnikation",false,null,null,null,null,null,null,null,null,null,null,"Sonderrabatt in % (Maus hierher für Infos)",50]
[null,null,null,null,null,null,null,null,null,null,null,null,null,"Prämie laut Zahlweise",{"$f":"'Übersicht und Druck'!R5","v":{"$error":"#N/A"}}]
[]
[]
[]
[]
[]
[null,null,"Farbe",{"$f":"IF(C62=C59,\"grün\",IF(C62=C60,\"gelb\",\"grau\"))","v":"grau"}]
[null,null,"Gewerbe-Aktion","Rabatt"]
[null,null,"nein","Keine Gewerbeoffensive für diese Branche möglich. Bei Vorliegen der allgemeinen Voraussetzungen (siehe Feld Sonderrabatt) können 35 % Rabatt vergeben werden. "]
[null,null,"OK","Gewerbeoffensive für diese Branche möglich. Bei Vorliegen der allgemeinen Voraussetzungen (siehe Feld Sonderrabatt) können 60 % Rabatt vergeben werden. Niedrigere Rabatt für Rechtsschutz (35 %) und Transport (20 %) werden automatisch berücksichtigt."]
[null,null,"ohne Haft","Gewerbeoffensive für diese Branche möglich, außer Haftpflicht (Sparte anfragepflichtig). Bei Vorliegen der allgemeinen Voraussetzungen (siehe Feld Sonderrabatt) können 60 % Rabatt vergeben werden. Niedrigere Rabatt für Rechtsschutz (35 %) und Transport (20 %) werden automatisch berücksichtigt. "]
[null,null,"Branche wählen","Bitte Branchen auswählen, damit Sie sehen, ob Anspruch auf die Gewerbe-Aktion besteht. "]
[null,null,{"$f":"Branche!I4","v":"Branche wählen"}]
[null,null,"SNL RS Max",0.35]
[null,null,"SNL RS tatsächlich",{"$f":"MIN(D63,O49/100)","v":0.35}]
[]
[null,null,"SNL Transport Max",0.2]
[null,null,"SNL Transport tatsächlich",{"$f":"MIN(D66,O49/100)","v":0.2}]

{"sheet":"Branche","index":5,"n_rows":621,"n_cols":14,"rows_kept":621,"cut":false,"hidden":false,"merged":[[8,3,8,4],[10,3,10,4],[1,3,1,4],[3,3,3,4],[9,3,9,4],[4,3,4,4],[5,3,5,4],[6,3,6,4],[7,3,7,4]]}
[]
[null,null,null,"Anleitung: \nKlicken Sie auf das graue Kästchen mit dem Pfeil nach unten. Geben Sie im Suchfeld den gewünschten Begriff ein (z.B. Sport, Gastro…). Jede Branche, in welcher der Teilbegriff aufscheint, wird nun angezeigt. \nFalls die Branche versichert werden soll, ändern Sie die Spalte \"Branche wählen\" auf \"beantragt\". "]
[]
["Gesamt",null,"Platz","Gewählte Branchen",null,"Gewerbeoffensive möglich: ",null,null,{"$f":"IF(SUM(N5:N7)=0,\"Branche wählen\",IF(N5>0,M5,IF(N7>0,M7,M6)))","v":"Branche wählen"}]
[{"$f":"B621","v":0},null,1,{"$f":"IF(C5<=$A$5,VLOOKUP(C5,$C$12:$D$621,2,FALSE),\"\")","v":""},null,{"$f":"IF(D5=\"\",\"\",VLOOKUP(D5,Branchenverzeichnis!$A$3:$S$623,19,FALSE))","v":""},null,null,null,null,null,null,"nein",{"$f":"COUNTIF($F$5:$F$9,M5)","v":0}]
[null,null,2,{"$f":"IF(C6<=$A$5,VLOOKUP(C6,$C$12:$D$621,2,FALSE),\"\")","v":""},null,{"$f":"IF(D6=\"\",\"\",VLOOKUP(D6,Branchenverzeichnis!$A$3:$S$623,19,FALSE))","v":""},null,null,null,null,null,null,"OK",{"$f":"COUNTIF($F$5:$F$9,M6)","v":0}]
[null,null,3,{"$f":"IF(C7<=$A$5,VLOOKUP(C7,$C$12:$D$621,2,FALSE),\"\")","v":""},null,{"$f":"IF(D7=\"\",\"\",VLOOKUP(D7,Branchenverzeichnis!$A$3:$S$623,19,FALSE))","v":""},null,null,null,null,null,null,"ohne Haft",{"$f":"COUNTIF($F$5:$F$9,M7)","v":0}]
[null,null,4,{"$f":"IF(C8<=$A$5,VLOOKUP(C8,$C$12:$D$621,2,FALSE),\"\")","v":""},null,{"$f":"IF(D8=\"\",\"\",VLOOKUP(D8,Branchenverzeichnis!$A$3:$S$623,19,FALSE))","v":""}]
[null,null,5,{"$f":"IF(C9<=$A$5,VLOOKUP(C9,$C$12:$D$621,2,FALSE),\"\")","v":""},null,{"$f":"IF(D9=\"\",\"\",VLOOKUP(D9,Branchenverzeichnis!$A$3:$S$623,19,FALSE))","v":""}]
[null,null,null,{"$f":"IF(A5>5,\"Mehr als 5 Branchen gewählt! Berechnung nicht möglich, bitte wenden Sie sich für ein Offert an die Maklerbetreuung.\",IF(A5=0,\"Bitte Branche auswählen\",\"\"))","v":"Bitte Branche auswählen"}]
[null,null,null,"Branchenverzeichnis"]
["Nummerierung","Kummuliert","Platz","Hier klicken für Suche       ."]
[{"$f":"IF(E13=\"beantragt\",1,0)","v":0},{"$f":"A13","v":0},{"$f":"IF(A13=1,B13,0)","v":0},{"$f":"Branchenverzeichnis!A3","v":"Abbruchunternehmen"},"nein"]
[{"$f":"IF(E14=\"beantragt\",1,0)","v":0},{"$f":"B13+A14","v":0},0,{"$f":"Branchenverzeichnis!A4","v":"Abdichtunternehmen"},"nein"]
[{"$f":"IF(E15=\"beantragt\",1,0)","v":0},{"$f":"B14+A15","v":0},0,{"$f":"Branchenverzeichnis!A5","v":"Abfallsortieranlage"},"nein"]
[0,0,0,{"$f":"Branchenverzeichnis!A6","v":"Abwasserreinigung, Kläranlage"},"nein"]
[0,0,0,{"$f":"Branchenverzeichnis!A7","v":"Akkumulatorenerzeugung"},"nein"]
[0,0,0,{"$f":"Branchenverzeichnis!A8","v":"Aktenlogistik"},"nein"]
[0,0,0,{"$f":"Branchenverzeichnis!A9","v":"Alarmanlagenhandel mit Montage"},"nein"]
[0,0,0,{"$f":"Branchenverzeichnis!A10","v":"Alarmanlagenhandel ohne Montage"},"nein"]
[0,0,0,{"$f":"Branchenverzeichnis!A11","v":"Alkoholfreie Getränke Erzeugung"},"nein"]
[0,0,0,{"$f":"Branchenverzeichnis!A12","v":"Alt- u. Schwereisenhandel"},"nein"]
[0,0,0,{"$f":"Branchenverzeichnis!A13","v":"Alternative Heilpraxis"},"nein"]
[0,0,0,{"$f":"Branchenverzeichnis!A14","v":"Altstoffsammelzentrum-Müllumladestation"},"nein"]
[0,0,0,{"$f":"Branchenverzeichnis!A15","v":"Altwarenhandel (nicht Antiquitäten)"},"nein"]
[0,0,0,{"$f":"Branchenverzeichnis!A16","v":"Alu-Gießerei"},"nein"]
[0,0,0,{"$f":"Branchenverzeichnis!A17","v":"Andenkenartikelhandel"},"nein"]
[0,0,0,{"$f":"Branchenverzeichnis!A18","v":"Angler- und Fischereiartikelhandel"},"nein"]
[0,0,0,{"$f":"Branchenverzeichnis!A19","v":"Animateur"},"nein"]
[0,0,0,{"$f":"Branchenverzeichnis!A20","v":"Ankündigungsgewerbe"},"nein"]
[0,0,0,{"$f":"Branchenverzeichnis!A21","v":"Antiquitäten- u. Kunsthandlung"},"nein"]
[0,0,0,{"$f":"Branchenverzeichnis!A22","v":"Apotheke"},"nein"]
[0,0,0,{"$f":"Branchenverzeichnis!A23","v":"Appartements (ohne Bewirtung)"},"nein"]
[0,0,0,{"$f":"Branchenverzeichnis!A24","v":"Armaturenerzeugung"},"nein"]
[0,0,0,{"$f":"Branchenverzeichnis!A25","v":"Arzneimittelerzeugung"},"nein"]
[0,0,0,{"$f":"Branchenverzeichnis!A26","v":"Ärztl. Ordination"},"nein"]
[0,0,0,{"$f":"Branchenverzeichnis!A27","v":"Ärztl. Ordination, Ärzte ausschließlich in Laboratorien"},"nein"]
[0,0,0,{"$f":"Branchenverzeichnis!A28","v":"Ärztl. Ordination, Facharzt für Allgemeinmedizin (Praktischer Arzt)"},"nein"]
[0,0,0,{"$f":"Branchenverzeichnis!A29","v":"Ärztl. Ordination, Facharzt für Allgemeinmedizin und Lipolyse"},"nein"]
[0,0,0,{"$f":"Branchenverzeichnis!A30","v":"Ärztl. Ordination, Facharzt für Anästesiologie"},"nein"]
[0,0,0,{"$f":"Branchenverzeichnis!A31","v":"Ärztl. Ordination, Facharzt für Augenheilkunde"},"nein"]
[0,0,0,{"$f":"Branchenverzeichnis!A32","v":"Ärztl. Ordination, Facharzt für Chirurgie"},"nein"]
[0,0,0,{"$f":"Branchenverzeichnis!A33","v":"Ärztl. Ordination, Facharzt für Dermatologie"},"nein"]
[0,0,0,{"$f":"Branchenverzeichnis!A34","v":"Ärztl. Ordination, Facharzt für Gastroenterologie und Hepatologie"},"nein"]
[0,0,0,{"$f":"Branchenverzeichnis!A35","v":"Ärztl. Ordination, Facharzt für Gynäkologie"},"nein"]
[0,0,0,{"$f":"Branchenverzeichnis!A36","v":"Ärztl. Ordination, Facharzt für Hals, Nasen und Ohren"},"nein"]
[0,0,0,{"$f":"Branchenverzeichnis!A37","v":"Ärztl. Ordination, Facharzt für Haut- und Geschlechtskrankheiten"},"nein"]
[0,0,0,{"$f":"Branchenverzeichnis!A38","v":"Ärztl. Ordination, Facharzt für Innere Medizin"},"nein"]
[0,0,0,{"$f":"Branchenverzeichnis!A39","v":"Ärztl. Ordination, Facharzt für Intensivmedizin"},"nein"]
[0,0,0,{"$f":"Branchenverzeichnis!A40","v":"Ärztl. Ordination, Facharzt für Kardiologie"},"nein"]
[0,0,0,{"$f":"Branchenverzeichnis!A41","v":"Ärztl. Ordination, Facharzt für Lungenkrankheiten"},"nein"]
[0,0,0,{"$f":"Branchenverzeichnis!A42","v":"Ärztl. Ordination, Facharzt für Neurologie"},"nein"]
[0,0,0,{"$f":"Branchenverzeichnis!A43","v":"Ärztl. Ordination, Facharzt für Orthopädie u orthop. Chirurgie"},"nein"]
[0,0,0,{"$f":"Branchenverzeichnis!A44","v":"Ärztl. Ordination, Facharzt für Pädiatrie"},"nein"]
[0,0,0,{"$f":"Branchenverzeichnis!A45","v":"Ärztl. Ordination, Facharzt für Phatologie"},"nein"]
[0,0,0,{"$f":"Branchenverzeichnis!A46","v":"Ärztl. Ordination, Facharzt für physikalische Medizin"},"nein"]
[0,0,0,{"$f":"Branchenverzeichnis!A47","v":"Ärztl. Ordination, Facharzt für Psychiatrie, Psychologie"},"nein"]
[0,0,0,{"$f":"Branchenverzeichnis!A48","v":"Ärztl. Ordination, Facharzt für Radiologie und Röntgenologie"},"nein"]
[0,0,0,{"$f":"Branchenverzeichnis!A49","v":"Ärztl. Ordination, Facharzt für Urologie"},"nein"]
[0,0,0,{"$f":"Branchenverzeichnis!A50","v":"Ärztl. Ordination, Facharzt für Veterinär"},"nein"]
[0,0,0,{"$f":"Branchenverzeichnis!A51","v":"Ärztl. Ordination, Facharzt für Zahnheilkunde"},"nein"]
[0,0,0,{"$f":"Branchenverzeichnis!A52","v":"Arztzubehörhandel"},"nein"]
[0,0,0,{"$f":"Branchenverzeichnis!A53","v":"Asbestwarenerzeugung"},"nein"]
[0,0,0,{"$f":"Branchenverzeichnis!A54","v":"Asphalt u. Teerspliterzeugung"},"nein"]
[0,0,0,{"$f":"Branchenverzeichnis!A55","v":"Asphaltierer"},"nein"]
[0,0,0,{"$f":"Branchenverzeichnis!A56","v":"Atelier"},"nein"]
[0,0,0,{"$f":"Branchenverzeichnis!A57","v":"Ätherische Öle – Erzeugung"},"nein"]
[0,0,0,{"$f":"Branchenverzeichnis!A58","v":"Ätherische Öle – Handel"},"nein"]
[0,0,0,{"$f":"Branchenverzeichnis!A59","v":"Ätherische Öle- und Essenzenerzeugung"},"nein"]
[0,0,0,{"$f":"Branchenverzeichnis!A60","v":"Ätherische Öle- und Essenzenhandel"},"nein"]
[0,0,0,{"$f":"Branchenverzeichnis!A61","v":"Aufzüge u. Rolltreppen"},"nein"]
[0,0,0,{"$f":"Branchenverzeichnis!A62","v":"Aufzugerzeugung"},"nein"]
[0,0,0,{"$f":"Branchenverzeichnis!A63","v":"Aufzugsmonteur"},"nein"]
[0,0,0,{"$f":"Branchenverzeichnis!A64","v":"Auktionshaus"},"nein"]
[0,0,0,{"$f":"Branchenverzeichnis!A65","v":"Autobus- und Taxiunternehmen"},"nein"]
[0,0,0,{"$f":"Branchenverzeichnis!A66","v":"Automaten – Service, Reparatur"},"nein"]
[0,0,{"$f":"IF(A77=1,B77,0)","v":0},{"$f":"Branchenverzeichnis!A67","v":"Automatenbuffet"},"nein"]
[0,0,0,{"$f":"Branchenverzeichnis!A68","v":"Autoreifenhandel inkl. Montage"},"nein"]
[{"$f":"IF(E79=\"beantragt\",1,0)","v":0},{"$f":"B78+A79","v":0},0,{"$f":"Branchenverzeichnis!A69","v":"Autoreifenhandel ohne Montage und ohne Vulkanisierung"},"nein"]
[0,0,0,{"$f":"Branchenverzeichnis!A70","v":"Autowaschstraße"},"nein"]
[0,0,0,{"$f":"Branchenverzeichnis!A71","v":"Back- u. Konditorwarenhandel"},"nein"]
[0,0,0,{"$f":"Branchenverzeichnis!A72","v":"Bäckerei, Konditorei"},"nein"]
[0,0,0,{"$f":"Branchenverzeichnis!A73","v":"Baggerunternehmer"},"nein"]
[0,0,0,{"$f":"Branchenverzeichnis!A74","v":"Bandagist ohne Heilbehandlung"},"nein"]
[0,0,0,{"$f":"Branchenverzeichnis!A75","v":"Bastlerbedarfshandel"},"nein"]
[0,0,0,{"$f":"Branchenverzeichnis!A76","v":"Bauchtanzschule"},"nein"]
[0,0,0,{"$f":"Branchenverzeichnis!A77","v":"Baumarkt"},"nein"]
[0,0,0,{"$f":"Branchenverzeichnis!A78","v":"Baumeister, Bauunternehmung *****)"},"nein"]
[0,0,0,{"$f":"Branchenverzeichnis!A79","v":"Baumschnitt"},"nein"]
[0,0,0,{"$f":"Branchenverzeichnis!A80","v":"Baumschulen"},"nein"]
[0,0,0,{"$f":"Branchenverzeichnis!A81","v":"Baustofferzeugung"},"nein"]
[0,0,0,{"$f":"Branchenverzeichnis!A82","v":"Baustoffhandel"},"nein"]
[0,0,0,{"$f":"Branchenverzeichnis!A83","v":"Beleuchtungskörper-Erzeugung"},"nein"]
[0,0,0,{"$f":"Branchenverzeichnis!A84","v":"Beleuchtungskörperhandel"},"nein"]
[0,0,0,{"$f":"Branchenverzeichnis!A85","v":"Beleuchtungskörperhandel mit Montage"},"nein"]
[0,0,0,{"$f":"Branchenverzeichnis!A86","v":"Besamungstechniker"},"nein"]
[0,0,0,{"$f":"Branchenverzeichnis!A87","v":"Besen-, Bürsten- und  Pinselerzeugung"},"nein"]
[0,0,0,{"$f":"Branchenverzeichnis!A88","v":"Besenhandel"},"nein"]
[0,0,0,{"$f":"Branchenverzeichnis!A89","v":"Beton- und Betonwarenerzeugung"},"nein"]
[0,0,0,{"$f":"Branchenverzeichnis!A90","v":"Bettdecken u. Bettwarenerzeugung"},"nein"]
[0,0,0,{"$f":"Branchenverzeichnis!A91","v":"Bettdeckenhandel"},"nein"]
[0,0,0,{"$f":"Branchenverzeichnis!A92","v":"Bettfedernreinigung"},"nein"]
[0,0,0,{"$f":"Branchenverzeichnis!A93","v":"Bettwarenhandel"},"nein"]
[0,0,0,{"$f":"Branchenverzeichnis!A94","v":"Bienenzucht"},"nein"]
[0,0,0,{"$f":"Branchenverzeichnis!A95","v":"Bijouteriewarenhandel"},"nein"]
[0,0,0,{"$f":"Branchenverzeichnis!A96","v":"Bilderrahmenerzeugung"},"nein"]
[0,0,0,{"$f":"Branchenverzeichnis!A97","v":"Bildhauer"},"nein"]
[0,0,0,{"$f":"Branchenverzeichnis!A98","v":"Binderwarenhandel"},"nein"]
[0,0,0,{"$f":"Branchenverzeichnis!A99","v":"Biocremen- und Ölehandel"},"nein"]
[0,0,0,{"$f":"Branchenverzeichnis!A100","v":"Biodieselerzeugung"},"nein"]
[0,0,0,{"$f":"Branchenverzeichnis!A101","v":"Biogasanlage"},"nein"]
[0,0,0,{"$f":"Branchenverzeichnis!A102","v":"Biologische Seifen, Reinigungsmittelerzeugung"},"nein"]
[0,0,0,{"$f":"Branchenverzeichnis!A103","v":"Biotopbau, Gartengestaltung"},"nein"]
[0,0,0,{"$f":"Branchenverzeichnis!A104","v":"Bleistifterzeugung"},"nein"]
[0,0,0,{"$f":"Branchenverzeichnis!A105","v":"Blitzschutzanlagenerzeugung und Montage"},"nein"]
[0,0,0,{"$f":"Branchenverzeichnis!A106","v":"Blumenhandlung "},"nein"]
[0,0,0,{"$f":"Branchenverzeichnis!A107","v":"Boden- u. Wandbelag – Handel"},"nein"]
[0,0,0,{"$f":"Branchenverzeichnis!A108","v":"Boden- u. Wandbelag – mit Verlegung"},"nein"]
[0,0,0,{"$f":"Branchenverzeichnis!A109","v":"Bodenbelägeerzeugung"},"nein"]
[0,0,0,{"$f":"Branchenverzeichnis!A110","v":"Bodenleger, eingeschränkt auf Estrichleger"},"nein"]
[0,0,0,{"$f":"Branchenverzeichnis!A111","v":"Bonbonerzeugung"},"nein"]
[0,0,0,{"$f":"Branchenverzeichnis!A112","v":"Bootsbau"},"nein"]
[0,0,0,{"$f":"Branchenverzeichnis!A113","v":"Bootshandel inkl. Zubehör"},"nein"]
[0,0,0,{"$f":"Branchenverzeichnis!A114","v":"Botendienst"},"nein"]
[0,0,0,{"$f":"Branchenverzeichnis!A115","v":"Boutique"},"nein"]
[0,0,0,{"$f":"Branchenverzeichnis!A116","v":"Brandschutzbeauftragter"},"nein"]
[0,0,0,{"$f":"Branchenverzeichnis!A117","v":"Brandschutztechnik, Handel und Montage"},"nein"]
[0,0,0,{"$f":"Branchenverzeichnis!A118","v":"Branntweinschenke"},"nein"]
[0,0,0,{"$f":"Branchenverzeichnis!A119","v":"Brauerei"},"nein"]
[0,0,0,{"$f":"Branchenverzeichnis!A120","v":"Brennholzzerkleinerung"},"nein"]
[0,0,0,{"$f":"Branchenverzeichnis!A121","v":"Brennmaterialienhandel"},"nein"]
[0,0,0,{"$f":"Branchenverzeichnis!A122","v":"Briefmarken- u. Münzhandel"},"nein"]
[0,0,0,{"$f":"Branchenverzeichnis!A123","v":"Brunnenbau *****)"},"nein"]
[0,0,0,{"$f":"Branchenverzeichnis!A124","v":"Brüterei"},"nein"]
[0,0,0,{"$f":"Branchenverzeichnis!A125","v":"Buch- und Musikalienhandel"},"nein"]
[0,0,0,{"$f":"Branchenverzeichnis!A126","v":"Buchbinderei"},"nein"]
[0,0,0,{"$f":"Branchenverzeichnis!A127","v":"Büchsenmacher"},"nein"]
[0,0,0,{"$f":"Branchenverzeichnis!A128","v":"Bühnenbauer"},"nein"]
[0,0,0,{"$f":"Branchenverzeichnis!A129","v":"Bühnendekorateur"},"nein"]
[0,0,0,{"$f":"Branchenverzeichnis!A130","v":"Buntmetallgießerei"},"nein"]
[0,0,{"$f":"IF(A141=1,B141,0)","v":0},{"$f":"Branchenverzeichnis!A131","v":"Bürobedarfshandel"},"nein"]
[0,0,0,{"$f":"Branchenverzeichnis!A132","v":"Bürobetrieb"},"nein"]
[{"$f":"IF(E143=\"beantragt\",1,0)","v":0},{"$f":"B142+A143","v":0},0,{"$f":"Branchenverzeichnis!A133","v":"Büromaschinen- u. EDV-Anlagenerzeugung"},"nein"]
[0,0,0,{"$f":"Branchenverzeichnis!A134","v":"Büromaschinen- u. EDV-Anlagenhandel"},"nein"]
[0,0,0,{"$f":"Branchenverzeichnis!A135","v":"Buschenschank"},"nein"]
[0,0,0,{"$f":"Branchenverzeichnis!A136","v":"Campingplatz"},"nein"]
[0,0,0,{"$f":"Branchenverzeichnis!A137","v":"Chemische Produktehandel"},"nein"]
[0,0,0,{"$f":"Branchenverzeichnis!A138","v":"Chemische Putzerei  **)"},"nein"]
[0,0,0,{"$f":"Branchenverzeichnis!A139","v":"Christbaumschmuck u. Faschingsartikelerz. Ohne Feuerwerkskörper"},"nein"]
[0,0,0,{"$f":"Branchenverzeichnis!A140","v":"Computerhandel und Reparatur"},"nein"]
[0,0,0,{"$f":"Branchenverzeichnis!A141","v":"Computer-Reparaturwerkstätte"},"nein"]
[0,0,0,{"$f":"Branchenverzeichnis!A142","v":"Dachdecker"},"nein"]
[0,0,0,{"$f":"Branchenverzeichnis!A143","v":"Dachpappeerzeugung"},"nein"]
[0,0,0,{"$f":"Branchenverzeichnis!A144","v":"Deichgräber"},"nein"]
[0,0,0,{"$f":"Branchenverzeichnis!A145","v":"Dentalwarenhandel"},"nein"]
[0,0,0,{"$f":"Branchenverzeichnis!A146","v":"Detektivbüro"},"nein"]
[0,0,0,{"$f":"Branchenverzeichnis!A147","v":"Diätberater"},"nein"]
[0,0,0,{"$f":"Branchenverzeichnis!A148","v":"Dienstleistung im Agrarbereich"},"nein"]
[0,0,0,{"$f":"Branchenverzeichnis!A149","v":"Dienstleistungen in der automatischen Datenverarbeitung und Informationstechnik"},"nein"]
[0,0,0,{"$f":"Branchenverzeichnis!A150","v":"Drähte u. Kabelerz. – nicht isoliert"},"nein"]
[0,0,0,{"$f":"Branchenverzeichnis!A151","v":"Drähte u. Kabelerzeugung – isoliert"},"nein"]
[0,0,0,{"$f":"Branchenverzeichnis!A153","v":"Drechslerei – ohne Holzbearbeitung"},"nein"]
[0,0,0,{"$f":"Branchenverzeichnis!A154","v":"Drogerie"},"nein"]
[0,0,0,{"$f":"Branchenverzeichnis!A155","v":"Druck- und Gussbehälterhandel"},"nein"]
[0,0,0,{"$f":"Branchenverzeichnis!A156","v":"Druckerei"},"nein"]
[0,0,0,{"$f":"Branchenverzeichnis!A157","v":"Druckservice"},"nein"]
[0,0,0,{"$f":"Branchenverzeichnis!A158","v":"Druschunternehmen"},"nein"]
[0,0,0,{"$f":"Branchenverzeichnis!A159","v":"EDV Schule"},"nein"]
[0,0,0,{"$f":"Branchenverzeichnis!A160","v":"Einkaufszentrum"},"nein"]
[0,0,0,{"$f":"Branchenverzeichnis!A161","v":"Eisen- und Blechwarenerzeugung"},"nein"]
[0,0,0,{"$f":"Branchenverzeichnis!A162","v":"Eisengießereien"},"nein"]
[0,0,0,{"$f":"Branchenverzeichnis!A163","v":"Elektrizitätswerk"},"nein"]
[0,0,0,{"$f":"Branchenverzeichnis!A164","v":"Elektrogeräteerzeugung"},"nein"]
[0,0,0,{"$f":"Branchenverzeichnis!A165","v":"Elektrogerätehandel"},"nein"]
[0,0,0,{"$f":"Branchenverzeichnis!A166","v":"Elektrogerätehandel mit Reparatur"},"nein"]
[0,0,0,{"$f":"Branchenverzeichnis!A167","v":"Elektronische Mess- ,Kontroll- u.  Regelgeräteerzeugung"},"nein"]
[0,0,0,{"$f":"Branchenverzeichnis!A168","v":"Energetiker"},"nein"]
[0,0,0,{"$f":"Branchenverzeichnis!A169","v":"Entrümpelung"},"nein"]
[0,0,0,{"$f":"Branchenverzeichnis!A170","v":"Erdbewegungsarbeiten"},"nein"]
[0,0,0,{"$f":"Branchenverzeichnis!A171","v":"Esoterische Artikelhandel"},"nein"]
[0,0,0,{"$f":"Branchenverzeichnis!A172","v":"Fahrrad- u. -zubehörhandel inkl. Service"},"nein"]
[0,0,0,{"$f":"Branchenverzeichnis!A173","v":"Fahrschule"},"nein"]
[0,0,0,{"$f":"Branchenverzeichnis!A174","v":"Fahrtechnikinstruktor"},"nein"]
[0,0,0,{"$f":"Branchenverzeichnis!A175","v":"Fallschirmerzeugung und Reparatur"},"nein"]
[0,0,0,{"$f":"Branchenverzeichnis!A176","v":"Farben- u. Lackehandel"},"nein"]
[0,0,0,{"$f":"Branchenverzeichnis!A177","v":"Farben- u. Lackerzeugung"},"nein"]
[0,0,0,{"$f":"Branchenverzeichnis!A178","v":"Färberei, Bleicherei"},"nein"]
[0,0,0,{"$f":"Branchenverzeichnis!A180","v":"Feng Shui-Berater"},"nein"]
[0,0,0,{"$f":"Branchenverzeichnis!A181","v":"Fenster u. Türenhandel"},"nein"]
[0,0,0,{"$f":"Branchenverzeichnis!A182","v":"Fenster u. Türenhandeln inkl. Montage"},"nein"]
[0,0,0,{"$f":"Branchenverzeichnis!A183","v":"Fernheizwerk"},"nein"]
[0,0,0,{"$f":"Branchenverzeichnis!A184","v":"Fernsehgerätehandel mit Reparatur"},"nein"]
[0,0,0,{"$f":"Branchenverzeichnis!A185","v":"Feuerlöschgeräteerzeugung"},"nein"]
[0,0,0,{"$f":"Branchenverzeichnis!A186","v":"Feuerwehrutensilienhandel"},"nein"]
[0,0,0,{"$f":"Branchenverzeichnis!A187","v":"Feuerzeugerzeugung"},"nein"]
[0,0,0,{"$f":"Branchenverzeichnis!A188","v":"Fiaker"},"nein"]
[0,0,0,{"$f":"Branchenverzeichnis!A189","v":"Filzwarenerzeugung"},"nein"]
[0,0,0,{"$f":"Branchenverzeichnis!A190","v":"Fischereibedarfshandel"},"nein"]
[0,0,0,{"$f":"Branchenverzeichnis!A191","v":"Fischzucht"},"nein"]
[0,0,0,{"$f":"Branchenverzeichnis!A192","v":"Fitnesszentrum"},"nein"]
[0,0,0,{"$f":"Branchenverzeichnis!A193","v":"Flaschenreinigung"},"nein"]
[0,0,0,{"$f":"Branchenverzeichnis!A194","v":"Fleischhauerei u. Wurstwarenerzeugung"},"nein"]
[0,0,{"$f":"IF(A203=1,B203,0)","v":0},{"$f":"Branchenverzeichnis!A195","v":"Fliesenhandel"},"nein"]
[0,0,0,{"$f":"Branchenverzeichnis!A196","v":"Fliesenleger inkl. Handel"},"nein"]
[{"$f":"IF(E205=\"beantragt\",1,0)","v":0},0,0,{"$f":"Branchenverzeichnis!A197","v":"Folienleger"},"nein"]
[0,0,0,{"$f":"Branchenverzeichnis!A198","v":"Foto- u. Filmateliers"},"nein"]
[0,{"$f":"B206+A207","v":0},0,{"$f":"Branchenverzeichnis!A199","v":"Foto-, Film- u. Videohandel"},"nein"]
[0,0,0,{"$f":"Branchenverzeichnis!A200","v":"Frei- und Hallenbad"},"nein"]
[0,0,0,{"$f":"Branchenverzeichnis!A201","v":"Friseure"},"nein"]
[0,0,0,{"$f":"Branchenverzeichnis!A202","v":"Frühstückspension"},"nein"]
[0,0,0,{"$f":"Branchenverzeichnis!A203","v":"Funknetzbetreiber"},"nein"]
[0,0,0,{"$f":"Branchenverzeichnis!A204","v":"Fußpflegesalon"},"nein"]
[0,0,0,{"$f":"Branchenverzeichnis!A205","v":"Futtermittelerzeugung"},"nein"]
[0,0,0,{"$f":"Branchenverzeichnis!A206","v":"Futtermittelhandel"},"nein"]
[0,0,0,{"$f":"Branchenverzeichnis!A207","v":"Galerie"},"nein"]
[0,0,0,{"$f":"Branchenverzeichnis!A208","v":"Galvanisierung"},"nein"]
[0,0,0,{"$f":"Branchenverzeichnis!A209","v":"Garagen u. Parkhäuser"},"nein"]
[0,0,0,{"$f":"Branchenverzeichnis!A210","v":"Gartengestaltung "},"nein"]
[0,0,0,{"$f":"Branchenverzeichnis!A211","v":"Gartenthemen Lehrtätigkeit"},"nein"]
[0,0,0,{"$f":"Branchenverzeichnis!A212","v":"Gärtnerei – mit Gartengestaltung"},"nein"]
[0,0,0,{"$f":"Branchenverzeichnis!A213","v":"Gärtnerei ohne Gartengestaltung"},"nein"]
[0,0,0,{"$f":"Branchenverzeichnis!A214","v":"Gasthof, Hotel, Pension"},"nein"]
[0,0,0,{"$f":"Branchenverzeichnis!A215","v":"Gastronomiehandel inkl. Montage"},"nein"]
[0,0,0,{"$f":"Branchenverzeichnis!A216","v":"Gaststätte, Restaurant, Catering, Kaffeehaus, Espresso, Eissalon u. dgl."},"nein"]
[0,0,0,{"$f":"Branchenverzeichnis!A217","v":"Geflügelfarm"},"nein"]
[0,0,0,{"$f":"Branchenverzeichnis!A218","v":"Gemischtwarenhandel"},"nein"]
[0,0,0,{"$f":"Branchenverzeichnis!A219","v":"Gerüstleihanstalt inkl. Aufstellen von Gerüsten"},"nein"]
[0,0,0,{"$f":"Branchenverzeichnis!A220","v":"Geschirr, Haushalts- u. Küchengerätehandel"},"nein"]
[0,0,0,{"$f":"Branchenverzeichnis!A221","v":"Geschirrreinigung"},"nein"]
[0,0,0,{"$f":"Branchenverzeichnis!A222","v":"Getränkehandel"},"nein"]
[0,0,0,{"$f":"Branchenverzeichnis!A223","v":"Gipswarenerzeugung"},"nein"]
[0,0,0,{"$f":"Branchenverzeichnis!A224","v":"Glas-, Glaswolle- u. Glasfasererzeugung"},"nein"]
[0,0,0,{"$f":"Branchenverzeichnis!A225","v":"Glaserei"},"nein"]
[0,0,0,{"$f":"Branchenverzeichnis!A226","v":"Glaswarenerzeugung – ohne Erwärmung"},"nein"]
[0,0,0,{"$f":"Branchenverzeichnis!A227","v":"Glaswarenerzeugung mit Erwärmung"},"nein"]
[0,0,0,{"$f":"Branchenverzeichnis!A228","v":"Glaswarenhandel"},"nein"]
[0,0,0,{"$f":"Branchenverzeichnis!A229","v":"Glockengießereien"},"nein"]
[0,0,0,{"$f":"Branchenverzeichnis!A230","v":"Gold- und Silberschmied"},"nein"]
[0,0,0,{"$f":"Branchenverzeichnis!A231","v":"Golfclub"},"nein"]
[0,0,0,{"$f":"Branchenverzeichnis!A232","v":"Golflehrer"},"nein"]
[0,0,0,{"$f":"Branchenverzeichnis!A233","v":"Grabsteinhandel"},"nein"]
[0,0,0,{"$f":"Branchenverzeichnis!A234","v":"Graphischer Betrieb"},"nein"]
[0,0,0,{"$f":"Branchenverzeichnis!A235","v":"Graveur sowie Handel mit Glas, Metall und Steinwarenhandel"},"nein"]
[0,0,0,{"$f":"Branchenverzeichnis!A236","v":"Gummiwarenerzeugung"},"nein"]
[0,0,0,{"$f":"Branchenverzeichnis!A238","v":"Hackstockerzeugung"},"nein"]
[0,0,0,{"$f":"Branchenverzeichnis!A239","v":"Hafner   *)"},"nein"]
[0,0,0,{"$f":"Branchenverzeichnis!A240","v":"Hallenbad"},"nein"]
[0,0,0,{"$f":"Branchenverzeichnis!A241","v":"Hallenhandel"},"nein"]
[0,0,0,{"$f":"Branchenverzeichnis!A242","v":"Hand- u. Fußpflege"},"nein"]
[0,0,0,{"$f":"Branchenverzeichnis!A243","v":"Hausmeister"},"nein"]
[0,0,0,{"$f":"Branchenverzeichnis!A244","v":"Hausservice"},"nein"]
[0,0,0,{"$f":"Branchenverzeichnis!A245","v":"Hebamme"},"nein"]
[0,0,0,{"$f":"Branchenverzeichnis!A246","v":"Heizungsanlagenerzeugung"},"nein"]
[0,0,0,{"$f":"Branchenverzeichnis!A247","v":"Heizungsanlagenhandel"},"nein"]
[0,0,0,{"$f":"Branchenverzeichnis!A248","v":"Holzbringung"},"nein"]
[0,0,0,{"$f":"Branchenverzeichnis!A249","v":"Holzentrindung"},"nein"]
[0,0,0,{"$f":"Branchenverzeichnis!A250","v":"Holzfällerei"},"nein"]
[0,0,0,{"$f":"Branchenverzeichnis!A251","v":"Holzhacken"},"nein"]
[0,0,0,{"$f":"Branchenverzeichnis!A253","v":"Holzkohlenerzeugung"},"nein"]
[0,0,0,{"$f":"Branchenverzeichnis!A256","v":"Holzwarenhandel"},"nein"]
[0,0,0,{"$f":"Branchenverzeichnis!A257","v":"Hundesalon"},"nein"]
[0,0,0,{"$f":"Branchenverzeichnis!A258","v":"Hundeschule"},"nein"]
[0,0,{"$f":"IF(A263=1,B263,0)","v":0},{"$f":"Branchenverzeichnis!A259","v":"Hundetrainer"},"nein"]
[0,0,0,{"$f":"Branchenverzeichnis!A260","v":"Hygiene-und Kosmetikartikelerzeugung"},"nein"]
[{"$f":"IF(E265=\"beantragt\",1,0)","v":0},0,0,{"$f":"Branchenverzeichnis!A261","v":"Hygiene-und Kosmetikartikelhandel"},"nein"]
[0,0,0,{"$f":"Branchenverzeichnis!A262","v":"Imkerei"},"nein"]
[0,0,0,{"$f":"Branchenverzeichnis!A263","v":"Imprägnieranstalt  **)"},"nein"]
[0,0,0,{"$f":"Branchenverzeichnis!A264","v":"Indoor Kinderpark"},"nein"]
[0,0,0,{"$f":"Branchenverzeichnis!A265","v":"Installateur (Elektro, Gas, Wasser)"},"nein"]
[0,0,0,{"$f":"Branchenverzeichnis!A266","v":"Installation von Blitzschutzanlagen"},"nein"]
[0,{"$f":"B270+A271","v":0},0,{"$f":"Branchenverzeichnis!A267","v":"Installation von EDV-Anlagen und Telefonanlagen"},"nein"]
[0,0,0,{"$f":"Branchenverzeichnis!A268","v":"Installationsmaterialienhandel"},"nein"]
[0,0,0,{"$f":"Branchenverzeichnis!A269","v":"Instrumente u. Apparateerzeugung (medizin. U. wissenschaftl.)"},"nein"]
[0,0,0,{"$f":"Branchenverzeichnis!A270","v":"Instrumente u. Apparatehandel (medizin. U. wissenschaftl.)"},"nein"]
[0,0,0,{"$f":"Branchenverzeichnis!A271","v":"Isolierunternehmen"},"nein"]
[0,0,0,{"$f":"Branchenverzeichnis!A272","v":"Jalousienerzeugung"},"nein"]
[0,0,0,{"$f":"Branchenverzeichnis!A273","v":"Jalousienhandel mit Montage"},"nein"]
[0,0,0,{"$f":"Branchenverzeichnis!A274","v":"Jalousienhandel ohne Montage"},"nein"]
[0,0,0,{"$f":"Branchenverzeichnis!A275","v":"Juwelier"},"nein"]
[0,0,0,{"$f":"Branchenverzeichnis!A276","v":"Kabarett"},"nein"]
[0,0,0,{"$f":"Branchenverzeichnis!A277","v":"Kaffeerösterei"},"nein"]
[0,0,0,{"$f":"Branchenverzeichnis!A278","v":"Kaminausschleiferei "},"nein"]
[0,0,0,{"$f":"Branchenverzeichnis!A279","v":"Kammerzeugung"},"nein"]
[0,0,0,{"$f":"Branchenverzeichnis!A280","v":"Kanal- u. Senkgrubenräumung"},"nein"]
[0,0,0,{"$f":"Branchenverzeichnis!A281","v":"Karosseriebau u. -reparatur"},"nein"]
[0,0,0,{"$f":"Branchenverzeichnis!A282","v":"Kartbahn"},"nein"]
[0,0,0,{"$f":"Branchenverzeichnis!A283","v":"Kartographische Anstalt"},"nein"]
[0,0,0,{"$f":"Branchenverzeichnis!A284","v":"Kartonagewarenerzeugung"},"nein"]
[0,0,0,{"$f":"Branchenverzeichnis!A285","v":"Käserei"},"nein"]
[0,0,0,{"$f":"Branchenverzeichnis!A286","v":"Kegelbahnbau"},"nein"]
[0,0,0,{"$f":"Branchenverzeichnis!A287","v":"Keramikerzeugung"},"nein"]
[0,0,0,{"$f":"Branchenverzeichnis!A288","v":"Kerzenerzeugung"},"nein"]
[0,0,0,{"$f":"Branchenverzeichnis!A289","v":"Kerzenhandel"},"nein"]
[0,0,0,{"$f":"Branchenverzeichnis!A290","v":"Kesselreinigungsunternehmen"},"nein"]
[0,0,0,{"$f":"Branchenverzeichnis!A291","v":"Kiesgewinnung"},"nein"]
[0,0,0,{"$f":"Branchenverzeichnis!A292","v":"Kindergärtner"},"nein"]
[0,0,0,{"$f":"Branchenverzeichnis!A293","v":"Kinderwagenerzeugung"},"nein"]
[0,0,0,{"$f":"Branchenverzeichnis!A294","v":"Kinderwagenhandel"},"nein"]
[0,0,0,{"$f":"Branchenverzeichnis!A295","v":"Kinesiologe"},"nein"]
[0,0,0,{"$f":"Branchenverzeichnis!A296","v":"Kirchengeräteerzeugung"},"nein"]
[0,0,0,{"$f":"Branchenverzeichnis!A298","v":"Klauenpfleger ****)"},"nein"]
[0,0,0,{"$f":"Branchenverzeichnis!A299","v":"Klavierstrimmer und Klavierrestaurator"},"nein"]
[0,0,0,{"$f":"Branchenverzeichnis!A300","v":"Kleber- u. Leimerzeugung"},"nein"]
[0,0,0,{"$f":"Branchenverzeichnis!A301","v":"Kleiderleihanstalt"},"nein"]
[0,0,0,{"$f":"Branchenverzeichnis!A302","v":"Klima- und Lüftungsanlageninstallation"},"nein"]
[0,0,0,{"$f":"Branchenverzeichnis!A303","v":"Klimaanlagen- und Lüftungsbau"},"nein"]
[0,0,0,{"$f":"Branchenverzeichnis!A304","v":"Knabberfisch-Behandlung"},"nein"]
[0,0,0,{"$f":"Branchenverzeichnis!A305","v":"Knopferzeugung"},"nein"]
[0,0,0,{"$f":"Branchenverzeichnis!A306","v":"Koch"},"nein"]
[0,0,0,{"$f":"Branchenverzeichnis!A307","v":"Komposterzeugung"},"nein"]
[0,0,0,{"$f":"Branchenverzeichnis!A308","v":"Konditorei"},"nein"]
[0,0,0,{"$f":"Branchenverzeichnis!A309","v":"Konservenerzeugung"},"nein"]
[0,0,0,{"$f":"Branchenverzeichnis!A310","v":"Konservenhandel"},"nein"]
[0,0,0,{"$f":"Branchenverzeichnis!A311","v":"Kopieranstalten"},"nein"]
[0,0,0,{"$f":"Branchenverzeichnis!A312","v":"Korbwaren, Korbflechtereien"},"nein"]
[0,0,0,{"$f":"Branchenverzeichnis!A313","v":"Kosmetikhandel"},"nein"]
[0,0,0,{"$f":"Branchenverzeichnis!A314","v":"Kosmetiksalons"},"nein"]
[0,0,0,{"$f":"Branchenverzeichnis!A315","v":"Kostümverleih"},"nein"]
[0,0,0,{"$f":"Branchenverzeichnis!A316","v":"Kraftfahrzeuge   - nur Handel"},"nein"]
[0,0,0,{"$f":"Branchenverzeichnis!A317","v":"Kraftfahrzeug-Servicestationen, -Waschanlagen"},"nein"]
[0,0,0,{"$f":"Branchenverzeichnis!A318","v":"Kraftfahrzeugwerkstätte"},"nein"]
[0,0,0,{"$f":"Branchenverzeichnis!A319","v":"Kraftfahrzeugzubehörhandel"},"nein"]
[0,0,0,{"$f":"Branchenverzeichnis!A320","v":"Krankenschwester, -pfleger diplom."},"nein"]
[0,0,0,{"$f":"Branchenverzeichnis!A321","v":"Krankentransportunternehmung (Rettungsfahrten)"},"nein"]
[0,0,0,{"$f":"Branchenverzeichnis!A322","v":"Kräuter- u. Samenhandel"},"nein"]
[0,0,{"$f":"IF(A326=1,B326,0)","v":0},{"$f":"Branchenverzeichnis!A323","v":"Kunstblumenerzeugung"},"nein"]
[0,0,0,{"$f":"Branchenverzeichnis!A324","v":"Kunstdüngererzeugung"},"nein"]
[{"$f":"IF(E328=\"beantragt\",1,0)","v":0},0,0,{"$f":"Branchenverzeichnis!A325","v":"Kunstgewerbehandel"},"nein"]
[0,0,0,{"$f":"Branchenverzeichnis!A326","v":"Künstler, Bildermaler"},"nein"]
[0,0,0,{"$f":"Branchenverzeichnis!A327","v":"Kunstseideerzeugung"},"nein"]
[0,0,0,{"$f":"Branchenverzeichnis!A328","v":"Kunststoffbeckenhandel inkl. Montage"},"nein"]
[0,0,0,{"$f":"Branchenverzeichnis!A329","v":"Kunststofferzeugung"},"nein"]
[0,0,0,{"$f":"Branchenverzeichnis!A330","v":"Kunststoffverarbeitung"},"nein"]
[0,0,0,{"$f":"Branchenverzeichnis!A331","v":"Kuranstalt, Sanatorium "},"nein"]
[0,{"$f":"B334+A335","v":0},0,{"$f":"Branchenverzeichnis!A332","v":"Kürschner"},"nein"]
[0,0,0,{"$f":"Branchenverzeichnis!A333","v":"Labor – chemisch"},"nein"]
[0,0,0,{"$f":"Branchenverzeichnis!A334","v":"Labor – fotographisch"},"nein"]
[0,0,0,{"$f":"Branchenverzeichnis!A335","v":"Labor – medizinisch"},"nein"]
[0,0,0,{"$f":"Branchenverzeichnis!A336","v":"Lackhandel"},"nein"]
[0,0,0,{"$f":"Branchenverzeichnis!A337","v":"Lackierereien"},"nein"]
[0,0,0,{"$f":"Branchenverzeichnis!A338","v":"Landesprodukteerzeugung"},"nein"]
[0,0,0,{"$f":"Branchenverzeichnis!A339","v":"Landesproduktenhandel"},"nein"]
[0,0,0,{"$f":"Branchenverzeichnis!A340","v":"Landmaschinenhandel"},"nein"]
[0,0,0,{"$f":"Branchenverzeichnis!A341","v":"Landmaschinenreparaturwerkstätte"},"nein"]
[0,0,0,{"$f":"Branchenverzeichnis!A342","v":"Lebens- und Sozialberatung"},"nein"]
[0,0,0,{"$f":"Branchenverzeichnis!A343","v":"Lebensmittelhandel"},"nein"]
[0,0,0,{"$f":"Branchenverzeichnis!A344","v":"Leder- u. Lederwarenerzeugung, Gerberei"},"nein"]
[0,0,0,{"$f":"Branchenverzeichnis!A345","v":"Lederbekleidung, Taschen- u. Gürtelwarenhandel"},"nein"]
[0,0,0,{"$f":"Branchenverzeichnis!A347","v":"Leichenbestattungsunternehmen"},"nein"]
[0,0,0,{"$f":"Branchenverzeichnis!A348","v":"Leihbibliotheken"},"nein"]
[0,0,0,{"$f":"Branchenverzeichnis!A349","v":"Leonische Waren"},"nein"]
[0,0,0,{"$f":"Branchenverzeichnis!A350","v":"Leuchtreklameerzeugung inkl. Montage"},"nein"]
[0,0,0,{"$f":"Branchenverzeichnis!A351","v":"Licht- und Tontechnik samt Aufbau"},"nein"]
[0,0,0,{"$f":"Branchenverzeichnis!A352","v":"Likörerzeugung"},"nein"]
[0,0,0,{"$f":"Branchenverzeichnis!A353","v":"Lithographische Anstalt"},"nein"]
[0,0,0,{"$f":"Branchenverzeichnis!A354","v":"Logopäde"},"nein"]
[0,0,0,{"$f":"Branchenverzeichnis!A355","v":"Magnetfelddecken- u. homöopathische Artikelhandel"},"nein"]
[0,0,0,{"$f":"Branchenverzeichnis!A356","v":"Magnetfeldmattenhandel"},"nein"]
[0,0,0,{"$f":"Branchenverzeichnis!A357","v":"Maistrocknungsanlage"},"nein"]
[0,0,0,{"$f":"Branchenverzeichnis!A358","v":"Maler u. Anstreicher"},"nein"]
[0,0,0,{"$f":"Branchenverzeichnis!A359","v":"Manikürsalon"},"nein"]
[0,0,0,{"$f":"Branchenverzeichnis!A360","v":"Marktfahrer inkl. Spielgeräte"},"nein"]
[0,0,0,{"$f":"Branchenverzeichnis!A361","v":"Marmeladeerzeugung"},"nein"]
[0,0,0,{"$f":"Branchenverzeichnis!A362","v":"Marmeladehandel"},"nein"]
[0,0,0,{"$f":"Branchenverzeichnis!A363","v":"Marmorwarenerzeugung"},"nein"]
[0,0,0,{"$f":"Branchenverzeichnis!A364","v":"Maschinenerzeugung"},"nein"]
[0,0,0,{"$f":"Branchenverzeichnis!A365","v":"Maschinenhandel"},"nein"]
[0,0,0,{"$f":"Branchenverzeichnis!A366","v":"Masken- u. Kostümverleih"},"nein"]
[0,0,0,{"$f":"Branchenverzeichnis!A367","v":"Massagesalon"},"nein"]
[0,0,0,{"$f":"Branchenverzeichnis!A368","v":"Matratzenerzeugung"},"nein"]
[0,0,0,{"$f":"Branchenverzeichnis!A369","v":"Matratzenhandel"},"nein"]
[0,0,0,{"$f":"Branchenverzeichnis!A370","v":"Mattenerzeugung"},"nein"]
[0,0,0,{"$f":"Branchenverzeichnis!A371","v":"Mauertrockenlegung inkl. Erzeugung von Dichtmittel"},"nein"]
[0,0,0,{"$f":"Branchenverzeichnis!A372","v":"Mechanische Werkstätte"},"nein"]
[0,0,0,{"$f":"Branchenverzeichnis!A373","v":"Mechatroniker"},"nein"]
[0,0,0,{"$f":"Branchenverzeichnis!A374","v":"Metallbearbeitung – Oberflächentechnik"},"nein"]
[0,0,0,{"$f":"Branchenverzeichnis!A375","v":"Metalldreherei, -druckerei, -prägerei, -presserei, -schleiferei "},"nein"]
[0,0,0,{"$f":"Branchenverzeichnis!A376","v":"Metallwarenerzeugung, soweit nicht speziell angeführt"},"nein"]
[0,0,0,{"$f":"Branchenverzeichnis!A377","v":"Metallwarenhandlung"},"nein"]
[0,0,0,{"$f":"Branchenverzeichnis!A378","v":"Mineralfarbenerzeugung"},"nein"]
[0,0,0,{"$f":"Branchenverzeichnis!A379","v":"Mineralfarbenhandel"},"nein"]
[0,0,0,{"$f":"Branchenverzeichnis!A380","v":"Mineralwassererzeugung"},"nein"]
[0,0,0,{"$f":"Branchenverzeichnis!A381","v":"Mineralwasserhandel"},"nein"]
[0,0,0,{"$f":"Branchenverzeichnis!A382","v":"Möbelhandel"},"nein"]
[0,0,0,{"$f":"Branchenverzeichnis!A383","v":"Molkerei, Molkereiprodukte"},"nein"]
[0,0,0,{"$f":"Branchenverzeichnis!A384","v":"Mühle"},"nein"]
[0,0,0,{"$f":"Branchenverzeichnis!A385","v":"Mühlenbau *****)"},"nein"]
[0,0,0,{"$f":"Branchenverzeichnis!A386","v":"Müllabfuhr"},"nein"]
[0,0,{"$f":"IF(A389=1,B389,0)","v":0},{"$f":"Branchenverzeichnis!A387","v":"Müllsammelstelle – Müllumladestation"},"nein"]
[0,0,0,{"$f":"Branchenverzeichnis!A388","v":"Münzhandlung"},"nein"]
[{"$f":"IF(E391=\"beantragt\",1,0)","v":0},0,0,{"$f":"Branchenverzeichnis!A389","v":"Museum"},"nein"]
[0,0,0,{"$f":"Branchenverzeichnis!A390","v":"Musikband"},"nein"]
[0,0,0,{"$f":"Branchenverzeichnis!A391","v":"Musikinstrumentenerzeugung"},"nein"]
[0,0,0,{"$f":"Branchenverzeichnis!A392","v":"Musikinstrumentenhandel"},"nein"]
[0,0,0,{"$f":"Branchenverzeichnis!A393","v":"Nagelstudio"},"nein"]
[0,0,0,{"$f":"Branchenverzeichnis!A394","v":"Näherei"},"nein"]
[0,0,0,{"$f":"Branchenverzeichnis!A395","v":"Nähmaschinenhandel mit Reparatur"},"nein"]
[0,0,0,{"$f":"Branchenverzeichnis!A396","v":"Nationalpark"},"nein"]
[0,{"$f":"B398+A399","v":0},0,{"$f":"Branchenverzeichnis!A397","v":"Netzwarenerzeuger"},"nein"]
[0,0,0,{"$f":"Branchenverzeichnis!A398","v":"Obst- u. Gemüsehandel"},"nein"]
[0,0,0,{"$f":"Branchenverzeichnis!A399","v":"Obstbrennerei"},"nein"]
[0,0,0,{"$f":"Branchenverzeichnis!A400","v":"Ofen u. Herderzeugung"},"nein"]
[0,0,0,{"$f":"Branchenverzeichnis!A401","v":"Ofengrosshandel"},"nein"]
[0,0,0,{"$f":"Branchenverzeichnis!A402","v":"Ofengrosshandel inkl. Montage"},"nein"]
[0,0,0,{"$f":"Branchenverzeichnis!A403","v":"Ölpresserei"},"nein"]
[0,0,0,{"$f":"Branchenverzeichnis!A404","v":"Optiker"},"nein"]
[0,0,0,{"$f":"Branchenverzeichnis!A405","v":"Optometrist"},"nein"]
[0,0,0,{"$f":"Branchenverzeichnis!A406","v":"Orgelbau"},"nein"]
[0,0,0,{"$f":"Branchenverzeichnis!A407","v":"Orientteppich- und Gobelinhandel "},"nein"]
[0,0,0,{"$f":"Branchenverzeichnis!A408","v":"Orthopädische Artikelerzeugung "},"nein"]
[0,0,0,{"$f":"Branchenverzeichnis!A409","v":"Orthopädische Artikelhandel "},"nein"]
[0,0,0,{"$f":"Branchenverzeichnis!A410","v":"Outdoortrainer"},"nein"]
[0,0,0,{"$f":"Branchenverzeichnis!A411","v":"Paintballanlage"},"nein"]
[0,0,0,{"$f":"Branchenverzeichnis!A412","v":"Papier- u. Pappewarenerzeugung"},"nein"]
[0,0,0,{"$f":"Branchenverzeichnis!A413","v":"Papier- u. Pappewarenhandel"},"nein"]
[0,0,0,{"$f":"Branchenverzeichnis!A414","v":"Parfümerie"},"nein"]
[0,0,0,{"$f":"Branchenverzeichnis!A415","v":"Parkettbodenschleifer"},"nein"]
[0,0,0,{"$f":"Branchenverzeichnis!A416","v":"Partnervermittler"},"nein"]
[0,0,0,{"$f":"Branchenverzeichnis!A417","v":"Personalleasing"},"nein"]
[0,0,0,{"$f":"Branchenverzeichnis!A418","v":"Personaltraining – Sport und Entspannung"},"nein"]
[0,0,0,{"$f":"Branchenverzeichnis!A419","v":"Perückenstudio"},"nein"]
[0,0,0,{"$f":"Branchenverzeichnis!A420","v":"Pfandleihanstalt"},"nein"]
[0,0,0,{"$f":"Branchenverzeichnis!A421","v":"Pflasterer"},"nein"]
[0,0,0,{"$f":"Branchenverzeichnis!A422","v":"Pflegeheim, Seniorenheim"},"nein"]
[0,0,0,{"$f":"Branchenverzeichnis!A423","v":"Physiotherapeut"},"nein"]
[0,0,0,{"$f":"Branchenverzeichnis!A424","v":"Plakatierer"},"nein"]
[0,0,0,{"$f":"Branchenverzeichnis!A425","v":"Planen- und Folienerzeugung"},"nein"]
[0,0,0,{"$f":"Branchenverzeichnis!A426","v":"Plissier- u. Knopfpresswerkstätte"},"nein"]
[0,0,0,{"$f":"Branchenverzeichnis!A427","v":"Polstermöbelerzeugung"},"nein"]
[0,0,0,{"$f":"Branchenverzeichnis!A428","v":"Portalbau"},"nein"]
[0,0,0,{"$f":"Branchenverzeichnis!A429","v":"Porzellanhandel"},"nein"]
[0,0,0,{"$f":"Branchenverzeichnis!A430","v":"Porzellanwarenerzeugung"},"nein"]
[0,0,0,{"$f":"Branchenverzeichnis!A431","v":"Posamentierwarenerzeugung"},"nein"]
[0,0,0,{"$f":"Branchenverzeichnis!A432","v":"Posamentierwarenhandel"},"nein"]
[0,0,0,{"$f":"Branchenverzeichnis!A433","v":"Postpartner"},"nein"]
[0,0,0,{"$f":"Branchenverzeichnis!A434","v":"Postversand"},"nein"]
[0,0,0,{"$f":"Branchenverzeichnis!A435","v":"PR und Eventmarketing"},"nein"]
[0,0,0,{"$f":"Branchenverzeichnis!A436","v":"Putz- u. Reinigungsmittelerzeugung"},"nein"]
[0,0,0,{"$f":"Branchenverzeichnis!A437","v":"Putzerei, auch mit chemischen Putzautomaten **)"},"nein"]
[0,0,0,{"$f":"Branchenverzeichnis!A438","v":"Putzereiübernahmestelle"},"nein"]
[0,0,0,{"$f":"Branchenverzeichnis!A439","v":"Pyrotechnische Artikel – Erzeugung "},"nein"]
[0,0,0,{"$f":"Branchenverzeichnis!A440","v":"Pyrotechnische Artikel – Handel"},"nein"]
[0,0,0,{"$f":"Branchenverzeichnis!A441","v":"Rauchfangkehrer  ***)"},"nein"]
[0,0,0,{"$f":"Branchenverzeichnis!A442","v":"Raumausstatter"},"nein"]
[0,0,0,{"$f":"Branchenverzeichnis!A443","v":"Reformhäuser"},"nein"]
[0,0,0,{"$f":"Branchenverzeichnis!A444","v":"Reinigungsunternehmen"},"nein"]
[0,0,0,{"$f":"Branchenverzeichnis!A445","v":"Reise- u. Kartenbüros"},"nein"]
[0,0,0,{"$f":"Branchenverzeichnis!A446","v":"Reiseleiter"},"nein"]
[0,0,0,{"$f":"Branchenverzeichnis!A447","v":"Reitlehrer"},"nein"]
[0,0,0,{"$f":"Branchenverzeichnis!A448","v":"Reitstall, Pferdeeinstellbetrieb"},"nein"]
[0,0,0,{"$f":"Branchenverzeichnis!A449","v":"Restaurator"},"nein"]
[0,0,0,{"$f":"Branchenverzeichnis!A450","v":"Rodelerzeugung"},"nein"]
[0,0,{"$f":"IF(A453=1,B453,0)","v":0},{"$f":"Branchenverzeichnis!A451","v":"Rohrreinigung"},"nein"]
[0,0,0,{"$f":"Branchenverzeichnis!A452","v":"Saatgutreinigung- und -erzeugung"},"nein"]
[{"$f":"IF(E455=\"beantragt\",1,0)","v":0},0,0,{"$f":"Branchenverzeichnis!A454","v":"Samenhandlung"},"nein"]
[0,0,0,{"$f":"Branchenverzeichnis!A455","v":"Sand- u. Schottergrube, Steinbruch mit Sprengung"},"nein"]
[0,0,0,{"$f":"Branchenverzeichnis!A456","v":"Sanitärhandel"},"nein"]
[0,0,0,{"$f":"Branchenverzeichnis!A457","v":"Sattlerei"},"nein"]
[0,0,0,{"$f":"Branchenverzeichnis!A458","v":"Sauerkrauterzeugung"},"nein"]
[0,0,0,{"$f":"Branchenverzeichnis!A459","v":"Saunabetrieb"},"nein"]
[0,0,0,{"$f":"Branchenverzeichnis!A460","v":"Schädlingsbekämpfung"},"nein"]
[0,0,0,{"$f":"Branchenverzeichnis!A461","v":"Schallplattenerzeugung "},"nein"]
[0,{"$f":"B462+A463","v":0},0,{"$f":"Branchenverzeichnis!A462","v":"Schallplattenhandel, CD´s, MC´s"},"nein"]
[0,0,0,{"$f":"Branchenverzeichnis!A463","v":"Schaufenster- u. Dekorbedarfhandel"},"nein"]
[0,0,0,{"$f":"Branchenverzeichnis!A464","v":"Schaufensterdekorateur"},"nein"]
[0,0,0,{"$f":"Branchenverzeichnis!A465","v":"Schiessplatz"},"nein"]
[0,0,0,{"$f":"Branchenverzeichnis!A466","v":"Schifffahrtsbetrieb"},"nein"]
[0,0,0,{"$f":"Branchenverzeichnis!A467","v":"Schildererzeugung inkl. Montage"},"nein"]
[0,0,0,{"$f":"Branchenverzeichnis!A468","v":"Schilehrer"},"nein"]
[0,0,0,{"$f":"Branchenverzeichnis!A469","v":"Schirmbar"},"nein"]
[0,0,0,{"$f":"Branchenverzeichnis!A470","v":"Schirmerzeugung"},"nein"]
[0,0,0,{"$f":"Branchenverzeichnis!A471","v":"Schlachthof"},"nein"]
[0,0,0,{"$f":"Branchenverzeichnis!A472","v":"Schleif- u. Schmiergelpapiererzeugung"},"nein"]
[0,0,0,{"$f":"Branchenverzeichnis!A473","v":"Schleifsteinerzeugung"},"nein"]
[0,0,0,{"$f":"Branchenverzeichnis!A474","v":"Schlosserei"},"nein"]
[0,0,0,{"$f":"Branchenverzeichnis!A475","v":"Schlüsseldienst"},"nein"]
[0,0,0,{"$f":"Branchenverzeichnis!A476","v":"Schmiede – mit Hufbeschlag  ****)"},"nein"]
[0,0,0,{"$f":"Branchenverzeichnis!A477","v":"Schmiede ohne Hufbeschlag"},"nein"]
[0,0,0,{"$f":"Branchenverzeichnis!A478","v":"Schmierfetterzeugung"},"nein"]
[0,0,0,{"$f":"Branchenverzeichnis!A479","v":"Schmuckdesigner"},"nein"]
[0,0,0,{"$f":"Branchenverzeichnis!A480","v":"Schneeräumung"},"nein"]
[0,0,0,{"$f":"Branchenverzeichnis!A481","v":"Schneiderei"},"nein"]
[0,0,0,{"$f":"Branchenverzeichnis!A482","v":"Schokolade- u. Schokoladewarenerzeugung"},"nein"]
[0,0,0,{"$f":"Branchenverzeichnis!A483","v":"Schönheitspflegesalon"},"nein"]
[0,0,0,{"$f":"Branchenverzeichnis!A484","v":"Schotterwerk"},"nein"]
[0,0,0,{"$f":"Branchenverzeichnis!A485","v":"Schuherzeugung, "},"nein"]
[0,0,0,{"$f":"Branchenverzeichnis!A486","v":"Schuhhandel"},"nein"]
[0,0,0,{"$f":"Branchenverzeichnis!A487","v":"Schwarzdeckerei"},"nein"]
[0,0,0,{"$f":"Branchenverzeichnis!A488","v":"Schweinemastbetrieb"},"nein"]
[0,0,0,{"$f":"Branchenverzeichnis!A489","v":"Schweißunternehmen"},"nein"]
[0,0,0,{"$f":"Branchenverzeichnis!A490","v":"Schwimmbadhandel inkl. Montage"},"nein"]
[0,0,0,{"$f":"Branchenverzeichnis!A491","v":"Second Hand Shop"},"nein"]
[0,0,0,{"$f":"Branchenverzeichnis!A492","v":"Seifenerzeugung"},"nein"]
[0,0,0,{"$f":"Branchenverzeichnis!A493","v":"Seilerei"},"nein"]
[0,0,0,{"$f":"Branchenverzeichnis!A494","v":"Senferzeugung"},"nein"]
[0,0,0,{"$f":"Branchenverzeichnis!A495","v":"Senkgrubenräumer"},"nein"]
[0,0,0,{"$f":"Branchenverzeichnis!A496","v":"Sex-Shop"},"nein"]
[0,0,0,{"$f":"Branchenverzeichnis!A497","v":"Skierzeugung"},"nein"]
[0,0,0,{"$f":"Branchenverzeichnis!A498","v":"Snowboarderzeugung"},"nein"]
[0,0,0,{"$f":"Branchenverzeichnis!A499","v":"Sodawassererzeugung"},"nein"]
[0,0,0,{"$f":"Branchenverzeichnis!A500","v":"Sodawasserhandel"},"nein"]
[0,0,0,{"$f":"Branchenverzeichnis!A501","v":"Solarien"},"nein"]
[0,0,0,{"$f":"Branchenverzeichnis!A502","v":"Souvenierhandel"},"nein"]
[0,0,0,{"$f":"Branchenverzeichnis!A503","v":"Speditionsunternehmen"},"nein"]
[0,0,0,{"$f":"Branchenverzeichnis!A504","v":"Spenglerei"},"nein"]
[0,0,0,{"$f":"Branchenverzeichnis!A505","v":"Spiegelerzeugung"},"nein"]
[0,0,0,{"$f":"Branchenverzeichnis!A506","v":"Spielkarten – Spieleerzeugung"},"nein"]
[0,0,0,{"$f":"Branchenverzeichnis!A507","v":"Spielwarenerzeugung"},"nein"]
[0,0,0,{"$f":"Branchenverzeichnis!A508","v":"Spielwarenhandel"},"nein"]
[0,0,0,{"$f":"Branchenverzeichnis!A509","v":"Spinnerei"},"nein"]
[0,0,0,{"$f":"Branchenverzeichnis!A510","v":"Spirituosenerzeugung"},"nein"]
[0,0,0,{"$f":"Branchenverzeichnis!A511","v":"Sportanlage-Betrieb"},"nein"]
[0,0,0,{"$f":"Branchenverzeichnis!A512","v":"Sportanlagenbau"},"nein"]
[0,0,0,{"$f":"Branchenverzeichnis!A513","v":"Sportartikelhandel inkl. Montage"},"nein"]
[0,0,0,{"$f":"Branchenverzeichnis!A514","v":"Sportberatung"},"nein"]
[0,0,{"$f":"IF(A516=1,B516,0)","v":0},{"$f":"Branchenverzeichnis!A515","v":"Sportgeräteerzeugung"},"nein"]
[0,0,{"$f":"IF(A517=1,B517,0)","v":0},{"$f":"Branchenverzeichnis!A516","v":"Sportlehrer, Kinderturnlehrer"},"nein"]
[{"$f":"IF(E518=\"beantragt\",1,0)","v":0},0,{"$f":"IF(A518=1,B518,0)","v":0},{"$f":"Branchenverzeichnis!A517","v":"Sprachschule"},"nein"]
[0,0,0,{"$f":"Branchenverzeichnis!A518","v":"Sprengmittelerzeugung"},"nein"]
[0,0,0,{"$f":"Branchenverzeichnis!A519","v":"Stahlbauunternehmen"},"nein"]
[0,0,0,{"$f":"Branchenverzeichnis!A520","v":"Stahlwarenerzeugung"},"nein"]
[0,0,0,{"$f":"Branchenverzeichnis!A521","v":"Stärkeerzeugung"},"nein"]
[0,0,0,{"$f":"Branchenverzeichnis!A522","v":"Steinbruch"},"nein"]
[0,0,0,{"$f":"Branchenverzeichnis!A523","v":"Steinmetz"},"nein"]
[0,0,0,{"$f":"Branchenverzeichnis!A524","v":"Stempelerzeugung"},"nein"]
[0,0,0,{"$f":"Branchenverzeichnis!A525","v":"Stickereiwarenerzeugung"},"nein"]
[0,{"$f":"B526+A527","v":0},0,{"$f":"Branchenverzeichnis!A526","v":"Stofftiererzeugung"},"nein"]
[0,0,0,{"$f":"Branchenverzeichnis!A527","v":"Straßenreinigung (nicht Gehsteigreinigung)"},"nein"]
[0,0,0,{"$f":"Branchenverzeichnis!A528","v":"Strohkränzeerzeugung"},"nein"]
[0,0,0,{"$f":"Branchenverzeichnis!A529","v":"Strohpressen"},"nein"]
[0,0,0,{"$f":"Branchenverzeichnis!A530","v":"Strohwarenerzeugung"},"nein"]
[0,0,0,{"$f":"Branchenverzeichnis!A531","v":"Strohwarenhandel"},"nein"]
[0,0,0,{"$f":"Branchenverzeichnis!A532","v":"Stuckateur"},"nein"]
[0,0,0,{"$f":"Branchenverzeichnis!A533","v":"Supermarkt"},"nein"]
[0,0,0,{"$f":"Branchenverzeichnis!A534","v":"Surfbretterzeugung"},"nein"]
[0,0,0,{"$f":"Branchenverzeichnis!A535","v":"Tabaktrafik"},"nein"]
[0,0,0,{"$f":"Branchenverzeichnis!A536","v":"Taek won do Schule"},"nein"]
[0,0,0,{"$f":"Branchenverzeichnis!A537","v":"Taek won do Trainer"},"nein"]
[0,0,0,{"$f":"Branchenverzeichnis!A538","v":"Tagesmutter"},"nein"]
[0,0,0,{"$f":"Branchenverzeichnis!A539","v":"Tankstellen"},"nein"]
[0,0,0,{"$f":"Branchenverzeichnis!A540","v":"Tanzlehrer"},"nein"]
[0,0,0,{"$f":"Branchenverzeichnis!A541","v":"Tanzschule"},"nein"]
[0,0,0,{"$f":"Branchenverzeichnis!A542","v":"Tapetenerzeugung"},"nein"]
[0,0,0,{"$f":"Branchenverzeichnis!A543","v":"Tapetenhandel"},"nein"]
[0,0,0,{"$f":"Branchenverzeichnis!A544","v":"Tapezierer und Dekorateur"},"nein"]
[0,0,0,{"$f":"Branchenverzeichnis!A545","v":"Tätowier- und Piercingstudio"},"nein"]
[0,0,0,{"$f":"Branchenverzeichnis!A546","v":"Tauschzentralen"},"nein"]
[0,0,0,{"$f":"Branchenverzeichnis!A547","v":"Taxiunternehmen"},"nein"]
[0,0,0,{"$f":"Branchenverzeichnis!A548","v":"Teigwarenerzeugung"},"nein"]
[0,0,0,{"$f":"Branchenverzeichnis!A549","v":"Teigwarenhandel"},"nein"]
[0,0,0,{"$f":"Branchenverzeichnis!A550","v":"Teppichaufbewahrung und Reinigung "},"nein"]
[0,0,0,{"$f":"Branchenverzeichnis!A551","v":"Teppichehandel mit Verlegung"},"nein"]
[0,0,0,{"$f":"Branchenverzeichnis!A552","v":"Teppicherzeugung"},"nein"]
[0,0,0,{"$f":"Branchenverzeichnis!A553","v":"Teppichhandel ohne Verlegung"},"nein"]
[0,0,0,{"$f":"Branchenverzeichnis!A554","v":"Textildruckereien"},"nein"]
[0,0,0,{"$f":"Branchenverzeichnis!A555","v":"Textilwarenerzeugung"},"nein"]
[0,0,0,{"$f":"Branchenverzeichnis!A556","v":"Textilwarenhandel "},"nein"]
[0,0,0,{"$f":"Branchenverzeichnis!A557","v":"Theater, Kino"},"nein"]
[0,0,0,{"$f":"Branchenverzeichnis!A558","v":"Therme"},"nein"]
[0,0,0,{"$f":"Branchenverzeichnis!A559","v":"Tiefbohrunternehmen *****)"},"nein"]
[0,0,0,{"$f":"Branchenverzeichnis!A560","v":"Tiefkühlwarenerzeugung"},"nein"]
[0,0,0,{"$f":"Branchenverzeichnis!A561","v":"Tiefkühlwarenhandel"},"nein"]
[0,0,0,{"$f":"Branchenverzeichnis!A562","v":"Tierhandlung"},"nein"]
[0,0,0,{"$f":"Branchenverzeichnis!A563","v":"Tiermuseum"},"nein"]
[0,0,0,{"$f":"Branchenverzeichnis!A564","v":"Tierpension"},"nein"]
[0,0,0,{"$f":"Branchenverzeichnis!A565","v":"Tierpräparator"},"nein"]
[0,0,0,{"$f":"Branchenverzeichnis!A566","v":"Tiertrainer"},"nein"]
[0,0,0,{"$f":"Branchenverzeichnis!A567","v":"Tierzucht"},"nein"]
[0,0,0,{"$f":"Branchenverzeichnis!A569","v":"Tongewinnung"},"nein"]
[0,0,0,{"$f":"Branchenverzeichnis!A570","v":"Tonstudio"},"nein"]
[0,0,0,{"$f":"Branchenverzeichnis!A571","v":"Tonwarenerzeugung"},"nein"]
[0,0,0,{"$f":"Branchenverzeichnis!A572","v":"Töpferei"},"nein"]
[0,0,0,{"$f":"Branchenverzeichnis!A573","v":"Torfgewinnung u. Verarbeitung"},"nein"]
[0,0,0,{"$f":"Branchenverzeichnis!A574","v":"Totengräber"},"nein"]
[0,0,0,{"$f":"Branchenverzeichnis!A575","v":"Trafostation"},"nein"]
[0,0,0,{"$f":"Branchenverzeichnis!A576","v":"Transportunternehmung"},"nein"]
[0,0,0,{"$f":"Branchenverzeichnis!A577","v":"Trockeninnenausbau"},"nein"]
[0,0,0,{"$f":"Branchenverzeichnis!A578","v":"Trödler"},"nein"]
[0,0,0,{"$f":"Branchenverzeichnis!A579","v":"Uhrenerzeugung"},"nein"]
[0,0,0,{"$f":"Branchenverzeichnis!A580","v":"Uhrmacher, Handel und Reparatur"},"nein"]
[{"$f":"IF(E581=\"beantragt\",1,0)","v":0},0,{"$f":"IF(A581=1,B581,0)","v":0},{"$f":"Branchenverzeichnis!A581","v":"Veranstaltungsbetrieb"},"nein"]
[0,0,0,{"$f":"Branchenverzeichnis!A582","v":"Vergnügungspark"},"nein"]
[0,0,0,{"$f":"Branchenverzeichnis!A583","v":"Verkehrssicherungs u. Überwachungsmaßnahmen"},"nein"]
[0,0,0,{"$f":"Branchenverzeichnis!A584","v":"Vermietung von WC-Anlagen"},"nein"]
[0,0,0,{"$f":"Branchenverzeichnis!A585","v":"Verschrottungsunternehmen"},"nein"]
[0,0,0,{"$f":"Branchenverzeichnis!A586","v":"Videothek"},"nein"]
[0,0,0,{"$f":"Branchenverzeichnis!A587","v":"Viehhandel"},"nein"]
[0,0,0,{"$f":"Branchenverzeichnis!A588","v":"Vinothek"},"nein"]
[0,0,0,{"$f":"Branchenverzeichnis!A589","v":"Vulkanisierbetrieb"},"nein"]
[0,0,0,{"$f":"Branchenverzeichnis!A590","v":"Waagenerzeugung"},"nein"]
[0,{"$f":"B590+A591","v":0},0,{"$f":"Branchenverzeichnis!A591","v":"Wachdienst"},"nein"]
[0,0,0,{"$f":"Branchenverzeichnis!A592","v":"Wachszieherei"},"nein"]
[0,0,0,{"$f":"Branchenverzeichnis!A593","v":"Waffenhandlung"},"nein"]
[0,0,0,{"$f":"Branchenverzeichnis!A595","v":"Waren- u. Kaufhaus, Supermarkt"},"nein"]
[0,0,0,{"$f":"Branchenverzeichnis!A596","v":"Waschautomat-Selbstbedienung  **)"},"nein"]
[0,0,0,{"$f":"Branchenverzeichnis!A597","v":"Wäschebügeln"},"nein"]
[0,0,0,{"$f":"Branchenverzeichnis!A598","v":"Wäscheerzeugung"},"nein"]
[0,0,0,{"$f":"Branchenverzeichnis!A599","v":"Wäscherei  **)"},"nein"]
[0,0,0,{"$f":"Branchenverzeichnis!A600","v":"Wasseraufbereitungsanlagenhandel inkl. Montage"},"nein"]
[0,0,0,{"$f":"Branchenverzeichnis!A601","v":"Wasserwerke"},"nein"]
[0,0,0,{"$f":"Branchenverzeichnis!A602","v":"Watteerzeugung"},"nein"]
[0,0,0,{"$f":"Branchenverzeichnis!A603","v":"Webereien"},"nein"]
[0,0,0,{"$f":"Branchenverzeichnis!A604","v":"Wein- u. Schaumweinerzeugung"},"nein"]
[0,0,0,{"$f":"Branchenverzeichnis!A605","v":"Wein- und Schaumweinhandel"},"nein"]
[0,0,0,{"$f":"Branchenverzeichnis!A606","v":"Weinreben einpflanzen"},"nein"]
[0,0,0,{"$f":"Branchenverzeichnis!A607","v":"Werbeagentur"},"nein"]
[0,0,0,{"$f":"Branchenverzeichnis!A608","v":"Werbeartikelerzeugung"},"nein"]
[0,0,0,{"$f":"Branchenverzeichnis!A609","v":"Werbeartikelhandel"},"nein"]
[0,0,0,{"$f":"Branchenverzeichnis!A610","v":"Werkzeugerzeugung"},"nein"]
[0,0,0,{"$f":"Branchenverzeichnis!A611","v":"Werkzeughandel"},"nein"]
[0,0,0,{"$f":"Branchenverzeichnis!A612","v":"Wildprethandlung"},"nein"]
[0,0,0,{"$f":"Branchenverzeichnis!A613","v":"Woll-, Wirk- u. Garnwarenerzeugung"},"nein"]
[0,0,0,{"$f":"Branchenverzeichnis!A614","v":"Woll-, Wirk- u. Garnwarenhandel"},"nein"]
[0,0,0,{"$f":"Branchenverzeichnis!A615","v":"Würstelstand"},"nein"]
[0,0,0,{"$f":"Branchenverzeichnis!A616","v":"Zahntechnisches Atelier"},"nein"]
[0,0,0,{"$f":"Branchenverzeichnis!A617","v":"Zauberer"},"nein"]
[0,0,0,{"$f":"Branchenverzeichnis!A618","v":"Zeitschriftenhandel"},"nein"]
[0,0,0,{"$f":"Branchenverzeichnis!A619","v":"Zellwolleerzeugung"},"nein"]
[0,0,0,{"$f":"Branchenverzeichnis!A620","v":"Zementerzeugung"},"nein"]
[0,0,0,{"$f":"Branchenverzeichnis!A621","v":"Ziegelei"},"nein"]
[0,0,0,{"$f":"Branchenverzeichnis!A623","v":"Zusammenbau von Möbelbausätzen"},"nein"]

{"sheet":"Basisdaten","index":6,"n_rows":46,"n_cols":26,"rows_kept":46,"cut":false,"hidden":false,"merged":[[6,1,6,2],[6,3,6,4],[6,5,6,6],[7,1,7,2],[7,3,7,4],[7,5,7,6],[8,1,8,2],[2,13,2,15],[4,7,4,9],[4,11,4,16],[4,1,4,2],[5,1,5,2],[5,3,5,4],[5,5,5,6],[5,15,5,16],[3,1,3,2],[8,3,8,4],[8,5,8,6],[6,15,6,16],[7,15,7,16],[8,15,8,16],[9,1,9,2],[9,3,9,4],[9,5,9,6],[10,1,10,2],[10,3,10,4],[10,5,10,6],[31,1,31,2],[31,3,31,4],[31,5,31,6],[16,1,16,2],[16,3,16,4],[16,5,16,6],[14,1,14,2],[14,3,14,4],[14,5,14,6],[15,1,15,2],[15,3,15,4],[11,1,11,2],[11,3,11,4],[11,5,11,6],[15,5,15,6],[12,1,12,2],[12,3,12,4],[12,5,12,6],[25,3,25,4],[25,5,25,6],[13,1,13,2],[13,3,13,4],[13,5,13,6],[27,5,27,6],[30,1,30,2],[30,3,30,4],[30,5,30,6],[28,1,28,2],[18,1,18,2],[17,1,17,2],[17,3,17,4],[17,5,17,6],[27,1,27,2],[27,3,27,4],[23,1,23,2],[23,3,23,4],[23,5,23,6],[29,1,29,2],[29,3,29,4],[29,5,29,6],[28,3,28,4],[28,5,28,6],[29,7,29,8],[29,9,29,10],[16,7,16,8],[16,9,16,10],[28,15,28,16],[23,15,23,16],[22,1,22,2],[17,9,17,10],[17,7,17,8],[27,15,27,16],[24,1,24,2],[24,3,24,4],[24,5,24,6],[24,15,24,16],[25,1,25,2],[25,15,25,16],[26,15,26,16],[18,3,18,4],[26,1,26,2],[26,3,26,4],[26,5,26,6],[18,5,18,6],[18,7,18,8],[18,9,18,10],[11,15,11,16],[12,15,12,16],[13,15,13,16],[14,15,14,16],[15,15,15,16],[9,15,9,16],[10,15,10,16],[22,7,22,9],[22,11,22,16],[35,7,35,9],[35,11,35,16],[35,1,35,2],[36,1,36,2],[36,3,36,4],[36,5,36,6],[36,15,36,16],[30,7,30,8],[30,9,30,10],[31,7,31,8],[31,9,31,10],[39,1,39,2],[39,3,39,4],[39,5,39,6],[39,15,39,16],[40,1,40,2],[40,3,40,4],[40,5,40,6],[40,15,40,16],[37,1,37,2],[37,3,37,4],[37,5,37,6],[37,15,37,16],[38,1,38,2],[38,3,38,4],[38,5,38,6],[38,15,38,16],[41,1,41,2],[41,3,41,4],[41,5,41,6],[41,15,41,16],[42,1,42,2],[42,3,42,4],[42,5,42,6],[42,7,42,8],[42,9,42,10],[43,1,43,2],[43,3,43,4],[43,5,43,6],[43,7,43,8],[43,9,43,10],[44,1,44,2],[44,3,44,4],[44,5,44,6],[44,7,44,8],[44,9,44,10]]}
[null,null,null,null,null,null,null,null,null,null,null,null,null,null,null,null,null,null,null,"Makrospalte"]
[]
[null,"Die Angabe von Risikoorten ist nicht erforderlich, falls nur Sparte Haftpflicht oder Rechtsschutz berechnet wird. ",null,null,null,null,null,null,null,null,null,null,null,"Info Rohbauversicherung:"]
[null,"Risikoort 1",null,null,{"$f":"IF('Berechnung Grund'!I79>10000000,\"Ab 10.000.000 KTE ist dieser Tarif nicht anwendbar.\",\"\")","v":""},null,null,null,null,null,null,null,null,null,null,null,null,null,null,true]
[null,"Adresse wie VN",null,null,"PLZ",null,"Ort",null,null,null,"Straße",null,null,null,null,null,null,null,null,true,"Art","Bauart","ja/nein","Gew. Fläche","Bezeichnung","Bruchteil"]
[null,"Gebäude",null,"Versicherungs-summe",null,"Art des Gebäudes",null,"Bauart","hartes Dach","Gew. Fläche","LW","LW: 10 Zimmer","Pool","Sturm","Sturm: Offen","Bezeichnung",null,null,null,null,"Keine Prod.","I","ja","bis 1/3",null,"nein"]
[null,"Gebäude 1",null,null,null,null,null,null,null,null,"ja",null,null,"ja",null,null,null,{"$f":"IF(AND(D7>0,COUNTA(F7:Q7)<10),\"bitte alle Daten angeben\",\"\")","v":""},null,null,"Produktion","II","nein","1/3-2/3",null,"ja, volle VS"]
[null,"Gebäude 2",null,null,null,null,null,null,null,null,"ja",null,null,"ja",null,null,null,"",null,null,null,null,null,"über 2/3",null,{"$f":"\"Bruchteil \"&'Berechnung Grund'!M5&\"%\"","v":"Bruchteil 40%"}]
[null,"Gebäude 3",null,null,null,null,null,null,null,null,"ja",null,null,"ja",null,null,null,"",null,null,null,null,null,null,null,{"$f":"\"Bruchteil \"&'Berechnung Grund'!M6&\"%\"","v":"Bruchteil 35%"}]
[null,"Gebäude 4",null,null,null,null,null,null,null,null,"ja",null,null,"ja",null,null,null,"",null,null,null,null,null,null,null,{"$f":"\"Bruchteil \"&'Berechnung Grund'!M7&\"%\"","v":"Bruchteil 30%"}]
[null,"Gebäude 5",null,null,null,null,null,null,null,null,"ja",null,null,"ja",null,null,null,"",null,null,null,null,null,null,null,{"$f":"\"Bruchteil \"&'Berechnung Grund'!M8&\"%\"","v":"Bruchteil 25%"}]
[null,"Gebäude 6",null,null,null,null,null,null,null,null,"ja",null,null,"ja",null,null,null,"",null,null,null,null,null,null,null,{"$f":"\"Bruchteil \"&'Berechnung Grund'!M9&\"%\"","v":"Bruchteil 20%"}]
[null,"Gebäude 7",null,null,null,null,null,null,null,null,"ja",null,null,"ja",null,null,null,"",null,null,null,null,null,null,null,{"$f":"\"Bruchteil \"&'Berechnung Grund'!M10&\"%\"","v":"Bruchteil 15%"}]
[null,"Gebäude 8",null,null,null,null,null,null,null,null,"ja",null,null,"ja",null,null,null,"",null,null,null,null,null,null,null,{"$f":"\"Bruchteil \"&'Berechnung Grund'!M11&\"%\"","v":"Bruchteil 10%"}]
[null,"Gebäude 9",null,null,null,null,null,null,null,null,"ja",null,null,"ja",null,null,null,"",null,null,"Risikoort 1 - Adresse",null,null,null,null,{"$f":"\"Bruchteil \"&'Berechnung Grund'!M12&\"%\"","v":"Bruchteil 5%"}]
[null,"Gebäude 10",null,null,null,null,null,null,null,null,"ja",null,null,"ja",null,null,null,"",null,null,"PLZ",{"$f":"IF(T5=TRUE,Kundendaten!O9,Basisdaten!F5)","v":0},null,null,null,{"$f":"\"Bruchteil \"&'Berechnung Grund'!M13&\"%\"","v":"Bruchteil 4%"}]
[null,"Inhalt",null,"VS",null,"Einbruch",null,"Sturm",null,"LW",null,null,null,null,null,null,null,null,null,null,"Ort",{"$f":"IF(T5=TRUE,IF(Kundendaten!O11=\"\",Kundendaten!O10,Kundendaten!O11),Basisdaten!H5)","v":{"$error":"#N/A"}},null,null,null,{"$f":"\"Bruchteil \"&'Berechnung Grund'!M14&\"%\"","v":"Bruchteil 3%"}]
[null,"KTE",null,null,null,"ja, volle VS",null,"ja, volle VS",null,"ja, volle VS",null,null,null,null,null,null,null,null,null,null,"Straße",{"$f":"IF(T5=TRUE,Kundendaten!O8,Basisdaten!L5)","v":0},null,null,null,{"$f":"\"Bruchteil \"&'Berechnung Grund'!M15&\"%\"","v":"Bruchteil 2%"}]
[null,"Vorräte",null,null,null,"ja, volle VS",null,"ja, volle VS",null,"ja, volle VS",null,null,null,null,null,null,null,null,null,null,null,null,null,null,null,{"$f":"\"Bruchteil \"&'Berechnung Grund'!M16&\"%\"","v":"Bruchteil 1%"}]
[]
[]
[]
[null,"Risikoort 2",null,null,"PLZ",null,"Ort",null,null,null,"Straße",null,null,null,null,null,null,null,null,false]
[null,"Gebäude",null,"Versicherungs-summe",null,"Art des Gebäudes",null,"Bauart","hartes Dach","Gew. Fläche","LW","LW: 10 Zimmer","Pool","Sturm","Offen","Bezeichnung",null,{"$f":"IF(AND(D24>0,COUNTA(F24:Q24)<10),\"bitte alle Daten angeben\",\"\")","v":""}]
[null,"Gebäude 1",null,null,null,null,null,null,null,null,null,null,null,null,null,null,null,""]
[null,"Gebäude 2",null,null,null,null,null,null,null,null,null,null,null,null,null,null,null,""]
[null,"Gebäude 3",null,null,null,null,null,null,null,null,null,null,null,null,null,null,null,""]
[null,"Gebäude 4",null,null,null,null,null,null,null,null,null,null,null,null,null,null,null,""]
[null,"Gebäude 5",null,null,null,null,null,null,null,null,null,null,null,null,null,null,null,""]
[null,"Inhalt",null,"VS",null,"Einbruch",null,"Sturm",null,"LW"]
[null,"KTE",null,null,null,"ja, volle VS",null,"ja, volle VS",null,"ja, volle VS"]
[null,"Vorräte",null,null,null,"ja, volle VS",null,"ja, volle VS",null,"ja, volle VS"]
[null,{"$f":"IF(S23=1,\"Bitte Gebäude, KTE oder Vorräte anlegen\",\"\")","v":""}]
[]
[]
[null,"Risikoort 3",null,null,"PLZ",null,"Ort",null,null,null,"Straße",null,null,null,null,null,null,null,null,false]
[null,"Gebäude",null,"Versicherungs-summe",null,"Art des Gebäudes",null,"Bauart","hartes Dach","Gew. Fläche","LW","LW: 10 Zimmer","Pool","Sturm","Offen","Bezeichnung",null,{"$f":"IF(AND(D37>0,COUNTA(F37:Q37)<10),\"bitte alle Daten angeben\",\"\")","v":""}]
[null,"Gebäude 1",null,null,null,null,null,null,null,null,null,null,null,null,null,null,null,""]
[null,"Gebäude 2",null,null,null,null,null,null,null,null,null,null,null,null,null,null,null,""]
[null,"Gebäude 3",null,null,null,null,null,null,null,null,null,null,null,null,null,null,null,""]
[null,"Gebäude 4",null,null,null,null,null,null,null,null,null,null,null,null,null,null,null,""]
[null,"Gebäude 5",null,null,null,null,null,null,null,null,null,null,null,null,null,null,null,""]
[null,"Inhalt",null,"VS",null,"Einbruch",null,"Sturm",null,"LW"]
[null,"KTE",null,null,null,"ja, volle VS",null,"ja, volle VS",null,"ja, volle VS"]
[null,"Vorräte",null,null,null,"ja, volle VS",null,"ja, volle VS",null,"ja, volle VS"]
[null,{"$f":"IF(S36=1,\"Bitte Gebäude, KTE oder Vorräte anlegen\",\"\")","v":""}]

{"sheet":"Berechnung Grund","index":7,"n_rows":90,"n_cols":32,"rows_kept":90,"cut":false,"hidden":true,"merged":[[57,20,57,21],[19,4,19,5],[19,6,19,7],[57,5,57,8],[26,1,26,2],[19,1,20,1],[56,1,56,2],[55,1,55,2],[41,1,41,2],[19,8,20,8],[38,1,38,2],[28,1,28,17],[19,9,20,9],[19,17,20,17],[57,13,57,16],[34,1,34,2],[0,11,0,13],[44,5,44,8],[44,1,44,2],[44,9,44,12],[44,13,44,16],[43,1,43,2],[19,11,19,15],[32,8,32,12],[33,1,33,2],[19,10,20,10],[44,3,44,4],[4,2,4,5],[35,1,35,2],[19,3,20,3],[50,19,50,24],[17,1,17,17],[19,2,20,2],[17,28,17,30],[32,19,32,24],[36,1,36,2],[37,1,37,2],[17,20,17,22],[18,21,18,22],[23,21,23,22],[44,20,44,21],[17,24,17,26],[50,8,50,12],[77,15,77,18],[76,1,76,2],[76,7,76,8],[63,19,63,24],[64,1,64,2],[70,9,70,12],[70,1,70,2],[70,5,70,8],[69,1,69,2],[65,1,65,2],[70,13,70,16],[70,3,70,4],[66,1,66,2],[67,1,67,2],[70,20,70,21],[68,1,68,2],[51,1,51,2],[63,8,63,12],[39,1,39,2],[40,1,40,2],[42,1,42,2],[57,1,57,2],[57,3,57,4],[53,1,53,2],[54,1,54,2],[57,9,57,12],[52,1,52,2]]}
[null,null,null,null,null,null,null,null,null,null,null,"Bruchteilversicherung",null,null,null,null,null,null,"Art","Bauart","Dachung","Gew. Fläche","Bezeichnung","Bruchteil"]
[null,null,null,null,null,null,null,null,null,null,null,"Bezeichnung","Bruchteil %","Nachlass %",null,null,null,null,"Keine Prod.","I","ja","bis 1/3"]
[null,null,null,null,null,null,null,null,null,null,null,"nein",0,100,null,null,null,null,"Produktion","II","nein","1/3-2/3"]
[null,null,null,null,null,null,null,null,null,null,null,"ja, volle VS",100,0,null,null,null,null,null,null,null,"über 2/3"]
[null,null,"Sätze für BU",null,null,null,null,null,null,null,null,{"$f":"\"Bruchteil \"&'Berechnung Grund'!M5&\"%\"","v":"Bruchteil 40%"},40,10]
[null,null,"T-BU","ED","LW","ST",null,null,null,null,null,{"$f":"\"Bruchteil \"&'Berechnung Grund'!M6&\"%\"","v":"Bruchteil 35%"},35,15]
[null,null,{"$f":"F30*1000","v":0},{"$f":"VLOOKUP($C$7,$F$22:$J$26,2,FALSE)/1000","v":{"$error":"#N/A"}},{"$f":"VLOOKUP($C$7,$F$22:$J$26,4,FALSE)/1000","v":{"$error":"#N/A"}},{"$f":"VLOOKUP($C$7,$F$22:$K$26,6,FALSE)/1000","v":{"$error":"#N/A"}},null,null,null,null,null,{"$f":"\"Bruchteil \"&'Berechnung Grund'!M7&\"%\"","v":"Bruchteil 30%"},30,20]
[null,null,null,null,null,null,null,null,null,null,null,{"$f":"\"Bruchteil \"&'Berechnung Grund'!M8&\"%\"","v":"Bruchteil 25%"},25,25]
[null,null,null,null,null,null,null,null,null,null,null,{"$f":"\"Bruchteil \"&'Berechnung Grund'!M9&\"%\"","v":"Bruchteil 20%"},20,30]
[null,"Höchstprämiensatzminderung Feuer",null,null,null,null,null,null,null,null,null,{"$f":"\"Bruchteil \"&'Berechnung Grund'!M10&\"%\"","v":"Bruchteil 15%"},15,35]
[null,"Max. Satz",{"$f":"MAX(D22:D26)","v":0},null,null,null,null,null,null,null,null,{"$f":"\"Bruchteil \"&'Berechnung Grund'!M11&\"%\"","v":"Bruchteil 10%"},10,40]
[null,"Min. Satz",{"$f":"MIN(D22:D26)","v":0},null,null,null,null,null,null,null,null,{"$f":"\"Bruchteil \"&'Berechnung Grund'!M12&\"%\"","v":"Bruchteil 5%"},5,45]
[null,"Minderungsgrenze",0.6,null,null,null,null,null,null,null,null,{"$f":"\"Bruchteil \"&'Berechnung Grund'!M13&\"%\"","v":"Bruchteil 4%"},4,50]
[null,"Minderungswert",0.2,null,null,null,null,null,null,null,null,{"$f":"\"Bruchteil \"&'Berechnung Grund'!M14&\"%\"","v":"Bruchteil 3%"},3,55]
[null,"Minderung?",{"$f":"IF(C12/C11<C13,1,0)","v":{"$error":"#DIV/0!"}},null,null,null,null,null,null,null,null,{"$f":"\"Bruchteil \"&'Berechnung Grund'!M15&\"%\"","v":"Bruchteil 2%"},2,60]
[null,"Promillesatz",{"$f":"C11*(1-C14*C15)","v":{"$error":"#DIV/0!"}},null,null,null,null,null,null,null,null,{"$f":"\"Bruchteil \"&'Berechnung Grund'!M16&\"%\"","v":"Bruchteil 1%"},1,65]
[]
[null,"Branchenindex",null,null,null,null,null,null,null,null,null,null,null,null,null,null,null,null,null,null,"Feuer-Promille",null,null,null,"LW-Promille",null,null,null,"Sturm Promille"]
[null,"Spalte",2,3,4,5,6,7,8,9,10,11,12,13,14,15,16,17,null,null,"Belegfl.","Keine Produktion",null,null,"Variante","10 Zimmer","Normal",null,"Bundesland","I","II"]
[null,"Branchenverzeichnis","HHS","F","BU",null,"ED",null,"LW","G","ST","Haftpflicht",null,null,null,null,"TP","RS",null,null,null,"I","II",null,"A",{"$f":"0.37/1000","v":3.6999999999999999E-4},{"$f":"0.25/1000","v":2.5000000000000001E-4},null,"Wien",{"$f":"0.19/1000","v":1.9000000000000001E-4},{"$f":"0.5/1000","v":5.0000000000000001E-4},"Technik Promille"]
[null,null,null,null,"F-BU","T-BU","ED","SI",null,null,null,"LS","MP","UP","UW","Erw. P.",null,null,null,null,"bis 1/3",{"$f":"0.22/1000","v":2.2000000000000001E-4},{"$f":"0.66/1000","v":6.6E-4},null,"C",{"$f":"1.1/1000","v":1.1000000000000001E-3},{"$f":"0.75/1000","v":7.5000000000000002E-4},null,"Rest-Ö",{"$f":"0.39/1000","v":3.8999999999999999E-4},{"$f":"0.9/1000","v":8.9999999999999998E-4}]
[null,{"$f":"IF(Branche!D5=\"\",\"\",Branche!D5)","v":""},{"$f":"IF($B22=\"\",\"\",VLOOKUP($B22,Branchenverzeichnis!$A$1:$Q$623,C$19,))","v":""},{"$f":"IF($B22=\"\",\"\",VLOOKUP($B22,Branchenverzeichnis!$A$1:$Q$623,D$19,))","v":""},{"$f":"IF($B22=\"\",\"\",VLOOKUP($B22,Branchenverzeichnis!$A$1:$Q$623,E$19,))","v":""},{"$f":"IF($B22=\"\",\"\",VLOOKUP($B22,Branchenverzeichnis!$A$1:$Q$623,F$19,))","v":""},{"$f":"IF($B22=\"\",\"\",VLOOKUP($B22,Branchenverzeichnis!$A$1:$Q$623,G$19,))","v":""},{"$f":"IF($B22=\"\",\"\",VLOOKUP($B22,Branchenverzeichnis!$A$1:$Q$623,H$19,))","v":""},{"$f":"IF($B22=\"\",\"\",VLOOKUP($B22,Branchenverzeichnis!$A$1:$Q$623,I$19,))","v":""},{"$f":"IF($B22=\"\",\"\",VLOOKUP($B22,Branchenverzeichnis!$A$1:$Q$623,J$19,))","v":""},{"$f":"IF($B22=\"\",\"\",VLOOKUP($B22,Branchenverzeichnis!$A$1:$Q$623,K$19,))","v":""},{"$f":"IF($B22=\"\",\"\",VLOOKUP($B22,Branchenverzeichnis!$A$1:$Q$623,L$19,))","v":""},{"$f":"IF($B22=\"\",\"\",VLOOKUP($B22,Branchenverzeichnis!$A$1:$Q$623,M$19,))","v":""},{"$f":"IF($B22=\"\",\"\",VLOOKUP($B22,Branchenverzeichnis!$A$1:$Q$623,N$19,))","v":""},{"$f":"IF($B22=\"\",\"\",VLOOKUP($B22,Branchenverzeichnis!$A$1:$Q$623,O$19,))","v":""},{"$f":"IF($B22=\"\",\"\",VLOOKUP($B22,Branchenverzeichnis!$A$1:$Q$623,P$19,))","v":""},{"$f":"IF($B22=\"\",\"\",VLOOKUP($B22,Branchenverzeichnis!$A$1:$Q$623,Q$19,))","v":""},{"$f":"IF($B22=\"\",\"\",VLOOKUP($B22,Branchenverzeichnis!$A$1:$Q$623,R$19,))","v":""},null,null,"1/3-2/3",{"$f":"0.38/1000","v":3.8000000000000002E-4},{"$f":"0.99/1000","v":9.8999999999999999E-4},null,"D",{"$f":"1.3/1000","v":1.2999999999999999E-3},{"$f":"0.9/1000","v":8.9999999999999998E-4}]
[null,{"$f":"IF(Branche!D6=\"\",\"\",Branche!D6)","v":""},{"$f":"IF($B23=\"\",\"\",VLOOKUP($B23,Branchenverzeichnis!$A$1:$Q$623,C$19,))","v":""},{"$f":"IF($B23=\"\",\"\",VLOOKUP($B23,Branchenverzeichnis!$A$1:$Q$623,D$19,))","v":""},{"$f":"IF($B23=\"\",\"\",VLOOKUP($B23,Branchenverzeichnis!$A$1:$Q$623,E$19,))","v":""},{"$f":"IF($B23=\"\",\"\",VLOOKUP($B23,Branchenverzeichnis!$A$1:$Q$623,F$19,))","v":""},{"$f":"IF($B23=\"\",\"\",VLOOKUP($B23,Branchenverzeichnis!$A$1:$Q$623,G$19,))","v":""},{"$f":"IF($B23=\"\",\"\",VLOOKUP($B23,Branchenverzeichnis!$A$1:$Q$623,H$19,))","v":""},{"$f":"IF($B23=\"\",\"\",VLOOKUP($B23,Branchenverzeichnis!$A$1:$Q$623,I$19,))","v":""},{"$f":"IF($B23=\"\",\"\",VLOOKUP($B23,Branchenverzeichnis!$A$1:$Q$623,J$19,))","v":""},{"$f":"IF($B23=\"\",\"\",VLOOKUP($B23,Branchenverzeichnis!$A$1:$Q$623,K$19,))","v":""},{"$f":"IF($B23=\"\",\"\",VLOOKUP($B23,Branchenverzeichnis!$A$1:$Q$623,L$19,))","v":""},{"$f":"IF($B23=\"\",\"\",VLOOKUP($B23,Branchenverzeichnis!$A$1:$Q$623,M$19,))","v":""},{"$f":"IF($B23=\"\",\"\",VLOOKUP($B23,Branchenverzeichnis!$A$1:$Q$623,N$19,))","v":""},{"$f":"IF($B23=\"\",\"\",VLOOKUP($B23,Branchenverzeichnis!$A$1:$Q$623,O$19,))","v":""},{"$f":"IF($B23=\"\",\"\",VLOOKUP($B23,Branchenverzeichnis!$A$1:$Q$623,P$19,))","v":""},{"$f":"IF($B23=\"\",\"\",VLOOKUP($B23,Branchenverzeichnis!$A$1:$Q$623,Q$19,))","v":""},{"$f":"IF($B23=\"\",\"\",VLOOKUP($B23,Branchenverzeichnis!$A$1:$Q$623,R$19,))","v":""},null,null,"über 2/3",{"$f":"0.44/1000","v":4.4000000000000002E-4},{"$f":"1.1/1000","v":1.1000000000000001E-3},null,null,null,null,null,"Zuschlag nicht hartes Dach",null,0.5]
[null,{"$f":"IF(Branche!D7=\"\",\"\",Branche!D7)","v":""},{"$f":"IF($B24=\"\",\"\",VLOOKUP($B24,Branchenverzeichnis!$A$1:$Q$623,C$19,))","v":""},{"$f":"IF($B24=\"\",\"\",VLOOKUP($B24,Branchenverzeichnis!$A$1:$Q$623,D$19,))","v":""},{"$f":"IF($B24=\"\",\"\",VLOOKUP($B24,Branchenverzeichnis!$A$1:$Q$623,E$19,))","v":""},{"$f":"IF($B24=\"\",\"\",VLOOKUP($B24,Branchenverzeichnis!$A$1:$Q$623,F$19,))","v":""},{"$f":"IF($B24=\"\",\"\",VLOOKUP($B24,Branchenverzeichnis!$A$1:$Q$623,G$19,))","v":""},{"$f":"IF($B24=\"\",\"\",VLOOKUP($B24,Branchenverzeichnis!$A$1:$Q$623,H$19,))","v":""},{"$f":"IF($B24=\"\",\"\",VLOOKUP($B24,Branchenverzeichnis!$A$1:$Q$623,I$19,))","v":""},{"$f":"IF($B24=\"\",\"\",VLOOKUP($B24,Branchenverzeichnis!$A$1:$Q$623,J$19,))","v":""},{"$f":"IF($B24=\"\",\"\",VLOOKUP($B24,Branchenverzeichnis!$A$1:$Q$623,K$19,))","v":""},{"$f":"IF($B24=\"\",\"\",VLOOKUP($B24,Branchenverzeichnis!$A$1:$Q$623,L$19,))","v":""},{"$f":"IF($B24=\"\",\"\",VLOOKUP($B24,Branchenverzeichnis!$A$1:$Q$623,M$19,))","v":""},{"$f":"IF($B24=\"\",\"\",VLOOKUP($B24,Branchenverzeichnis!$A$1:$Q$623,N$19,))","v":""},{"$f":"IF($B24=\"\",\"\",VLOOKUP($B24,Branchenverzeichnis!$A$1:$Q$623,O$19,))","v":""},{"$f":"IF($B24=\"\",\"\",VLOOKUP($B24,Branchenverzeichnis!$A$1:$Q$623,P$19,))","v":""},{"$f":"IF($B24=\"\",\"\",VLOOKUP($B24,Branchenverzeichnis!$A$1:$Q$623,Q$19,))","v":""},{"$f":"IF($B24=\"\",\"\",VLOOKUP($B24,Branchenverzeichnis!$A$1:$Q$623,R$19,))","v":""},null,null,"Belegfl.","Produktion",null,null,"LW-Variante",{"$f":"Sach!R170","v":"A"},null,null,"Zuschlag offenes Gebäude",null,1]
[null,{"$f":"IF(Branche!D8=\"\",\"\",Branche!D8)","v":""},{"$f":"IF($B25=\"\",\"\",VLOOKUP($B25,Branchenverzeichnis!$A$1:$Q$623,C$19,))","v":""},{"$f":"IF($B25=\"\",\"\",VLOOKUP($B25,Branchenverzeichnis!$A$1:$Q$623,D$19,))","v":""},{"$f":"IF($B25=\"\",\"\",VLOOKUP($B25,Branchenverzeichnis!$A$1:$Q$623,E$19,))","v":""},{"$f":"IF($B25=\"\",\"\",VLOOKUP($B25,Branchenverzeichnis!$A$1:$Q$623,F$19,))","v":""},{"$f":"IF($B25=\"\",\"\",VLOOKUP($B25,Branchenverzeichnis!$A$1:$Q$623,G$19,))","v":""},{"$f":"IF($B25=\"\",\"\",VLOOKUP($B25,Branchenverzeichnis!$A$1:$Q$623,H$19,))","v":""},{"$f":"IF($B25=\"\",\"\",VLOOKUP($B25,Branchenverzeichnis!$A$1:$Q$623,I$19,))","v":""},{"$f":"IF($B25=\"\",\"\",VLOOKUP($B25,Branchenverzeichnis!$A$1:$Q$623,J$19,))","v":""},{"$f":"IF($B25=\"\",\"\",VLOOKUP($B25,Branchenverzeichnis!$A$1:$Q$623,K$19,))","v":""},{"$f":"IF($B25=\"\",\"\",VLOOKUP($B25,Branchenverzeichnis!$A$1:$Q$623,L$19,))","v":""},{"$f":"IF($B25=\"\",\"\",VLOOKUP($B25,Branchenverzeichnis!$A$1:$Q$623,M$19,))","v":""},{"$f":"IF($B25=\"\",\"\",VLOOKUP($B25,Branchenverzeichnis!$A$1:$Q$623,N$19,))","v":""},{"$f":"IF($B25=\"\",\"\",VLOOKUP($B25,Branchenverzeichnis!$A$1:$Q$623,O$19,))","v":""},{"$f":"IF($B25=\"\",\"\",VLOOKUP($B25,Branchenverzeichnis!$A$1:$Q$623,P$19,))","v":""},{"$f":"IF($B25=\"\",\"\",VLOOKUP($B25,Branchenverzeichnis!$A$1:$Q$623,Q$19,))","v":""},{"$f":"IF($B25=\"\",\"\",VLOOKUP($B25,Branchenverzeichnis!$A$1:$Q$623,R$19,))","v":""},null,null,null,"I","II",null,null,"10 Zimmer","Normal"]
[null,{"$f":"IF(Branche!D9=\"\",\"\",Branche!D9)","v":""},{"$f":"IF($B26=\"\",\"\",VLOOKUP($B26,Branchenverzeichnis!$A$1:$Q$623,C$19,))","v":""},{"$f":"IF($B26=\"\",\"\",VLOOKUP($B26,Branchenverzeichnis!$A$1:$Q$623,D$19,))","v":""},{"$f":"IF($B26=\"\",\"\",VLOOKUP($B26,Branchenverzeichnis!$A$1:$Q$623,E$19,))","v":""},{"$f":"IF($B26=\"\",\"\",VLOOKUP($B26,Branchenverzeichnis!$A$1:$Q$623,F$19,))","v":""},{"$f":"IF($B26=\"\",\"\",VLOOKUP($B26,Branchenverzeichnis!$A$1:$Q$623,G$19,))","v":""},{"$f":"IF($B26=\"\",\"\",VLOOKUP($B26,Branchenverzeichnis!$A$1:$Q$623,H$19,))","v":""},{"$f":"IF($B26=\"\",\"\",VLOOKUP($B26,Branchenverzeichnis!$A$1:$Q$623,I$19,))","v":""},{"$f":"IF($B26=\"\",\"\",VLOOKUP($B26,Branchenverzeichnis!$A$1:$Q$623,J$19,))","v":""},{"$f":"IF($B26=\"\",\"\",VLOOKUP($B26,Branchenverzeichnis!$A$1:$Q$623,K$19,))","v":""},{"$f":"IF($B26=\"\",\"\",VLOOKUP($B26,Branchenverzeichnis!$A$1:$Q$623,L$19,))","v":""},{"$f":"IF($B26=\"\",\"\",VLOOKUP($B26,Branchenverzeichnis!$A$1:$Q$623,M$19,))","v":""},{"$f":"IF($B26=\"\",\"\",VLOOKUP($B26,Branchenverzeichnis!$A$1:$Q$623,N$19,))","v":""},{"$f":"IF($B26=\"\",\"\",VLOOKUP($B26,Branchenverzeichnis!$A$1:$Q$623,O$19,))","v":""},{"$f":"IF($B26=\"\",\"\",VLOOKUP($B26,Branchenverzeichnis!$A$1:$Q$623,P$19,))","v":""},{"$f":"IF($B26=\"\",\"\",VLOOKUP($B26,Branchenverzeichnis!$A$1:$Q$623,Q$19,))","v":""},{"$f":"IF($B26=\"\",\"\",VLOOKUP($B26,Branchenverzeichnis!$A$1:$Q$623,R$19,))","v":""},null,null,"bis 1/3",{"$f":"0.33/1000","v":3.3E-4},{"$f":"0.82/1000","v":8.1999999999999998E-4},null,"Promille",{"$f":"VLOOKUP(Z24,Y20:AA22,2,FALSE)","v":3.6999999999999999E-4},{"$f":"VLOOKUP(Z24,Y20:AA22,3,FALSE)","v":2.5000000000000001E-4}]
[null,"Knockout-Kriterien",null,"Beliebig","VT",{"$f":"COUNTIF($C$22:$R$26,E27)","v":0},"ED-SI","JT",{"$f":"COUNTIF($H$22:$H$26,H27)","v":0},"S","ED-SI",null,null,null,null,{"$f":"COUNTIF($H$22:$H$26,J27)","v":0},null,null,null,null,"1/3-2/3",{"$f":"0.49/1000","v":4.8999999999999998E-4},{"$f":"1.1/1000","v":1.1000000000000001E-3},null,null,null,null,null,"Berechnung Zuschläge/Nachlässe laut Mail Hofer 27.05.2020"]
[null,null,null,null,null,null,null,null,null,null,null,null,null,null,null,null,null,null,null,null,"über 2/3",{"$f":"D30*1.1","v":0},{"$f":"D30*1.32","v":0},null,"Zuschlag Pool",0.5,null,null,"Pool 50 % > nur auf Gebäude"]
[null,"Prämiensätze für Berechnung",null,null,null,null,null,null,null,null,null,null,null,null,null,null,null,null,null,null,"Nachlass Wien",null,0.5,null,"Rohrreinigng",{"$f":"Sach!$U$177*-1","v":0},"Nachlass",null,"Rohrreinigung 5 % Nachlass > nur auf Gebäude"]
[null,null,{"$f":"MAX(C22:C26)","v":0},{"$f":"IF(SUM(D22:D26)=0,0,C16/1000)","v":0},{"$f":"MAX(E22:E26)/1000","v":0},{"$f":"MAX(F22:F26)/1000","v":0},{"$f":"MAX(G22:G26)/1000","v":0},null,{"$f":"MAX(I22:I26)/1000","v":0},{"$f":"MAX(J22:J26)/1000","v":0},{"$f":"MAX(K22:K26)/1000","v":0},{"$f":"MAX(L22:L26)/1000","v":0},{"$f":"MAX(M22:M26)","v":0},{"$f":"MAX(N22:N26)/1000","v":0},{"$f":"MAX(O22:O26)","v":0},{"$f":"MAX(P22:P26)","v":0},{"$f":"IF(COUNTIF(Q22:Q27,0)>0,0,MAX(Q22:Q26))","v":0},{"$f":"MAX(R22:R26)","v":0},null,null,"Zuschlag Feuer: nicht hartes Dach",null,0.5,null,"Sprinkler",{"$f":"Sach!U173","v":0},null,null,"Sprinkleranlage Zuschlag > auf Gebäude, KTE und Vorräte, aber nicht Deckungserweiterungen"]
[null,null,null,null,null,null,null,null,null,null,null,null,null,null,null,null,null,null,null,null,null,null,null,null,null,null,null,null,"LW Var. D 15 Meter > Zuschlag auf gesamte Sparte (Berechnung erfolgt auf Seite \"Berechnung Sparten)"]
[]
[null,"Risikoort 2","Vorhanden?",{"$f":"IF(Basisdaten!T4=TRUE,1,0)","v":1},"PLZ",{"$f":"Basisdaten!V16","v":0},"Wien?",{"$f":"IF(F33<1999,1,0)","v":1},"Prämie Feuer Gebäude",null,null,null,null,"Prämie LW Gebäude",null,null,null,null,null,"Prämie Sturm Gebäude",null,null,null,null,null,"Sonstige Sparten"]
[null,"Gebäude",null,"Versicherungs-summe","Art des Gebäudes","Bauart","hartes Dach","Gew. Fläche","Promillesatz Feuer","Zuschlag Dach","Nachlass Wien","Promille","Prämie","LW ja/nein","LW: 10 Zimmer","Pool","Promille","Zuschläge","Prämie","Sturm ja/nein","Offenes Gebäude","Zuschlag offen","Zuschlag Dach","Promille","Prämie","Sparten","Deckung","Promille","Prämie",null,"VS LW"]
[null,{"$f":"Basisdaten!B7","v":"Gebäude 1"},null,{"$f":"Basisdaten!D7*$D$33","v":0},{"$f":"Basisdaten!F7","v":0},{"$f":"Basisdaten!H7","v":0},{"$f":"Basisdaten!I7","v":0},{"$f":"Basisdaten!J7","v":0},{"$f":"IF(E35=$S$2,VLOOKUP(H35,$U$20:$W$23,MATCH(F35,$U$20:$W$20,0),FALSE),VLOOKUP(H35,$U$25:$W$28,MATCH(F35,$U$25:$W$25,0),FALSE))","v":{"$error":"#N/A"}},{"$f":"IF(G35=$U$3,$W$30,0)","v":0},{"$f":"IF(AND($H$33=1,H35=$V$2,E35=$S$2),$W$29,0)","v":0},{"$f":"I35*(1+J35)*(1-K35)","v":{"$error":"#N/A"}},{"$f":"IF(D35>0,D35*L35,0)","v":0},{"$f":"Basisdaten!K7","v":"ja"},{"$f":"Basisdaten!L7","v":0},{"$f":"Basisdaten!M7","v":0},{"$f":"IF(O35=\"ja\",$Z$26,$AA$26)","v":2.5000000000000001E-4},{"$f":"-$Z$29+$Z$30+IF(P35=\"ja\",$Z$28,0)","v":0},{"$f":"IF(AND(D35>0,N35=\"ja\"),D35*Q35,0)*(1+R35)","v":0},{"$f":"Basisdaten!N7","v":"ja"},{"$f":"Basisdaten!O7","v":0},{"$f":"IF(U35=\"ja\",$AE$24,0)","v":0},{"$f":"IF(G35=$U$3,$AE$23,0)","v":0},{"$f":"IF($H$33=1,HLOOKUP(F35,$AD$19:$AE$21,2,FALSE),HLOOKUP(F35,$AD$19:$AE$21,3,FALSE))*(1+V35)*(1+W35)","v":{"$error":"#N/A"}},{"$f":"IF(AND(D35>0,T35=\"ja\"),D35*X35,0)","v":0},"Technik",{"$f":"Basisdaten!O18","v":0},null,null,null,{"$f":"IF(N35=\"ja\",D35,0)","v":0}]
[null,{"$f":"Basisdaten!B8","v":"Gebäude 2"},null,{"$f":"Basisdaten!D8*$D$33","v":0},{"$f":"Basisdaten!F8","v":0},{"$f":"Basisdaten!H8","v":0},{"$f":"Basisdaten!I8","v":0},{"$f":"Basisdaten!J8","v":0},{"$error":"#N/A"},0,0,{"$f":"I36*(1+J36)*(1-K36)","v":{"$error":"#N/A"}},{"$f":"IF(D36>0,D36*L36,0)","v":0},{"$f":"Basisdaten!K8","v":"ja"},{"$f":"Basisdaten!L8","v":0},{"$f":"Basisdaten!M8","v":0},{"$f":"IF(O36=\"ja\",$Z$26,$AA$26)","v":2.5000000000000001E-4},{"$f":"-$Z$29+$Z$30+IF(P36=\"ja\",$Z$28,0)","v":0},{"$f":"IF(AND(D36>0,N36=\"ja\"),D36*Q36,0)*(1+R36)","v":0},{"$f":"Basisdaten!N8","v":"ja"},{"$f":"Basisdaten!O8","v":0},0,0,{"$error":"#N/A"},0,"Feuer-EC",{"$f":"Basisdaten!O19","v":0},null,null,null,0]
[null,{"$f":"Basisdaten!B9","v":"Gebäude 3"},null,{"$f":"Basisdaten!D9*$D$33","v":0},{"$f":"Basisdaten!F9","v":0},{"$f":"Basisdaten!H9","v":0},{"$f":"Basisdaten!I9","v":0},{"$f":"Basisdaten!J9","v":0},{"$error":"#N/A"},0,0,{"$error":"#N/A"},0,{"$f":"Basisdaten!K9","v":"ja"},{"$f":"Basisdaten!L9","v":0},{"$f":"Basisdaten!M9","v":0},2.5000000000000001E-4,0,0,{"$f":"Basisdaten!N9","v":"ja"},{"$f":"Basisdaten!O9","v":0},0,0,{"$error":"#N/A"},0,"EDV",{"$f":"Basisdaten!Q18","v":0},null,null,null,0]
[null,{"$f":"Basisdaten!B10","v":"Gebäude 4"},null,{"$f":"Basisdaten!D10*$D$33","v":0},{"$f":"Basisdaten!F10","v":0},{"$f":"Basisdaten!H10","v":0},{"$f":"Basisdaten!I10","v":0},{"$f":"Basisdaten!J10","v":0},{"$error":"#N/A"},0,0,{"$error":"#N/A"},0,{"$f":"Basisdaten!K10","v":"ja"},{"$f":"Basisdaten!L10","v":0},{"$f":"Basisdaten!M10","v":0},2.5000000000000001E-4,0,0,{"$f":"Basisdaten!N10","v":"ja"},{"$f":"Basisdaten!O10","v":0},0,0,{"$error":"#N/A"},0,"Glas",{"$f":"Basisdaten!Q19","v":0},null,null,null,0]
[null,{"$f":"Basisdaten!B11","v":"Gebäude 5"},null,{"$f":"Basisdaten!D11*$D$33","v":0},{"$f":"Basisdaten!F11","v":0},{"$f":"Basisdaten!H11","v":0},{"$f":"Basisdaten!I11","v":0},{"$f":"Basisdaten!J11","v":0},{"$error":"#N/A"},0,0,{"$error":"#N/A"},0,{"$f":"Basisdaten!K11","v":"ja"},{"$f":"Basisdaten!L11","v":0},{"$f":"Basisdaten!M11","v":0},2.5000000000000001E-4,0,0,{"$f":"Basisdaten!N11","v":"ja"},{"$f":"Basisdaten!O11","v":0},0,0,{"$error":"#N/A"},0,null,null,null,null,null,0]
[null,{"$f":"Basisdaten!B12","v":"Gebäude 6"},null,{"$f":"Basisdaten!D12*$D$33","v":0},{"$f":"Basisdaten!F12","v":0},{"$f":"Basisdaten!H12","v":0},{"$f":"Basisdaten!I12","v":0},{"$f":"Basisdaten!J12","v":0},{"$error":"#N/A"},0,0,{"$error":"#N/A"},0,{"$f":"Basisdaten!K12","v":"ja"},{"$f":"Basisdaten!L12","v":0},{"$f":"Basisdaten!M12","v":0},2.5000000000000001E-4,0,0,{"$f":"Basisdaten!N12","v":"ja"},{"$f":"Basisdaten!O12","v":0},0,0,{"$error":"#N/A"},0,null,null,null,null,null,0]
[null,{"$f":"Basisdaten!B13","v":"Gebäude 7"},null,{"$f":"Basisdaten!D13*$D$33","v":0},{"$f":"Basisdaten!F13","v":0},{"$f":"Basisdaten!H13","v":0},{"$f":"Basisdaten!I13","v":0},{"$f":"Basisdaten!J13","v":0},{"$error":"#N/A"},0,0,{"$error":"#N/A"},0,{"$f":"Basisdaten!K13","v":"ja"},{"$f":"Basisdaten!L13","v":0},{"$f":"Basisdaten!M13","v":0},2.5000000000000001E-4,0,0,{"$f":"Basisdaten!N13","v":"ja"},{"$f":"Basisdaten!O13","v":0},0,0,{"$error":"#N/A"},0,null,null,null,null,null,0]
[null,{"$f":"Basisdaten!B14","v":"Gebäude 8"},null,{"$f":"Basisdaten!D14*$D$33","v":0},{"$f":"Basisdaten!F14","v":0},{"$f":"Basisdaten!H14","v":0},{"$f":"Basisdaten!I14","v":0},{"$f":"Basisdaten!J14","v":0},{"$error":"#N/A"},0,0,{"$error":"#N/A"},0,{"$f":"Basisdaten!K14","v":"ja"},{"$f":"Basisdaten!L14","v":0},{"$f":"Basisdaten!M14","v":0},2.5000000000000001E-4,0,0,{"$f":"Basisdaten!N14","v":"ja"},{"$f":"Basisdaten!O14","v":0},0,0,{"$error":"#N/A"},0,null,null,null,null,null,0]
[null,{"$f":"Basisdaten!B15","v":"Gebäude 9"},null,{"$f":"Basisdaten!D15*$D$33","v":0},{"$f":"Basisdaten!F15","v":0},{"$f":"Basisdaten!H15","v":0},{"$f":"Basisdaten!I15","v":0},{"$f":"Basisdaten!J15","v":0},{"$error":"#N/A"},0,0,{"$error":"#N/A"},0,{"$f":"Basisdaten!K15","v":"ja"},{"$f":"Basisdaten!L15","v":0},{"$f":"Basisdaten!M15","v":0},2.5000000000000001E-4,0,0,{"$f":"Basisdaten!N15","v":"ja"},{"$f":"Basisdaten!O15","v":0},0,0,{"$error":"#N/A"},0,null,null,null,null,null,0]
[null,{"$f":"Basisdaten!B16","v":"Gebäude 10"},null,{"$f":"Basisdaten!D16*$D$33","v":0},{"$f":"Basisdaten!F16","v":0},{"$f":"Basisdaten!H16","v":0},{"$f":"Basisdaten!I16","v":0},{"$f":"Basisdaten!J16","v":0},{"$error":"#N/A"},0,0,{"$error":"#N/A"},0,{"$f":"Basisdaten!K16","v":"ja"},{"$f":"Basisdaten!L16","v":0},{"$f":"Basisdaten!M16","v":0},2.5000000000000001E-4,0,0,{"$f":"Basisdaten!N16","v":"ja"},{"$f":"Basisdaten!O16","v":0},0,0,{"$error":"#N/A"},0,null,"Falls Basisdaten leer - #NV-Fehler vermeiden",null,null,null,0]
[null,"Inhalt",null,"Feuer",null,"Einbruch",null,null,null,"Sturm",null,null,null,"Leitungswasser",null,null,null,null,"Versicherungssummen",null,"Prämien",null,"ED",{"$f":"SUM(I47:I48)*D33","v":0},"EDV",null,"ja, volle VS"]
[null,null,"VS","Promillesatz","Prämie","Deckung","Promille","Nachlass Bruchteil","Prämie","Deckung","Promille","Nachlass Bruchteil","Prämie","Deckung","Promille","Nachlass Bruchteil",null,"Prämie","Gebäude",{"$f":"SUM(D35:D44)","v":0},"Feuer",{"$f":"SUM(M35:M44,E47:E48)*D33","v":0},"Glas",null,"Kühlgut"]
[null,"KTE",{"$f":"Basisdaten!D18*$D$33","v":0},{"$f":"$D$30","v":0},{"$f":"C47*D47","v":0},{"$f":"IF(Basisdaten!F18=\"\",$AA$45,Basisdaten!F18)","v":"ja, volle VS"},{"$f":"$G$30","v":0},{"$f":"VLOOKUP(F47,$L$3:$N$16,3,FALSE)/100","v":0},{"$f":"$C47*G47*(1-H47)","v":0},{"$f":"IF(Basisdaten!H18=\"\",$AA$45,Basisdaten!H18)","v":"ja, volle VS"},{"$f":"$K$30","v":0},{"$f":"VLOOKUP(J47,$L$3:$N$16,3,FALSE)/100","v":0},{"$f":"$C47*K47*(1-L47)","v":0},{"$f":"IF(Basisdaten!J18=\"\",$AA$45,Basisdaten!J18)","v":"ja, volle VS"},{"$f":"$I$30","v":0},{"$f":"VLOOKUP(N47,$L$3:$N$16,3,FALSE)/100","v":0},{"$f":"$Z$30","v":0},{"$f":"$C47*O47*(1-P47)*(1+Q47)","v":0},"Alles",{"$f":"SUM(D35:D44,C47:C48)","v":0},"Sturm",{"$f":"SUM(Y35:Y44,M47:M48)*D33","v":0},"Feuer-EC"]
[null,"Vorräte",{"$f":"Basisdaten!D19*$D$33","v":0},{"$f":"$D$30","v":0},{"$f":"C48*D48","v":0},{"$f":"IF(Basisdaten!F19=\"\",$AA$45,Basisdaten!F19)","v":"ja, volle VS"},{"$f":"$G$30","v":0},{"$f":"VLOOKUP(F48,$L$3:$N$16,3,FALSE)/100","v":0},{"$f":"$C48*G48*(1-H48)","v":0},{"$f":"IF(Basisdaten!H19=\"\",$AA$45,Basisdaten!H19)","v":"ja, volle VS"},{"$f":"$K$30","v":0},{"$f":"VLOOKUP(J48,$L$3:$N$16,3,FALSE)/100","v":0},{"$f":"$C48*K48*(1-L48)","v":0},{"$f":"IF(Basisdaten!J19=\"\",$AA$45,Basisdaten!J19)","v":"ja, volle VS"},{"$f":"$I$30","v":0},{"$f":"VLOOKUP(N48,$L$3:$N$16,3,FALSE)/100","v":0},{"$f":"$Z$30","v":0},{"$f":"$C48*O48*(1-P48)*(1+Q48)","v":0},null,null,"LW",{"$f":"SUM(S35:S44,R47:R48)*D33","v":0},"Technik"]
[]
[]
[null,"Risikoort 2","Vorhanden?",{"$f":"IF(Basisdaten!T23=TRUE,1,0)","v":0},"PLZ",{"$f":"Basisdaten!F23","v":0},"Wien?",{"$f":"IF(F51<1999,1,0)","v":1},"Prämie Feuer Gebäude",null,null,null,null,"Prämie LW Gebäude",null,null,null,null,null,"Prämie Sturm Gebäude",null,null,null,null,null,null,null,null,null,null,{"$f":"IF(N51=\"ja\",D51,0)","v":0}]
[null,"Gebäude",null,"Versicherungs-summe","Art des Gebäudes","Bauart","hartes Dach","Gew. Fläche","Promillesatz Feuer","Zuschlag Dach","Nachlass Wien","Promille","Prämie","LW ja/nein","LW: 10 Zimmer","Pool","Promille","Zuschläge","Prämie","Sturm ja/nein","Offenes Gebäude","Zuschlag offen","Zuschlag Dach","Promille","Prämie",null,null,null,null,null,0]
[null,{"$f":"Basisdaten!B25","v":"Gebäude 1"},null,{"$f":"Basisdaten!D25*$D$51","v":0},{"$f":"Basisdaten!F25","v":0},{"$f":"Basisdaten!H25","v":0},{"$f":"Basisdaten!I25","v":0},{"$f":"Basisdaten!J25","v":0},{"$f":"IF(E53=$S$2,VLOOKUP(H53,$U$20:$W$23,MATCH(F53,$U$20:$W$20,0),FALSE),VLOOKUP(H53,$U$25:$W$28,MATCH(F53,$U$25:$W$25,0),FALSE))","v":{"$error":"#N/A"}},{"$f":"IF(G53=$U$3,$W$30,0)","v":0},{"$f":"IF(AND($H$51=1,H53=$V$2,E53=$S$2),$W$29,0)","v":0},{"$f":"I53*(1+J53)*(1-K53)","v":{"$error":"#N/A"}},{"$f":"IF(D53>0,D53*L53,0)*$D$51","v":0},{"$f":"Basisdaten!K25","v":0},{"$f":"Basisdaten!L25","v":0},{"$f":"Basisdaten!M25","v":0},{"$f":"IF(O53=\"ja\",$Z$26,$AA$26)","v":2.5000000000000001E-4},{"$f":"-$Z$29+$Z$30+IF(P53=\"ja\",$Z$28,0)","v":0},{"$f":"IF(AND(D53>0,N53=\"ja\"),D53*Q53,0)*(1+R53)","v":0},{"$f":"Basisdaten!N25","v":0},{"$f":"Basisdaten!O25","v":0},{"$f":"IF(U53=\"ja\",$AE$24,0)","v":0},{"$f":"IF(G53=$U$3,$AE$23,0)","v":0},{"$f":"IF($H$51=1,HLOOKUP(F53,$AD$19:$AE$21,2,FALSE),HLOOKUP(F53,$AD$19:$AE$21,3,FALSE))*(1+V53)*(1+W53)","v":{"$error":"#N/A"}},{"$f":"IF(AND(D53>0,T53=\"ja\"),D53*X53,0)*$D$51","v":0},null,null,null,null,null,0]
[null,{"$f":"Basisdaten!B26","v":"Gebäude 2"},null,{"$f":"Basisdaten!D26*$D$51","v":0},{"$f":"Basisdaten!F26","v":0},{"$f":"Basisdaten!H26","v":0},{"$f":"Basisdaten!I26","v":0},{"$f":"Basisdaten!J26","v":0},{"$f":"IF(E54=$S$2,VLOOKUP(H54,$U$20:$W$23,MATCH(F54,$U$20:$W$20,0),FALSE),VLOOKUP(H54,$U$25:$W$28,MATCH(F54,$U$25:$W$25,0),FALSE))","v":{"$error":"#N/A"}},{"$f":"IF(G54=$U$3,$W$30,0)","v":0},{"$f":"IF(AND($H$33=1,H54=$V$2,E54=$S$2),$W$29,0)","v":0},{"$f":"I54*(1+J54)*(1-K54)","v":{"$error":"#N/A"}},{"$f":"IF(D54>0,D54*L54,0)*$D$51","v":0},{"$f":"Basisdaten!K26","v":0},{"$f":"Basisdaten!L26","v":0},{"$f":"Basisdaten!M26","v":0},{"$f":"IF(O54=\"ja\",$Z$26,$AA$26)","v":2.5000000000000001E-4},{"$f":"-$Z$29+$Z$30+IF(P54=\"ja\",$Z$28,0)","v":0},{"$f":"IF(AND(D54>0,N54=\"ja\"),D54*Q54,0)*(1+R54)","v":0},{"$f":"Basisdaten!N26","v":0},{"$f":"Basisdaten!O26","v":0},{"$f":"IF(U54=\"ja\",$AE$24,0)","v":0},{"$f":"IF(G54=$U$3,$AE$23,0)","v":0},{"$f":"IF($H$51=1,HLOOKUP(F54,$AD$19:$AE$21,2,FALSE),HLOOKUP(F54,$AD$19:$AE$21,3,FALSE))*(1+V54)*(1+W54)","v":{"$error":"#N/A"}},{"$f":"IF(AND(D54>0,T54=\"ja\"),D54*X54,0)*$D$51","v":0},null,null,null,null,null,0]
[null,{"$f":"Basisdaten!B27","v":"Gebäude 3"},null,{"$f":"Basisdaten!D27*$D$51","v":0},{"$f":"Basisdaten!F27","v":0},{"$f":"Basisdaten!H27","v":0},{"$f":"Basisdaten!I27","v":0},{"$f":"Basisdaten!J27","v":0},{"$f":"IF(E55=$S$2,VLOOKUP(H55,$U$20:$W$23,MATCH(F55,$U$20:$W$20,0),FALSE),VLOOKUP(H55,$U$25:$W$28,MATCH(F55,$U$25:$W$25,0),FALSE))","v":{"$error":"#N/A"}},{"$f":"IF(G55=$U$3,$W$30,0)","v":0},{"$f":"IF(AND($H$33=1,H55=$V$2,E55=$S$2),$W$29,0)","v":0},{"$f":"I55*(1+J55)*(1-K55)","v":{"$error":"#N/A"}},{"$f":"IF(D55>0,D55*L55,0)*$D$51","v":0},{"$f":"Basisdaten!K27","v":0},{"$f":"Basisdaten!L27","v":0},{"$f":"Basisdaten!M27","v":0},{"$f":"IF(O55=\"ja\",$Z$26,$AA$26)","v":2.5000000000000001E-4},{"$f":"-$Z$29+$Z$30+IF(P55=\"ja\",$Z$28,0)","v":0},{"$f":"IF(AND(D55>0,N55=\"ja\"),D55*Q55,0)*(1+R55)","v":0},{"$f":"Basisdaten!N27","v":0},{"$f":"Basisdaten!O27","v":0},{"$f":"IF(U55=\"ja\",$AE$24,0)","v":0},{"$f":"IF(G55=$U$3,$AE$23,0)","v":0},{"$f":"IF($H$51=1,HLOOKUP(F55,$AD$19:$AE$21,2,FALSE),HLOOKUP(F55,$AD$19:$AE$21,3,FALSE))*(1+V55)*(1+W55)","v":{"$error":"#N/A"}},{"$f":"IF(AND(D55>0,T55=\"ja\"),D55*X55,0)*$D$51","v":0},null,null,null,null,null,0]
[null,{"$f":"Basisdaten!B28","v":"Gebäude 4"},null,{"$f":"Basisdaten!D28*$D$51","v":0},{"$f":"Basisdaten!F28","v":0},{"$f":"Basisdaten!H28","v":0},{"$f":"Basisdaten!I28","v":0},{"$f":"Basisdaten!J28","v":0},{"$f":"IF(E56=$S$2,VLOOKUP(H56,$U$20:$W$23,MATCH(F56,$U$20:$W$20,0),FALSE),VLOOKUP(H56,$U$25:$W$28,MATCH(F56,$U$25:$W$25,0),FALSE))","v":{"$error":"#N/A"}},{"$f":"IF(G56=$U$3,$W$30,0)","v":0},{"$f":"IF(AND($H$33=1,H56=$V$2,E56=$S$2),$W$29,0)","v":0},{"$f":"I56*(1+J56)*(1-K56)","v":{"$error":"#N/A"}},{"$f":"IF(D56>0,D56*L56,0)*$D$51","v":0},{"$f":"Basisdaten!K28","v":0},{"$f":"Basisdaten!L28","v":0},{"$f":"Basisdaten!M28","v":0},{"$f":"IF(O56=\"ja\",$Z$26,$AA$26)","v":2.5000000000000001E-4},{"$f":"-$Z$29+$Z$30+IF(P56=\"ja\",$Z$28,0)","v":0},{"$f":"IF(AND(D56>0,N56=\"ja\"),D56*Q56,0)*(1+R56)","v":0},{"$f":"Basisdaten!N28","v":0},{"$f":"Basisdaten!O28","v":0},{"$f":"IF(U56=\"ja\",$AE$24,0)","v":0},{"$f":"IF(G56=$U$3,$AE$23,0)","v":0},{"$f":"IF($H$51=1,HLOOKUP(F56,$AD$19:$AE$21,2,FALSE),HLOOKUP(F56,$AD$19:$AE$21,3,FALSE))*(1+V56)*(1+W56)","v":{"$error":"#N/A"}},{"$f":"IF(AND(D56>0,T56=\"ja\"),D56*X56,0)*$D$51","v":0},null,null,null,null,null,0]
[null,{"$f":"Basisdaten!B29","v":"Gebäude 5"},null,{"$f":"Basisdaten!D29*$D$51","v":0},{"$f":"Basisdaten!F29","v":0},{"$f":"Basisdaten!H29","v":0},{"$f":"Basisdaten!I29","v":0},{"$f":"Basisdaten!J29","v":0},{"$f":"IF(E57=$S$2,VLOOKUP(H57,$U$20:$W$23,MATCH(F57,$U$20:$W$20,0),FALSE),VLOOKUP(H57,$U$25:$W$28,MATCH(F57,$U$25:$W$25,0),FALSE))","v":{"$error":"#N/A"}},{"$f":"IF(G57=$U$3,$W$30,0)","v":0},{"$f":"IF(AND($H$33=1,H57=$V$2,E57=$S$2),$W$29,0)","v":0},{"$f":"I57*(1+J57)*(1-K57)","v":{"$error":"#N/A"}},{"$f":"IF(D57>0,D57*L57,0)*$D$51","v":0},{"$f":"Basisdaten!K29","v":0},{"$f":"Basisdaten!L29","v":0},{"$f":"Basisdaten!M29","v":0},{"$f":"IF(O57=\"ja\",$Z$26,$AA$26)","v":2.5000000000000001E-4},{"$f":"-$Z$29+$Z$30+IF(P57=\"ja\",$Z$28,0)","v":0},{"$f":"IF(AND(D57>0,N57=\"ja\"),D57*Q57,0)*(1+R57)","v":0},{"$f":"Basisdaten!N29","v":0},{"$f":"Basisdaten!O29","v":0},{"$f":"IF(U57=\"ja\",$AE$24,0)","v":0},{"$f":"IF(G57=$U$3,$AE$23,0)","v":0},{"$f":"IF($H$51=1,HLOOKUP(F57,$AD$19:$AE$21,2,FALSE),HLOOKUP(F57,$AD$19:$AE$21,3,FALSE))*(1+V57)*(1+W57)","v":{"$error":"#N/A"}},{"$f":"IF(AND(D57>0,T57=\"ja\"),D57*X57,0)*$D$51","v":0},null,null,null,null,null,0]
[null,"Inhalt",null,"Feuer",null,"Einbruch",null,null,null,"Sturm",null,null,null,"Leitungswasser",null,null,null,null,"Versicherungssummen",null,"Prämien",null,"ED",{"$f":"SUM(I60:I61)*D51","v":0},"EDV"]
[null,null,"VS","Promillesatz","Prämie","Deckung","Promille","Nachlass Bruchteil","Prämie","Deckung","Promille","Nachlass Bruchteil","Prämie","Deckung","Promille","Nachlass Bruchteil",null,"Prämie","Gebäude",{"$f":"SUM(D53:D57)*D51","v":0},"Feuer",{"$f":"SUM(M53:M57,E60:E61)*D51","v":0},"Glas",null,"Kühlgut"]
[null,"KTE",{"$f":"Basisdaten!D31*$D$51","v":0},{"$f":"$D$30","v":0},{"$f":"C60*D60*D51","v":0},{"$f":"IF(Basisdaten!F31=\"\",$AA$45,Basisdaten!F31)","v":"ja, volle VS"},{"$f":"$G$30","v":0},{"$f":"VLOOKUP(F60,$L$3:$N$16,3,FALSE)/100","v":0},{"$f":"$C60*G60*(1-H60)*$D$51","v":0},{"$f":"IF(Basisdaten!H31=\"\",$AA$45,Basisdaten!H31)","v":"ja, volle VS"},{"$f":"$K$30","v":0},{"$f":"VLOOKUP(J60,$L$3:$N$16,3,FALSE)/100","v":0},{"$f":"$C60*K60*(1-L60)*$D$51","v":0},{"$f":"IF(Basisdaten!J31=\"\",$AA$45,Basisdaten!J31)","v":"ja, volle VS"},{"$f":"$I$30","v":0},{"$f":"VLOOKUP(N60,$L$3:$N$16,3,FALSE)/100","v":0},{"$f":"$Z$30","v":0},{"$f":"$C60*O60*(1-P60)*$D$51*(1+Q60)","v":0},"Alles",{"$f":"SUM(D53:D57,C60:C61)*D51","v":0},"Sturm",{"$f":"SUM(Y53:Y57,M60:M61)*D51","v":0},"Feuer-EC"]
[null,"Vorräte",{"$f":"Basisdaten!D32*$D$51","v":0},{"$f":"$D$30","v":0},{"$f":"C61*D61*D51","v":0},{"$f":"IF(Basisdaten!F32=\"\",$AA$45,Basisdaten!F32)","v":"ja, volle VS"},{"$f":"$G$30","v":0},{"$f":"VLOOKUP(F61,$L$3:$N$16,3,FALSE)/100","v":0},{"$f":"$C61*G61*(1-H61)*$D$51","v":0},{"$f":"IF(Basisdaten!H32=\"\",$AA$45,Basisdaten!H32)","v":"ja, volle VS"},{"$f":"$K$30","v":0},{"$f":"VLOOKUP(J61,$L$3:$N$16,3,FALSE)/100","v":0},{"$f":"$C61*K61*(1-L61)*$D$51","v":0},{"$f":"IF(Basisdaten!J32=\"\",$AA$45,Basisdaten!J32)","v":"ja, volle VS"},{"$f":"$I$30","v":0},{"$f":"VLOOKUP(N61,$L$3:$N$16,3,FALSE)/100","v":0},{"$f":"$Z$30","v":0},{"$f":"$C61*O61*(1-P61)*$D$51*(1+Q61)","v":0},null,null,"LW",{"$f":"SUM(S53:S57,R60:R61)*D51","v":0},"Technik"]
[]
[]
[null,"Risikoort 2","Vorhanden?",{"$f":"IF(Basisdaten!T36=TRUE,1,0)","v":0},"PLZ",{"$f":"Basisdaten!F36","v":0},"Wien?",{"$f":"IF(F64<1999,1,0)","v":1},"Prämie Feuer Gebäude",null,null,null,null,"Prämie LW Gebäude",null,null,null,null,null,"Prämie Sturm Gebäude"]
[null,"Gebäude",null,"Versicherungs-summe","Art des Gebäudes","Bauart","hartes Dach","Gew. Fläche","Promillesatz Feuer","Zuschlag Dach","Nachlass Wien","Promille","Prämie","LW ja/nein","LW: 10 Zimmer","Pool","Promille","Zuschläge","Prämie","Sturm ja/nein","Offenes Gebäude","Zuschlag offen","Zuschlag Dach","Promille","Prämie"]
[null,{"$f":"Basisdaten!B38","v":"Gebäude 1"},null,{"$f":"Basisdaten!D38*$D$64","v":0},{"$f":"Basisdaten!F38","v":0},{"$f":"Basisdaten!H38","v":0},{"$f":"Basisdaten!I38","v":0},{"$f":"Basisdaten!J38","v":0},{"$f":"IF(E66=$S$2,VLOOKUP(H66,$U$20:$W$23,MATCH(F66,$U$20:$W$20,0),FALSE),VLOOKUP(H66,$U$25:$W$28,MATCH(F66,$U$25:$W$25,0),FALSE))","v":{"$error":"#N/A"}},{"$f":"IF(G66=$U$3,$W$30,0)","v":0},{"$f":"IF(AND($H$64=1,H66=$V$2,E66=$S$2),$W$29,0)","v":0},{"$f":"I66*(1+J66)*(1-K66)","v":{"$error":"#N/A"}},{"$f":"IF(D66>0,D66*L66,0)*$D$64","v":0},{"$f":"Basisdaten!K38","v":0},{"$f":"Basisdaten!L38","v":0},{"$f":"Basisdaten!M38","v":0},{"$f":"IF(O66=\"ja\",$Z$26,$AA$26)","v":2.5000000000000001E-4},{"$f":"-$Z$29+$Z$30+IF(P66=\"ja\",$Z$28,0)","v":0},{"$f":"IF(AND(D66>0,N66=\"ja\"),D66*Q66,0)*(1+R66)","v":0},{"$f":"Basisdaten!N38","v":0},{"$f":"Basisdaten!O38","v":0},{"$f":"IF(U66=\"ja\",$AE$24,0)","v":0},{"$f":"IF(G66=$U$3,$AE$23,0)","v":0},{"$f":"IF($H$64=1,HLOOKUP(F66,$AD$19:$AE$21,2,FALSE),HLOOKUP(F66,$AD$19:$AE$21,3,FALSE))*(1+V66)*(1+W66)","v":{"$error":"#N/A"}},{"$f":"IF(AND(D66>0,T66=\"ja\"),D66*X66,0)*$D$64","v":0},null,null,null,null,null,{"$f":"IF(N66=\"ja\",D66,0)","v":0}]
[null,{"$f":"Basisdaten!B39","v":"Gebäude 2"},null,{"$f":"Basisdaten!D39*$D$64","v":0},{"$f":"Basisdaten!F39","v":0},{"$f":"Basisdaten!H39","v":0},{"$f":"Basisdaten!I39","v":0},{"$f":"Basisdaten!J39","v":0},{"$f":"IF(E67=$S$2,VLOOKUP(H67,$U$20:$W$23,MATCH(F67,$U$20:$W$20,0),FALSE),VLOOKUP(H67,$U$25:$W$28,MATCH(F67,$U$25:$W$25,0),FALSE))","v":{"$error":"#N/A"}},{"$f":"IF(G67=$U$3,$W$30,0)","v":0},{"$f":"IF(AND($H$64=1,H67=$V$2,E67=$S$2),$W$29,0)","v":0},{"$f":"I67*(1+J67)*(1-K67)","v":{"$error":"#N/A"}},{"$f":"IF(D67>0,D67*L67,0)*$D$64","v":0},{"$f":"Basisdaten!K39","v":0},{"$f":"Basisdaten!L39","v":0},{"$f":"Basisdaten!M39","v":0},{"$f":"IF(O67=\"ja\",$Z$26,$AA$26)","v":2.5000000000000001E-4},{"$f":"-$Z$29+$Z$30+IF(P67=\"ja\",$Z$28,0)","v":0},{"$f":"IF(AND(D67>0,N67=\"ja\"),D67*Q67,0)*(1+R67)","v":0},{"$f":"Basisdaten!N39","v":0},{"$f":"Basisdaten!O39","v":0},{"$f":"IF(U67=\"ja\",$AE$24,0)","v":0},{"$f":"IF(G67=$U$3,$AE$23,0)","v":0},{"$f":"IF($H$64=1,HLOOKUP(F67,$AD$19:$AE$21,2,FALSE),HLOOKUP(F67,$AD$19:$AE$21,3,FALSE))*(1+V67)*(1+W67)","v":{"$error":"#N/A"}},{"$f":"IF(AND(D67>0,T67=\"ja\"),D67*X67,0)*$D$64","v":0},null,null,null,null,null,{"$f":"IF(N67=\"ja\",D67,0)","v":0}]
[null,{"$f":"Basisdaten!B40","v":"Gebäude 3"},null,{"$f":"Basisdaten!D40*$D$64","v":0},{"$f":"Basisdaten!F40","v":0},{"$f":"Basisdaten!H40","v":0},{"$f":"Basisdaten!I40","v":0},{"$f":"Basisdaten!J40","v":0},{"$f":"IF(E68=$S$2,VLOOKUP(H68,$U$20:$W$23,MATCH(F68,$U$20:$W$20,0),FALSE),VLOOKUP(H68,$U$25:$W$28,MATCH(F68,$U$25:$W$25,0),FALSE))","v":{"$error":"#N/A"}},{"$f":"IF(G68=$U$3,$W$30,0)","v":0},{"$f":"IF(AND($H$64=1,H68=$V$2,E68=$S$2),$W$29,0)","v":0},{"$f":"I68*(1+J68)*(1-K68)","v":{"$error":"#N/A"}},{"$f":"IF(D68>0,D68*L68,0)*$D$64","v":0},{"$f":"Basisdaten!K40","v":0},{"$f":"Basisdaten!L40","v":0},{"$f":"Basisdaten!M40","v":0},{"$f":"IF(O68=\"ja\",$Z$26,$AA$26)","v":2.5000000000000001E-4},{"$f":"-$Z$29+$Z$30+IF(P68=\"ja\",$Z$28,0)","v":0},{"$f":"IF(AND(D68>0,N68=\"ja\"),D68*Q68,0)*(1+R68)","v":0},{"$f":"Basisdaten!N40","v":0},{"$f":"Basisdaten!O40","v":0},{"$f":"IF(U68=\"ja\",$AE$24,0)","v":0},{"$f":"IF(G68=$U$3,$AE$23,0)","v":0},{"$f":"IF($H$64=1,HLOOKUP(F68,$AD$19:$AE$21,2,FALSE),HLOOKUP(F68,$AD$19:$AE$21,3,FALSE))*(1+V68)*(1+W68)","v":{"$error":"#N/A"}},{"$f":"IF(AND(D68>0,T68=\"ja\"),D68*X68,0)*$D$64","v":0},null,null,null,null,null,{"$f":"IF(N68=\"ja\",D68,0)","v":0}]
[null,{"$f":"Basisdaten!B41","v":"Gebäude 4"},null,{"$f":"Basisdaten!D41*$D$64","v":0},{"$f":"Basisdaten!F41","v":0},{"$f":"Basisdaten!H41","v":0},{"$f":"Basisdaten!I41","v":0},{"$f":"Basisdaten!J41","v":0},{"$f":"IF(E69=$S$2,VLOOKUP(H69,$U$20:$W$23,MATCH(F69,$U$20:$W$20,0),FALSE),VLOOKUP(H69,$U$25:$W$28,MATCH(F69,$U$25:$W$25,0),FALSE))","v":{"$error":"#N/A"}},{"$f":"IF(G69=$U$3,$W$30,0)","v":0},{"$f":"IF(AND($H$64=1,H69=$V$2,E69=$S$2),$W$29,0)","v":0},{"$f":"I69*(1+J69)*(1-K69)","v":{"$error":"#N/A"}},{"$f":"IF(D69>0,D69*L69,0)*$D$64","v":0},{"$f":"Basisdaten!K41","v":0},{"$f":"Basisdaten!L41","v":0},{"$f":"Basisdaten!M41","v":0},{"$f":"IF(O69=\"ja\",$Z$26,$AA$26)","v":2.5000000000000001E-4},{"$f":"-$Z$29+$Z$30+IF(P69=\"ja\",$Z$28,0)","v":0},{"$f":"IF(AND(D69>0,N69=\"ja\"),D69*Q69,0)*(1+R69)","v":0},{"$f":"Basisdaten!N41","v":0},{"$f":"Basisdaten!O41","v":0},{"$f":"IF(U69=\"ja\",$AE$24,0)","v":0},{"$f":"IF(G69=$U$3,$AE$23,0)","v":0},{"$f":"IF($H$64=1,HLOOKUP(F69,$AD$19:$AE$21,2,FALSE),HLOOKUP(F69,$AD$19:$AE$21,3,FALSE))*(1+V69)*(1+W69)","v":{"$error":"#N/A"}},{"$f":"IF(AND(D69>0,T69=\"ja\"),D69*X69,0)*$D$64","v":0},null,null,null,null,null,{"$f":"IF(N69=\"ja\",D69,0)","v":0}]
[null,{"$f":"Basisdaten!B42","v":"Gebäude 5"},null,{"$f":"Basisdaten!D42*$D$64","v":0},{"$f":"Basisdaten!F42","v":0},{"$f":"Basisdaten!H42","v":0},{"$f":"Basisdaten!I42","v":0},{"$f":"Basisdaten!J42","v":0},{"$f":"IF(E70=$S$2,VLOOKUP(H70,$U$20:$W$23,MATCH(F70,$U$20:$W$20,0),FALSE),VLOOKUP(H70,$U$25:$W$28,MATCH(F70,$U$25:$W$25,0),FALSE))","v":{"$error":"#N/A"}},{"$f":"IF(G70=$U$3,$W$30,0)","v":0},{"$f":"IF(AND($H$64=1,H70=$V$2,E70=$S$2),$W$29,0)","v":0},{"$f":"I70*(1+J70)*(1-K70)","v":{"$error":"#N/A"}},{"$f":"IF(D70>0,D70*L70,0)*$D$64","v":0},{"$f":"Basisdaten!K42","v":0},{"$f":"Basisdaten!L42","v":0},{"$f":"Basisdaten!M42","v":0},{"$f":"IF(O70=\"ja\",$Z$26,$AA$26)","v":2.5000000000000001E-4},{"$f":"-$Z$29+$Z$30+IF(P70=\"ja\",$Z$28,0)","v":0},{"$f":"IF(AND(D70>0,N70=\"ja\"),D70*Q70,0)*(1+R70)","v":0},{"$f":"Basisdaten!N42","v":0},{"$f":"Basisdaten!O42","v":0},{"$f":"IF(U70=\"ja\",$AE$24,0)","v":0},{"$f":"IF(G70=$U$3,$AE$23,0)","v":0},{"$f":"IF($H$64=1,HLOOKUP(F70,$AD$19:$AE$21,2,FALSE),HLOOKUP(F70,$AD$19:$AE$21,3,FALSE))*(1+V70)*(1+W70)","v":{"$error":"#N/A"}},{"$f":"IF(AND(D70>0,T70=\"ja\"),D70*X70,0)*$D$64","v":0},null,null,null,null,null,{"$f":"IF(N70=\"ja\",D70,0)","v":0}]
[null,"Inhalt",null,"Feuer",null,"Einbruch",null,null,null,"Sturm",null,null,null,"Leitungswasser",null,null,null,null,"Versicherungssummen",null,"Prämien",null,"ED",{"$f":"SUM(I73:I74)*D64","v":0},"EDV"]
[null,null,"VS","Promillesatz","Prämie","Deckung","Promille","Nachlass Bruchteil","Prämie","Deckung","Promille","Nachlass Bruchteil","Prämie","Deckung","Promille","Nachlass Bruchteil","Zuschläge","Prämie","Gebäude",{"$f":"SUM(D66:D70)*D64","v":0},"Feuer",{"$f":"SUM(M66:M70,E73:E74)*D64","v":0},"Glas",null,"Kühlgut"]
[null,"KTE",{"$f":"Basisdaten!D44*$D$64","v":0},{"$f":"$D$30","v":0},{"$f":"C73*D73*D64","v":0},{"$f":"IF(Basisdaten!F44=\"\",$AA$45,Basisdaten!F44)","v":"ja, volle VS"},{"$f":"$G$30","v":0},{"$f":"VLOOKUP(F73,$L$3:$N$16,3,FALSE)/100","v":0},{"$f":"$C73*G73*(1-H73)*$D$64","v":0},{"$f":"IF(Basisdaten!H44=\"\",$AA$45,Basisdaten!H44)","v":"ja, volle VS"},{"$f":"$K$30","v":0},{"$f":"VLOOKUP(J73,$L$3:$N$16,3,FALSE)/100","v":0},{"$f":"$C73*K73*(1-L73)*$D$64","v":0},{"$f":"IF(Basisdaten!J44=\"\",$AA$45,Basisdaten!J44)","v":"ja, volle VS"},{"$f":"$I$30","v":0},{"$f":"VLOOKUP(N73,$L$3:$N$16,3,FALSE)/100","v":0},{"$f":"$Z$30","v":0},{"$f":"$C73*O73*(1-P73)*$D$64*(1+Q73)","v":0},"Alles",{"$f":"SUM(D66:D70,C73:C74)*D64","v":0},"Sturm",{"$f":"SUM(Y66:Y70,M73:M74)*D64","v":0},"Feuer-EC"]
[null,"Vorräte",{"$f":"Basisdaten!D45*$D$64","v":0},{"$f":"$D$30","v":0},{"$f":"C74*D74*D64","v":0},{"$f":"IF(Basisdaten!F45=\"\",$AA$45,Basisdaten!F45)","v":"ja, volle VS"},{"$f":"$G$30","v":0},{"$f":"VLOOKUP(F74,$L$3:$N$16,3,FALSE)/100","v":0},{"$f":"$C74*G74*(1-H74)*$D$64","v":0},{"$f":"IF(Basisdaten!H45=\"\",$AA$45,Basisdaten!H45)","v":"ja, volle VS"},{"$f":"$K$30","v":0},{"$f":"VLOOKUP(J74,$L$3:$N$16,3,FALSE)/100","v":0},{"$f":"$C74*K74*(1-L74)*$D$64","v":0},{"$f":"IF(Basisdaten!J45=\"\",$AA$45,Basisdaten!J45)","v":"ja, volle VS"},{"$f":"$I$30","v":0},{"$f":"VLOOKUP(N74,$L$3:$N$16,3,FALSE)/100","v":0},{"$f":"$Z$30","v":0},{"$f":"$C74*O74*(1-P74)*$D$64*(1+Q74)","v":0},null,null,"LW",{"$f":"SUM(S66:S70,R73:R74)*D64","v":0},"Technik"]
[]
[]
[null,"Gesamtprämien",null,"ED",{"$f":"SUM(X71,X58,X45)","v":0},"EDV",null,"VS",null,"Feuer","Sturm","LW","ED"]
[null,"Feuer",{"$f":"SUM(V72,V59,V46)","v":0},"Glas",{"$f":"SUM(X72,X59,X46)","v":0},"Kühlgut",null,"Gebäude",{"$f":"T46+T59+T72","v":0},{"$f":"I78","v":0},{"$f":"Q90","v":0},{"$f":"SUM(AE35:AE70)","v":0},null,null,null,"VS Sturm Gebäude"]
[null,"Sturm",{"$f":"SUM(V73,V60,V47)","v":0},"Feuer-EC",{"$f":"SUM(X73,X60,X47)","v":0},null,null,"KTE",{"$f":"C47+C60+C73","v":0},{"$f":"I79","v":0},{"$f":"VLOOKUP(J47,$L$3:$M$16,2,FALSE)*C47/100+VLOOKUP(J60,$L$3:$M$16,2,FALSE)*C60/100+VLOOKUP(J73,$L$3:$M$16,2,FALSE)*C73/100","v":0},{"$f":"VLOOKUP(N47,$L$3:$M$16,2,FALSE)*C47/100+VLOOKUP(N60,$L$3:$M$16,2,FALSE)*C60/100+VLOOKUP(N73,$L$3:$M$16,2,FALSE)*C73/100","v":0},{"$f":"VLOOKUP(F47,$L$3:$M$16,2,FALSE)*C47/100+VLOOKUP(F60,$L$3:$M$16,2,FALSE)*C60/100+VLOOKUP(F73,$L$3:$M$16,2,FALSE)*C73/100","v":0},null,null,"VS Sturm","RO 1","RO2","RO3"]
[null,"LW",{"$f":"SUM(V74,V61,V48)","v":0},"Technik",{"$f":"SUM(X74,X61,X48)","v":0},null,null,"Vorräte",{"$f":"C48+C61+C74","v":0},{"$f":"I80","v":0},{"$f":"VLOOKUP(J48,$L$3:$M$16,2,FALSE)*C48/100+VLOOKUP(J61,$L$3:$M$16,2,FALSE)*C61/100+VLOOKUP(J74,$L$3:$M$16,2,FALSE)*C74/100","v":0},{"$f":"VLOOKUP(N48,$L$3:$M$16,2,FALSE)*C48/100+VLOOKUP(N61,$L$3:$M$16,2,FALSE)*C61/100+VLOOKUP(N74,$L$3:$M$16,2,FALSE)*C74/100","v":0},{"$f":"VLOOKUP(F48,$L$3:$M$16,2,FALSE)*C48/100+VLOOKUP(F61,$L$3:$M$16,2,FALSE)*C61/100+VLOOKUP(F74,$L$3:$M$16,2,FALSE)*C74/100","v":0},null,null,"Gebäude 1",{"$f":"$D$33*IF(T35=\"ja\",1,0)*D35","v":0},{"$f":"$D$51*IF(T53=\"ja\",1,0)*D53","v":0},{"$f":"$D$64*IF(T66=\"ja\",1,0)*D66","v":0}]
[null,null,null,null,null,null,null,"Alles",{"$f":"SUM(I78:I80)","v":0},{"$f":"SUM(J78:J80)","v":0},{"$f":"SUM(K78:K80)","v":0},{"$f":"SUM(L78:L80)","v":0},{"$f":"SUM(M78:M80)","v":0},null,null,"Gebäude 2",0,{"$f":"$D$51*IF(T54=\"ja\",1,0)*D54","v":0},{"$f":"$D$64*IF(T67=\"ja\",1,0)*D67","v":0}]
[null,null,null,null,null,null,null,null,"Investitionsdeckung",{"$f":"SUM(J78:J79)*0.2","v":0},{"$f":"SUM(K78:K79)*0.2","v":0},{"$f":"SUM(L78:L79)*0.2","v":0},{"$f":"SUM(M79)*0.2","v":0},null,null,"Gebäude 3",0,{"$f":"$D$51*IF(T55=\"ja\",1,0)*D55","v":0},{"$f":"$D$64*IF(T68=\"ja\",1,0)*D68","v":0}]
[null,null,null,null,null,null,null,null,null,null,null,null,null,null,null,"Gebäude 4",0,{"$f":"$D$51*IF(T56=\"ja\",1,0)*D56","v":0},{"$f":"$D$64*IF(T69=\"ja\",1,0)*D69","v":0}]
[null,null,null,null,null,null,null,null,null,null,null,null,null,null,null,"Gebäude 5",0,{"$f":"$D$51*IF(T57=\"ja\",1,0)*D57","v":0},{"$f":"$D$64*IF(T70=\"ja\",1,0)*D70","v":0}]
[null,null,null,null,null,null,null,null,null,null,null,null,null,null,null,"Gebäude 6",0]
[null,null,null,null,null,null,null,null,null,null,null,null,null,null,null,"Gebäude 7",0]
[null,null,null,null,null,null,null,null,null,null,null,null,null,null,null,"Gebäude 8",0]
[null,null,null,null,null,null,null,null,null,null,null,null,null,null,null,"Gebäude 9",0]
[null,null,null,null,null,null,null,null,null,null,null,null,null,null,null,"Gebäude 10",0]
[null,null,null,null,null,null,null,null,null,null,null,null,null,null,null,"Gesamt",{"$f":"SUM(Q80:S89)","v":0}]

{"sheet":"Sach","index":8,"n_rows":317,"n_cols":43,"rows_kept":317,"cut":false,"hidden":false,"merged":[[144,1,144,7],[145,1,145,7],[146,1,146,7],[123,1,123,7],[136,1,136,9],[82,1,82,7],[91,1,91,10],[86,1,86,7],[38,1,38,7],[41,8,41,9],[39,1,39,7],[40,1,40,7],[55,4,55,10],[75,1,75,7],[108,8,108,9],[99,1,99,7],[103,4,103,5],[102,8,102,9],[101,1,101,7],[41,1,41,7],[44,1,44,10],[45,1,45,2],[113,1,113,10],[116,8,116,10],[1,8,1,10],[10,1,10,9],[19,1,19,7],[12,1,12,7],[1,1,1,4],[2,1,2,10],[13,1,13,7],[3,1,3,10],[4,1,4,2],[4,4,4,7],[34,1,34,7],[37,1,37,7],[45,4,45,10],[35,1,35,7],[36,1,36,7],[92,1,92,2],[85,1,85,9],[46,3,46,4],[72,1,72,7],[46,1,46,2],[46,8,46,9],[77,1,77,7],[56,5,56,6],[103,6,103,8],[100,1,100,7],[112,1,112,10],[115,1,115,2],[115,4,115,7],[106,1,106,7],[107,8,107,9],[110,1,110,7],[110,8,110,9],[151,1,151,2],[202,1,202,7],[196,1,196,10],[152,2,152,4],[152,6,152,7],[121,1,121,7],[151,4,151,7],[147,8,147,9],[158,1,158,7],[158,8,158,10],[165,1,165,7],[164,1,164,7],[150,1,150,10],[160,1,160,8],[171,1,171,7],[173,1,173,7],[183,1,183,7],[200,1,200,7],[132,1,132,9],[142,1,142,7],[143,1,143,7],[141,1,141,7],[149,1,149,10],[129,8,129,9],[306,8,306,9],[305,4,305,5],[305,1,305,2],[298,1,298,2],[298,4,298,7],[286,1,291,5],[275,1,275,10],[264,1,264,2],[264,4,264,7],[265,5,265,7],[292,1,292,7],[285,1,285,7],[278,1,278,7],[274,1,274,10],[272,1,272,7],[276,1,276,10],[283,1,283,10],[265,1,265,3],[227,1,227,7],[207,1,207,7],[163,1,163,7],[156,1,156,10],[153,8,153,9],[304,4,304,7],[222,1,222,2],[302,1,302,10],[291,6,291,8],[255,1,255,7],[229,1,229,7],[242,1,242,7],[161,1,161,8],[221,1,221,10],[222,4,222,7],[223,1,223,7],[157,1,157,2],[157,4,157,7],[284,4,284,7],[273,8,273,9],[218,8,218,9],[199,1,199,7],[209,1,209,7],[233,1,233,7],[163,22,163,23],[194,8,194,9],[162,1,162,7],[197,1,197,10],[159,1,159,5],[210,1,210,7],[164,19,164,20],[159,6,159,10],[184,1,184,9],[185,1,185,9],[180,1,180,7],[198,1,198,2],[198,4,198,7],[169,1,169,7],[182,1,182,7],[167,1,167,7],[174,1,174,7],[181,1,181,7],[177,1,177,7],[179,1,179,9],[172,1,172,7],[168,1,168,9],[208,1,208,7],[201,1,201,7],[122,1,122,7],[130,1,130,7],[135,1,135,7],[129,1,129,7],[140,1,140,7],[111,1,111,2],[114,1,114,10],[127,1,127,7],[128,1,128,7],[116,1,116,5],[116,6,116,7],[120,1,120,7],[46,22,46,23],[46,19,46,20],[70,1,70,7],[72,19,72,20],[80,1,80,7],[68,4,68,10],[71,1,71,7],[62,5,62,6],[62,8,62,9],[64,8,64,9],[60,19,60,21],[46,5,46,6],[78,1,78,10],[79,1,79,7],[69,1,69,10],[62,3,62,4],[76,1,76,7],[68,1,68,2],[53,22,53,23],[60,1,60,10],[61,1,61,2],[61,4,61,10],[62,1,62,2],[56,8,56,9],[3,17,3,18],[9,1,9,9],[33,1,33,10],[11,1,11,7],[6,1,6,7],[14,1,14,7],[5,1,5,7],[20,1,20,7],[15,1,15,7],[16,1,16,7],[17,1,17,7],[28,1,28,7],[7,1,7,7],[8,1,8,7],[21,1,21,7],[22,1,22,7],[30,1,30,9],[31,1,31,9],[24,1,24,7],[18,1,18,7],[23,1,23,7],[26,1,26,7],[29,1,29,9],[32,1,32,9],[27,1,27,7],[25,1,25,9],[297,1,297,10],[237,1,237,7],[238,1,238,7],[239,1,239,7],[240,1,240,7],[257,1,257,7],[294,8,294,9],[286,6,286,8],[236,1,236,7],[271,1,271,3],[271,8,271,9],[271,5,271,6],[268,1,268,10],[266,8,266,9],[277,1,277,2],[269,1,269,10],[263,1,263,10],[256,1,256,7],[284,1,284,2],[248,1,248,9],[260,8,260,9],[282,1,282,10],[212,1,217,7],[203,1,203,7],[204,1,204,7],[205,1,205,7],[206,1,206,7],[199,17,199,18],[204,17,204,18],[67,1,67,10],[73,1,73,7],[74,1,74,7],[95,1,95,7],[92,4,92,10],[96,1,96,7],[101,17,101,18],[107,1,107,7],[117,1,117,7],[109,3,109,4],[109,5,109,6],[109,8,109,9],[108,1,108,7],[149,17,149,18],[134,1,134,7],[119,1,119,7],[125,1,125,7],[197,41,197,42],[111,3,111,4],[111,5,111,6],[111,8,111,9],[166,1,166,6],[102,1,102,7],[109,1,109,2],[103,9,103,10],[104,1,104,7],[166,7,166,8],[105,1,105,7],[103,1,103,3],[133,1,133,7],[137,1,137,9],[138,1,138,9],[170,1,170,9],[192,1,192,7],[193,1,193,7],[126,1,126,7],[118,19,118,20],[124,1,124,7],[139,1,139,10],[131,1,131,7],[118,1,118,7],[228,1,228,7],[231,1,231,7],[190,1,190,7],[191,1,191,7],[101,19,101,20],[48,1,48,7],[49,1,49,7],[50,1,50,7],[51,8,51,9],[54,1,54,10],[55,1,55,2],[58,8,58,9],[68,19,68,21],[93,1,93,10],[98,1,98,7],[94,1,94,7],[87,1,87,7],[81,1,81,7],[83,1,83,7],[84,1,84,7],[97,1,97,7],[88,8,88,9],[56,1,56,2],[56,3,56,4],[259,1,259,7],[252,1,252,10],[253,1,253,7],[250,1,250,9],[224,1,224,7],[235,1,235,9],[247,1,247,9],[175,1,175,7],[178,1,178,9],[211,1,211,9],[241,1,241,7],[244,1,244,9],[243,1,243,7],[245,1,245,7],[246,1,246,7],[225,1,225,7],[226,1,226,7],[186,1,186,10],[187,1,187,7],[188,1,188,7],[189,1,189,7],[230,1,230,7],[232,1,232,7],[176,1,176,7],[234,1,234,7],[254,1,254,7],[258,1,258,7],[251,1,251,9],[309,1,309,10],[310,1,310,2],[310,4,310,7],[310,8,310,9],[305,7,305,9],[249,1,249,9],[303,1,303,10],[304,1,304,2],[270,1,270,2],[270,4,270,7],[290,6,290,8],[293,1,293,5],[300,8,300,9],[277,4,277,7],[280,8,280,9],[279,1,279,7],[299,1,299,4],[287,6,287,8],[288,6,288,8],[289,6,289,8]]}
[null,null,null,null,null,null,null,null,null,null,null,null,"Möglich","Sparte grau","Makros","Für Berechnung"]
[null,"Sachversicherung gewünscht?",null,null,null,null,null,null,"Info grobe Fahrlässigkeit",null,null,null,1,1,false,{"$f":"IF(O2=TRUE,1,0)*M2","v":0}]
[null,{"$f":"IF(AND(Kundendaten!$E$13=1,'Berechnung Sparten'!$T$9=0),\"Achtung: bei Basisdaten wurde keine KTE ausgewählt!\",\"\")","v":"Achtung: bei Basisdaten wurde keine KTE ausgewählt!"},null,null,null,null,null,null,null,null,null,null,1,1,false]
[null,"Feuerversicherung",null,null,null,null,null,null,null,null,null,null,{"$f":"'Übersicht und Druck'!$E$12","v":0},"x",null,null,null,"Auswahl Nebenkosten"]
[null,"Sparte gewählt",null,null,null,null,null,null,"Art","Auswahl","Prämie",null,{"$f":"'Übersicht und Druck'!$E$12","v":0},"x",false,{"$f":"IF(O5=TRUE,1,0)*M5","v":0},null,"VS für NK",{"$f":"'Berechnung Sparten'!X64","v":0}]
[null,{"$f":"'Berechnung Sparten'!B28","v":"Grunddeckung (Gebäude, KTE gem. BB F9013, Vorräte)"},null,null,null,null,null,null,{"$f":"'Berechnung Sparten'!W28","v":"VS"},"ja",{"$f":"'Berechnung Sparten'!U28","v":0},null,{"$f":"'Übersicht und Druck'!$E$12","v":0},{"$f":"$P$5","v":0},null,null,null,0.05,{"$f":"$S$5*R6","v":0}]
[null,{"$f":"'Berechnung Sparten'!B29","v":"Technische und kaufmännische Betriebseinrichtung sowie Vorräte (im Eigentum des Versicherungsnehmers) ständig außerhalb des Versicherungsortes jedoch innerhalb Österreichs"},null,null,null,null,null,null,{"$f":"'Berechnung Sparten'!W29","v":"ER"},null,{"$f":"'Berechnung Sparten'!U29","v":0},null,{"$f":"'Übersicht und Druck'!$E$12","v":0},0,null,{"$f":"J7","v":0},null,0.1,{"$f":"$S$5*R7","v":0}]
[null,{"$f":"'Berechnung Sparten'!B30","v":"Wiederherstellungskosten von Datenträgern (Geschäftsbücher, Akten, Pläne, elektronische Speichermedien, Typenscheine, kodierte KFZ-Schlüssel und dgl.) und den darauf befindlichen Daten"},null,null,null,null,null,null,{"$f":"'Berechnung Sparten'!W30","v":"ER 5000 inkl."},null,{"$f":"'Berechnung Sparten'!U30","v":0},null,{"$f":"'Übersicht und Druck'!$E$12","v":0},0,null,0,null,0.15,{"$f":"$S$5*R8","v":0}]
[null,{"$f":"'Berechnung Sparten'!B31","v":"Sachen der Betriebsinhaber und Dienstnehmer (ausgenommen jedoch Bargeld, Edelmetall-, Gold-, Silber- und Schmucksachen, Kraftfahrzeuge sowie in Wohnungen befindlicher Hausrat) "},null,null,null,null,null,null,{"$f":"'Berechnung Sparten'!W31","v":"NW 5000 inkl."},null,{"$f":"'Berechnung Sparten'!U31","v":0},null,{"$f":"'Übersicht und Druck'!$E$12","v":0},0,null,0,"Gewählt",0.2,{"$f":"VLOOKUP(R9,R6:S8,2,FALSE)","v":{"$error":"#N/A"}},"Seit 2020 fix 20 % prämienfrei, vorher optional"]
[null,{"$f":"'Berechnung Sparten'!B32","v":"Grundstücksbegrenzungen aller Art bis  € 50.000,00"},null,null,null,null,null,null,null,null,"präm.frei",null,{"$f":"'Übersicht und Druck'!$E$12","v":0},0,null,0]
[null,{"$f":"'Berechnung Sparten'!B33","v":"Grundstücksbegrenzungen aller Art bis € 10.000,00 gegen Schäden durch fremde KFZ, sofern der Schädiger nicht eruiert werden kann (unverzügliche Anzeige bei der Sicherheitsbehörde erforderlich) "},null,null,null,null,null,null,null,null,"präm.frei",null,{"$f":"'Übersicht und Druck'!$E$12","v":0},0,null,0,null,"Kfz"]
[null,{"$f":"'Berechnung Sparten'!B34","v":"Schäden an sämtlichen baulichen Außenanlagen (ausgenommen Gebäude) sowie Bepflanzungen am Versicherungsgrundstück (5000 inkl.)"},null,null,null,null,null,null,"ER",null,{"$f":"'Berechnung Sparten'!U34","v":0},null,{"$f":"'Übersicht und Druck'!$E$12","v":0},0,null,0,null,"ER"]
[null,{"$f":"'Berechnung Sparten'!B35","v":"KFZ fahrend und ruhend wo immer befindlich gem. F9127"},null,null,null,null,null,null,"ER",null,{"$f":"'Berechnung Sparten'!U35","v":0},null,{"$f":"'Übersicht und Druck'!$E$12","v":0},0,null,0,null,"ZW"]
[null,{"$f":"'Berechnung Sparten'!B36","v":"KFZ fahrend und ruhend am Versicherungsort und auf Probefahrten gem. F0065"},null,null,null,null,null,null,"ER",null,{"$f":"'Berechnung Sparten'!U36","v":0},null,{"$f":"'Übersicht und Druck'!$E$12","v":0},0,null,0]
[null,{"$f":"'Berechnung Sparten'!B37","v":"KFZ fahrend und ruhend wo immer befindlich, inkl. Kabelschmorschäden gem. F3012"},null,null,null,null,null,null,"ER",null,{"$f":"'Berechnung Sparten'!U37","v":0},null,{"$f":"'Übersicht und Druck'!$E$12","v":0},0,null,0]
[null,{"$f":"'Berechnung Sparten'!B38","v":"KFZ fahrend und ruhend am Versicherungsort und auf Probefahrten, inkl. Kabelschmorschäden gem. F3065"},null,null,null,null,null,null,"ER",null,{"$f":"'Berechnung Sparten'!U38","v":0},null,{"$f":"'Übersicht und Druck'!$E$12","v":0},0,null,0]
[null,{"$f":"'Berechnung Sparten'!B39","v":"Anhänger fahrend und ruhend wo immer befindlich"},null,null,null,null,null,null,"ER",null,{"$f":"'Berechnung Sparten'!U39","v":0},null,{"$f":"'Übersicht und Druck'!$E$12","v":0},0,null,0]
[null,{"$f":"'Berechnung Sparten'!B40","v":"Anhänger fahrend und ruhend am Versicherungsort und auf Probefahrten"},null,null,null,null,null,null,"ER",null,{"$f":"'Berechnung Sparten'!U40","v":0},null,{"$f":"'Übersicht und Druck'!$E$12","v":0},0,null,0,null,"Mehrkosten max."]
[null,{"$f":"'Berechnung Sparten'!B41","v":"Werkzeuge, Geräte und Vorräte in KFZ befindlich"},null,null,null,null,null,null,{"$f":"'Berechnung Sparten'!W41","v":"NW"},null,{"$f":"'Berechnung Sparten'!U41","v":0},null,{"$f":"'Übersicht und Druck'!$E$12","v":0},0,null,0,null,{"$f":"'Berechnung Grund'!I81*0.2/2","v":0}]
[null,{"$f":"'Berechnung Sparten'!B42","v":"Schaukästen, Vitrinen und Automaten samt Inhalt außerhalb des Versicherungsortes"},null,null,null,null,null,null,{"$f":"'Berechnung Sparten'!W42","v":"NW"},null,{"$f":"'Berechnung Sparten'!U42","v":0},null,{"$f":"'Übersicht und Druck'!$E$12","v":0},0,null,0]
[null,{"$f":"'Berechnung Sparten'!B43","v":"Geld und Geldeswerte, Sparbücher, Wertpapiere, Urkunden, Schmuck-, Gold- und Platinsachen, Edelsteine, Edelmetalle und echte Perlen sowie Münzen- und Briefmarkensammlungen,  Brief - und Stempelmarken, Vignetten, Kurzparkscheine, Lose und Telefonwertkarten unter festem Verschluss"},null,null,null,null,null,null,{"$f":"'Berechnung Sparten'!W43","v":"ER 5000 inkl."},null,{"$f":"'Berechnung Sparten'!U43","v":0},null,{"$f":"'Übersicht und Druck'!$E$12","v":0},0,null,0]
[null,{"$f":"'Berechnung Sparten'!B44","v":"Kaminbrand, Verpuffungs- und Verrußungsschäden"},null,null,null,null,null,null,{"$f":"'Berechnung Sparten'!W44","v":"ER"},null,{"$f":"'Berechnung Sparten'!U44","v":0},{"$f":"IF(J22>R28,\"Maximale VS 5.000\",\"\")","v":""},{"$f":"'Übersicht und Druck'!$E$12","v":0},0,null,{"$f":"IF(J22=\"\",0,MIN(J22,R28))","v":0},null,"Außenanlagen"]
[null,{"$f":"'Berechnung Sparten'!B45","v":"Schwimmbecken im Freien samt Abdeckung am Versicherungsort"},null,null,null,null,null,null,{"$f":"'Berechnung Sparten'!W45","v":"NW"},null,{"$f":"'Berechnung Sparten'!U45","v":0},null,{"$f":"'Übersicht und Druck'!$E$12","v":0},0,null,0,null,"ER"]
[null,{"$f":"'Berechnung Sparten'!B46","v":"Groß- und/oder Kleintiere"},null,null,null,null,null,null,{"$f":"'Berechnung Sparten'!W46","v":"WBS"},null,{"$f":"'Berechnung Sparten'!U46","v":0},null,{"$f":"'Übersicht und Druck'!$E$12","v":0},0,null,0,null,"NW"]
[null,{"$f":"'Berechnung Sparten'!B47","v":"Räucherkammerinhalt gem. F0078"},null,null,null,null,null,null,{"$f":"'Berechnung Sparten'!W47","v":"ER"},null,{"$f":"'Berechnung Sparten'!U47","v":0},null,{"$f":"'Übersicht und Druck'!$E$12","v":0},0,null,0]
[null,{"$f":"'Berechnung Sparten'!B48","v":"20 % Aufräumungs-, Abbruch-, Feuerlösch-, De- u. Remontagekosten, Bewegungs- u. Schutzkosten, Deponiekosten für nicht zu behandelnden Abfall. Im Rahmen dieser Summe gelten Mehrkosten durch die Behandlung von gefährlichem Abfall und/oder kontaminiertem Erdreich bis 50 % der Summe als mitversichert, gem. A3024."},null,null,null,null,null,null,null,null,"präm.frei",null,{"$f":"'Übersicht und Druck'!$E$12","v":0},0,null,{"$f":"S9","v":{"$error":"#N/A"}}]
[null,{"$f":"'Berechnung Sparten'!B49","v":"Mehrkosten durch die Behandlung von gefährlichem Abfall und/oder kontaminiertem Erdreich (A3024)"},null,null,null,null,null,null,{"$f":"\"ER (max. \"&ROUND(R19,0)&\")\"","v":"ER (max. 0)"},null,{"$f":"'Berechnung Sparten'!U49","v":0},null,{"$f":"'Übersicht und Druck'!$E$12","v":0},0,null,{"$f":"IF(J27=\"\",0,MIN(J27,R19))","v":0},null,"Kambinbrand max. VS"]
[null,{"$f":"'Berechnung Sparten'!B50","v":"Sachverständigenkosten gem. A4850"},null,null,null,null,null,null,{"$f":"'Berechnung Sparten'!W50","v":"ER"},null,{"$f":"'Berechnung Sparten'!U50","v":0},null,{"$f":"'Übersicht und Druck'!$E$12","v":0},0,null,{"$f":"J28","v":0},null,5000]
[null,{"$f":"'Berechnung Sparten'!B51","v":"Haftungserweiterung auf indirekte Blitzschlagschäden inkl. der Haustechnik gem. F4965"},null,null,null,null,null,null,{"$f":"'Berechnung Sparten'!W51","v":"ER 5000 inkl."},null,{"$f":"'Berechnung Sparten'!U51","v":0},null,{"$f":"'Übersicht und Druck'!$E$12","v":0},0,null,0]
[null,{"$f":"'Berechnung Sparten'!B52","v":"Mehraufwand im Schadensfall (10 %  gem. BB 4817)"},null,null,null,null,null,null,null,null,"präm.frei",null,{"$f":"'Übersicht und Druck'!$E$12","v":0},0,null,0]
[null,{"$f":"'Berechnung Sparten'!B53","v":"Außenversicherung (10 %  gem. BB 4924)"},null,null,null,null,null,null,"prämienfrei",null,"präm.frei",null,{"$f":"'Übersicht und Druck'!$E$12","v":0},0,null,0]
[null,{"$f":"'Berechnung Sparten'!B54","v":"Verteurerung im Schadensfall (15 % gem. BB 4907)"},null,null,null,null,null,null,"prämienfrei",null,"präm.frei",null,{"$f":"'Übersicht und Druck'!$E$12","v":0},0,null,0]
[null,{"$f":"'Berechnung Sparten'!B55","v":"Brandherd 50.000 (gem. N022)"},null,null,null,null,null,null,"prämienfrei",null,"präm.frei",null,{"$f":"'Übersicht und Druck'!$E$12","v":0},0,null,0]
[null,{"$f":"'Berechnung Sparten'!B56","v":"Geld und Geldeswerte im Sicherheitsbehältnis"},null,null,null,null,null,null,null,null,null,null,{"$f":"'Übersicht und Druck'!$E$12","v":0},0,null,null,null,"Limits"]
[null,{"$f":"'Berechnung Sparten'!B57","v":"Sicherheitsgrad EN0 bzw. VSÖ IV (VS 15.000)"},null,null,null,null,null,null,{"$f":"'Berechnung Sparten'!W57","v":"ER"},null,{"$f":"'Berechnung Sparten'!U57","v":0},null,{"$f":"'Übersicht und Druck'!$E$12","v":0},0,false,{"$f":"IF(O35=TRUE,R35,0)","v":0},null,15000]
[null,{"$f":"'Berechnung Sparten'!B58","v":"Sicherheitsgrad EN1 bzw. VSÖ III/c 1-3 (VS 30.000)"},null,null,null,null,null,null,{"$f":"'Berechnung Sparten'!W58","v":"ER"},null,{"$f":"'Berechnung Sparten'!U58","v":0},null,{"$f":"'Übersicht und Druck'!$E$12","v":0},0,false,{"$f":"IF(O36=TRUE,R36,0)","v":0},null,30000]
[null,{"$f":"'Berechnung Sparten'!B59","v":"Sicherheitsgrad VSÖ III/b (VS 45.000)"},null,null,null,null,null,null,{"$f":"'Berechnung Sparten'!W59","v":"ER"},null,{"$f":"'Berechnung Sparten'!U59","v":0},null,{"$f":"'Übersicht und Druck'!$E$12","v":0},0,false,0,null,45000]
[null,{"$f":"'Berechnung Sparten'!B60","v":"Sicherheitsgrad EN2 bzw. VSÖ II/d (VS 75.000)"},null,null,null,null,null,null,{"$f":"'Berechnung Sparten'!W60","v":"ER"},null,{"$f":"'Berechnung Sparten'!U60","v":0},null,{"$f":"'Übersicht und Druck'!$E$12","v":0},0,false,0,null,75000]
[null,{"$f":"'Berechnung Sparten'!B61","v":"Sicherheitsgrad EN3 bzw. VSÖ II/c (VS 100.000)"},null,null,null,null,null,null,{"$f":"'Berechnung Sparten'!W61","v":"ER"},null,{"$f":"'Berechnung Sparten'!U61","v":0},null,{"$f":"'Übersicht und Druck'!$E$12","v":0},0,false,0,null,100000]
[null,{"$f":"'Berechnung Sparten'!B62","v":"Sicherheitsgrad EN4 (VS 150.000)"},null,null,null,null,null,null,{"$f":"'Berechnung Sparten'!W62","v":"ER"},null,{"$f":"'Berechnung Sparten'!U62","v":0},null,{"$f":"'Übersicht und Druck'!$E$12","v":0},0,false,0,null,150000]
[null,{"$f":"'Berechnung Sparten'!B63","v":"Sicherheitsgrad EN5 bzw. VSÖ II/b (VS 250.000)"},null,null,null,null,null,null,{"$f":"'Berechnung Sparten'!W63","v":"ER"},null,{"$f":"'Berechnung Sparten'!U63","v":0},null,{"$f":"'Übersicht und Druck'!$E$12","v":0},0,false,0,null,250000]
[null,null,null,null,null,null,null,null,"Spartenprämie",null,{"$f":"'Berechnung Sparten'!U66","v":0},null,{"$f":"'Übersicht und Druck'!$E$12","v":0},0]
[]
[]
[null,"Betriebsunterbrechungsversicherung",null,null,null,null,null,null,null,null,null,null,{"$f":"'Übersicht und Druck'!$E$13","v":0},"x"]
[null,"Sparte gewählt",null,null,null,null,null,null,null,null,null,null,{"$f":"'Übersicht und Druck'!$E$13","v":0},"x",false,{"$f":"IF(O46=TRUE,1,0)*P5*M46","v":0},"Makros Feuer/Total-BU"]
[null,"Jahresdeckungsbeitrag",null,null,null,"Haftungszeit",null,"12 Monate",{"$f":"IF(H47=\"\",\"bitte wählen\",\"\")","v":""},null,"Prämie",null,{"$f":"'Übersicht und Druck'!$E$13","v":0},{"$f":"$P$46","v":0},null,null,{"$f":"O46","v":false},{"$f":"IF(Q47=TRUE,1,0)","v":0},"Feuer","Haftungszeit F/Total-BU",null,null,"Haftungszeit EC-BU"]
[null,"Feuer","Pflicht","LW",null,"ED",null,"Sturm",null,null,{"$f":"'Berechnung Sparten'!U78","v":{"$error":"#N/A"}},null,{"$f":"'Übersicht und Druck'!$E$13","v":0},0,null,null,true,{"$f":"IF(Q48=TRUE,1,0)*$R$47*P158","v":0},"LW","6 Monate",-0.24,null,"6 Monate",-0.24]
[null,{"$f":"'Berechnung Sparten'!B73","v":"Prämienrückgewähr - und Vorsorge-Versicherung, Bes.Bed. BU950"},null,null,null,null,null,null,{"$f":"'Berechnung Sparten'!C73","v":"inkludiert"},null,{"$f":"'Berechnung Sparten'!U73","v":0},null,{"$f":"'Übersicht und Druck'!$E$13","v":0},0,false,null,true,{"$f":"IF(Q49=TRUE,1,0)*$R$47*P116","v":0},"ED","9 Monate",-0.15,null,"9 Monate",-0.15]
[null,{"$f":"'Berechnung Sparten'!B74","v":"Mehrkosten für erhöhten Werbeaufwand"},null,null,null,null,null,null,{"$f":"'Berechnung Sparten'!C74","v":"ER"},null,{"$f":"'Berechnung Sparten'!U74","v":{"$error":"#N/A"}},null,{"$f":"'Übersicht und Druck'!$E$13","v":0},0,null,{"$f":"J50","v":0},true,{"$f":"IF(Q50=TRUE,1,0)*$R$47*P223","v":0},"Sturm","12 Monate",0,null,"12 Monate",0]
[null,{"$f":"'Berechnung Sparten'!B75","v":"Rückwirkungsschäden (BU 960)"},null,null,null,null,null,null,{"$f":"\"ER (max. \"&Q54&\")\"","v":"ER (max. 0)"},null,{"$f":"'Berechnung Sparten'!U75","v":0},null,{"$f":"'Übersicht und Druck'!$E$13","v":0},0,null,{"$f":"IF(J51=\"\",0,MIN(J51,Q54))","v":0},null,null,null,"15 Monate",0.2]
[null,null,null,null,null,null,null,null,"Spartenprämie",null,{"$f":"'Berechnung Sparten'!U78","v":{"$error":"#N/A"}},null,{"$f":"'Übersicht und Druck'!$E$13","v":0},0,null,null,null,null,null,"18 Monate",0.4]
[null,null,null,null,null,null,null,null,null,null,null,null,null,null,null,null,"Max. Rückwirkungsschäden",null,null,"21 Monate",0.55000000000000004]
[null,null,null,null,null,null,null,null,null,null,null,null,null,null,null,null,{"$f":"IF(D47=\"\",0,D47*0.1)","v":0},null,null,"24 Monate",0.65,null,"Haftungszeit Mietentgang-BU"]
[null,"Mietentgang-BU",null,null,null,null,null,null,null,null,null,null,{"$f":"'Übersicht und Druck'!$E$14","v":0},"x",null,null,null,null,null,null,null,null,"6 Monate",-0.24]
[null,"Sparte gewählt",null,null,null,null,null,null,null,null,null,null,{"$f":"'Übersicht und Druck'!$E$14","v":0},"x",false,{"$f":"IF(O56=TRUE,1,0)*P5*M56","v":0},"Makros Mietentgang-BU",null,null,null,null,null,"9 Monate",-0.15]
[null,"Jahresmieteinnahmen",null,null,null,"Haftungszeit",null,"12 Monate",{"$f":"IF(H57=\"\",\"bitte wählen\",\"\")","v":""},null,"Prämie",null,{"$f":"'Übersicht und Druck'!$E$14","v":0},{"$f":"$P$56","v":0},null,null,{"$f":"O56","v":false},{"$f":"IF(Q57=TRUE,1,0)*$P$56","v":0},"Feuer",null,null,null,"12 Monate",0]
[null,"Feuer","Pflicht","LW",null,"ED",null,"Sturm",null,null,null,null,{"$f":"'Übersicht und Druck'!$E$14","v":0},{"$f":"$P$56","v":0},null,null,true,{"$f":"IF(Q58=TRUE,1,0)*$P$56*P158","v":0},"LW",null,null,null,"15 Monate",0.2]
[null,null,null,null,null,null,null,null,"Spartenprämie",null,{"$f":"'Berechnung Sparten'!U87","v":0},null,{"$f":"'Übersicht und Druck'!$E$14","v":0},{"$f":"$P$56","v":0},null,null,true,{"$f":"IF(Q59=TRUE,1,0)*$P$56*P116","v":0},"ED",null,null,null,"18 Monate",0.4]
[null,null,null,null,null,null,null,null,null,null,null,null,null,null,null,null,true,{"$f":"IF(Q60=TRUE,1,0)*$P$56*P223","v":0},"Sturm",null,null,null,"21 Monate",0.55000000000000004]
[null,"Mehrkosten-BU",null,null,null,null,null,null,null,null,null,null,{"$f":"'Übersicht und Druck'!$E$15","v":0},"x",null,null,null,null,null,"Haftungszeit Mehrkosten-BU",null,null,"24 Monate",0.65]
[null,"Sparte gewählt",null,null,null,null,null,null,null,null,null,null,{"$f":"'Übersicht und Druck'!$E$15","v":0},"x",false,{"$f":"IF(O62=TRUE,1,0)*P5*M62","v":0},"Makros Mehrkosten",null,null,"Angabe","Faktor","VS"]
[null,"Mehrkosten pro Monat",null,null,null,"Haftungszeit",null,"3 Monate",{"$f":"IF(H63=\"\",\"bitte wählen\",\"\")","v":""},null,"Prämie",null,{"$f":"'Übersicht und Druck'!$E$15","v":0},{"$f":"$P$62","v":0},null,null,{"$f":"O62","v":false},{"$f":"IF(Q63=TRUE,1,0)*$P$62","v":0},"Feuer","1 Monat",11,1]
[null,"Feuer","Pflicht","LW",null,"ED",null,"Sturm",null,null,null,null,{"$f":"'Übersicht und Druck'!$E$15","v":0},{"$f":"$P$62","v":0},null,null,true,{"$f":"IF(Q64=TRUE,1,0)*$P$62*P158","v":0},"LW","2 Monate",5.6,2]
[null,null,null,null,null,null,null,null,"Spartenprämie",null,{"$f":"'Berechnung Sparten'!U98","v":0},null,{"$f":"'Übersicht und Druck'!$E$15","v":0},{"$f":"$P$62","v":0},null,null,true,{"$f":"IF(Q65=TRUE,1,0)*$P$62*P116","v":0},"ED","3 Monate",4,3]
[null,null,null,null,null,null,null,null,null,null,null,null,null,null,null,null,true,{"$f":"IF(Q66=TRUE,1,0)*$P$62*P223","v":0},"Sturm","6 Monate",2.2000000000000002,6]
[null,null,null,null,null,null,null,null,null,null,null,null,null,null,null,null,null,null,null,"9 Monate",1.7,9]
[null,"Extended Coverage Versicherung",null,null,null,null,null,null,null,null,null,null,{"$f":"'Übersicht und Druck'!$E$16*$P$5","v":0},"x",null,null,null,null,null,"12 Monate",1.5,12]
[null,"Sparte gewählt",null,null,null,null,null,null,null,null,null,null,{"$f":"'Übersicht und Druck'!$E$16*$P$5","v":0},{"$f":"P5","v":0},false,{"$f":"IF(O69=TRUE,1,0)*M69*P5","v":0},null,null,null,"Gewählt"]
[null,"Versicherte Gefahren",null,null,null,null,null,null,null,null,null,null,{"$f":"'Übersicht und Druck'!$E$16*$P$5","v":0},{"$f":"$P$69","v":0},null,null,null,null,null,{"$f":"IF(H63=\"\",T63,H63)","v":"3 Monate"},{"$f":"VLOOKUP(T70,T63:U68,2,FALSE)","v":4},{"$f":"VLOOKUP(T70,T63:V68,3,FALSE)","v":3}]
[null,{"$f":"'Berechnung Sparten'!AC108","v":"1.1 Innere Unruhen, böswillige Beschädigung, Streik, Aussperrung\n1.2 Fahrzeuganprall, Rauch, Überschalldruckwelle"},null,null,null,null,null,null,{"$f":"'Berechnung Sparten'!AD108*1000&\" %o, SB \"&'Berechnung Sparten'!AE108","v":"0,16 %o, SB 1000"},"ja",null,null,{"$f":"'Übersicht und Druck'!$E$16*$P$5","v":0},0,null,{"$f":"P69","v":0}]
[null,{"$f":"'Berechnung Sparten'!AC109","v":"1.3 Sprinkler-Leckage"},null,null,null,null,null,null,{"$f":"'Berechnung Sparten'!AD109*1000&\" %o, SB \"&'Berechnung Sparten'!AE109","v":"0,08 %o, SB 2000"},null,null,null,{"$f":"'Übersicht und Druck'!$E$16*$P$5","v":0},0,true,{"$f":"IF(O72=TRUE,1,0)*$P$69","v":0}]
[null,{"$f":"'Berechnung Sparten'!AC110","v":"1.4 Überschwemmung: Anfrage Versicherungtechnik"},null,null,null,null,null,null,"Anfrage","nein",null,null,{"$f":"'Übersicht und Druck'!$E$16*$P$5","v":0},0,null,0,null,null,null,"Auswahl Nebenkosten"]
[null,{"$f":"'Berechnung Sparten'!AC111","v":"1.5 Vermurung"},null,null,null,null,null,null,{"$f":"'Berechnung Sparten'!AD111*1000&\" %o, SB \"&'Berechnung Sparten'!AE111","v":"0,03 %o, SB 2000"},null,null,null,{"$f":"'Übersicht und Druck'!$E$16*$P$5","v":0},0,true,{"$f":"IF(O74=TRUE,1,0)*$P$69","v":0},null,null,null,"VS für NK",{"$f":"'Berechnung Sparten'!X116","v":0}]
[null,{"$f":"'Berechnung Sparten'!AC112","v":"1.6 Erdbeben"},null,null,null,null,null,null,{"$f":"'Berechnung Sparten'!AD112*1000&\" %o, SB \"&'Berechnung Sparten'!AE112","v":"0,15 %o, SB 7500"},null,null,null,{"$f":"'Übersicht und Druck'!$E$16*$P$5","v":0},0,true,{"$f":"IF(O75=TRUE,1,0)*$P$69","v":0},null,null,null,0.05,{"$f":"U74*T75","v":0}]
[null,{"$f":"'Berechnung Sparten'!AC113","v":"1.7 Lawinen und Lawinenluftdruck"},null,null,null,null,null,null,{"$f":"'Berechnung Sparten'!AD113*1000&\" %o, SB \"&'Berechnung Sparten'!AE113","v":"0,05 %o, SB 2000"},null,null,null,{"$f":"'Übersicht und Druck'!$E$16*$P$5","v":0},0,true,{"$f":"IF(O76=TRUE,1,0)*$P$69","v":0},null,null,null,0.1,{"$f":"U74*T76","v":0}]
[null,{"$f":"'Berechnung Sparten'!AC114","v":"1.8 Erdsenkung"},null,null,null,null,null,null,{"$f":"'Berechnung Sparten'!AD114*1000&\" %o, SB \"&'Berechnung Sparten'!AE114","v":"0,05 %o, SB 2000"},null,null,null,{"$f":"'Übersicht und Druck'!$E$16*$P$5","v":0},0,true,{"$f":"IF(O77=TRUE,1,0)*$P$69","v":0},null,null,null,0.15,{"$f":"U74*T77","v":0}]
[null,{"$f":"'Berechnung Sparten'!AC115","v":"1.9 Unbenannte Gefahren"},null,null,null,null,null,null,{"$f":"'Berechnung Sparten'!AD115*1000&\" %o, SB \"&'Berechnung Sparten'!AE115","v":"0,25 %o, SB 2000"},null,null,null,{"$f":"'Übersicht und Druck'!$E$16*$P$5","v":0},0,true,{"$f":"IF(O78=TRUE,1,0)*$P$69","v":0},null,null,null,0.2,{"$f":"U74*T78","v":0}]
[null,"Versicherte Sachen: Nur Sachen möglich, die auch in der Sparte Feuer gewählt wurden",null,null,null,null,null,null,null,null,null,null,{"$f":"'Übersicht und Druck'!$E$16*$P$5","v":0},0,null,null,null,null,"Gewählt",{"$f":"IF(J86=\"\",T75,J86)","v":0.05},{"$f":"VLOOKUP(T79,T75:U78,2,FALSE)","v":0}]
[null,{"$f":"'Berechnung Sparten'!B107","v":"Grunddeckung (Gebäude, KTE, Vorräte)"},null,null,null,null,null,null,{"$f":"'Berechnung Sparten'!G107","v":0},"ja",{"$f":"'Berechnung Sparten'!U107","v":0},null,{"$f":"'Übersicht und Druck'!$E$16*$P$5","v":0},0,true,{"$f":"IF(O80=TRUE,1,0)","v":1}]
[null,{"$f":"'Berechnung Sparten'!B108","v":"Technische und kaufmännische Betriebseinrichtung sowie Vorräte (im Eigentum des Versicherungsnehmers) ständig außerhalb des Versicherungsortes jedoch innerhalb Österreichs"},null,null,null,null,null,null,{"$f":"'Berechnung Sparten'!G108","v":0},null,{"$f":"'Berechnung Sparten'!U108","v":0},null,{"$f":"'Übersicht und Druck'!$E$16*$P$5","v":0},0,false,0]
[null,{"$f":"'Berechnung Sparten'!B109","v":"Wiederherstellungskosten von Datenträgern (Geschäftsbücher, Akten, Pläne, elektronische Speichermedien, Typenscheine, kodierte KFZ-Schlüssel und dgl.) und den darauf befindlichen Daten"},null,null,null,null,null,null,{"$f":"'Berechnung Sparten'!G109","v":0},null,{"$f":"'Berechnung Sparten'!U109","v":0},null,{"$f":"'Übersicht und Druck'!$E$16*$P$5","v":0},0,false,0]
[null,{"$f":"'Berechnung Sparten'!B110","v":"Sachen der Betriebsinhaber und Dienstnehmer (ausgenommen jedoch Bargeld, Edelmetall-, Gold-, Silber- und Schmucksachen, Kraftfahrzeuge sowie in Wohnungen befindlicher Hausrat) "},null,null,null,null,null,null,{"$f":"'Berechnung Sparten'!G110","v":0},null,{"$f":"'Berechnung Sparten'!U110","v":0},null,{"$f":"'Übersicht und Druck'!$E$16*$P$5","v":0},0,false,0]
[null,{"$f":"'Berechnung Sparten'!B111","v":"Geld und Geldeswerte, Sparbücher, Wertpapiere, Urkunden, Schmuck-, Gold- und Platinsachen, Edelsteine, Edelmetalle und echte Perlen sowie Münzen- und Briefmarkensammlungen,  Brief - und Stempelmarken, Vignetten, Kurzparkscheine, Lose und Telefonwertkarten unter festem Verschluss"},null,null,null,null,null,null,{"$f":"'Berechnung Sparten'!G111","v":0},null,{"$f":"'Berechnung Sparten'!U111","v":0},null,{"$f":"'Übersicht und Druck'!$E$16*$P$5","v":0},0,false,0]
[null,{"$f":"'Berechnung Sparten'!B112","v":"Groß- und/oder Kleintiere"},null,null,null,null,null,null,{"$f":"'Berechnung Sparten'!G112","v":0},null,{"$f":"'Berechnung Sparten'!U112","v":0},null,{"$f":"'Übersicht und Druck'!$E$16*$P$5","v":0},0,false,0]
[null,{"$f":"'Berechnung Sparten'!B113","v":"20 % Aufräumungs-, Abbruch-, Feuerlösch-, De- u. Remontagekosten, Bewegungs- u. Schutzkosten, Deponiekosten für nicht zu behandelnden Abfall. Im Rahmen dieser Summe gelten Mehrkosten durch die Behandlung von gefährlichem Abfall und/oder kontaminiertem Erdreich bis 50 % der Summe als mitversichert."},null,null,null,null,null,null,null,null,"präm.frei",null,{"$f":"'Übersicht und Druck'!$E$16*$P$5","v":0},0,null,{"$f":"U79","v":0}]
[null,{"$f":"'Berechnung Sparten'!B114","v":"Mehrkosten durch die Behandlung von gefährlichem Abfall und/oder kontaminiertem Erdreich"},null,null,null,null,null,null,{"$f":"'Berechnung Sparten'!G114","v":0},null,{"$f":"'Berechnung Sparten'!U114","v":0},null,{"$f":"'Übersicht und Druck'!$E$16*$P$5","v":0},0,false,{"$f":"IF(O87=TRUE,1,0)","v":0}]
[null,{"$f":"'Berechnung Sparten'!B115","v":"Sachverständigenkosten"},null,null,null,null,null,null,{"$f":"'Berechnung Sparten'!G115","v":0},null,{"$f":"'Berechnung Sparten'!U115","v":0},null,{"$f":"'Übersicht und Druck'!$E$16*$P$5","v":0},0,false,{"$f":"IF(O88=TRUE,1,0)","v":0}]
[null,null,null,null,null,null,null,null,"Spartenprämie",null,{"$f":"'Berechnung Sparten'!U118","v":0},null,{"$f":"'Übersicht und Druck'!$E$16*$P$5","v":0},0]
[]
[]
[null,"Extended Coverage Betriebsunterbrechung",null,null,null,null,null,null,null,null,null,null,{"$f":"$P$69","v":0},"x"]
[null,"Sparte gewählt",null,null,null,null,null,null,null,null,null,null,0,"x",false,{"$f":"IF(O93=TRUE,1,0)*M93*P69","v":0}]
[null,"Versicherte Gefahren",null,null,null,null,null,null,null,null,null,null,0,{"$f":"$P$93","v":0},null,null,null,null,null,0.19]
[null,{"$f":"'Berechnung Sparten'!AB126","v":"1.1 Innere Unruhen, böswillige Beschädigung, Streik, Aussperrung\n1.2 Fahrzeuganprall, Rauch, Überschalldruckwelle"},null,null,null,null,null,null,{"$f":"'Berechnung Sparten'!AC126*1000&\" %o, SB \"&'Berechnung Sparten'!AD126","v":"0,19 %o, SB 2 Tage"},"ja",null,null,0,0,true,{"$f":"IF(O95=TRUE,1,0)*$P$93*P71","v":0},null,null,null,0.12]
[null,{"$f":"'Berechnung Sparten'!AB127","v":"1.3 Sprinkler-Leckage"},null,null,null,null,null,null,{"$f":"'Berechnung Sparten'!AC127*1000&\" %o, SB \"&'Berechnung Sparten'!AD127","v":"0,12 %o, SB 2 Tage"},null,null,null,0,0,false,0,null,null,null,0.06]
[null,{"$f":"'Berechnung Sparten'!AB128","v":"1.4 Überschwemmung: Anfrage Versicherungtechnik"},null,null,null,null,null,null,"Anfrage","nein",null,null,0,0,null,0,null,null,null,0.25]
[null,{"$f":"'Berechnung Sparten'!AB129","v":"1.5 Vermurung"},null,null,null,null,null,null,{"$f":"'Berechnung Sparten'!AC129*1000&\" %o, SB \"&'Berechnung Sparten'!AD129","v":"0,06 %o, SB 2 Tage"},null,null,null,0,0,false,0,null,null,null,7.0000000000000007E-2]
[null,{"$f":"'Berechnung Sparten'!AB130","v":"1.6 Erdbeben"},null,null,null,null,null,null,{"$f":"'Berechnung Sparten'!AC130*1000&\" %o, SB \"&'Berechnung Sparten'!AD130","v":"0,25 %o, SB 10 Tage"},null,null,null,0,0,false,0,null,null,null,0.08]
[null,{"$f":"'Berechnung Sparten'!AB131","v":"1.7 Lawinen und Lawinenluftdruck"},null,null,null,null,null,null,{"$f":"'Berechnung Sparten'!AC131*1000&\" %o, SB \"&'Berechnung Sparten'!AD131","v":"0,07 %o, SB 2 Tage"},null,null,null,0,0,false,0,null,null,null,0.4]
[null,{"$f":"'Berechnung Sparten'!AB132","v":"1.8 Erdsenkung"},null,null,null,null,null,null,{"$f":"'Berechnung Sparten'!AC132*1000&\" %o, SB \"&'Berechnung Sparten'!AD132","v":"0,08 %o, SB 2 Tage"},null,null,null,0,0,false,0,null,null,null,{"$f":"SUM(T94:T100)/1000","v":1.17E-3}]
[null,{"$f":"'Berechnung Sparten'!AB133","v":"1.9 Unbenannte Gefahren"},null,null,null,null,null,null,{"$f":"'Berechnung Sparten'!AC133*1000&\" %o, SB \"&'Berechnung Sparten'!AD133","v":"0,4 %o, SB 2 Tage"},null,null,null,0,0,false,0,null,"Haftungszeit Mietentgang-BU",null,"Haftungszeit Mehrkosten-BU",null,"Faktor"]
[null,{"$f":"IF(P46=0,\"EC-Betriebsunterbrechung - Feuer/Total-BU notwendig\",\"EC-Betriebsunterbrechung\")","v":"EC-Betriebsunterbrechung - Feuer/Total-BU notwendig"},null,null,null,null,null,null,"Sparte gewählt",null,null,null,{"$f":"'Übersicht und Druck'!$E$17","v":0},0,false,{"$f":"IF(O103=TRUE,1,0)*$P$93*P46*M103","v":0},null,"6 Monate",-0.24,"1 Monat",1,11]
[null,"Deckungsbeitrag (laut Feuer-BU):",null,null,{"$f":"D47","v":0},null,"Haftungszeit",null,null,"12 Monate",null,null,{"$f":"'Übersicht und Druck'!$E$17","v":0},{"$f":"$P$93*$P$103","v":0},null,{"$f":"IF(J104=\"\",R105,J104)","v":"12 Monate"},null,"9 Monate",-0.15,"2 Monate",2,5.6]
[null,{"$f":"'Berechnung Sparten'!B124","v":"EC-Betriebsunterbrechung"},null,null,null,null,null,null,"Deckungsbeitrag",{"$f":"'Berechnung Sparten'!E124","v":0},{"$f":"'Berechnung Sparten'!U124","v":0},null,{"$f":"'Übersicht und Druck'!$E$17","v":0},{"$f":"$P$93*$P$103","v":0},null,null,null,"12 Monate",0,"3 Monate",3,4]
[null,{"$f":"'Berechnung Sparten'!B125","v":"Prämienrückgewähr - und Vorsorge-Versicherung, Bes.Bed. BU950"},null,null,null,null,null,null,{"$f":"'Berechnung Sparten'!C125","v":"inkludiert"},null,null,null,{"$f":"'Übersicht und Druck'!$E$17","v":0},{"$f":"$P$93*$P$103","v":0},null,1,null,"Gewählt BU",{"$f":"VLOOKUP(P104,R103:S105,2,FALSE)","v":0},"6 Monate",6,2.2000000000000002]
[null,{"$f":"'Berechnung Sparten'!B126","v":"Mehrkosten für erhöhten Werbeaufwand"},null,null,null,null,null,null,{"$f":"'Berechnung Sparten'!C126","v":"ER"},null,{"$f":"'Berechnung Sparten'!U126","v":0},null,{"$f":"'Übersicht und Druck'!$E$17","v":0},{"$f":"$P$93*$P$103","v":0},null,{"$f":"J107","v":0},null,"Gw. Mietentgang",{"$f":"VLOOKUP(P110,R103:S105,2,FALSE)","v":0},"9 Monate",9,1.7]
[null,null,null,null,null,null,null,null,"Spartenprämie",null,{"$f":"'Berechnung Sparten'!U129","v":0},null,{"$f":"'Übersicht und Druck'!$E$17","v":0},{"$f":"$P$93*$P$103","v":0},null,null,null,"Gw. Mehrkosten",{"$f":"VLOOKUP(P112,R103:S105,2,FALSE)","v":0},"12 Monate",12,1.5]
[null,{"$f":"IF(P56=0,\"EC-Mietentgang-BU - Feuer/Total-Mietentgang-BU erforderlich\",\"EC-Mietentgang-BU\")","v":"EC-Mietentgang-BU - Feuer/Total-Mietentgang-BU erforderlich"},null,null,null,null,null,null,"Sparte gewählt",null,null,null,{"$f":"'Übersicht und Druck'!$E$18","v":0},{"$f":"$P$93","v":0},false,{"$f":"IF(O109=TRUE,1,0)*$P$93*P56*M109","v":0},null,null,null,null,{"$f":"VLOOKUP(P112,T103:V108,2,FALSE)","v":12},{"$f":"VLOOKUP(P112,T103:V108,3,FALSE)","v":1.5}]
[null,"Jahresmieteinnahmen",null,{"$f":"D57","v":0},null,"Haftungszeit",null,"12 Monate","Spartenprämie",null,{"$f":"'Berechnung Sparten'!U138","v":0},null,{"$f":"'Übersicht und Druck'!$E$18","v":0},{"$f":"P109","v":0},null,{"$f":"IF(H110=\"\",R105,H110)","v":"12 Monate"}]
[null,{"$f":"IF(P62=0,\"EC-Mehrkosten-BU - Feuer/Total-Mehrkosten-BU erforderlich\",\"EC-Mehrkosten-BU\")","v":"EC-Mehrkosten-BU - Feuer/Total-Mehrkosten-BU erforderlich"},null,null,null,null,null,null,"Sparte gewählt",null,null,null,{"$f":"'Übersicht und Druck'!$E$19","v":0},{"$f":"$P$93","v":0},false,{"$f":"IF(O111=TRUE,1,0)*$P$93*P62*M111","v":0}]
[null,"Mehrkosten pro Monat",null,{"$f":"IF(D63=\"\",0,MIN(D63,10000))","v":0},null,"Haftungszeit",null,"12 Monate","Spartenprämie",null,{"$f":"'Berechnung Sparten'!U147","v":0},{"$f":"IF(D112<D63,\"max. 10.000\",\"\")","v":""},{"$f":"'Übersicht und Druck'!$E$19","v":0},{"$f":"P111","v":0},null,{"$f":"IF(H112=\"\",T108,H112)","v":"12 Monate"}]
[null,{"$f":"IF(AND(O93=TRUE,SUM(P103,P109,P111)=0),\"Bitte gewünschte EC-BU-Sparte auswählen\",\"\")","v":""}]
[null,{"$f":"IF(AND(Kundendaten!$E$13=1,'Berechnung Sparten'!$T$9=0),\"Achtung: bei Basisdaten wurde keine KTE ausgewählt!\",\"\")","v":"Achtung: bei Basisdaten wurde keine KTE ausgewählt!"},null,null,null,null,null,null,null,null,null,null,1,1]
[null,"Einbruchdiebstahlversicherung",null,null,null,null,null,null,null,null,null,null,{"$f":"'Übersicht und Druck'!$E$20","v":0},"x"]
[null,"Sparte gewählt",null,null,null,null,null,null,"Art","Auswahl","Prämie",null,{"$f":"'Übersicht und Druck'!$E$20","v":0},"x",false,{"$f":"IF(O116=TRUE,1,0)*M116","v":0}]
[null,{"$f":"IF(I117=\"\",\"bitte auswählen!\",\"\")","v":"bitte auswählen!"},null,null,null,null,"Risikooorte bewohnt?",null,null,null,null,null,{"$f":"'Übersicht und Druck'!$E$20","v":0},{"$f":"$P$116","v":0}]
[null,{"$f":"'Berechnung Sparten'!B164","v":"KTE und Vorräte laut Risikoübersicht"},null,null,null,null,null,null,{"$f":"'Berechnung Sparten'!W164","v":"VS"},"ja",{"$f":"'Berechnung Sparten'!U164","v":0},null,{"$f":"'Übersicht und Druck'!$E$20","v":0},0]
[null,{"$f":"'Berechnung Sparten'!B165","v":"Technische und kaufmännische Betriebseinrichtung sowie Vorräte (im Eigentum des Versicherungsnehmers) ständig außerhalb des Versicherungsortes jedoch innerhalb Österreichs in versperrten massiv/harten Gebäuden (dies gilt nicht versichert in Bauhütten, Bau und Lagercontainern)"},null,null,null,null,null,null,{"$f":"'Berechnung Sparten'!W165","v":"ER"},null,{"$f":"'Berechnung Sparten'!U165","v":0},null,{"$f":"'Übersicht und Druck'!$E$20","v":0},0,null,{"$f":"J119","v":0},null,null,null,"Auswahl Nebenkosten"]
[null,{"$f":"'Berechnung Sparten'!B166","v":"Sachen in Bauhütten, Bau- oder Lagercontainern, Verkaufs - und Marktständen (am Versicherungsort bzw. innerhalb Österreichs), Selbstbehalt 20 %"},null,null,null,null,null,null,{"$f":"'Berechnung Sparten'!W166","v":"NW/WB"},null,{"$f":"'Berechnung Sparten'!U166","v":0},null,{"$f":"'Übersicht und Druck'!$E$20","v":0},0,null,{"$f":"J120","v":0},null,"Bewohnt",null,"VS für NK",{"$f":"'Berechnung Sparten'!X194","v":0}]
[null,{"$f":"'Berechnung Sparten'!B167","v":"Wiederherstellungskosten von Datenträgern (Geschäftsbücher, Akten, Pläne, elektronische Speichermedien, Typenscheine, kodierte KFZ-Schlüssel udgl.) und den darauf befindlichen Daten"},null,null,null,null,null,null,{"$f":"'Berechnung Sparten'!W167","v":"ER (5000 inkl.)"},null,{"$f":"'Berechnung Sparten'!U167","v":0},null,{"$f":"'Übersicht und Druck'!$E$20","v":0},0,null,{"$f":"J121","v":0},null,"Alle Risikoorte bewohnt",null,0.05,{"$f":"U120*T121","v":0}]
[null,{"$f":"'Berechnung Sparten'!B168","v":"Sachen der Betriebsinhaber und Dienstnehmer (ausgenommen jedoch Bargeld, Edelmetall-, Gold-, Silber- und Schmucksachen, Kraftfahrzeuge sowie in Wohnungen befindlicher Hausrat)"},null,null,null,null,null,null,{"$f":"'Berechnung Sparten'!W168","v":"NW (5000 inkl.)"},null,{"$f":"'Berechnung Sparten'!U168","v":0},null,{"$f":"'Übersicht und Druck'!$E$20","v":0},0,null,{"$f":"J122","v":0},null,"mindestens ein Risikoort bewohnt",null,0.1,{"$f":"U120*T122","v":0}]
[null,{"$f":"'Berechnung Sparten'!B169","v":"Schäden an der Grundstücksbegrenzung bzw. am Einfahrtstor nach einem vollbrachten bzw. versuchten Einbruchdiebstahl an der Versicherungsräumlichkeit"},null,null,null,null,null,null,"5.000 auf ER",null,{"$f":"'Berechnung Sparten'!U169","v":0},null,{"$f":"'Übersicht und Druck'!$E$20","v":0},0,false,{"$f":"IF(O123=TRUE,5000,0)","v":0},null,"Alle Risikoorte unbewohnt",null,0.15,{"$f":"U120*T123","v":0}]
[null,{"$f":"'Berechnung Sparten'!B170","v":"Tische, Stühle, Sonnenschirme, Spielplatz-einrichtung im Freien (Schanigärten) –  Teildiebstahl und Vandalismus gelten als nicht versichert. Selbstbehalt 20% gem. E9881"},null,null,null,null,null,null,{"$f":"'Berechnung Sparten'!W170","v":"NW"},null,{"$f":"'Berechnung Sparten'!U170","v":0},null,{"$f":"'Übersicht und Druck'!$E$20","v":0},0,null,{"$f":"J124","v":0},null,null,null,0.2,{"$f":"U120*T124","v":0}]
[null,{"$f":"'Berechnung Sparten'!B171","v":"Groß- und/oder Kleintiere im Gebäude befindlich"},null,null,null,null,null,null,{"$f":"'Berechnung Sparten'!W171","v":"WB"},null,{"$f":"'Berechnung Sparten'!U171","v":0},null,{"$f":"'Übersicht und Druck'!$E$20","v":0},0,null,0,null,null,"Gewählt",{"$f":"IF(J133=\"\",T121,J133)","v":0.05},{"$f":"VLOOKUP(T125,T121:U124,2,FALSE)","v":0}]
[null,{"$f":"'Berechnung Sparten'!B172","v":"Versperrte KFZ, Anhänger und landw. Maschinen im Freien am umzäunten Grundstück (Teildiebstahl und Vandalismus nicht versicherbar) E0081"},null,null,null,null,null,null,"ER",null,{"$f":"'Berechnung Sparten'!U172","v":0},null,{"$f":"'Übersicht und Druck'!$E$20","v":0},0,null,0,null,"Mehrkosten max."]
[null,{"$f":"'Berechnung Sparten'!B173","v":"KFZ, Anhänger und landwirtschaftliche Maschinen im Gebäude befindlich"},null,null,null,null,null,null,"ER",null,{"$f":"'Berechnung Sparten'!U173","v":0},null,{"$f":"'Übersicht und Druck'!$E$20","v":0},0,null,0,null,{"$f":"SUM('Berechnung Grund'!I79:I80)*0.2/2","v":0}]
[null,{"$f":"'Berechnung Sparten'!B174","v":"Werkzeuge, Geräte und Vorräte in KFZ befindlich, Selbstbehalt 20 %"},null,null,null,null,null,null,{"$f":"'Berechnung Sparten'!W174","v":"NW/WB"},null,{"$f":"'Berechnung Sparten'!U174","v":0},null,{"$f":"'Übersicht und Druck'!$E$20","v":0},0,null,0]
[null,{"$f":"'Berechnung Sparten'!B175","v":"Sachen in Schaukästen, Vitrinen und Automaten außerhalb der Geschäftsräumlichkeiten E0071"},null,null,null,null,null,null,{"$f":"'Berechnung Sparten'!W175","v":"NW"},null,{"$f":"'Berechnung Sparten'!U175","v":0},null,{"$f":"'Übersicht und Druck'!$E$20","v":0},0,null,0]
[null,{"$f":"'Berechnung Sparten'!B176","v":"Geld und Geldeswerte unter festem Verschluss E9891"},null,null,null,null,null,null,"5.000 prämienfrei inkl.",null,{"$f":"'Berechnung Sparten'!U176","v":0},null,{"$f":"'Übersicht und Druck'!$E$20","v":0},0]
[null,{"$f":"'Berechnung Sparten'!B177","v":"Öffnung von Behältnissen mittels geraubter Original- und Duplikatschlüssel E3038"},null,null,null,null,null,null,{"$f":"'Berechnung Sparten'!W177","v":"ER"},null,{"$f":"'Berechnung Sparten'!U177","v":0},null,{"$f":"'Übersicht und Druck'!$E$20","v":0},0,null,{"$f":"J131","v":0}]
[null,{"$f":"'Berechnung Sparten'!B178","v":"Beraubung innerhalb der Versicherungsräumlichkeiten inkl. Kundenberaubung E3062/E0062"},null,null,null,null,null,null,{"$f":"'Berechnung Sparten'!W178","v":"ER (5000 inkl.)"},null,{"$f":"'Berechnung Sparten'!U178","v":0},null,{"$f":"'Übersicht und Druck'!$E$20","v":0},0,null,{"$f":"J132","v":0}]
[null,{"$f":"'Berechnung Sparten'!B179","v":"20 % Aufräumungs-, Abbruch-, De- u. Remontagekosten, Bewegungs- u. Schutzkosten, Deponiekosten für nicht zu behandelnden Abfall. Im Rahmen dieser Summe gelten Mehrkosten durch die Behandlung von gefährlichem Abfall und/oder kontaminierten Erdreich bis 50 % der Summe als versichert A3024"},null,null,null,null,null,null,null,null,"präm.frei",null,{"$f":"'Übersicht und Druck'!$E$20","v":0},0,null,{"$f":"U125","v":0},null,"ER/VW"]
[null,{"$f":"'Berechnung Sparten'!B180","v":"Mehrkosten durch die Behandlung von gefährlichem Abfall und/oder kontaminiertem Erdreich"},null,null,null,null,null,null,{"$f":"\"ER (max. \"&ROUND(R127,0)&\")\"","v":"ER (max. 0)"},null,{"$f":"'Berechnung Sparten'!U180","v":0},null,{"$f":"'Übersicht und Druck'!$E$20","v":0},0,null,{"$f":"IF(J134=\"\",0,MIN(J134,R127))","v":0},null,"ER"]
[null,{"$f":"'Berechnung Sparten'!B181","v":"Zentralschlüsselanlage (Schlüsselverlust) gem. E9882 (Selbstbehalt 10 %)"},null,null,null,null,null,null,{"$f":"'Berechnung Sparten'!W181","v":"ER"},null,{"$f":"'Berechnung Sparten'!U181","v":0},null,{"$f":"'Übersicht und Druck'!$E$20","v":0},0,null,{"$f":"J135","v":0},null,"VW"]
[null,{"$f":"'Berechnung Sparten'!B182","v":"Schlossänderungskosten für Behältnisse E3033"},null,null,null,null,null,null,{"$f":"'Berechnung Sparten'!W182","v":"ER"},null,{"$f":"'Berechnung Sparten'!U182","v":0},null,{"$f":"'Übersicht und Druck'!$E$20","v":0},0,null,{"$f":"J136","v":0}]
[null,{"$f":"'Berechnung Sparten'!B183","v":"Telefonmissbrauch (5.000 gem. E9823)"},null,null,null,null,null,null,null,null,"präm.frei",null,{"$f":"'Übersicht und Druck'!$E$20","v":0},0]
[null,{"$f":"'Berechnung Sparten'!B184","v":"Mehraufwand im Schadensfall (10 %  gem. BB 4817)"},null,null,null,null,null,null,null,null,"präm.frei",null,{"$f":"'Übersicht und Druck'!$E$20","v":0},0]
[null,{"$f":"'Berechnung Sparten'!B185","v":"Verteurerung im Schadensfall (15 % gem. BB 4907)"},null,null,null,null,null,null,null,null,"präm.frei",null,{"$f":"'Übersicht und Druck'!$E$20","v":0},0]
[null,"Geld und Geldeswerte",null,null,null,null,null,null,null,null,null,null,{"$f":"'Übersicht und Druck'!$E$20","v":0},0]
[null,{"$f":"'Berechnung Sparten'!B187","v":"Sicherheitsgrad EN0 bzw. VSÖ IV (VS 15.000)"},null,null,null,null,null,null,{"$f":"'Berechnung Sparten'!W187","v":"ER"},null,{"$f":"'Berechnung Sparten'!U187","v":0},null,{"$f":"'Übersicht und Druck'!$E$20","v":0},0,false,{"$f":"IF(O141=FALSE,0,R141)","v":0},null,15000]
[null,{"$f":"'Berechnung Sparten'!B188","v":"Sicherheitsgrad EN1 bzw. VSÖ III/c 1-3 (VS 30.000)"},null,null,null,null,null,null,{"$f":"'Berechnung Sparten'!W188","v":"ER"},null,{"$f":"'Berechnung Sparten'!U188","v":0},null,{"$f":"'Übersicht und Druck'!$E$20","v":0},0,false,{"$f":"IF(O142=FALSE,0,R142)","v":0},null,30000]
[null,{"$f":"'Berechnung Sparten'!B189","v":"Sicherheitsgrad VSÖ III/b (VS 45.000)"},null,null,null,null,null,null,{"$f":"'Berechnung Sparten'!W189","v":"ER"},null,{"$f":"'Berechnung Sparten'!U189","v":0},null,{"$f":"'Übersicht und Druck'!$E$20","v":0},0,false,0,null,45000]
[null,{"$f":"'Berechnung Sparten'!B190","v":"Sicherheitsgrad EN2 bzw. VSÖ II/d (VS 75.000)"},null,null,null,null,null,null,{"$f":"'Berechnung Sparten'!W190","v":"ER"},null,{"$f":"'Berechnung Sparten'!U190","v":0},null,{"$f":"'Übersicht und Druck'!$E$20","v":0},0,false,0,null,75000]
[null,{"$f":"'Berechnung Sparten'!B191","v":"Sicherheitsgrad EN3 bzw. VSÖ II/c (VS (100.000)"},null,null,null,null,null,null,{"$f":"'Berechnung Sparten'!W191","v":"ER"},null,{"$f":"'Berechnung Sparten'!U191","v":0},null,{"$f":"'Übersicht und Druck'!$E$20","v":0},0,false,0,null,100000]
[null,{"$f":"'Berechnung Sparten'!B192","v":"Sicherheitsgrad EN4 (VS 150.000)"},null,null,null,null,null,null,{"$f":"'Berechnung Sparten'!W192","v":"ER"},null,{"$f":"'Berechnung Sparten'!U192","v":0},null,{"$f":"'Übersicht und Druck'!$E$20","v":0},0,false,0,null,150000]
[null,{"$f":"'Berechnung Sparten'!B193","v":"Sicherheitsgrad EN5 bzw. VSÖ II/b (SV 250.000)"},null,null,null,null,null,null,{"$f":"'Berechnung Sparten'!W193","v":"ER"},null,{"$f":"'Berechnung Sparten'!U193","v":0},null,{"$f":"'Übersicht und Druck'!$E$20","v":0},0,false,0,null,250000]
[null,null,null,null,null,null,null,null,"Spartenprämie",null,{"$f":"'Berechnung Sparten'!U196","v":0},null,{"$f":"'Übersicht und Druck'!$E$20","v":0},0]
[]
[null,{"$f":"IF(AND(Kundendaten!$E$13=1,'Berechnung Sparten'!$T$9=0),\"Achtung: bei Basisdaten wurde keine KTE ausgewählt!\",\"\")","v":"Achtung: bei Basisdaten wurde keine KTE ausgewählt!"},null,null,null,null,null,null,null,null,null,null,1,1,null,null,null,"Begleitung"]
[null,"Botenberaubungsversicherung",null,null,null,null,null,null,null,null,null,null,{"$f":"'Übersicht und Druck'!$E$21","v":0},"x",null,null,null,"Begleitung","VS"]
[null,"Sparte gewählt",null,null,null,null,null,null,null,null,null,null,{"$f":"'Übersicht und Druck'!$E$21","v":0},"x",false,{"$f":"IF(O152=TRUE,1,0)*M152","v":0},null,"Ohne Begleitung",100000]
[null,"Begleitung","Ohne Begleitung",null,null,"VS",{"$f":"\"max. \"&S155","v":"max. 100000"},null,null,"Ringbote",null,null,{"$f":"'Übersicht und Druck'!$E$21","v":0},{"$f":"$P$152","v":0},true,{"$f":"IF(O153=TRUE,1,0)","v":1},null,"stets von einer Person begleitet",600000]
[null,null,null,null,null,null,null,null,"Spartenprämie",null,{"$f":"'Berechnung Sparten'!U205","v":0},null,{"$f":"'Übersicht und Druck'!$E$21","v":0},{"$f":"$P$152","v":0},null,null,null,"Gewählt",{"$f":"IF(C153=\"\",R152,C153)","v":"Ohne Begleitung"}]
[null,null,null,null,null,null,null,null,null,null,null,null,null,null,null,null,null,"VS",{"$f":"VLOOKUP(S154,R152:S153,2,FALSE)","v":100000}]
[null,null,null,null,null,null,null,null,null,null,null,null,null,null,null,null,null,"VS für Ber.",{"$f":"IF(I153=\"\",0,MIN(S155,I153))","v":0}]
[null,"Leitungswasserversicherung",null,null,null,null,null,null,null,null,null,null,{"$f":"'Übersicht und Druck'!$E$22","v":0},"x"]
[null,"Sparte gewählt",null,null,null,null,null,null,"Art","Auswahl","Prämie",null,{"$f":"'Übersicht und Druck'!$E$22","v":0},"x",false,{"$f":"IF(O158=TRUE,1,0)*M158","v":0}]
[null,{"$f":"IF(R172=0,\"kein Gebäude für LW-Sparte gewählt, nur Variante A möglich\",\"Leitungswasser-Variante\")","v":"kein Gebäude für LW-Sparte gewählt, nur Variante A möglich"},null,null,null,null,null,null,"C",null,null,null,{"$f":"'Übersicht und Druck'!$E$22","v":0},{"$f":"$P$158","v":0}]
[null,"Sprinkleranlage",null,null,null,null,"keine Sprinkleranlage",null,null,null,null,null,{"$f":"'Übersicht und Druck'!$E$22","v":0},0]
[null,"Erweiterung auf 15 Meter Rohrersatz gem. L9927 (nur bei Variante C oder D möglich)",null,null,null,null,null,null,null,null,"5 % Zuschlag",null,{"$f":"IF(R170=R166,0,1)","v":0},0,false]
[null,"Rohrreinigungskostenübernahme bei Ableitungsrohren (nur bei Var. D) gem. L9924",null,null,null,null,null,null,null,null,"5 % Nachlass",null,{"$f":"IF(R170=R168,1,0)","v":0},0,true]
[null,{"$f":"'Berechnung Sparten'!B211","v":"Grunddeckung (Gebäude, KTE, Vorräte laut Risikoübersicht)"},null,null,null,null,null,null,{"$f":"'Berechnung Sparten'!W211","v":"VS"},null,{"$f":"'Berechnung Sparten'!U211","v":0},null,{"$f":"'Übersicht und Druck'!$E$22","v":0},0]
[null,{"$f":"'Berechnung Sparten'!B212","v":"Technische und kaufmännische Betriebseinrichtung sowie Vorräte (im Eigentum des Versicherungsnehmers) ständig außerhalb des Versicherungsortes jedoch innerhalb Österreichs"},null,null,null,null,null,null,{"$f":"'Berechnung Sparten'!W212","v":"NW/WBS"},null,{"$f":"'Berechnung Sparten'!U212","v":0},null,{"$f":"'Übersicht und Druck'!$E$22","v":0},0,null,{"$f":"J164","v":0},null,null,null,null,null,null,"Auswahl Nebenkosten"]
[null,{"$f":"'Berechnung Sparten'!B213","v":"Wiederherstellungskosten von Datenträgern (Geschäftsbücher, Akten, Pläne, elektronische Speichermedien, Typenscheine, kodierte KFZ-Schlüssel und dgl.) und den darauf befindlichen Daten"},null,null,null,null,null,null,{"$f":"'Berechnung Sparten'!W213","v":"ER (5000 inkl.)"},null,{"$f":"'Berechnung Sparten'!U213","v":0},null,{"$f":"'Übersicht und Druck'!$E$22","v":0},0,null,0,null,"LW-Var.",null,"Sprinkler",null,null,"VS für NK",{"$f":"'Berechnung Sparten'!X243","v":0}]
[null,{"$f":"'Berechnung Sparten'!B214","v":"Sachen der Betriebsinhaber und Dienstnehmer (ausgenommen jedoch Bargeld, Edelmetall-, Gold-, Silber- und Schmucksachen, Kraftfahrzeuge sowie in Wohnungen befindlicher Hausrat)"},null,null,null,null,null,null,{"$f":"'Berechnung Sparten'!W214","v":"NW (5000 inkl.)"},null,{"$f":"'Berechnung Sparten'!U214","v":0},null,{"$f":"'Übersicht und Druck'!$E$22","v":0},0,null,0,null,{"$f":"'Berechnung Grund'!Y20","v":"A"},null,"Vorhanden","Zuschlag",null,0.05,{"$f":"X165*W166","v":0}]
[null,{"$f":"'Berechnung Sparten'!B215&\" auf ER\"","v":"Behebungskosten nach Rohrgebrechen in gemieteten Räumlichkeiten inkl. Korrosionsschäden gem. L3018 auf ER"},null,null,null,null,null,"inkl. Korrosionsschäden",null,null,{"$f":"'Berechnung Sparten'!U215","v":0},null,{"$f":"'Übersicht und Druck'!$E$22","v":0},0,null,0,null,{"$f":"'Berechnung Grund'!Y21","v":"C"},null,"keine Sprinkleranlage",0,null,0.1,{"$f":"X165*W167","v":0}]
[null,{"$f":"'Berechnung Sparten'!B216","v":"Kosten für die Beseitigung von Verstopfungen der Ableitungsrohren der Gebäudeleitungs-wasserinstallation am Versicherungsort sowie der Wand- und Fußbodenheizung"},null,null,null,null,null,null,{"$f":"'Berechnung Sparten'!W216","v":"ER"},null,{"$f":"'Berechnung Sparten'!U216","v":0},null,{"$f":"'Übersicht und Druck'!$E$22","v":0},0,null,0,"Gebäude-VS für LW",{"$f":"'Berechnung Grund'!Y22","v":"D"},null,"bis 1/3 der gesamten gewerblichen Nutzfläche des Betriebes ",0.1,null,0.15,{"$f":"X165*W168","v":0}]
[null,{"$f":"IF(R172=0,\"[Baustein nur bei Gebäude-LW-Deckung vorhanden]\",'Berechnung Sparten'!B217)","v":"[Baustein nur bei Gebäude-LW-Deckung vorhanden]"},null,null,null,null,null,null,null,null,"präm.frei",null,{"$f":"'Übersicht und Druck'!$E$22","v":0},0,null,0,null,"Gewählt:",null,"bis 2/3 der gesamten gewerblichen Nutzfläche des Betriebes ",0.15,null,0.2,{"$f":"X165*W169","v":0}]
[null,{"$f":"'Berechnung Sparten'!B218","v":"Schäden an versicherten Gebäuden durch Austritt von Wasser aus Schwimmbecken am Versicherungsgrundstück sowie Gebrechensbehebung an Rohren der Filteranlage bzw. von Zu- und Ableitungen des Schwimmbeckens L3013"},null,null,null,null,null,null,{"$f":"'Berechnung Sparten'!W218","v":"ER"},null,{"$f":"'Berechnung Sparten'!U218","v":0},null,{"$f":"'Übersicht und Druck'!$E$22","v":0},0,null,0,null,{"$f":"IF(R172=0,R166,IF(I159=\"\",R168,I159))","v":"A"},null,"über 2/3 der gesamten gewerblichen Nutzfläche des Betriebes ",0.2,"Gewählt",{"$f":"IF(J180=\"\",W166,J180)","v":0.05},{"$f":"VLOOKUP(W170,W166:X169,2,FALSE)","v":0}]
[null,{"$f":"IF(R172=0,\"[Baustein nur bei Gebäude-LW-Deckung vorhanden]\",'Berechnung Sparten'!B219)","v":"[Baustein nur bei Gebäude-LW-Deckung vorhanden]"},null,null,null,null,null,null,{"$f":"'Berechnung Sparten'!W219","v":0},20000,"präm.frei",null,{"$f":"'Übersicht und Druck'!$E$22","v":0},0,null,{"$f":"IF(R172=0,0,1)","v":0},null,"Gebäude ja/nein?"]
[null,{"$f":"'Berechnung Sparten'!B220","v":"Schäden am Gebäude durch Austritt von Wasser aus innen liegenden Regenabflussrohren sowie Gebrechensbehebung an erdverlegten Regen-wasserkanälen am Versicherungsgrundstück"},null,null,null,null,null,null,{"$f":"'Berechnung Sparten'!W220","v":"ER"},null,{"$f":"'Berechnung Sparten'!U220","v":0},null,{"$f":"'Übersicht und Druck'!$E$22","v":0},0,null,{"$f":"J172","v":0},null,{"$f":"'Berechnung Grund'!L78","v":0},null,"Sprinkler",{"$f":"IF(G160=\"\",T170,G160)","v":"keine Sprinkleranlage"}]
[null,{"$f":"'Berechnung Sparten'!B221","v":"Folgeschäden am Gebäude bei Austritt aus im Gebäude befindlichen niederschlagswasserführenden Ableitungsssystemen (10.000 €)"},null,null,null,null,null,null,{"$f":"'Berechnung Sparten'!W221","v":"ER"},null,{"$f":"'Berechnung Sparten'!U221","v":0},null,{"$f":"'Übersicht und Druck'!$E$22","v":0},0,false,{"$f":"IF(O173=TRUE,10000,0)*M173","v":0},null,null,null,"Zuschlag für Sprinkler?",{"$f":"VLOOKUP(U172,T167:U170,2,FALSE)","v":0}]
[null,{"$f":"'Berechnung Sparten'!B222","v":"Erdwärmerohre am Versicherungsgrundstück inkl. Grabarbeiten L0820"},null,null,null,null,null,null,{"$f":"'Berechnung Sparten'!W222","v":"ER"},null,{"$f":"'Berechnung Sparten'!U222","v":0},null,{"$f":"'Übersicht und Druck'!$E$22","v":0},0,null,{"$f":"J174","v":0}]
[null,{"$f":"'Berechnung Sparten'!B223","v":"Wasserzu– und Ableitungsrohre außerhalb des Versicherungsgrundstückes"},null,null,null,null,null,null,{"$f":"'Berechnung Sparten'!W223","v":"ER"},null,{"$f":"'Berechnung Sparten'!U223","v":0},null,{"$f":"'Übersicht und Druck'!$E$22","v":0},0,null,{"$f":"J175","v":0},null,null,null,"Zuschlag/Nachlass gesamt für Berechnung (nur 15 Meter, Rest wird bei Grunddeckung berechnet)",{"$f":"IF(AND(O161=TRUE,OR(R170=R167,R170=R168)),5%,0)","v":0}]
[null,{"$f":"'Berechnung Sparten'!B224","v":"Gasleitungen € 10.000 (Selbstbehalt 20%, max. € 500) gem. L9928"},null,null,null,null,null,null,{"$f":"'Berechnung Sparten'!W224","v":"ER"},null,{"$f":"'Berechnung Sparten'!U224","v":0},null,{"$f":"'Übersicht und Druck'!$E$22","v":0},0,false,{"$f":"IF(O176=TRUE,10000,0)*M176","v":0},null,"Mehrkosten max."]
[null,{"$f":"'Berechnung Sparten'!B225","v":"Geld und Geldeswerte, Sparbücher, Wertpapiere, Urkunden, Schmuck-, Gold- und Platinsachen, Edelsteine, Edelmetalle und echte Perlen sowie Münzen- und Briefmarkensammlungen,  Brief - und Stempelmarken, Vignetten, Kurzparkscheine, Lose und Telefonwertkarten unter festem Verschluss."},null,null,null,null,null,null,{"$f":"'Berechnung Sparten'!W225","v":"ER (5000 inkl.)"},null,{"$f":"'Berechnung Sparten'!U225","v":0},null,{"$f":"'Übersicht und Druck'!$E$22","v":0},0,null,{"$f":"J177","v":0},null,{"$f":"R19","v":0},null,"Nachlass für Ableitungsreinigung?",{"$f":"IF(AND(O162=TRUE,R170=R168),-5%,0)","v":0}]
[null,{"$f":"'Berechnung Sparten'!B226","v":"Groß- und/oder Kleintiere"},null,null,null,null,null,null,{"$f":"'Berechnung Sparten'!W226","v":"WB"},null,{"$f":"'Berechnung Sparten'!U226","v":0},null,{"$f":"'Übersicht und Druck'!$E$22","v":0},0,null,{"$f":"J178","v":0}]
[null,{"$f":"'Berechnung Sparten'!B227","v":"Suchkosten bei gerechtfertigter Schadenvermutung  (€ 5.000 auf ER)"},null,null,null,null,null,null,{"$f":"'Berechnung Sparten'!W227","v":"ER"},null,"präm.frei",null,{"$f":"'Übersicht und Druck'!$E$22","v":0},0]
[null,{"$f":"'Berechnung Sparten'!B228","v":"20 % Aufräumungs-, Abbruch-, De- und Remont- agekosten, Bewegungs- und Schutzkosten, Deponiekosten für nicht zu behandelnden Abfall. Im Rahmen dieser Versicherungssumme gelten Mehrkosten durch die Behandlung von gefährlichem Abfall und/oder kontaminiertem Erdreich bis 50 % der Versicherungssumme als mitversichert. A3024"},null,null,null,null,null,null,null,null,"präm.frei",null,{"$f":"'Übersicht und Druck'!$E$22","v":0},0,null,{"$f":"X170","v":0},null,"Korrisionsschäden"]
[null,{"$f":"'Berechnung Sparten'!B229","v":"Mehrkosten durch die Behandlung von gefährlichem Abfall und/oder kontaminiertem Erdreich. A3024"},null,null,null,null,null,null,{"$f":"\"ER (max. \"&ROUND(R177,0)&\")\"","v":"ER (max. 0)"},null,{"$f":"'Berechnung Sparten'!U229","v":0},null,{"$f":"'Übersicht und Druck'!$E$22","v":0},0,null,{"$f":"IF(J181=\"\",0,MIN(J181,R177))","v":0},null,"inkl. Korrosionsschäden"]
[null,{"$f":"'Berechnung Sparten'!B230","v":"Sachverständigenkosten A4850"},null,null,null,null,null,null,{"$f":"'Berechnung Sparten'!W230","v":"ER"},null,{"$f":"'Berechnung Sparten'!U230","v":0},null,{"$f":"'Übersicht und Druck'!$E$22","v":0},0,null,{"$f":"J182","v":0},null,"exkl. Korrosionsschäden"]
[null,{"$f":"'Berechnung Sparten'!B231","v":"Wasserverlust nach gedecktem Schadenereignis L3050"},null,null,null,null,null,null,{"$f":"'Berechnung Sparten'!W231","v":"ER (2000 inkl.)"},null,{"$f":"'Berechnung Sparten'!U231","v":0},null,{"$f":"'Übersicht und Druck'!$E$22","v":0},0,null,{"$f":"J183","v":0},null,"Gewählt"]
[null,{"$f":"'Berechnung Sparten'!B232","v":"Folgeschäden durch undichte Fugen L9929"},null,null,null,null,null,null,"ER (min. 5.000)",null,{"$f":"'Berechnung Sparten'!U232","v":0},{"$f":"IF(J184<P184,\"min. 5.000\",\"\")","v":""},{"$f":"'Übersicht und Druck'!$E$22","v":0},0,null,{"$f":"IF(J184>0,MAX(J184,5000),0)","v":0},null,{"$f":"IF(I167=\"\",R181,I167)","v":"inkl. Korrosionsschäden"}]
[null,{"$f":"'Berechnung Sparten'!B233","v":"Mehraufwand im Schadensfall (10 %  gem. BB 4817)"},null,null,null,null,null,null,null,null,"präm.frei",null,{"$f":"'Übersicht und Druck'!$E$22","v":0},0]
[null,{"$f":"'Berechnung Sparten'!B234","v":"Verteuerung im Schadensfall (15 % gem. BB 4907)"},null,null,null,null,null,null,{"$f":"'Berechnung Sparten'!W234","v":0},null,"präm.frei",null,{"$f":"'Übersicht und Druck'!$E$22","v":0},0]
[null,"Geld und Geldeswerte",null,null,null,null,null,null,null,null,null,null,{"$f":"'Übersicht und Druck'!$E$22","v":0},0]
[null,{"$f":"'Berechnung Sparten'!B236","v":"Sicherheitsgrad EN0 bzw. VSÖ IV (VS. 15.000)"},null,null,null,null,null,null,{"$f":"'Berechnung Sparten'!W236","v":"ER"},null,{"$f":"'Berechnung Sparten'!U236","v":0},null,{"$f":"'Übersicht und Druck'!$E$22","v":0},0,false,{"$f":"IF(O188=FALSE,0,R188)","v":0},null,15000]
[null,{"$f":"'Berechnung Sparten'!B237","v":"Sicherheitsgrad EN1 bzw. VSÖ III/c 1-3 (VS 30.000)"},null,null,null,null,null,null,{"$f":"'Berechnung Sparten'!W237","v":"ER"},null,{"$f":"'Berechnung Sparten'!U237","v":0},null,{"$f":"'Übersicht und Druck'!$E$22","v":0},0,false,{"$f":"IF(O189=FALSE,0,R189)","v":0},null,30000]
[null,{"$f":"'Berechnung Sparten'!B238","v":"Sicherheitsgrad VSÖ III/b (VS 45.000)"},null,null,null,null,null,null,{"$f":"'Berechnung Sparten'!W238","v":"ER"},null,{"$f":"'Berechnung Sparten'!U238","v":0},null,{"$f":"'Übersicht und Druck'!$E$22","v":0},0,false,0,null,45000]
[null,{"$f":"'Berechnung Sparten'!B239","v":"Sicherheitsgrad EN2 bzw. VSÖ II/d (VS 75.000)"},null,null,null,null,null,null,{"$f":"'Berechnung Sparten'!W239","v":"ER"},null,{"$f":"'Berechnung Sparten'!U239","v":0},null,{"$f":"'Übersicht und Druck'!$E$22","v":0},0,false,0,null,75000]
[null,{"$f":"'Berechnung Sparten'!B240","v":"Sicherheitsgrad EN3 bzw. VSÖ II/c (VS (100.000)"},null,null,null,null,null,null,{"$f":"'Berechnung Sparten'!W240","v":"ER"},null,{"$f":"'Berechnung Sparten'!U240","v":0},null,{"$f":"'Übersicht und Druck'!$E$22","v":0},0,false,0,null,100000]
[null,{"$f":"'Berechnung Sparten'!B241","v":"Sicherheitsgrad EN4 (VS 150.000)"},null,null,null,null,null,null,{"$f":"'Berechnung Sparten'!W241","v":"ER"},null,{"$f":"'Berechnung Sparten'!U241","v":0},null,{"$f":"'Übersicht und Druck'!$E$22","v":0},0,false,0,null,150000]
[null,{"$f":"'Berechnung Sparten'!B242","v":"Sicherheitsgrad EN5 bzw. VSÖ II/b (VS 250.000)"},null,null,null,null,null,null,{"$f":"'Berechnung Sparten'!W242","v":"ER"},null,{"$f":"'Berechnung Sparten'!U242","v":0},null,{"$f":"'Übersicht und Druck'!$E$22","v":0},0,false,0,null,250000]
[null,null,null,null,null,null,null,null,"Spartenprämie",null,{"$f":"'Berechnung Sparten'!U245","v":0},null,{"$f":"'Übersicht und Druck'!$E$22","v":0},0]
[]
[null,{"$f":"IF(AND(Kundendaten!$E$13=1,'Berechnung Sparten'!$T$9=0),\"Achtung: bei Basisdaten wurde keine KTE ausgewählt!\",\"\")","v":"Achtung: bei Basisdaten wurde keine KTE ausgewählt!"},null,null,null,null,null,null,null,null,null,null,1,1]
[null,"Glasbruchversicherung",null,null,null,null,null,null,null,null,null,null,{"$f":"'Übersicht und Druck'!$E$23","v":0},"x",null,null,null,null,null,null,null,null,null,null,null,null,null,null,null,null,null,null,null,null,null,null,null,null,null,null,null,"Auswahl Nebenkosten"]
[null,"Sparte gewählt",null,null,null,null,null,null,"Art","Auswahl","Prämie",null,{"$f":"'Übersicht und Druck'!$E$23","v":0},"x",false,{"$f":"IF(O199=TRUE,1,0)*M199","v":0},null,null,null,null,null,null,null,null,null,null,null,null,null,null,null,null,null,null,null,null,null,null,null,null,null,"VS für NK",{"$f":"'Berechnung Sparten'!X314","v":0}]
[null,{"$f":"'Berechnung Sparten'!B251","v":"Grunddeckung: sämtliche zum Betrieb gehörenden Scheiben inkl. Mehrscheibenisolierverglasungen und Kunststoffverglasungen bis zu nachfolgender Einzelgröße einer Scheibe,  Lichtkuppeln und Scheiben in Solaranlagen aller Art inkl. Photovoltaikanlagen. Nicht versichert: Fassadenverkleidungen, Glasfliesen, Glas-/Gewächshäuser"},null,null,null,null,null,null,{"$f":"'Berechnung Sparten'!W251","v":"m² Einzelscheibe"},"6 m²",{"$f":"'Berechnung Sparten'!U251","v":0},null,{"$f":"'Übersicht und Druck'!$E$23","v":0},{"$f":"$P$199","v":0},null,null,null,"Auswahl Einzelscheibe",null,null,null,null,null,null,null,null,null,null,null,null,null,null,null,null,null,null,null,null,null,null,null,0.05,{"$f":"AQ199*AP200","v":0}]
[null,{"$f":"'Berechnung Sparten'!B252","v":"Ausschluss von Glasschäden an Mieträumlichkeiten"},null,null,null,null,null,null,null,null,{"$f":"'Berechnung Sparten'!U252","v":0},null,{"$f":"IF('Übersicht und Druck'!C4=0,0,'Übersicht und Druck'!E23)","v":0},0,false,{"$f":"IF(O201=TRUE,1,0)*M201","v":0},null,"m²","Prämie",null,null,null,null,null,null,null,null,null,null,null,null,null,null,null,null,null,null,null,null,null,null,0.1,{"$f":"AQ199*AP201","v":0}]
[null,{"$f":"'Berechnung Sparten'!B253","v":"Schäden durch Gewalttätigkeiten anlässlich einer öffentlichen Ansammlung oder Kundgebung GL005"},null,null,null,null,null,null,null,null,{"$f":"'Berechnung Sparten'!U253","v":0},null,{"$f":"'Übersicht und Druck'!$E$23","v":0},0,false,{"$f":"IF(O202=TRUE,1,0)*M202","v":0},null,"3 m²",0.8,null,null,null,null,null,null,null,null,null,null,null,null,null,null,null,null,null,null,null,null,null,null,0.15,{"$f":"AQ199*AP202","v":0}]
[null,{"$f":"'Berechnung Sparten'!B254","v":"Firmenschilder, unabhängig von der Glasart"},null,null,null,null,null,null,{"$f":"'Berechnung Sparten'!W254","v":"VW (1000 inkl.)"},null,{"$f":"'Berechnung Sparten'!U254","v":0},null,{"$f":"'Übersicht und Druck'!$E$23","v":0},0,null,{"$f":"J203*M203","v":0},null,"6 m²",1,null,null,null,null,null,null,null,null,null,null,null,null,null,null,null,null,null,null,null,null,null,null,0.2,{"$f":"AQ199*AP203","v":0}]
[null,{"$f":"'Berechnung Sparten'!B255","v":"Blei-, Messing- und sonstige Kunstverglasungen, Folien oder Bemalungen"},null,null,null,null,null,null,{"$f":"'Berechnung Sparten'!W255","v":"VW (1000 inkl.)"},null,{"$f":"'Berechnung Sparten'!U255","v":0},null,{"$f":"'Übersicht und Druck'!$E$23","v":0},0,null,{"$f":"J204*M204","v":0},null,"10 m²",1.7,null,null,null,null,null,null,null,null,null,null,null,null,null,null,null,null,null,null,null,null,null,"Gewählt",{"$f":"IF(J245=\"\",AP200,J245)","v":0.05},{"$f":"VLOOKUP(AP204,AP200:AQ203,2,FALSE)","v":0}]
[null,{"$f":"'Berechnung Sparten'!B256","v":"Neonröhren GL010"},null,null,null,null,null,null,{"$f":"'Berechnung Sparten'!W256","v":"VW"},null,{"$f":"'Berechnung Sparten'!U256","v":0},null,{"$f":"'Übersicht und Druck'!$E$23","v":0},0,null,{"$f":"J205*M205","v":0},null,"Gewählt"]
[null,{"$f":"'Berechnung Sparten'!B257","v":"Folgeschäden durch Glasbruch gem. GL924/GL925"},null,null,null,null,null,null,{"$f":"'Berechnung Sparten'!W257","v":"ER (5000 inkl.)"},null,{"$f":"'Berechnung Sparten'!U257","v":0},null,{"$f":"'Übersicht und Druck'!$E$23","v":0},0,null,{"$f":"J206*M206","v":0},null,{"$f":"IF(J200=\"\",R203,J200)","v":"6 m²"},{"$f":"VLOOKUP(R206,R202:S204,2,FALSE)","v":1}]
[null,{"$f":"'Berechnung Sparten'!B258","v":"Notverschalungs- und Notverglasungskosten"},null,null,null,null,null,null,{"$f":"'Berechnung Sparten'!W258","v":"prämienfrei"},null,{"$f":"'Berechnung Sparten'!U258","v":0},null,{"$f":"'Übersicht und Druck'!$E$23","v":0},0,null,{"$f":"J207*M207","v":0}]
[null,{"$f":"'Berechnung Sparten'!B259","v":"Kosten zur Beseitigung und Wiederanbringung von Hindernissen"},null,null,null,null,null,null,{"$f":"'Berechnung Sparten'!W259","v":"prämienfrei"},null,{"$f":"'Berechnung Sparten'!U259","v":0},null,{"$f":"'Übersicht und Druck'!$E$23","v":0},0,null,0,null,null,null,null,null,null,null,null,null,null,null,null,null,null,null,null,null,null,null,null,null,null,null,null,null,"Mehrkosten max."]
[null,{"$f":"'Berechnung Sparten'!B260","v":"Kosten für Gerüste"},null,null,null,null,null,null,{"$f":"'Berechnung Sparten'!W260","v":"prämienfrei"},null,{"$f":"'Berechnung Sparten'!U260","v":0},null,{"$f":"'Übersicht und Druck'!$E$23","v":0},0,null,0,null,null,null,null,null,null,null,null,null,null,null,null,null,null,null,null,null,null,null,null,null,null,null,null,null,{"$f":"R177","v":0}]
[null,{"$f":"'Berechnung Sparten'!B261","v":"Überstundenkosten sowie Kosten für Nacht- und Wochenenddienste"},null,null,null,null,null,null,{"$f":"'Berechnung Sparten'!W261","v":"prämienfrei"},null,{"$f":"'Berechnung Sparten'!U261","v":0},null,{"$f":"'Übersicht und Druck'!$E$23","v":0},0,null,0]
[null,{"$f":"'Berechnung Sparten'!B263","v":"Entsorgungskosten bis 50 % des Wertes der vom Schaden betroffenen Verglasung GL923"},null,null,null,null,null,null,{"$f":"'Berechnung Sparten'!W263","v":"prämienfrei"},null,{"$f":"'Berechnung Sparten'!U263","v":0},null,{"$f":"'Übersicht und Druck'!$E$23","v":0},0,null,0]
[null,{"$f":"'Berechnung Sparten'!B262","v":"Gastgärten auf öffenlichem Grund bis zu jeweils 75 Sitzplätzen (Schanigärten)"},null,null,null,null,null,null,null,null,"präm.frei",null,{"$f":"'Übersicht und Druck'!$E$23","v":0},0]
[null,{"$f":"'Berechnung Sparten'!B264","v":"Kabinenverglasung einer selbstfahrenden Arbeitsmaschine und eines sonstigen Kraftfahr-zeuges (Kennzeichen / Marke und Type ist anzuführen (Selbstbehalt € 100,00 pro Schadenfall)"},null,null,null,null,null,null,"Kennzeichen, Marke/Type","VS auf ER","Prämie",null,{"$f":"'Übersicht und Druck'!$E$23","v":0},0,null,{"$error":"#VALUE!"}]
[null,null,null,null,null,null,null,null,null,null,{"$f":"'Berechnung Sparten'!U264","v":0},null,{"$f":"'Übersicht und Druck'!$E$23","v":0},0,null,0]
[null,null,null,null,null,null,null,null,null,null,{"$f":"'Berechnung Sparten'!U265","v":0},null,{"$f":"'Übersicht und Druck'!$E$23","v":0},0,null,0]
[null,null,null,null,null,null,null,null,null,null,{"$f":"'Berechnung Sparten'!U266","v":0},null,{"$f":"'Übersicht und Druck'!$E$23","v":0},0,null,0]
[null,null,null,null,null,null,null,null,null,null,{"$f":"'Berechnung Sparten'!U267","v":0},null,{"$f":"'Übersicht und Druck'!$E$23","v":0},0,null,0]
[null,null,null,null,null,null,null,null,null,null,{"$f":"'Berechnung Sparten'!U268","v":0},null,{"$f":"'Übersicht und Druck'!$E$23","v":0},0,null,0]
[null,null,null,null,null,null,null,null,"Spartenprämie",null,{"$f":"'Berechnung Sparten'!U271","v":0},null,{"$f":"'Übersicht und Druck'!$E$23","v":0},0]
[]
[]
[null,"Sturmversicherung",null,null,null,null,null,null,null,null,null,null,{"$f":"'Übersicht und Druck'!$E$24","v":0},"x"]
[null,"Sparte gewählt",null,null,null,null,null,null,"Art","Auswahl","Prämie",null,{"$f":"'Übersicht und Druck'!$E$24","v":0},"x",false,{"$f":"IF(O223=TRUE,1,0)*M223","v":0}]
[null,{"$f":"'Berechnung Sparten'!B277","v":"Grunddeckung (Gebäude, KTE, Vorräte)"},null,null,null,null,null,null,{"$f":"'Berechnung Sparten'!W277","v":"VS"},"ja",{"$f":"'Berechnung Sparten'!U277","v":0},null,{"$f":"'Übersicht und Druck'!$E$24","v":0},{"$f":"$P$223","v":0}]
[null,{"$f":"'Berechnung Sparten'!B278","v":"Technische und kaufmännische Betriebseinrichtung sowie Vorräte (im Eigentum des Versicherungsnehmers) ständig außerhalb des Versicherungsortes, jedoch innerhalb Österreichs, im massiv/harten Gebäude befindlich (dies gilt nicht versichert in Bauhütten, Bau und Lagercontainern)"},null,null,null,null,null,null,{"$f":"'Berechnung Sparten'!W278","v":"ER"},null,{"$f":"'Berechnung Sparten'!U278","v":0},null,{"$f":"'Übersicht und Druck'!$E$24","v":0},0,null,{"$f":"J225","v":0}]
[null,{"$f":"'Berechnung Sparten'!B279","v":"Wiederherstellungskosten von Datenträgern (Geschäftsbücher, Akten, Pläne, elektronische Speichermedien, Typenscheine, kodierte KFZ-Schlüssel und dgl.) und den darauf befindlichen Daten "},null,null,null,null,null,null,{"$f":"'Berechnung Sparten'!W279","v":"ER (5000 inkl.)"},null,{"$f":"'Berechnung Sparten'!U279","v":0},null,{"$f":"'Übersicht und Druck'!$E$24","v":0},0,null,0]
[null,{"$f":"'Berechnung Sparten'!B280","v":"Sachen der Betriebsinhaber und Dienstnehmer (ausgenommen jedoch Bargeld, Edelmetall-, Gold-, Silber- und Schmucksachen, Kraftfahrzeuge sowie in Wohnungen befindlicher Hausrat) "},null,null,null,null,null,null,{"$f":"'Berechnung Sparten'!W280","v":"NW (5000 inkl.)"},null,{"$f":"'Berechnung Sparten'!U280","v":0},null,{"$f":"'Übersicht und Druck'!$E$24","v":0},0,null,0]
[null,{"$f":"'Berechnung Sparten'!B281","v":"Schäden an sämtlichen baulichen Außenanlagen (ausgenommen Gebäude) am Versicherungsgrundstück, die fix im Erdreich verankert sind. 5.000 prämienfrei inkludiert. ST303"},null,null,null,null,null,null,"ER",null,{"$f":"'Berechnung Sparten'!U281","v":0},null,{"$f":"'Übersicht und Druck'!$E$24","v":0},0,null,{"$f":"J228","v":0}]
[null,{"$f":"'Berechnung Sparten'!B282","v":"KFZ fahrend und ruhend am Versicherungsort, exkl. Hagel"},null,null,null,null,null,null,"ER",null,{"$f":"'Berechnung Sparten'!U282","v":0},null,{"$f":"'Übersicht und Druck'!$E$24","v":0},0,null,0]
[null,{"$f":"'Berechnung Sparten'!B283","v":"KFZ fahrend und ruhend am Versicherungsort, inkl. Hagel (Selbstbehalt 10 % min. 350 pro Kfz)"},null,null,null,null,null,null,"ER",null,{"$f":"'Berechnung Sparten'!U283","v":0},null,{"$f":"'Übersicht und Druck'!$E$24","v":0},0,null,0]
[null,{"$f":"'Berechnung Sparten'!B284","v":"KFZ und/oder Anhänger im Gebäude befindlich ST098"},null,null,null,null,null,null,"ER",null,{"$f":"'Berechnung Sparten'!U284","v":0},null,{"$f":"'Übersicht und Druck'!$E$24","v":0},0,null,0]
[null,{"$f":"'Berechnung Sparten'!B285","v":"Anhänger fahrend und ruhend am Versicherungsort, exkl. Hagel"},null,null,null,null,null,null,"ER",null,{"$f":"'Berechnung Sparten'!U285","v":0},null,{"$f":"'Übersicht und Druck'!$E$24","v":0},0,null,0]
[null,{"$f":"'Berechnung Sparten'!B286","v":"Anhänger fahrend und ruhend am Versicherungsort, inkl. Hagel (Selbstbehalt 10 % min. 350 pro Kfz)"},null,null,null,null,null,null,"ER",null,{"$f":"'Berechnung Sparten'!U286","v":0},null,{"$f":"'Übersicht und Druck'!$E$24","v":0},0,null,0]
[null,{"$f":"'Berechnung Sparten'!B287","v":"Schaukästen, Vitrinen und Automaten samt Inhalt außerhalb des Versicherungsortes"},null,null,null,null,null,null,{"$f":"'Berechnung Sparten'!W287","v":"NW"},null,{"$f":"'Berechnung Sparten'!U287","v":0},null,{"$f":"'Übersicht und Druck'!$E$24","v":0},0,null,{"$f":"J234","v":0}]
[null,{"$f":"'Berechnung Sparten'!B288","v":"Tische, Stühle, Sonnenschirme und fix im Erdreich verankerte Spielplatzeinrichtungen im Freien (Schanigärten), Selbstbehalt je Schadensfall: 20 %"},null,null,null,null,null,null,{"$f":"'Berechnung Sparten'!W288","v":"NW"},null,{"$f":"'Berechnung Sparten'!U288","v":0},null,{"$f":"'Übersicht und Druck'!$E$24","v":0},0,null,0]
[null,{"$f":"'Berechnung Sparten'!B289","v":"Antennen- und oder Solaranlagen aller Art inkl. Photovoltaikanlagen am Versicherungsort im Rahmen der Versicherungssumme"},null,null,null,null,null,null,null,null,"präm.frei",null,{"$f":"'Übersicht und Druck'!$E$24","v":0},0,null,0]
[null,{"$f":"'Berechnung Sparten'!B290","v":"Beleuchtungskörper, Fahnenstangen, Firmenschilder, Reklameanlagen, Markisen und sonstige mit dem Gebäude verbundene Beschattungssysteme (alles nur am Versicherungsort befindlich)"},null,null,null,null,null,null,{"$f":"'Berechnung Sparten'!W290","v":"NW"},null,{"$f":"'Berechnung Sparten'!U290","v":0},null,{"$f":"'Übersicht und Druck'!$E$24","v":0},0,null,0]
[null,{"$f":"'Berechnung Sparten'!B291","v":"Schwimmbecken im Freien (gemauert, Polyester oder Stahlblech) ohne Abdeckungen"},null,null,null,null,null,null,{"$f":"'Berechnung Sparten'!W291","v":"NW"},null,{"$f":"'Berechnung Sparten'!U291","v":0},null,{"$f":"'Übersicht und Druck'!$E$24","v":0},0,null,0]
[null,{"$f":"'Berechnung Sparten'!B292","v":"Fix am Beckenrand montierte (oder in solchen Schienen laufenden) Schwimmbadabdeckungen (keine Folien oder Planen)"},null,null,null,null,null,null,{"$f":"'Berechnung Sparten'!W292","v":"NW"},null,{"$f":"'Berechnung Sparten'!U292","v":0},null,{"$f":"'Übersicht und Druck'!$E$24","v":0},0,null,0]
[null,{"$f":"'Berechnung Sparten'!B293","v":"Fix am Beckenrand montierte sonstige Schwimmbadabdeckungen (auch begehbare Folien oder Rollabdeckungen)"},null,null,null,null,null,null,{"$f":"'Berechnung Sparten'!W293","v":"NW"},null,{"$f":"'Berechnung Sparten'!U293","v":0},null,{"$f":"'Übersicht und Druck'!$E$24","v":0},0,null,0]
[null,{"$f":"'Berechnung Sparten'!B294","v":"Groß- und/oder Kleintiere im Gebäude befindlich"},null,null,null,null,null,null,{"$f":"'Berechnung Sparten'!W294","v":"WBK"},null,{"$f":"'Berechnung Sparten'!U294","v":0},null,{"$f":"'Übersicht und Druck'!$E$24","v":0},0,null,0]
[null,{"$f":"'Berechnung Sparten'!B295","v":"Geld und Geldeswerte, Sparbücher, Wertpapiere, Urkunden, Schmuck-, Gold- und Platinsachen, Edelsteine, Edelmetalle und echte Perlen sowie Münzen- und Briefmarkensammlungen,  Brief - und Stempelmarken, Vignetten, Kurzparkscheine, Lose und Telefonwertkarten unter festem Verschluss"},null,null,null,null,null,null,{"$f":"'Berechnung Sparten'!W295","v":"ER (5000 inkl.)"},null,{"$f":"'Berechnung Sparten'!U295","v":0},null,{"$f":"'Übersicht und Druck'!$E$24","v":0},0,null,0]
[null,{"$f":"'Berechnung Sparten'!B296","v":"Schäden durch Witterungsniederschläge an Gebäudeinnenteilen ST302"},null,null,null,null,null,null,{"$f":"'Berechnung Sparten'!W296","v":"ER"},null,{"$f":"'Berechnung Sparten'!U296","v":0},null,{"$f":"'Übersicht und Druck'!$E$24","v":0},0,null,0]
[null,{"$f":"'Berechnung Sparten'!B297","v":"Gebäudeschäden durch vom Dach abrutschende Schneemassen und Dachlawinen"},null,null,null,null,null,null,{"$f":"'Berechnung Sparten'!W297","v":"ER"},null,{"$f":"'Berechnung Sparten'!U297","v":0},null,{"$f":"'Übersicht und Druck'!$E$24","v":0},0,null,0]
[null,{"$f":"'Berechnung Sparten'!B298","v":"20 % Aufräumungs-, Abbruch-, De- und Re-montagekosten, Bewegungs- und Schutzkosten, Deponiekosten für nicht zu behandelnden Abfall. Im Rahmen dieser Versicherungssumme gelten Mehrkosten durch die Behandlung von gefährlichem Abfall und/oder kontaminiertem Erdreich bis 50 % der Versicherungssumme als mitversichert. A3024"},null,null,null,null,null,null,null,null,"präm.frei",null,{"$f":"'Übersicht und Druck'!$E$24","v":0},0]
[null,{"$f":"'Berechnung Sparten'!B299","v":"Mehrkosten durch die Behandlung von gefährlichem Abfall und/oder kontaminiertem Erdreich. A3024"},null,null,null,null,null,null,{"$f":"\"ER (max. \"&ROUND(AP209,0)&\")\"","v":"ER (max. 0)"},null,{"$f":"'Berechnung Sparten'!U299","v":0},null,{"$f":"'Übersicht und Druck'!$E$24","v":0},0,null,{"$f":"IF(J246=\"\",0,MIN(J246,AP209))","v":0}]
[null,{"$f":"'Berechnung Sparten'!B300","v":"Sachverständigenkosten "},null,null,null,null,null,null,{"$f":"'Berechnung Sparten'!W300","v":"ER"},null,{"$f":"'Berechnung Sparten'!U300","v":0},null,{"$f":"'Übersicht und Druck'!$E$24","v":0},0,null,{"$f":"J247","v":0}]
[null,{"$f":"'Berechnung Sparten'!B301","v":"Optische Schäden nach einem Sturmschaden am Gebäude, wenn Reparatur bzw. Austausch erfolgt (5.000 auf ER, Selbstbehalt 10 %)"},null,null,null,null,null,null,null,null,"präm.frei",null,{"$f":"'Übersicht und Druck'!$E$24","v":0},0]
[null,{"$f":"'Berechnung Sparten'!B302","v":"Kosten für das Sichern oder Entfernen von Bäumen und Masten auf dem Versicherungsgrundstück, die durch Sturm beschädigt wurden (5.000 auf ER)"},null,null,null,null,null,null,null,null,"präm.frei",null,{"$f":"'Übersicht und Druck'!$E$24","v":0},0]
[null,{"$f":"'Berechnung Sparten'!B303","v":"Katastrophenschutz 5.000 gem. ST909"},null,null,null,null,null,null,null,null,"präm.frei",null,{"$f":"'Übersicht und Druck'!$E$24","v":0},0]
[null,{"$f":"'Berechnung Sparten'!B304","v":"Mehraufwand im Schadensfall (10 %  gem. BB 4817)"},null,null,null,null,null,null,null,null,"präm.frei",null,{"$f":"'Übersicht und Druck'!$E$24","v":0},0]
[null,{"$f":"'Berechnung Sparten'!B305","v":"Verteurerung im Schadensfall (15 % gem. BB 4907)"},null,null,null,null,null,null,null,null,"präm.frei",null,{"$f":"'Übersicht und Druck'!$E$24","v":0},0]
[null,{"$f":"'Berechnung Sparten'!B306","v":"Geld und Geldeswerte im Sicherheitsbehältnis"},null,null,null,null,null,null,null,null,null,null,{"$f":"'Übersicht und Druck'!$E$12","v":0},0,null,null,null,"Limits"]
[null,{"$f":"'Berechnung Sparten'!B307","v":"Sicherheitsgrad EN0 bzw. VSÖ IV (VS. 15.000)"},null,null,null,null,null,null,{"$f":"'Berechnung Sparten'!W307","v":"ER"},null,{"$f":"'Berechnung Sparten'!U307","v":0},null,{"$f":"'Übersicht und Druck'!$E$12","v":0},0,false,{"$f":"IF(O254=TRUE,R254,0)","v":0},null,15000]
[null,{"$f":"'Berechnung Sparten'!B308","v":"Sicherheitsgrad EN1 bzw. VSÖ III/c 1-3 (VS 30.000)"},null,null,null,null,null,null,{"$f":"'Berechnung Sparten'!W307","v":"ER"},null,{"$f":"'Berechnung Sparten'!U308","v":0},null,{"$f":"'Übersicht und Druck'!$E$12","v":0},0,false,{"$f":"IF(O255=TRUE,R255,0)","v":0},null,30000]
[null,{"$f":"'Berechnung Sparten'!B309","v":"Sicherheitsgrad VSÖ III/b (VS 45.000)"},null,null,null,null,null,null,{"$f":"'Berechnung Sparten'!W308","v":"ER"},null,{"$f":"'Berechnung Sparten'!U309","v":0},null,{"$f":"'Übersicht und Druck'!$E$12","v":0},0,false,0,null,45000]
[null,{"$f":"'Berechnung Sparten'!B310","v":"Sicherheitsgrad EN2 bzw. VSÖ II/d (VS 75.000)"},null,null,null,null,null,null,{"$f":"'Berechnung Sparten'!W309","v":"ER"},null,{"$f":"'Berechnung Sparten'!U310","v":0},null,{"$f":"'Übersicht und Druck'!$E$12","v":0},0,false,0,null,75000]
[null,{"$f":"'Berechnung Sparten'!B311","v":"Sicherheitsgrad EN3 bzw. VSÖ II/c (VS (100.000)"},null,null,null,null,null,null,{"$f":"'Berechnung Sparten'!W310","v":"ER"},null,{"$f":"'Berechnung Sparten'!U311","v":0},null,{"$f":"'Übersicht und Druck'!$E$12","v":0},0,false,0,null,100000]
[null,{"$f":"'Berechnung Sparten'!B312","v":"Sicherheitsgrad EN4 (VS 150.000)"},null,null,null,null,null,null,{"$f":"'Berechnung Sparten'!W311","v":"ER"},null,{"$f":"'Berechnung Sparten'!U312","v":0},null,{"$f":"'Übersicht und Druck'!$E$12","v":0},0,false,0,null,150000]
[null,{"$f":"'Berechnung Sparten'!B313","v":"Sicherheitsgrad EN5 bzw. VSÖ II/b (VS 250.000)"},null,null,null,null,null,null,{"$f":"'Berechnung Sparten'!W312","v":"ER"},null,{"$f":"'Berechnung Sparten'!U313","v":0},null,{"$f":"'Übersicht und Druck'!$E$12","v":0},0,false,0,null,250000]
[null,null,null,null,null,null,null,null,"Spartenprämie",null,{"$f":"'Berechnung Sparten'!U316","v":0},null,{"$f":"'Übersicht und Druck'!$E$24","v":0},0]
[]
[]
[null,"Katastrophendeckung",null,null,null,null,null,null,null,null,null,null,{"$f":"'Übersicht und Druck'!$E$25","v":0},"x",null,null,null,null,"Max","Promille"]
[null,"Sparte gewählt",null,null,null,null,null,null,null,"Auswahl","Prämie",null,{"$f":"'Übersicht und Druck'!$E$25","v":0},"x",false,{"$f":"IF(O265=TRUE,1,0)*M265","v":0},null,"Zone 1",0]
[null,"Hora-Zone (klick für Link)",null,null,null,"Maximal versicherbar auf ER",null,null,{"$f":"S268","v":0},null,{"$f":"'Berechnung Sparten'!U323","v":0},null,{"$f":"'Übersicht und Druck'!$E$25","v":0},{"$f":"$P$265","v":0},null,null,null,"Zone 2",25000,{"$f":"25/1000","v":2.5000000000000001E-2}]
[null,null,null,null,null,null,null,null,"Spartenprämie",null,{"$f":"'Berechnung Sparten'!U326","v":0},null,{"$f":"'Übersicht und Druck'!$E$25","v":0},{"$f":"$P$265","v":0},null,null,null,"Zone 3, 4",75000,{"$f":"10/1000","v":0.01},"VS"]
[null,null,null,null,null,null,null,null,null,null,null,null,null,null,null,null,"Gewählt",{"$f":"IF(E266=\"\",R265,E266)","v":"Zone 1"},{"$f":"VLOOKUP(R268,R265:T267,2,FALSE)","v":0},{"$f":"VLOOKUP(R268,R265:T267,3,FALSE)","v":0},{"$f":"IF(J266=0,0,MIN(J266,S268))","v":0}]
[null,{"$f":"IF(AND(Kundendaten!$E$13=1,'Berechnung Sparten'!$T$9=0),\"Achtung: bei Basisdaten wurde keine KTE ausgewählt!\",\"\")","v":"Achtung: bei Basisdaten wurde keine KTE ausgewählt!"},null,null,null,null,null,null,null,null,null,null,1,1]
[null,{"$f":"IF(P270=1,\"Technikversicherung: Technik Pauschal\",\"Technik Pauschal für diese Branche nicht möglich\")","v":"Technik Pauschal für diese Branche nicht möglich"},null,null,null,null,null,null,null,null,null,null,{"$f":"'Übersicht und Druck'!$E$31","v":0},"x","Möglich?",{"$f":"IF('Berechnung Sparten'!D403=0,0,1)","v":0},"Erstrisikosumme in % des Vollwerts","Nachlass",null,"Erhöhung des Selbstbehalts auf","Nachlass"]
[null,"Sparte gewählt",null,null,null,null,null,null,"Art","Auswahl","Prämie",null,{"$f":"'Übersicht und Druck'!$E$31","v":0},"x",false,{"$f":"IF(O271=TRUE,1,0)*P270*M271","v":0},1,0,null,200,0]
[null,"Erstrisikosumme in % des Vollwerts",null,null,1,"Selbstbehalt",null,200,"Grunddeckung",null,{"$f":"'Berechnung Sparten'!U405","v":0},null,{"$f":"'Übersicht und Druck'!$E$31","v":0},{"$f":"$P$271","v":0},null,null,0.3,0.05,null,500,0.1]
[null,{"$f":"'Berechnung Sparten'!B406","v":"Erd- und Grabarbeiten sowie Wiederherstellung der Oberfläche gem. MB368"},null,null,null,null,null,null,{"$f":"'Berechnung Sparten'!W406","v":"ER"},null,{"$f":"'Berechnung Sparten'!U406","v":0},null,{"$f":"'Übersicht und Druck'!$E$31","v":0},{"$f":"$P$271","v":0},null,null,0.2,0.1,null,1000,0.18]
[null,null,null,null,null,null,null,null,"Spartenprämie",null,{"$f":"'Berechnung Sparten'!U409","v":0},null,{"$f":"'Übersicht und Druck'!$E$31","v":0},{"$f":"$P$271","v":0},null,null,0.1,0.15,null,2500,0.25]
[null,{"$f":"IF(P271+P278>1,\"Bitte nur eine Variante der Technikversicherung wählen!\",\"\")","v":""},null,null,null,null,null,null,null,null,null,null,null,null,null,null,"GEwählt",null,null,5000,0.3]
[null,{"$f":"IF(AND(Kundendaten!$E$13=1,'Berechnung Sparten'!$T$9=0),\"Achtung: bei Basisdaten wurde keine KTE ausgewählt!\",\"\")","v":"Achtung: bei Basisdaten wurde keine KTE ausgewählt!"},null,null,null,null,null,null,null,null,null,null,1,1,null,null,{"$f":"IF(E272=\"\",Q271,E272)","v":1},{"$f":"VLOOKUP(Q276,Q271:R274,2,FALSE)","v":0},null,"GEwählt"]
[null,"Technik - indirekter Blitz",null,null,null,null,null,null,null,null,null,null,{"$f":"'Übersicht und Druck'!$E$32","v":0},"x",null,null,"Kummulierter Nachlass",{"$f":"1-(1-R276)*(1-U277)","v":0},null,{"$f":"IF(H272=\"\",T271,H272)","v":200},{"$f":"VLOOKUP(T277,T271:U275,2,FALSE)","v":0}]
[null,"Sparte gewählt",null,null,null,null,null,null,"Art","Auswahl","Prämie",null,{"$f":"'Übersicht und Druck'!$E$32","v":0},"x",false,{"$f":"IF(O278=TRUE,1,0)*M278","v":0}]
[null,{"$f":"'Berechnung Sparten'!B414","v":"Indirekter Blitz an KTE gem. MB301 (Selbstbehalt 200)"},null,null,null,null,null,null,{"$f":"'Berechnung Sparten'!W414","v":"ER"},null,{"$f":"'Berechnung Sparten'!U414","v":0},null,{"$f":"'Übersicht und Druck'!$E$32","v":0},{"$f":"$P$278","v":0}]
[null,{"$f":"'Berechnung Sparten'!B415","v":"Erd- und Grabarbeiten sowie Wiederherstellung der Oberfläche gem. MB368"},null,null,null,null,null,null,{"$f":"'Berechnung Sparten'!W415","v":"ER"},null,{"$f":"'Berechnung Sparten'!U415","v":0},null,{"$f":"'Übersicht und Druck'!$E$32","v":0},{"$f":"$P$278","v":0}]
[null,null,null,null,null,null,null,null,"Spartenprämie",null,{"$f":"'Berechnung Sparten'!U418","v":0},null,{"$f":"'Übersicht und Druck'!$E$32","v":0},{"$f":"$P$278","v":0}]
[]
[null,{"$f":"IF(AND(Kundendaten!$E$13=1,'Berechnung Sparten'!$T$9=0),\"Achtung: bei Basisdaten wurde keine KTE ausgewählt!\",\"\")","v":"Achtung: bei Basisdaten wurde keine KTE ausgewählt!"},null,null,null,null,null,null,null,null,null,null,1,1]
[null,"EDV-Versicherung",null,null,null,null,null,null,null,null,null,null,{"$f":"'Übersicht und Druck'!$E$33","v":0},"x"]
[null,"Sparte gewählt",null,null,null,null,null,null,"Art","Auswahl","Prämie",null,{"$f":"'Übersicht und Druck'!$E$33","v":0},"x",false,{"$f":"IF(O285=TRUE,1,0)*M285","v":0}]
[null,"Sämtliche Geräte der Bürotechnik wie z.B. EDV, Telefon, Fax, Kopierer, Drucker, Schreibmaschinen, Overhead, TV, Video, elektrische Kassen, stationär  verwendete tragbare Geräte (z.B.: Notebook, Beamer, Netbook) ohne Transportrisiko",null,null,null,null,null,null,"Neuwert",null,{"$f":"'Berechnung Sparten'!U424","v":0},null,{"$f":"'Übersicht und Druck'!$E$33","v":0},{"$f":"$P$285","v":0}]
[null,"Tragbare Geräte (Notebook samt Zubehör, Beamer, Netbook) inkl. Transportrisiko",null,null,null,null,"Baujahr, Marke",null,null,"Neuwert","Prämie",null,{"$f":"'Übersicht und Druck'!$E$33","v":0},0]
[null,null,null,null,null,null,null,null,null,null,{"$f":"'Berechnung Sparten'!U425","v":0},null,{"$f":"'Übersicht und Druck'!$E$33","v":0},0]
[null,null,null,null,null,null,null,null,null,null,{"$f":"'Berechnung Sparten'!U426","v":0},null,{"$f":"'Übersicht und Druck'!$E$33","v":0},0,null,null,null,"Haftungszeit"]
[null,null,null,null,null,null,null,null,null,null,{"$f":"'Berechnung Sparten'!U427","v":0},null,{"$f":"'Übersicht und Druck'!$E$33","v":0},0,null,null,null,"30 Tage",{"$f":"45/1000","v":4.4999999999999998E-2}]
[null,null,null,null,null,null,null,null,null,null,{"$f":"'Berechnung Sparten'!U428","v":0},null,{"$f":"'Übersicht und Druck'!$E$33","v":0},0,null,null,null,"60 Tage",{"$f":"40/1000","v":0.04}]
[null,null,null,null,null,null,null,null,null,null,{"$f":"'Berechnung Sparten'!U429","v":0},null,{"$f":"'Übersicht und Druck'!$E$33","v":0},0,null,null,null,"90 Tage",{"$f":"30/1000","v":0.03}]
[null,"Datenträger und Informationsverlust",null,null,null,null,null,null,"Gesamtkosten",10000,{"$f":"'Berechnung Sparten'!U430","v":0},null,{"$f":"'Übersicht und Druck'!$E$33","v":0},0,null,null,"Gewählt",{"$f":"IF(H294=\"\",R290,H294)","v":"30 Tage"},{"$f":"VLOOKUP(R293,R290:S292,2,FALSE)","v":4.4999999999999998E-2}]
[null,"Mehrkosten durch Weiterführung der Datenverarbeitungsanlage auf einer Ausweichanlage nach einem ersatzpflichtigen Sachschaden an dem versicherten Gerät.",null,null,null,null,"Haftungs-zeit","30 Tage","Weiterführungskosten",null,{"$f":"'Berechnung Sparten'!U431","v":0},null,{"$f":"'Übersicht und Druck'!$E$33","v":0},0]
[null,null,null,null,null,null,null,null,"Spartenprämie",null,{"$f":"'Berechnung Sparten'!U434","v":0},null,{"$f":"'Übersicht und Druck'!$E$33","v":0},0]
[]
[]
[null,"Kühlgutversicherung",null,null,null,null,null,null,null,null,null,null,{"$f":"'Übersicht und Druck'!$E$34","v":0},"x"]
[null,"Sparte gewählt",null,null,null,null,null,null,"Art","Auswahl","Prämie",null,{"$f":"'Übersicht und Druck'!$E$34","v":0},"x",false,{"$f":"IF(O299=TRUE,1,0)*M299","v":0}]
[null,"Mitversicherung des Transportrisikos",null,null,null,null,null,null,{"$f":"'Berechnung Sparten'!C440","v":"VS"},null,{"$f":"'Berechnung Sparten'!U440","v":0},null,{"$f":"'Übersicht und Druck'!$E$34","v":0},{"$f":"$P$299","v":0},false,{"$f":"IF(O300=TRUE,1,0)","v":0}]
[null,null,null,null,null,null,null,null,"Spartenprämie",null,{"$f":"'Berechnung Sparten'!U443","v":0},null,{"$f":"'Übersicht und Druck'!$E$34","v":0},{"$f":"$P$299","v":0}]
[]
[null,{"$f":"IF(AND(Kundendaten!$E$13=1,'Berechnung Sparten'!$T$9=0),\"Achtung: bei Basisdaten wurde keine KTE ausgewählt!\",\"\")","v":"Achtung: bei Basisdaten wurde keine KTE ausgewählt!"},null,null,null,null,null,null,null,null,null,null,1,1]
[null,"Transportversicherung",null,null,null,null,null,null,null,null,null,null,{"$f":"'Übersicht und Druck'!$E$35","v":0},"x",null,null,null,"Versicherungs-summe in €"]
[null,"Sparte gewählt",null,null,"Info Deckung",null,null,null,"Art","Auswahl","Prämie",null,{"$f":"'Übersicht und Druck'!$E$35","v":0},"x",false,{"$f":"IF(O305=TRUE,1,0)*M305","v":0},null,"je Fahrzeug","Prämie je Kfz"]
[null,"Anzahl Fahrzeuge",null,null,"Anzahl Anhänger",null,null,"VS auf ER je Fahrzeug bzw. Anhänger",null,null,2500,null,{"$f":"'Übersicht und Druck'!$E$35","v":0},{"$f":"$P$305","v":0},false,{"$f":"IF(O306=TRUE,1,0)","v":0},null,"je Anhänger"]
[null,null,null,null,null,null,null,null,"Spartenprämie",null,{"$f":"'Berechnung Sparten'!U452","v":0},null,{"$f":"'Übersicht und Druck'!$E$35","v":0},{"$f":"$P$305","v":0},null,null,null,2500,120]
[null,null,null,null,null,null,null,null,null,null,null,null,null,null,null,null,null,5000,155]
[null,null,null,null,null,null,null,null,null,null,null,null,null,null,null,null,null,10000,291]
[null,"Gewerbe-Soforthilfe",null,null,null,null,null,null,null,null,null,null,{"$f":"'Übersicht und Druck'!$E$36","v":0},{"$f":"M310","v":0},null,null,null,15000,437]
[null,"Sparte gewählt",null,null,"Info Deckung",null,null,null,"Spartenprämie",null,{"$f":"'Berechnung Sparten'!U509","v":0},null,{"$f":"'Übersicht und Druck'!$E$36","v":0},{"$f":"M311","v":0},false,{"$f":"IF(O311=TRUE,1,0)*M311","v":0},null,20000,560]
[null,null,null,null,null,null,null,null,null,null,null,null,null,null,null,null,null,25000,700]
[null,null,null,null,null,null,null,null,null,null,null,null,null,null,null,null,null,30000,816]
[null,null,null,null,null,null,null,null,null,null,null,null,null,null,null,null,"Gewählt",{"$f":"IF(K306=\"\",R307,K306)","v":2500}]
[null,null,null,null,null,null,null,null,null,null,null,null,null,null,null,null,"Prämie je",{"$f":"VLOOKUP(R314,R307:S313,2,FALSE)","v":120}]
[null,null,null,null,null,null,null,null,null,null,null,null,null,null,null,null,"Anzahl Kfz",{"$f":"D306+G306","v":0}]
[null,null,null,null,null,null,null,null,null,null,null,null,null,null,null,null,"Prämie gesamt",{"$f":"R315*R316","v":0}]

{"sheet":"Berechnung Sparten","index":9,"n_rows":509,"n_cols":38,"rows_kept":509,"cut":false,"hidden":true,"merged":[[320,17,320,19],[2,1,3,1],[2,2,3,2],[2,3,3,3],[2,4,2,5],[2,16,3,16],[2,6,2,7],[2,8,3,8],[2,9,3,9],[2,10,3,10],[2,11,2,15],[274,12,274,16],[248,12,248,16],[320,12,320,16],[121,17,121,19],[104,12,104,16],[446,12,446,16],[446,17,446,19],[421,12,421,16],[421,17,421,19],[437,12,437,16],[411,12,411,16],[332,17,332,19],[437,17,437,19],[69,12,69,16],[69,17,69,19],[199,12,199,16],[199,17,199,19],[104,17,104,19],[402,12,402,16],[411,17,411,19],[248,17,248,19],[81,12,81,16],[81,17,81,19],[393,12,393,16],[393,17,393,19],[332,12,332,16],[334,32,335,32],[92,31,92,32],[81,27,81,29],[81,31,81,32],[87,27,87,28],[88,27,88,28],[92,27,92,29],[89,27,89,28],[123,30,123,31],[123,32,123,33],[274,17,274,19],[6,1,6,9],[92,12,92,16],[92,17,92,19],[121,12,121,16],[25,17,25,19],[6,12,6,13],[6,18,6,19],[13,12,13,16],[13,17,13,19],[25,12,25,16],[2,17,3,17],[98,27,98,28],[99,27,99,28],[100,27,100,28],[105,28,105,32],[70,31,70,32],[78,27,78,28],[70,27,70,29],[76,27,76,28],[77,27,77,28],[123,34,123,35],[506,12,506,16],[506,17,506,19],[1,1,1,16],[211,28,211,30],[214,28,214,30],[132,12,132,16],[132,17,132,19],[141,12,141,16],[141,17,141,19],[162,26,162,27],[402,17,402,19],[208,12,208,16],[208,17,208,19],[161,12,161,16],[161,17,161,19]]}
[]
[null,"Promillesätze/Deckungen"]
[null,"Branchenverzeichnis","HHS","F","BU",null,"ED",null,"LW","G","ST","Haftpflicht",null,null,null,null,"TP","RS"]
[null,null,null,null,"F-BU","T-BU","ED","SI",null,null,null,"LS","MP","UP","UW","ErwP"]
[null,null,{"$f":"'Berechnung Grund'!C30","v":0},{"$f":"'Berechnung Grund'!D30","v":0},{"$f":"'Berechnung Grund'!E30","v":0},{"$f":"'Berechnung Grund'!F30","v":0},{"$f":"'Berechnung Grund'!G30","v":0},{"$f":"'Berechnung Grund'!H30","v":0},{"$f":"'Berechnung Grund'!I30","v":0},{"$f":"'Berechnung Grund'!J30","v":0},{"$f":"'Berechnung Grund'!K30","v":0},{"$f":"'Berechnung Grund'!L30","v":0},{"$f":"'Berechnung Grund'!M30","v":0},{"$f":"'Berechnung Grund'!N30","v":0},{"$f":"'Berechnung Grund'!O30","v":0},{"$f":"'Berechnung Grund'!P30","v":0},{"$f":"'Berechnung Grund'!Q30","v":0},{"$f":"'Berechnung Grund'!R30","v":0}]
[]
[null,"Rabatte",null,null,null,null,null,null,null,null,null,null,"Gesamtprämien",null,"ED",{"$f":"'Berechnung Grund'!E77","v":0},"EDV",null,"VS",null,"Feuer","Sturm","LW","ED"]
[null,"NÖ-Vorteil (außer F)",0.1,"Glas, HHV, UV",null,null,null,null,null,null,null,null,"Feuer",{"$f":"'Berechnung Grund'!C78","v":0},{"$f":"'Berechnung Grund'!D78","v":"Glas"},{"$f":"'Berechnung Grund'!E78","v":0},"Kühlgut",null,"Gebäude",{"$f":"'Berechnung Grund'!I78","v":0},{"$f":"'Berechnung Grund'!J78","v":0},{"$f":"'Berechnung Grund'!K78","v":0},{"$f":"'Berechnung Grund'!L78","v":0},{"$f":"'Berechnung Grund'!M78","v":0}]
[null,"Laufzeit-Nachlass",0.2,"EC, EC-BU, Technik, EDV, Kühlgut",0.1,null,null,null,null,null,null,null,"Sturm",{"$f":"'Berechnung Grund'!C79","v":0},{"$f":"'Berechnung Grund'!D79","v":"Feuer-EC"},{"$f":"'Berechnung Grund'!E79","v":0},null,null,"KTE",{"$f":"'Berechnung Grund'!I79","v":0},{"$f":"'Berechnung Grund'!J79","v":0},{"$f":"'Berechnung Grund'!K79","v":0},{"$f":"'Berechnung Grund'!L79","v":0},{"$f":"'Berechnung Grund'!M79","v":0}]
[null,"Steuer","Normal",0.11,"Feuer, BU",0.15,"Kühlgut, EDV",0.112,"Transport",0.126,null,null,"LW",{"$f":"'Berechnung Grund'!C80","v":0},{"$f":"'Berechnung Grund'!D80","v":"Technik"},{"$f":"'Berechnung Grund'!E80","v":0},null,null,"Vorräte",{"$f":"'Berechnung Grund'!I80","v":0},{"$f":"'Berechnung Grund'!J80","v":0},{"$f":"'Berechnung Grund'!K80","v":0},{"$f":"'Berechnung Grund'!L80","v":0},{"$f":"'Berechnung Grund'!M80","v":0}]
[null,"Sondernachlass",{"$f":"Kundendaten!G44","v":0.5},null,null,null,null,null,null,null,null,null,null,null,null,null,null,null,"Alles",{"$f":"'Berechnung Grund'!I81","v":0},{"$f":"'Berechnung Grund'!J81","v":0},{"$f":"'Berechnung Grund'!K81","v":0},{"$f":"'Berechnung Grund'!L81","v":0},{"$f":"'Berechnung Grund'!M81","v":0}]
[null,null,null,null,null,null,null,null,null,null,null,null,null,null,null,null,null,null,null,"Investitionsdeckung",{"$f":"'Berechnung Grund'!J82","v":0},{"$f":"'Berechnung Grund'!K82","v":0},{"$f":"'Berechnung Grund'!L82","v":0},{"$f":"'Berechnung Grund'!M82","v":0}]
[null,"Sparte gewählt"]
[null,null,null,null,null,null,null,null,null,null,null,null,"Nachlässe",null,null,null,null,"Zuschläge"]
[null,"VORLAGE","Art","%o-Satz","VS gewählt","VS inkludiert","VS Anzeige","VS Berechnung",null,null,"Tarifprämie","Sparte gewählt",{"$f":"'Berechnung Sparten'!$B$8","v":"NÖ-Vorteil (außer F)"},{"$f":"'Berechnung Sparten'!$B$9","v":"Laufzeit-Nachlass"},"Risikonachlass",null,"Sondernachlass",{"$f":"'Berechnung Sparten'!$B$10","v":"Steuer"},null,null,"Zahlprämie",null,"Anzeige Art",null,null,null,null,"Grundpromille ohne ER-Zuschlag"]
[null,"Grunddeckung (Gebäude, KTE, Vorräte)","VS",null,null,null,{"$f":"#REF!","v":{"$error":"#REF!"}},null,null,null,null,null,null,{"$f":"$C$9","v":0.2},null,null,{"$f":"$C$11","v":0.5},{"$f":"$D$10","v":0.11},null,null,{"$f":"K16*L16*(1-M16)*(1-N16)*(1-O16)*(1-P16)*(1-Q16)*(1+R16)*(1+S16)*(1+T16)","v":0},null,{"$f":"IF(F16=\"\",C16,C16&\" (\"&F16&\" inkl.)\")","v":"VS"},null,null,null,null,{"$f":"3.5/1000","v":3.5000000000000001E-3}]
[null,null,"ER",null,null,null,{"$f":"MAX(E17:F17)*B14","v":0},{"$f":"MAX(0,E17-F17)","v":0},null,null,{"$f":"H17*D17","v":0},null,null,{"$f":"$C$9","v":0.2},null,null,{"$f":"$C$11","v":0.5},{"$f":"$D$10","v":0.11},null,null,{"$f":"K17*L17*(1-M17)*(1-N17)*(1-O17)*(1-P17)*(1-Q17)*(1+R17)*(1+S17)*(1+T17)","v":0},null,{"$f":"IF(F17=\"\",C17,C17&\" (\"&F17&\" inkl.)\")","v":"ER"},null,null,null,null,{"$f":"2/1000","v":2E-3}]
[null,null,null,null,null,null,null,null,null,"Gesamt",null,null,null,{"$f":"$C$9","v":0.2},null,null,{"$f":"$C$11","v":0.5},{"$f":"$D$10","v":0.11},null,null,{"$f":"K18*L18*(1-M18)*(1-N18)*(1-O18)*(1-P18)*(1-Q18)*(1+R18)*(1+S18)*(1+T18)","v":0},null,null,null,null,null,null,{"$f":"4/1000","v":4.0000000000000001E-3}]
[null,null,null,null,null,null,null,null,null,"MP",20,null,null,{"$f":"$C$9","v":0.2},null,null,{"$f":"$C$11","v":0.5},{"$f":"$D$10","v":0.11},null,null,{"$f":"K19*L19*(1-M19)*(1-N19)*(1-O19)*(1-P19)*(1-Q19)*(1+R19)*(1+S19)*(1+T19)","v":0},null,null,null,null,null,null,{"$f":"2.5/1000","v":2.5000000000000001E-3}]
[null,null,null,null,null,null,null,null,null,"für Antrag",{"$f":"MAX(K18:K19)*L20","v":0},null,null,{"$f":"$C$9","v":0.2},null,null,null,null,null,null,{"$f":"MAX(U18:U19)","v":0},null,null,null,null,null,null,{"$f":"1.5/1000","v":1.5E-3}]
[null,null,null,null,null,null,null,null,null,null,null,null,null,null,null,null,null,null,null,null,null,null,null,null,null,null,null,{"$f":"1/1000","v":1E-3}]
[]
[]
[]
[null,"Sparte gewählt"]
[null,{"$f":"Sach!P5","v":0},"Inhaltssatz",{"$f":"$D$5","v":0},null,null,null,null,null,null,null,null,"Nachlässe",null,null,null,null,"Zuschläge"]
["Feuerversicherung",{"$f":"IF(B26=1,A27,A27&\": Sparte nicht gewählt\")","v":"Feuerversicherung: Sparte nicht gewählt"},"Art","%o-Satz","VS gewählt","VS inkludiert","VS Anzeige","VS Berechnung",null,null,"Tarifprämie","Sparte gewählt",{"$f":"'Berechnung Sparten'!$B$8","v":"NÖ-Vorteil (außer F)"},{"$f":"'Berechnung Sparten'!$B$9","v":"Laufzeit-Nachlass"},"Risikonachlass",null,"Sondernachlass",{"$f":"'Berechnung Sparten'!$B$10","v":"Steuer"},null,null,"Zahlprämie",null,"Anzeige Art","VS für NK"]
[null,"Grunddeckung (Gebäude, KTE gem. BB F9013, Vorräte)","VS",null,null,null,{"$f":"T11*B26","v":0},null,null,null,{"$f":"'Berechnung Grund'!C78","v":0},{"$f":"$B$26","v":0},0.05,{"$f":"$C$9","v":0.2},null,null,{"$f":"$C$11","v":0.5},{"$f":"$F$10","v":0.15},null,null,{"$f":"K28*L28*(1-M28)*(1-N28)*(1-O28)*(1-P28)*(1-Q28)*(1+R28)*(1+S28)*(1+T28)","v":0},null,{"$f":"IF(F28=\"\",C28,C28&\" (\"&F28&\" inkl.)\")","v":"VS"},{"$f":"U11+U12","v":0}]
[null,"Technische und kaufmännische Betriebseinrichtung sowie Vorräte (im Eigentum des Versicherungsnehmers) ständig außerhalb des Versicherungsortes jedoch innerhalb Österreichs","ER",{"$f":"D26+'Berechnung Grund'!C11/1000","v":0},{"$f":"Sach!P7","v":0},null,{"$f":"MAX(E29:F29)*$B$26","v":0},{"$f":"MAX(0,E29-F29)","v":0},null,null,{"$f":"H29*D29","v":0},0,{"$f":"$M$28","v":0.05},{"$f":"$C$9","v":0.2},null,null,{"$f":"$C$11","v":0.5},{"$f":"$F$10","v":0.15},null,null,0,null,{"$f":"IF(F29=\"\",C29,C29&\" \"&F29&\" inkl.\")","v":"ER"},{"$f":"G29","v":0}]
[null,"Wiederherstellungskosten von Datenträgern (Geschäftsbücher, Akten, Pläne, elektronische Speichermedien, Typenscheine, kodierte KFZ-Schlüssel und dgl.) und den darauf befindlichen Daten","ER",{"$f":"2.5/1000","v":2.5000000000000001E-3},{"$f":"Sach!P8","v":0},5000,0,0,null,null,0,0,{"$f":"$M$28","v":0.05},0.2,null,null,0.5,0.15,null,null,0,null,{"$f":"IF(F30=\"\",C30,C30&\" \"&F30&\" inkl.\")","v":"ER 5000 inkl."},0]
[null,"Sachen der Betriebsinhaber und Dienstnehmer (ausgenommen jedoch Bargeld, Edelmetall-, Gold-, Silber- und Schmucksachen, Kraftfahrzeuge sowie in Wohnungen befindlicher Hausrat) ","NW",{"$f":"D26","v":0},{"$f":"Sach!P9","v":0},5000,0,0,null,null,0,0,0.05,0.2,null,null,0.5,0.15,null,null,0,null,{"$f":"IF(F31=\"\",C31,C31&\" \"&F31&\" inkl.\")","v":"NW 5000 inkl."},0]
[null,"Grundstücksbegrenzungen aller Art bis  € 50.000,00",null,null,{"$f":"Sach!P10","v":0},null,0,0,null,null,0,0,0.05,0.2,null,null,0.5,0.15,null,null,0,null,{"$f":"IF(F32=\"\",C32,C32&\" \"&F32&\" inkl.\")","v":0},0]
[null,"Grundstücksbegrenzungen aller Art bis € 10.000,00 gegen Schäden durch fremde KFZ, sofern der Schädiger nicht eruiert werden kann (unverzügliche Anzeige bei der Sicherheitsbehörde erforderlich) ",null,null,{"$f":"Sach!P22","v":0},null,0,0,null,null,0,0,0.05,0.2,null,null,0.5,0.15,null,null,0,null,{"$f":"IF(F33=\"\",C33,C33&\" \"&F33&\" inkl.\")","v":0},0]
[null,{"$f":"\"Schäden an sämtlichen baulichen Außenanlagen (ausgenommen Gebäude) sowie Bepflanzungen am Versicherungsgrundstück (\"&F34&\" inkl.)\"","v":"Schäden an sämtlichen baulichen Außenanlagen (ausgenommen Gebäude) sowie Bepflanzungen am Versicherungsgrundstück (5000 inkl.)"},{"$f":"IF(Sach!I12=\"NW\",\"NW\",\"ER\")","v":"ER"},{"$f":"IF(C34=\"NW\",D26,D26*1.5)","v":0},{"$f":"Sach!P12","v":0},5000,0,0,null,null,0,0,0.05,0.2,null,null,0.5,0.15,null,null,0,null,{"$f":"C34","v":"ER"},0]
[null,"KFZ fahrend und ruhend wo immer befindlich gem. F9127",{"$f":"IF(Sach!I13=\"ZW\",\"ZW\",\"ER\")","v":"ER"},{"$f":"IF(C35=\"ZW\",AB16,AB16*1.5)","v":5.2500000000000003E-3},{"$f":"Sach!P13","v":0},null,0,0,null,null,0,0,0.05,0.2,null,null,0.5,0.15,null,null,0,null,{"$f":"IF(F35=\"\",C35,C35&\" \"&F35&\" inkl.\")","v":"ER"},0]
[null,"KFZ fahrend und ruhend am Versicherungsort und auf Probefahrten gem. F0065",{"$f":"IF(Sach!I14=\"ZW\",\"ZW\",\"ER\")","v":"ER"},3.0000000000000001E-3,{"$f":"Sach!P14","v":0},null,0,0,null,null,0,0,0.05,0.2,null,null,0.5,0.15,null,null,0,null,"ER",0]
[null,"KFZ fahrend und ruhend wo immer befindlich, inkl. Kabelschmorschäden gem. F3012",{"$f":"IF(Sach!I15=\"ZW\",\"ZW\",\"ER\")","v":"ER"},6.0000000000000001E-3,{"$f":"Sach!P15","v":0},null,0,0,null,null,0,0,0.05,0.2,null,null,0.5,0.15,null,null,0,null,"ER",0]
[null,"KFZ fahrend und ruhend am Versicherungsort und auf Probefahrten, inkl. Kabelschmorschäden gem. F3065",{"$f":"IF(Sach!I16=\"ZW\",\"ZW\",\"ER\")","v":"ER"},3.7499999999999999E-3,{"$f":"Sach!P16","v":0},null,0,0,null,null,0,0,0.05,0.2,null,null,0.5,0.15,null,null,0,null,"ER",0]
[null,"Anhänger fahrend und ruhend wo immer befindlich",{"$f":"IF(Sach!I17=\"ZW\",\"ZW\",\"ER\")","v":"ER"},2.2500000000000003E-3,{"$f":"Sach!P17","v":0},null,0,0,null,null,0,0,0.05,0.2,null,null,0.5,0.15,null,null,0,null,"ER",0]
[null,"Anhänger fahrend und ruhend am Versicherungsort und auf Probefahrten",{"$f":"IF(Sach!I18=\"ZW\",\"ZW\",\"ER\")","v":"ER"},1.5E-3,{"$f":"Sach!P18","v":0},null,0,0,null,null,0,0,0.05,0.2,null,null,0.5,0.15,null,null,0,null,"ER",0]
[null,"Werkzeuge, Geräte und Vorräte in KFZ befindlich","NW",{"$f":"3.5/1000","v":3.5000000000000001E-3},{"$f":"Sach!P19","v":0},null,0,0,null,null,0,0,0.05,0.2,null,null,0.5,0.15,null,null,0,null,"NW",0]
[null,"Schaukästen, Vitrinen und Automaten samt Inhalt außerhalb des Versicherungsortes","NW",{"$f":"D26","v":0},{"$f":"Sach!P20","v":0},null,0,0,null,null,0,0,0.05,0.2,null,null,0.5,0.15,null,null,0,null,"NW",0]
[null,"Geld und Geldeswerte, Sparbücher, Wertpapiere, Urkunden, Schmuck-, Gold- und Platinsachen, Edelsteine, Edelmetalle und echte Perlen sowie Münzen- und Briefmarkensammlungen,  Brief - und Stempelmarken, Vignetten, Kurzparkscheine, Lose und Telefonwertkarten unter festem Verschluss","ER",{"$f":"0.75/1000","v":7.5000000000000002E-4},{"$f":"Sach!P21","v":0},5000,0,0,null,null,0,0,0.05,0.2,null,null,0.5,0.15,null,null,0,null,"ER 5000 inkl.",0]
[null,"Kaminbrand, Verpuffungs- und Verrußungsschäden","ER",{"$f":"2/1000","v":2E-3},{"$f":"Sach!P22","v":0},null,0,0,null,null,0,0,0.05,0.2,null,null,0.5,0.15,null,null,0,null,"ER",0]
[null,"Schwimmbecken im Freien samt Abdeckung am Versicherungsort","NW",{"$f":"1/1000","v":1E-3},{"$f":"Sach!P23","v":0},null,0,0,null,null,0,0,0.05,0.2,null,null,0.5,0.15,null,null,0,null,"NW",0]
[null,"Groß- und/oder Kleintiere","WBS",{"$f":"D26","v":0},{"$f":"Sach!P24","v":0},null,0,0,null,null,0,0,0.05,0.2,null,null,0.5,0.15,null,null,0,null,"WBS",0]
[null,"Räucherkammerinhalt gem. F0078","ER",{"$f":"10/1000","v":0.01},{"$f":"Sach!P25","v":0},null,0,0,null,null,0,0,0.05,0.2,null,null,0.5,0.15,null,null,0,null,"ER",0]
[null,"20 % Aufräumungs-, Abbruch-, Feuerlösch-, De- u. Remontagekosten, Bewegungs- u. Schutzkosten, Deponiekosten für nicht zu behandelnden Abfall. Im Rahmen dieser Summe gelten Mehrkosten durch die Behandlung von gefährlichem Abfall und/oder kontaminiertem Erdreich bis 50 % der Summe als mitversichert, gem. A3024.","ER",null,null,null,null,0,null,null,0,0,0.05,0.2,null,null,0.5,0.15,null,null,0,null,{"$f":"\"20 % prämienfrei inkl. (\"&F48&\")\"","v":"20 % prämienfrei inkl. ()"}]
[null,"Mehrkosten durch die Behandlung von gefährlichem Abfall und/oder kontaminiertem Erdreich (A3024)","ER",{"$f":"D26","v":0},{"$f":"Sach!P27","v":0},null,{"$f":"MAX(E49:F49)*$B$26","v":0},{"$f":"MAX(0,E49-F49)","v":0},null,null,{"$f":"H49*D49","v":0},0,0.05,0.2,null,null,0.5,0.15,null,null,0,null,{"$f":"IF(F49=\"\",C49,C49&\" \"&F49&\" inkl.\")","v":"ER"}]
[null,"Sachverständigenkosten gem. A4850","ER",{"$f":"2.5/1000","v":2.5000000000000001E-3},{"$f":"Sach!P28","v":0},null,{"$f":"MAX(E50:F50)*$B$26","v":0},{"$f":"MAX(0,E50-F50)","v":0},null,null,0,0,0.05,0.2,null,null,0.5,0.15,null,null,0,null,{"$f":"IF(F50=\"\",C50,C50&\" \"&F50&\" inkl.\")","v":"ER"}]
[null,"Haftungserweiterung auf indirekte Blitzschlagschäden inkl. der Haustechnik gem. F4965","ER",{"$f":"15/1000","v":1.4999999999999999E-2},{"$f":"Sach!P29","v":0},5000,{"$f":"MAX(E51:F51)*$B$26","v":0},{"$f":"MAX(0,E51-F51)","v":0},null,null,0,0,0.05,0.2,null,null,0.5,0.15,null,null,0,null,{"$f":"IF(F51=\"\",C51,C51&\" \"&F51&\" inkl.\")","v":"ER 5000 inkl."}]
[null,"Mehraufwand im Schadensfall (10 %  gem. BB 4817)",null,null,null,null,null,null,null,null,0,0,0.05,0.2,null,null,0.5,0.15,null,null,0,null,{"$f":"IF(F52=\"\",C52,C52&\" \"&F52&\" inkl.\")","v":0},{"$f":"G52","v":0}]
[null,"Außenversicherung (10 %  gem. BB 4924)",null,null,null,null,null,null,null,null,0,0,0.05,0.2,null,null,0.5,0.15,null,null,0,null,{"$f":"IF(F53=\"\",C53,C53&\" \"&F53&\" inkl.\")","v":0},{"$f":"G53","v":0}]
[null,"Verteurerung im Schadensfall (15 % gem. BB 4907)",null,null,null,null,null,null,null,null,0,0,0.05,0.2,null,null,0.5,0.15,null,null,0,null,{"$f":"IF(F54=\"\",C54,C54&\" \"&F54&\" inkl.\")","v":0},{"$f":"G54","v":0}]
[null,"Brandherd 50.000 (gem. N022)",null,null,null,null,null,null,null,null,0,0,0.05,0.2,null,null,0.5,0.15,null,null,0,null,{"$f":"IF(F55=\"\",C55,C55&\" \"&F55&\" inkl.\")","v":0},{"$f":"G55","v":0}]
[null,"Geld und Geldeswerte im Sicherheitsbehältnis",null,null,null,null,null,null,null,null,null,null,0.05,0.2,null,null,null,null,null,null,null,null,0,{"$f":"G56","v":0}]
[null,"Sicherheitsgrad EN0 bzw. VSÖ IV (VS 15.000)","ER",{"$f":"0.3/1000","v":2.9999999999999997E-4},{"$f":"Sach!P35","v":0},null,0,{"$f":"MAX(0,E57-F57)","v":0},null,null,{"$f":"H57*D57","v":0},0,0.05,0.2,null,null,0.5,0.15,null,null,{"$f":"K57*L57*(1-M57)*(1-N57)*(1-O57)*(1-P57)*(1-Q57)*(1+R57)*(1+S57)*(1+T57)","v":0},null,"ER",0]
[null,"Sicherheitsgrad EN1 bzw. VSÖ III/c 1-3 (VS 30.000)","ER",{"$f":"0.25/1000","v":2.5000000000000001E-4},{"$f":"Sach!P36","v":0},null,0,0,null,null,0,0,0.05,0.2,null,null,0.5,0.15,null,null,0,null,"ER",0]
[null,"Sicherheitsgrad VSÖ III/b (VS 45.000)","ER",{"$f":"0.25/1000","v":2.5000000000000001E-4},{"$f":"Sach!P37","v":0},null,0,0,null,null,0,0,0.05,0.2,null,null,0.5,0.15,null,null,0,null,"ER",0]
[null,"Sicherheitsgrad EN2 bzw. VSÖ II/d (VS 75.000)","ER",{"$f":"0.15/1000","v":1.4999999999999999E-4},{"$f":"Sach!P38","v":0},null,0,0,null,null,0,0,0.05,0.2,null,null,0.5,0.15,null,null,0,null,"ER",0]
[null,"Sicherheitsgrad EN3 bzw. VSÖ II/c (VS 100.000)","ER",{"$f":"0.15/1000","v":1.4999999999999999E-4},{"$f":"Sach!P39","v":0},null,0,0,null,null,0,0,0.05,0.2,null,null,0.5,0.15,null,null,0,null,"ER",0]
[null,"Sicherheitsgrad EN4 (VS 150.000)","ER",{"$f":"0.1/1000","v":1E-4},{"$f":"Sach!P40","v":0},null,0,0,null,null,0,0,0.05,0.2,null,null,0.5,0.15,null,null,0,null,"ER",0]
[null,"Sicherheitsgrad EN5 bzw. VSÖ II/b (VS 250.000)","ER",{"$f":"0.1/1000","v":1E-4},{"$f":"Sach!P41","v":0},null,0,0,null,null,0,0,0.05,0.2,null,null,0.5,0.15,null,null,0,null,"ER",0]
[null,null,null,null,null,null,null,null,null,"Gesamt",{"$f":"SUM(K28:K63)","v":0},0,0.05,0.2,null,null,0.5,0.15,null,null,{"$f":"SUM(U28:U63)","v":0},null,null,{"$f":"SUM(X28:X63)","v":0}]
[null,null,null,null,null,null,null,null,null,"MP",20,0,0.05,0.2,null,null,null,0.15,null,null,{"$f":"K65*L65*(1-M65)*(1-N65)*(1-O65)*(1-P65)*(1-Q65)*(1+R65)*(1+S65)*(1+T65)","v":0}]
[null,null,null,null,null,null,null,null,null,"für Antrag",{"$f":"MAX(K64:K65)*L66","v":0},0,0.05,0.2,null,null,null,null,null,null,{"$f":"MAX(U64:U65)","v":0}]
[]
[]
[null,"Sparte gewählt"]
[null,{"$f":"Sach!P46","v":0},"F-Satz",{"$f":"E5","v":0},"Total-Satz",{"$f":"F5","v":0},"St",{"$f":"'Berechnung Grund'!F7","v":{"$error":"#N/A"}},"LW",{"$f":"'Berechnung Grund'!E7","v":{"$error":"#N/A"}},"ED",{"$f":"'Berechnung Grund'!D7","v":{"$error":"#N/A"}},"Nachlässe",null,null,null,null,"Zuschläge"]
[{"$f":"IF(SUM('Berechnung Sparten'!AC74:AC76)=3,\"Feuer-Betriebsunterbrechung\",\"Kombinierte Betriebsunterbrechung (Total-BU)\")","v":"Feuer-Betriebsunterbrechung"},{"$f":"IF(B70=1,A71,A71&\": Sparte nicht gewählt\")","v":"Feuer-Betriebsunterbrechung: Sparte nicht gewählt"},"Art","%o-Satz","VS gewählt","VS inkludiert","VS Anzeige","VS Berechnung",null,null,"Tarifprämie","Sparte gewählt",{"$f":"'Berechnung Sparten'!$B$8","v":"NÖ-Vorteil (außer F)"},{"$f":"'Berechnung Sparten'!$B$9","v":"Laufzeit-Nachlass"},"Risikonachlass",null,"Sondernachlass",{"$f":"'Berechnung Sparten'!$B$10","v":"Steuer"},null,null,"Zahlprämie",null,"Anzeige Art",null,null,null,null,"Promillesatz",null,null,null,"Haftungszeit F/Total-BU",null,null,"Risiken für Antrag"]
[null,{"$f":"AI77","v":"Feuer"},"VS",{"$f":"AD79","v":{"$error":"#N/A"}},{"$f":"Sach!D47","v":0},null,{"$f":"E72*B70","v":0},{"$f":"G72","v":0},null,null,{"$f":"H72*D72","v":{"$error":"#N/A"}},{"$f":"$B$70","v":0},null,{"$f":"$C$9","v":0.2},null,null,{"$f":"$C$11","v":0.5},{"$f":"$F$10","v":0.15},null,null,{"$f":"K72*L72*(1-M72)*(1-N72)*(1-O72)*(1-P72)*(1-Q72)*(1+R72)*(1+S72)*(1+T72)","v":{"$error":"#N/A"}},null,{"$f":"\"Haftung \"&AG79&\", Jahres-Deckungsbeitrag:\"","v":"Haftung 12 Monate, Jahres-Deckungsbeitrag:"},null,null,null,null,"Sparten","Ausschluss","Nachlass",null,"6 Monate",-0.24]
[null,"Prämienrückgewähr - und Vorsorge-Versicherung, Bes.Bed. BU950","inkludiert",null,null,null,"ja",0,null,null,{"$f":"H73*D73","v":0},0,null,0.2,null,null,{"$f":"$C$11","v":0.5},0.15,null,null,0,null,{"$f":"IF(F73=\"\",C73,C73&\" \"&F73&\" inkl.\")","v":"inkludiert"},null,null,null,null,"Feuer",{"$f":"Sach!R47","v":0},null,null,"9 Monate",-0.15,null,{"$f":"AB73","v":"Feuer"}]
[null,"Mehrkosten für erhöhten Werbeaufwand","ER",{"$f":"AD77*2","v":{"$error":"#N/A"}},{"$f":"Sach!P50","v":0},null,{"$f":"E74*B70","v":0},{"$f":"G74","v":0},null,null,{"$f":"H74*D74","v":{"$error":"#N/A"}},0,null,0.2,null,null,{"$f":"$C$11","v":0.5},0.15,null,null,{"$error":"#N/A"},null,{"$f":"IF(F74=\"\",C74,C74&\" \"&F74&\" inkl.\")","v":"ER"},null,null,null,null,"LW",{"$f":"IF(Sach!R48=1,0,1)","v":1},{"$f":"J70*0.5*AC74","v":{"$error":"#N/A"}},null,"12 Monate",0,null,{"$f":"IF(AC74=0,\", Leitungswasser\",\"\")","v":""}]
[null,"Rückwirkungsschäden (BU 960)","ER",{"$f":"D70*4","v":0},{"$f":"Sach!P51","v":0},null,{"$f":"E75*B70","v":0},{"$f":"G75","v":0},null,null,{"$f":"H75*D75","v":0},0,null,0.2,null,null,{"$f":"$C$11","v":0.5},0.15,null,null,0,null,{"$f":"IF(F75=\"\",C75,C75&\" \"&F75&\" inkl.\")","v":"ER"},null,null,null,null,"ED",{"$f":"IF(Sach!R49=1,0,1)","v":1},{"$f":"L70*0.4*AC75","v":{"$error":"#N/A"}},null,"15 Monate",0.2,null,{"$f":"IF(AC75=0,\", Einbruchdiebstahl\",\"\")","v":""}]
[null,null,null,null,null,null,null,null,null,"Gesamt",{"$f":"IF(B70=0,0,SUM(K72:K75))","v":0},0,null,0.2,null,null,{"$f":"$C$11","v":0.5},0.15,null,null,{"$f":"SUM(U72:U75)","v":{"$error":"#N/A"}},null,null,null,null,null,null,"Sturm",{"$f":"IF(Sach!R50=1,0,1)","v":1},{"$f":"H70*0.5*AC76","v":{"$error":"#N/A"}},null,"18 Monate",0.4,null,{"$f":"IF(AC76=0,\", Sturm\",\"\")","v":""}]
[null,null,null,{"$f":"1.413*1.4","v":1.9782},null,null,null,null,null,"MP",20,0,null,0.2,null,null,null,0.15,null,null,0,null,null,null,null,null,null,"Promille",null,{"$f":"IF(SUM(AC73:AC76)=4,D70,F70-SUM(AD74:AD76))","v":{"$error":"#N/A"}},null,"21 Monate",0.55000000000000004,null,{"$f":"AI73&AI74&AI75&AI76","v":"Feuer"}]
[null,null,null,null,null,null,null,null,null,"für Antrag",{"$f":"MAX(K76:K77)*L78","v":0},0,null,0.2,null,null,null,null,null,null,{"$f":"MAX(U76:U77)","v":{"$error":"#N/A"}},null,null,null,null,null,null,"Haftungszeit","Nachlass Haftungszeit",{"$f":"VLOOKUP(AG79,AF72:AG78,2,FALSE)","v":0},null,"24 Monate",0.65]
[null,null,null,null,null,null,null,null,null,null,null,null,null,null,null,null,null,null,null,null,null,null,null,null,null,null,null,"Promille für Berechnung",null,{"$f":"AD77*(1+AD78)","v":{"$error":"#N/A"}},null,"Gewählt",{"$f":"IF(Sach!H47=\"\",Sach!T50,Sach!H47)","v":"12 Monate"}]
[]
[null,"Sparte gewählt"]
[null,{"$f":"Sach!P56","v":0},"F-Satz",{"$f":"D70","v":0},{"$f":"E70","v":"Total-Satz"},0,"St",{"$error":"#N/A"},"LW",{"$error":"#N/A"},"ED",{"$error":"#N/A"},"Nachlässe",null,null,null,null,"Zuschläge",null,null,null,null,null,null,null,null,null,"Promillesatz",null,null,null,"Haftungszeit F/Total-BU"]
["Mietentgang-Betriebsunterbrechung",{"$f":"IF(B82=1,A83,A83&\": Sparte nicht gewählt\")","v":"Mietentgang-Betriebsunterbrechung: Sparte nicht gewählt"},"Art","%o-Satz","VS gewählt","VS inkludiert","VS Anzeige","VS Berechnung",null,null,"Tarifprämie","Sparte gewählt",{"$f":"'Berechnung Sparten'!$B$8","v":"NÖ-Vorteil (außer F)"},{"$f":"'Berechnung Sparten'!$B$9","v":"Laufzeit-Nachlass"},"Risikonachlass",null,"Sondernachlass",{"$f":"'Berechnung Sparten'!$B$10","v":"Steuer"},null,null,"Zahlprämie",null,"Anzeige Art",null,null,null,null,"Sparten","Ausschluss","Nachlass",null,"6 Monate",-0.24]
[null,{"$f":"\"Versicherte Gefahren: \"&AI88&\". Entgang an Mieteinnahmen bei gänzlicher oder teilweiser Unterbrechung des Betriebes nach einem gedeckten, versicherten Sachschaden. Bes.Bed. BU952\"","v":"Versicherte Gefahren: Feuer. Entgang an Mieteinnahmen bei gänzlicher oder teilweiser Unterbrechung des Betriebes nach einem gedeckten, versicherten Sachschaden. Bes.Bed. BU952"},"VS",{"$f":"AD90","v":0},{"$f":"Sach!D57","v":0},null,{"$f":"E84*B82","v":0},{"$f":"G84","v":0},null,null,{"$f":"H84*D84","v":0},{"$f":"$B$82","v":0},null,{"$f":"$C$9","v":0.2},null,null,{"$f":"$C$11","v":0.5},{"$f":"$F$10","v":0.15},null,null,{"$f":"K84*L84*(1-M84)*(1-N84)*(1-O84)*(1-P84)*(1-Q84)*(1+R84)*(1+S84)*(1+T84)","v":0},null,{"$f":"\"Haftung \"&AG90&\", Jahres-Mieteinnahmen:\"","v":"Haftung 12 Monate, Jahres-Mieteinnahmen:"},null,null,null,null,"Feuer",{"$f":"Sach!R57","v":0},null,null,"9 Monate",-0.15,null,{"$f":"AB84","v":"Feuer"}]
[null,null,null,null,null,null,null,null,null,"Gesamt",{"$f":"IF(B82=0,0,K84)","v":0},{"$f":"$B$82","v":0},null,{"$f":"$C$9","v":0.2},null,null,{"$f":"$C$11","v":0.5},{"$f":"$F$10","v":0.15},null,null,{"$f":"SUM(U84)","v":0},null,null,null,null,null,null,"LW",{"$f":"IF(Sach!R58=1,0,1)","v":1},{"$f":"J81*0.5*AC85","v":0},null,"12 Monate",0,null,{"$f":"IF(AC85=0,\", Leitungswasser\",\"\")","v":""}]
[null,null,null,null,null,null,null,null,null,"MP",20,{"$f":"$B$82","v":0},null,{"$f":"$C$9","v":0.2},null,null,null,{"$f":"$F$10","v":0.15},null,null,{"$f":"K86*L86*(1-M86)*(1-N86)*(1-O86)*(1-P86)*(1-Q86)*(1+R86)*(1+S86)*(1+T86)","v":0},null,null,null,null,null,null,"ED",{"$f":"IF(Sach!R59=1,0,1)","v":1},{"$f":"L81*0.4*AC86","v":0},null,"15 Monate",0.2,null,{"$f":"IF(AC86=0,\", Einbruchdiebstahl\",\"\")","v":""}]
[null,null,null,null,null,null,null,null,null,"für Antrag",{"$f":"MAX(K85:K86)*L87","v":0},{"$f":"$B$82","v":0},null,{"$f":"$C$9","v":0.2},null,null,null,null,null,null,{"$f":"MAX(U85:U86)","v":0},null,null,null,null,null,null,"Sturm",{"$f":"IF(Sach!R60=1,0,1)","v":1},{"$f":"H81*0.5*AC87","v":0},null,"18 Monate",0.4,null,{"$f":"IF(AC87=0,\", Sturm\",\"\")","v":""}]
[null,null,null,null,null,null,null,null,null,null,null,null,null,null,null,null,null,null,null,null,null,null,null,null,null,null,null,"Promille",null,{"$f":"IF(SUM(AC84:AC87)=4,D82,F82-SUM(AD85:AD87))","v":0},null,"21 Monate",0.55000000000000004,null,{"$f":"AI84&AI85&AI86&AI87","v":"Feuer"}]
[null,null,null,null,null,null,null,null,null,null,null,null,null,null,null,null,null,null,null,null,null,null,null,null,null,null,null,"Haftungszeit","Nachlass Haftungszeit",{"$f":"VLOOKUP(AG90,AF83:AG89,2,FALSE)","v":0},null,"24 Monate",0.65]
[null,null,null,null,null,null,null,null,null,null,null,null,null,null,null,null,null,null,null,null,null,null,null,null,null,null,null,"Promille für Berechnung",null,{"$f":"AD88*(1+AD89)","v":0},null,"Gewählt",{"$f":"IF(Sach!H57=\"\",Sach!W57,Sach!H57)","v":"12 Monate"}]
[]
[null,"Sparte gewählt"]
[null,{"$f":"Sach!P62","v":0},"F-Satz",{"$f":"D82","v":0},{"$f":"E82","v":"Total-Satz"},0,"St",{"$error":"#N/A"},"LW",{"$error":"#N/A"},"ED",{"$error":"#N/A"},"Nachlässe",null,null,null,null,"Zuschläge",null,null,null,null,null,null,null,null,null,"Promillesatz",null,null,null,"Haftungszeit Mehrkosten-BU"]
["Mehrkosten-Betriebsunterbrechung",{"$f":"IF(B93=1,A94,A94&\": Sparte nicht gewählt\")","v":"Mehrkosten-Betriebsunterbrechung: Sparte nicht gewählt"},"Art","%o-Satz","VS gewählt","VS inkludiert","VS Anzeige","VS Berechnung",null,null,"Tarifprämie","Sparte gewählt",{"$f":"'Berechnung Sparten'!$B$8","v":"NÖ-Vorteil (außer F)"},{"$f":"'Berechnung Sparten'!$B$9","v":"Laufzeit-Nachlass"},"Risikonachlass",null,"Sondernachlass",{"$f":"'Berechnung Sparten'!$B$10","v":"Steuer"},null,null,"Zahlprämie",null,"Anzeige Art",null,null,null,null,"Sparten","Ausschluss","Nachlass",null,"1 Monat",11]
[null,{"$f":"\"Versicherte Gefahren: \"&AI99&\". Mehrkosten, die bei einer Betriebsunterbrechung infolge eines ersatzpflichtigen Sachschadens dadurch anfallen, dass der Betrieb an einem anderen Ort ganz oder teilweise weitergeführt wird. Bes.Bed. BU843\"","v":"Versicherte Gefahren: Feuer. Mehrkosten, die bei einer Betriebsunterbrechung infolge eines ersatzpflichtigen Sachschadens dadurch anfallen, dass der Betrieb an einem anderen Ort ganz oder teilweise weitergeführt wird. Bes.Bed. BU843"},"VS",{"$f":"AD101","v":0},{"$f":"Sach!D63","v":0},null,{"$f":"E95*AG101*B93","v":0},{"$f":"G95","v":0},null,null,{"$f":"H95*D95","v":0},{"$f":"$B$93","v":0},null,{"$f":"$C$9","v":0.2},null,null,{"$f":"$C$11","v":0.5},{"$f":"$F$10","v":0.15},null,null,{"$f":"K95*L95*(1-M95)*(1-N95)*(1-O95)*(1-P95)*(1-Q95)*(1+R95)*(1+S95)*(1+T95)","v":0},null,{"$f":"\"Haftung \"&AG100&\", Mehrkosten:\"","v":"Haftung 3 Monate, Mehrkosten:"},null,null,null,null,"Feuer",{"$f":"Sach!R63","v":0},null,null,"2 Monate",5.6,null,{"$f":"AB95","v":"Feuer"}]
[null,null,null,null,null,null,null,null,null,"Gesamt",{"$f":"IF(B93=0,0,K95)","v":0},{"$f":"$B$93","v":0},null,{"$f":"$C$9","v":0.2},null,null,{"$f":"$C$11","v":0.5},{"$f":"$F$10","v":0.15},null,null,{"$f":"U95","v":0},null,null,null,null,null,null,"LW",{"$f":"IF(Sach!R64=1,0,1)","v":1},{"$f":"J92*0.5*AC96","v":0},null,"3 Monate",4,null,{"$f":"IF(AC96=0,\", Leitungswasser\",\"\")","v":""}]
[null,null,null,null,null,null,null,null,null,"MP",20,{"$f":"$B$93","v":0},null,{"$f":"$C$9","v":0.2},null,null,null,{"$f":"$F$10","v":0.15},null,null,{"$f":"K97*L97*(1-M97)*(1-N97)*(1-O97)*(1-P97)*(1-Q97)*(1+R97)*(1+S97)*(1+T97)","v":0},null,null,null,null,null,null,"ED",{"$f":"IF(Sach!R65=1,0,1)","v":1},{"$f":"L92*0.4*AC97","v":0},null,"6 Monate",2.2000000000000002,null,{"$f":"IF(AC97=0,\", Einbruchdiebstahl\",\"\")","v":""}]
[null,null,null,null,null,null,null,null,null,"für Antrag",{"$f":"MAX(K96:K97)*L98","v":0},{"$f":"$B$93","v":0},null,{"$f":"$C$9","v":0.2},null,null,null,null,null,null,{"$f":"MAX(U96:U97)","v":0},null,null,null,null,null,null,"Sturm",{"$f":"IF(Sach!R66=1,0,1)","v":1},{"$f":"H92*0.5*AC98","v":0},null,"9 Monate",1.7,null,{"$f":"IF(AC98=0,\", Sturm\",\"\")","v":""}]
[null,null,null,null,null,null,null,null,null,null,null,null,null,null,null,null,null,null,null,null,null,null,null,null,null,null,null,"Promille",null,{"$f":"IF(SUM(AC95:AC98)=4,D93,F93-SUM(AD96:AD98))","v":0},null,"12 Monate",1.5,null,{"$f":"AI95&AI96&AI97&AI98","v":"Feuer"}]
[null,null,null,null,null,null,null,null,null,null,null,null,null,null,null,null,null,null,null,null,null,null,null,null,null,null,null,"Haftungszeit","Nachlass Haftungszeit",{"$f":"VLOOKUP(AG100,AF94:AG99,2,FALSE)","v":4},null,"Gewählt",{"$f":"IF(Sach!H63=\"\",Sach!T65,Sach!H63)","v":"3 Monate"}]
[null,null,null,null,null,null,null,null,null,null,null,null,null,null,null,null,null,null,null,null,null,null,null,null,null,null,null,"Promille für Berechnung",null,{"$f":"AD99*AD100","v":0},null,"Monate",{"$f":"Sach!V70","v":3}]
[]
[]
[null,"Sparte gewählt"]
[null,{"$f":"Sach!P69","v":0},null,null,null,null,null,null,null,null,null,null,"Nachlässe",null,null,null,null,"Zuschläge"]
["EC-Versicherung (Extended Coverage)",{"$f":"IF(B105=1,A106,A106&\": Sparte nicht gewählt\")","v":"EC-Versicherung (Extended Coverage): Sparte nicht gewählt"},"Art","%o-Satz","VS möglich","VS inkludiert","VS Anzeige","VS Berechnung",null,null,"Tarifprämie","Sparte gewählt",{"$f":"'Berechnung Sparten'!$B$8","v":"NÖ-Vorteil (außer F)"},{"$f":"'Berechnung Sparten'!$B$9","v":"Laufzeit-Nachlass"},"Risikonachlass",null,"Sondernachlass",{"$f":"'Berechnung Sparten'!$B$10","v":"Steuer"},null,null,"Zahlprämie",null,"Anzeige Art","VS für NK",null,null,null,null,"EC-Deckung"]
[null,"Grunddeckung (Gebäude, KTE, Vorräte)","VS",{"$f":"$AG$116","v":0},null,null,{"$f":"G28*B105","v":0},{"$f":"G107*Sach!P80","v":0},null,null,{"$f":"H107*D107","v":0},{"$f":"$B$105","v":0},null,{"$f":"$E$9","v":0.1},null,null,{"$f":"$C$11","v":0.5},{"$f":"$D$10","v":0.11},null,null,{"$f":"K107*L107*(1-M107)*(1-N107)*(1-O107)*(1-P107)*(1-Q107)*(1+R107)*(1+S107)*(1+T107)","v":0},null,{"$f":"IF(F107=\"\",C107,C107&\" (\"&F107&\" inkl.)\")","v":"VS"},{"$f":"U11+U12","v":0},null,null,null,null,"Deckung","Promille","SB","Gewählt","Promille gewählt"]
[null,"Technische und kaufmännische Betriebseinrichtung sowie Vorräte (im Eigentum des Versicherungsnehmers) ständig außerhalb des Versicherungsortes jedoch innerhalb Österreichs","NW/WBS",0,null,null,{"$f":"G29*B105","v":0},{"$f":"G108*Sach!P81","v":0},null,null,0,0,null,{"$f":"$E$9","v":0.1},null,null,{"$f":"$C$11","v":0.5},{"$f":"$D$10","v":0.11},null,null,0,null,"NW/WBS",{"$f":"H108","v":0},null,null,null,null,"1.1 Innere Unruhen, böswillige Beschädigung, Streik, Aussperrung\n1.2 Fahrzeuganprall, Rauch, Überschalldruckwelle",{"$f":"0.16/1000","v":1.6000000000000001E-4},1000,{"$f":"Sach!P69","v":0},{"$f":"AD108*AF108","v":0}]
[null,"Wiederherstellungskosten von Datenträgern (Geschäftsbücher, Akten, Pläne, elektronische Speichermedien, Typenscheine, kodierte KFZ-Schlüssel und dgl.) und den darauf befindlichen Daten","ER",0,null,null,{"$f":"G30*B105","v":0},{"$f":"G109*Sach!P82","v":0},null,null,0,0,null,0.1,null,null,0.5,0.11,null,null,0,null,"ER",{"$f":"H109","v":0},null,null,null,null,"1.3 Sprinkler-Leckage",{"$f":"0.08/1000","v":8.0000000000000007E-5},2000,{"$f":"Sach!P72","v":0},0]
[null,"Sachen der Betriebsinhaber und Dienstnehmer (ausgenommen jedoch Bargeld, Edelmetall-, Gold-, Silber- und Schmucksachen, Kraftfahrzeuge sowie in Wohnungen befindlicher Hausrat) ","ER",0,null,null,{"$f":"G31*B105","v":0},{"$f":"G110*Sach!P83","v":0},null,null,0,0,null,0.1,null,null,0.5,0.11,null,null,0,null,"ER",{"$f":"H110","v":0},null,null,null,null,"1.4 Überschwemmung: Anfrage Versicherungtechnik",null,null,{"$f":"Sach!P73","v":0},0]
[null,"Geld und Geldeswerte, Sparbücher, Wertpapiere, Urkunden, Schmuck-, Gold- und Platinsachen, Edelsteine, Edelmetalle und echte Perlen sowie Münzen- und Briefmarkensammlungen,  Brief - und Stempelmarken, Vignetten, Kurzparkscheine, Lose und Telefonwertkarten unter festem Verschluss","ER",0,null,null,{"$f":"G43*B105","v":0},{"$f":"G111*Sach!P84","v":0},null,null,0,0,null,0.1,null,null,0.5,0.11,null,null,0,null,"ER",{"$f":"H111","v":0},null,null,null,null,"1.5 Vermurung",{"$f":"0.03/1000","v":2.9999999999999997E-5},2000,{"$f":"Sach!P74","v":0},0]
[null,"Groß- und/oder Kleintiere","WBS",0,null,null,{"$f":"G46*B105","v":0},{"$f":"G112*Sach!P85","v":0},null,null,0,0,null,0.1,null,null,0.5,0.11,null,null,0,null,"WBS",{"$f":"H112","v":0},null,null,null,null,"1.6 Erdbeben",{"$f":"0.15/1000","v":1.4999999999999999E-4},7500,{"$f":"Sach!P75","v":0},0]
[null,"20 % Aufräumungs-, Abbruch-, Feuerlösch-, De- u. Remontagekosten, Bewegungs- u. Schutzkosten, Deponiekosten für nicht zu behandelnden Abfall. Im Rahmen dieser Summe gelten Mehrkosten durch die Behandlung von gefährlichem Abfall und/oder kontaminiertem Erdreich bis 50 % der Summe als mitversichert.","ER",0,null,{"$f":"X116*0.05","v":0},{"$f":"Sach!T79","v":0.05},0,null,null,0,0,null,0.1,null,null,0.5,0.11,null,null,0,null,{"$f":"\"5 % inkl. (\"&F113&\")\"","v":"5 % inkl. (0)"},null,null,null,null,null,"1.7 Lawinen und Lawinenluftdruck",{"$f":"0.05/1000","v":5.0000000000000002E-5},2000,{"$f":"Sach!P76","v":0},0]
[null,"Mehrkosten durch die Behandlung von gefährlichem Abfall und/oder kontaminiertem Erdreich","ER",{"$f":"$AG$116","v":0},null,null,{"$f":"G49*B105","v":0},{"$f":"G114*Sach!P87","v":0},null,null,0,0,null,0.1,null,null,0.5,0.11,null,null,0,null,{"$f":"IF(F114=\"\",C114,C114&\" (\"&F114&\" inkl.)\")","v":"ER"},{"$f":"H114","v":0},null,null,null,null,"1.8 Erdsenkung",{"$f":"0.05/1000","v":5.0000000000000002E-5},2000,{"$f":"Sach!P77","v":0},0]
[null,"Sachverständigenkosten","ER",{"$f":"$AG$116","v":0},null,null,{"$f":"G50*B105","v":0},{"$f":"G115*Sach!P88","v":0},null,null,0,0,null,0.1,null,null,0.5,0.11,null,null,0,null,{"$f":"IF(F115=\"\",C115,C115&\" (\"&F115&\" inkl.)\")","v":"ER"},{"$f":"H115","v":0},null,null,null,null,"1.9 Unbenannte Gefahren",{"$f":"0.25/1000","v":2.5000000000000001E-4},2000,{"$f":"Sach!P78","v":0},0]
[null,null,null,null,null,null,null,null,null,"Gesamt",{"$f":"SUM(K107:K115)","v":0},0,null,0.1,null,null,0.5,0.11,null,null,{"$f":"SUM(U107:U115)","v":0},null,null,{"$f":"SUM(X107:X115)","v":0},null,null,null,null,null,null,null,"Gesamt",{"$f":"SUM(AG108:AG115)","v":0}]
[null,null,null,null,null,null,null,null,null,"MP",20,0,null,0.1,null,null,null,0.11,null,null,{"$f":"K117*L117*(1-M117)*(1-N117)*(1-O117)*(1-P117)*(1-Q117)*(1+R117)*(1+S117)*(1+T117)","v":0}]
[null,null,null,null,null,null,null,null,null,"für Antrag",{"$f":"MAX(K116:K117)*L118","v":0},0,null,0.1,null,null,null,null,null,null,{"$f":"MAX(U116:U117)","v":0},null,null,{"$f":"639000/0.2","v":3195000}]
[null,null,null,null,null,null,null,null,null,null,null,null,null,null,null,null,null,null,null,null,null,null,null,{"$f":"X118-X116","v":3195000}]
[]
[null,"Sparte gewählt"]
[null,{"$f":"Sach!P103","v":0},null,null,null,null,null,null,null,null,null,null,"Nachlässe",null,null,null,null,"Zuschläge"]
["EC-BU (Entgang Deckungsbeitrag nach ersatzpflichtigem Sachschaden)",{"$f":"IF(B122=1,A123,A123&\": Sparte nicht gewählt\")","v":"EC-BU (Entgang Deckungsbeitrag nach ersatzpflichtigem Sachschaden): Sparte nicht gewählt"},"Art","%o-Satz","VS gewählt","VS inkludiert","VS Anzeige","VS Berechnung",null,null,"Tarifprämie","Sparte gewählt",{"$f":"'Berechnung Sparten'!$B$8","v":"NÖ-Vorteil (außer F)"},{"$f":"'Berechnung Sparten'!$B$9","v":"Laufzeit-Nachlass"},"Risikonachlass",null,"Sondernachlass",{"$f":"'Berechnung Sparten'!$B$10","v":"Steuer"},null,null,"Zahlprämie",null,"Anzeige Art"]
[null,"EC-Betriebsunterbrechung","Deckungsbeitrag",{"$f":"AF136","v":0},{"$f":"Sach!E104","v":0},null,{"$f":"E124*B122","v":0},{"$f":"G124","v":0},null,null,{"$f":"H124*D124","v":0},{"$f":"$B$122","v":0},null,{"$f":"$E$9","v":0.1},null,null,{"$f":"$C$11","v":0.5},{"$f":"$D$10","v":0.11},null,null,{"$f":"K124*L124*(1-M124)*(1-N124)*(1-O124)*(1-P124)*(1-Q124)*(1+R124)*(1+S124)*(1+T124)","v":0},null,{"$f":"\"Haftung \"&AF137&\", Jahres-Deckungsbeitrag:\"","v":"Haftung 12 Monate, Jahres-Deckungsbeitrag:"},null,null,null,null,null,null,null,"EC-BU",null,"EC-Mietentgang",null,"EC-Mehrkosten"]
[null,"Prämienrückgewähr - und Vorsorge-Versicherung, Bes.Bed. BU950","inkludiert",null,null,null,"ja",0,null,null,{"$f":"H125*D125","v":0},0,null,0.1,null,null,{"$f":"$C$11","v":0.5},{"$f":"$D$10","v":0.11},null,null,{"$f":"K125*L125*(1-M125)*(1-N125)*(1-O125)*(1-P125)*(1-Q125)*(1+R125)*(1+S125)*(1+T125)","v":0},null,{"$f":"IF(F125=\"\",C125,C125&\" (\"&F125&\" inkl.)\")","v":"inkludiert"},null,null,null,null,"Deckung","Promille","SB","Gewählt","Promille gewählt","Gewählt","Promille gewählt","Gewählt","Promille gewählt"]
[null,"Mehrkosten für erhöhten Werbeaufwand","ER",{"$f":"D124*2","v":0},{"$f":"Sach!P107","v":0},null,{"$f":"E126*B122","v":0},{"$f":"G126","v":0},null,null,{"$f":"H126*D126","v":0},0,null,0.1,null,null,{"$f":"$C$11","v":0.5},{"$f":"$D$10","v":0.11},null,null,{"$f":"K126*L126*(1-M126)*(1-N126)*(1-O126)*(1-P126)*(1-Q126)*(1+R126)*(1+S126)*(1+T126)","v":0},null,{"$f":"IF(F126=\"\",C126,C126&\" (\"&F126&\" inkl.)\")","v":"ER"},null,null,null,null,"1.1 Innere Unruhen, böswillige Beschädigung, Streik, Aussperrung\n1.2 Fahrzeuganprall, Rauch, Überschalldruckwelle",{"$f":"0.19/1000","v":1.9000000000000001E-4},"2 Tage",{"$f":"Sach!P95","v":0},{"$f":"AC126*AE126","v":0},null,{"$f":"AF126","v":0},null,{"$f":"AH126","v":0}]
[null,null,null,null,null,null,null,null,null,"Gesamt",{"$f":"SUM(K124:K126)","v":0},0,null,0.1,null,null,{"$f":"$C$11","v":0.5},{"$f":"$D$10","v":0.11},null,null,{"$f":"SUM(U124:U126)","v":0},null,null,null,null,null,null,"1.3 Sprinkler-Leckage",{"$f":"0.12/1000","v":1.1999999999999999E-4},"2 Tage",{"$f":"Sach!P96","v":0},{"$f":"AC127*AE127","v":0},null,{"$f":"AF127","v":0},null,{"$f":"AH127","v":0}]
[null,null,null,null,null,null,null,null,null,"MP",20,0,null,0.1,null,null,null,{"$f":"$D$10","v":0.11},null,null,{"$f":"K128*L128*(1-M128)*(1-N128)*(1-O128)*(1-P128)*(1-Q128)*(1+R128)*(1+S128)*(1+T128)","v":0},null,null,null,null,null,null,"1.4 Überschwemmung: Anfrage Versicherungtechnik",null,null,{"$f":"Sach!P97","v":0},0,null,0,null,0]
[null,null,null,null,null,null,null,null,null,"für Antrag",{"$f":"MAX(K127:K128)*L129","v":0},0,null,0.1,null,null,null,null,null,null,{"$f":"MAX(U127:U128)","v":0},null,null,null,null,null,null,"1.5 Vermurung",{"$f":"0.06/1000","v":5.9999999999999995E-5},"2 Tage",{"$f":"Sach!P98","v":0},0,null,0,null,0]
[null,null,null,null,null,null,null,null,null,null,null,null,null,null,null,null,null,null,null,null,null,null,null,null,null,null,null,"1.6 Erdbeben",{"$f":"0.25/1000","v":2.5000000000000001E-4},"10 Tage",{"$f":"Sach!P99","v":0},0,null,0,null,0]
[null,null,null,null,null,null,null,null,null,null,null,null,null,null,null,null,null,null,null,null,null,null,null,null,null,null,null,"1.7 Lawinen und Lawinenluftdruck",{"$f":"0.07/1000","v":7.0000000000000007E-5},"2 Tage",{"$f":"Sach!P100","v":0},0,null,0,null,0]
[null,"Sparte gewählt",null,null,null,null,null,null,null,null,null,null,null,null,null,null,null,null,null,null,null,null,null,null,null,null,null,"1.8 Erdsenkung",{"$f":"0.08/1000","v":8.0000000000000007E-5},"2 Tage",{"$f":"Sach!P101","v":0},0,null,0,null,0,null,"VS Mehrksoten"]
[null,{"$f":"Sach!P109","v":0},null,null,null,null,null,null,null,null,null,null,"Nachlässe",null,null,null,null,"Zuschläge",null,null,null,null,null,null,null,null,null,"1.9 Unbenannte Gefahren",{"$f":"0.4/1000","v":4.0000000000000002E-4},"2 Tage",{"$f":"Sach!P102","v":0},0,null,0,null,0]
["EC-Mietentgang-BU",{"$f":"IF(B133=1,A134,A134&\": Sparte nicht gewählt\")","v":"EC-Mietentgang-BU: Sparte nicht gewählt"},"Art","%o-Satz","VS gewählt","VS inkludiert","VS Anzeige","VS Berechnung",null,null,"Tarifprämie","Sparte gewählt",{"$f":"'Berechnung Sparten'!$B$8","v":"NÖ-Vorteil (außer F)"},{"$f":"'Berechnung Sparten'!$B$9","v":"Laufzeit-Nachlass"},"Risikonachlass",null,"Sondernachlass",{"$f":"'Berechnung Sparten'!$B$10","v":"Steuer"},null,null,"Zahlprämie",null,"Anzeige Art",null,null,null,null,null,null,null,"Gesamt",{"$f":"SUM(AF126:AF133)","v":0},"Gesamt",{"$f":"SUM(AH126:AH133)","v":0},"Gesamt",{"$f":"SUM(AJ126:AJ133)","v":0}]
[null,"EC-Mietentgang",{"$f":"Sach!D110","v":0},{"$f":"AH136","v":0},{"$f":"C135","v":0},null,{"$f":"E135*B133","v":0},{"$f":"G135","v":0},null,null,{"$f":"H135*D135","v":0},{"$f":"$B$133","v":0},null,{"$f":"$E$9","v":0.1},null,null,{"$f":"$C$11","v":0.5},{"$f":"$D$10","v":0.11},null,null,{"$f":"K135*L135*(1-M135)*(1-N135)*(1-O135)*(1-P135)*(1-Q135)*(1+R135)*(1+S135)*(1+T135)","v":0},null,{"$f":"\"Haftung \"&AH137&\", Jahres-Mieteinnahmen:\"","v":"Haftung 12 Monate, Jahres-Mieteinnahmen:"},null,null,null,null,null,null,null,"Haftung Naclass",{"$f":"Sach!S106","v":0},"Haftung Naclass",{"$f":"Sach!S107","v":0},"Faktor",{"$f":"Sach!V109","v":1.5}]
[null,null,null,null,null,null,null,null,null,"Gesamt",{"$f":"SUM(K135:K135)","v":0},{"$f":"$B$133","v":0},null,{"$f":"$E$9","v":0.1},null,null,{"$f":"$C$11","v":0.5},{"$f":"$D$10","v":0.11},null,null,{"$f":"U135","v":0},null,null,null,null,null,null,null,null,null,"Gesamt",{"$f":"AF134*(1-AF135)","v":0},"Gesamt",{"$f":"AH134*(1-AH135)","v":0},"Gesamt",{"$f":"AJ134*AJ135","v":0}]
[null,null,null,null,null,null,null,null,null,"MP",20,{"$f":"$B$133","v":0},null,{"$f":"$E$9","v":0.1},null,null,null,{"$f":"$D$10","v":0.11},null,null,{"$f":"K137*L137*(1-M137)*(1-N137)*(1-O137)*(1-P137)*(1-Q137)*(1+R137)*(1+S137)*(1+T137)","v":0},null,null,null,null,null,null,null,null,null,"Haftung",{"$f":"Sach!P104","v":"12 Monate"},"Haftung",{"$f":"Sach!P110","v":"12 Monate"},"Haftung",{"$f":"Sach!P112","v":"12 Monate"}]
[null,null,null,null,null,null,null,null,null,"für Antrag",{"$f":"MAX(K136:K137)*L138","v":0},{"$f":"$B$133","v":0},null,{"$f":"$E$9","v":0.1},null,null,null,null,null,null,{"$f":"MAX(U136:U137)","v":0}]
[]
[]
[null,"Sparte gewählt"]
[null,{"$f":"Sach!P111","v":0},null,null,null,null,null,null,null,null,null,null,"Nachlässe",null,null,null,null,"Zuschläge"]
["EC-Mehrkosten-BU",{"$f":"IF(B142=1,A143,A143&\": Sparte nicht gewählt\")","v":"EC-Mehrkosten-BU: Sparte nicht gewählt"},"Art","%o-Satz","VS gewählt","VS inkludiert","VS Anzeige","VS Berechnung",null,null,"Tarifprämie","Sparte gewählt",{"$f":"'Berechnung Sparten'!$B$8","v":"NÖ-Vorteil (außer F)"},{"$f":"'Berechnung Sparten'!$B$9","v":"Laufzeit-Nachlass"},"Risikonachlass",null,"Sondernachlass",{"$f":"'Berechnung Sparten'!$B$10","v":"Steuer"},null,null,"Zahlprämie",null,"Anzeige Art"]
[null,"EC-Mehrkosten",{"$f":"Sach!D112","v":0},{"$f":"AJ136","v":0},{"$f":"C144*X145","v":0},null,{"$f":"E144*B142","v":0},{"$f":"G144","v":0},null,null,{"$f":"H144*D144","v":0},{"$f":"$B$142","v":0},null,{"$f":"$E$9","v":0.1},null,null,{"$f":"$C$11","v":0.5},{"$f":"$D$10","v":0.11},null,null,{"$f":"K144*L144*(1-M144)*(1-N144)*(1-O144)*(1-P144)*(1-Q144)*(1+R144)*(1+S144)*(1+T144)","v":0},null,{"$f":"\"Haftung \"&AJ137&\", Mehrkosten:\"","v":"Haftung 12 Monate, Mehrkosten:"}]
[null,null,null,null,null,null,null,null,null,"Gesamt",{"$f":"SUM(K144:K144)","v":0},{"$f":"$B$142","v":0},null,{"$f":"$E$9","v":0.1},null,null,{"$f":"$C$11","v":0.5},{"$f":"$D$10","v":0.11},null,null,{"$f":"SUM(U144)","v":0},null,"Monate:",{"$f":"Sach!U109","v":12}]
[null,null,null,null,null,null,null,null,null,"MP",20,{"$f":"$B$142","v":0},null,{"$f":"$E$9","v":0.1},null,null,null,{"$f":"$D$10","v":0.11},null,null,{"$f":"K146*L146*(1-M146)*(1-N146)*(1-O146)*(1-P146)*(1-Q146)*(1+R146)*(1+S146)*(1+T146)","v":0}]
[null,null,null,null,null,null,null,null,null,"für Antrag",{"$f":"MAX(K145:K146)*L147","v":0},{"$f":"$B$142","v":0},null,{"$f":"$E$9","v":0.1},null,null,null,null,null,null,{"$f":"MAX(U145:U146)","v":0}]
[]
[]
[]
[]
[]
[]
[]
[]
[]
[]
[]
[]
[]
[null,"Sparte gewählt","Durchschnittsatz"]
[null,{"$f":"Sach!P116","v":0},"Inhaltssatz",{"$f":"G5","v":0},null,null,null,null,null,null,null,null,"Nachlässe",null,null,null,null,"Zuschläge",null,null,{"$f":"288+374.4+104+93.6","v":860}]
["Einbruchdiebstahl",{"$f":"IF(B162=1,A163,A163&\": Sparte nicht gewählt\")","v":"Einbruchdiebstahl: Sparte nicht gewählt"},"Art","%o-Satz","VS gewählt","VS inkludiert","VS Anzeige","VS Berechnung","Zuschlag bewohnt",null,"Tarifprämie","Sparte gewählt",{"$f":"'Berechnung Sparten'!$B$8","v":"NÖ-Vorteil (außer F)"},{"$f":"'Berechnung Sparten'!$B$9","v":"Laufzeit-Nachlass"},"Risikonachlass",null,"Sondernachlass",{"$f":"'Berechnung Sparten'!$B$10","v":"Steuer"},null,null,"Zahlprämie",null,"Anzeige Art","VS für NK","Prämie NK",null,"Risikoort"]
[null,"KTE und Vorräte laut Risikoübersicht","VS",null,null,null,{"$f":"X11*B162","v":0},null,{"$f":"$AB$169","v":1},"x",{"$f":"'Berechnung Grund'!E77*(1+I164)","v":0},{"$f":"$B$162","v":0},null,{"$f":"$C$9","v":0.2},null,null,{"$f":"$C$11","v":0.5},{"$f":"$D$10","v":0.11},null,null,{"$f":"K164*L164*(1-M164)*(1-N164)*(1-O164)*(1-P164)*(1-Q164)*(1+R164)*(1+S164)*(1+T164)","v":0},null,{"$f":"IF(F164=\"\",C164,C164&\" (\"&F164&\" inkl.)\")","v":"VS"},{"$f":"X9+X10+X12","v":0},{"$f":"IF(X164=0,0,K164)","v":0},null,"Bewohnt","Zuschlag",null,null,null,{"$f":"Y164","v":0}]
[null,"Technische und kaufmännische Betriebseinrichtung sowie Vorräte (im Eigentum des Versicherungsnehmers) ständig außerhalb des Versicherungsortes jedoch innerhalb Österreichs in versperrten massiv/harten Gebäuden (dies gilt nicht versichert in Bauhütten, Bau und Lagercontainern)","ER",{"$f":"D162*2","v":0},{"$f":"Sach!P119","v":0},null,{"$f":"MAX(E165:F165)*$B$162","v":0},{"$f":"MAX(0,E165-F165)","v":0},null,null,{"$f":"H165*D165*(1+I165)","v":0},{"$f":"$B$162","v":0},null,{"$f":"$C$9","v":0.2},null,null,{"$f":"$C$11","v":0.5},{"$f":"$D$10","v":0.11},null,null,0,null,"ER",{"$f":"G165","v":0},{"$f":"IF(X165=0,0,K165)","v":0},null,"Alle Risikoorte bewohnt",0,null,"Grundpromille ohne ER-Zuschlag"]
[null,"Sachen in Bauhütten, Bau- oder Lagercontainern, Verkaufs - und Marktständen (am Versicherungsort bzw. innerhalb Österreichs), Selbstbehalt 20 %","NW/WB",{"$f":"150/1000","v":0.15},{"$f":"Sach!P120","v":0},null,0,0,null,"x",0,0,null,0.2,null,null,0.5,0.11,null,null,0,null,"NW/WB",0,{"$f":"IF(X166=0,0,K166)","v":0},null,"mindestens ein Risikoort bewohnt",0.5,null,{"$f":"3/1000","v":3.0000000000000001E-3},null,{"$f":"Y166","v":0}]
[null,"Wiederherstellungskosten von Datenträgern (Geschäftsbücher, Akten, Pläne, elektronische Speichermedien, Typenscheine, kodierte KFZ-Schlüssel udgl.) und den darauf befindlichen Daten","ER",{"$f":"2/1000","v":2E-3},{"$f":"Sach!P121","v":0},5000,0,0,{"$f":"$AB$169","v":1},null,0,0,null,0.2,null,null,0.5,0.11,null,null,0,null,"ER (5000 inkl.)",0,null,null,"Alle Risikoorte unbewohnt",1,null,null,null,0]
[null,"Sachen der Betriebsinhaber und Dienstnehmer (ausgenommen jedoch Bargeld, Edelmetall-, Gold-, Silber- und Schmucksachen, Kraftfahrzeuge sowie in Wohnungen befindlicher Hausrat)","NW",{"$f":"D162","v":0},{"$f":"Sach!P122","v":0},5000,0,0,{"$f":"$AB$169","v":1},null,0,0,null,0.2,null,null,0.5,0.11,null,null,0,null,"NW (5000 inkl.)",0,null,null,"Gewählt",{"$f":"IF(Sach!I117=\"\",Sach!R123,Sach!I117)","v":"Alle Risikoorte unbewohnt"},null,null,null,0]
[null,"Schäden an der Grundstücksbegrenzung bzw. am Einfahrtstor nach einem vollbrachten bzw. versuchten Einbruchdiebstahl an der Versicherungsräumlichkeit","ER",{"$f":"10/1000","v":0.01},{"$f":"Sach!P123","v":0},null,0,0,null,"x",0,0,null,0.2,null,null,0.5,0.11,null,null,0,null,"ER",0,{"$f":"IF(X169=0,0,K169)","v":0},null,"Zuschlag",{"$f":"VLOOKUP(AB168,AA165:AB167,2,FALSE)","v":1},null,null,null,0]
[null,"Tische, Stühle, Sonnenschirme, Spielplatz-einrichtung im Freien (Schanigärten) –  Teildiebstahl und Vandalismus gelten als nicht versichert. Selbstbehalt 20% gem. E9881","NW",{"$f":"100/1000","v":0.1},{"$f":"Sach!P124","v":0},null,0,0,null,"x",0,{"$f":"$B$162","v":0},null,{"$f":"$C$9","v":0.2},null,null,{"$f":"$C$11","v":0.5},{"$f":"$D$10","v":0.11},null,null,0,null,"NW",0,null,null,null,null,null,null,null,0]
[null,"Groß- und/oder Kleintiere im Gebäude befindlich","WB",{"$f":"D162","v":0},{"$f":"Sach!P125","v":0},null,0,0,{"$f":"$AB$169","v":1},null,0,0,null,0.2,null,null,0.5,0.11,null,null,0,null,"WB",0,{"$f":"IF(X171=0,0,K171)","v":0},null,null,null,null,null,null,0]
[null,"Versperrte KFZ, Anhänger und landw. Maschinen im Freien am umzäunten Grundstück (Teildiebstahl und Vandalismus nicht versicherbar) E0081",{"$f":"IF(Sach!I126=Sach!R135,Sach!R135,Sach!R134)","v":"ER"},{"$f":"IF(C172=\"ER\",AD166*2,AD166)","v":6.0000000000000001E-3},{"$f":"Sach!P126","v":0},null,0,0,null,"x",0,0,null,0.2,null,null,0.5,0.11,null,null,0,null,"ER",0,0,null,null,null,null,null,null,0]
[null,"KFZ, Anhänger und landwirtschaftliche Maschinen im Gebäude befindlich",{"$f":"IF(Sach!I127=Sach!R135,Sach!R135,Sach!R134)","v":"ER"},{"$f":"IF(C173=\"ER\",D162*1.5,D162)","v":0},{"$f":"Sach!P127","v":0},null,0,0,{"$f":"$AB$169","v":1},"x",0,{"$f":"$B$162","v":0},null,{"$f":"$C$9","v":0.2},null,null,{"$f":"$C$11","v":0.5},{"$f":"$D$10","v":0.11},null,null,0,null,"ER",0,0,null,null,null,null,null,null,0]
[null,"Werkzeuge, Geräte und Vorräte in KFZ befindlich, Selbstbehalt 20 %","NW/WB",{"$f":"75/1000","v":7.4999999999999997E-2},{"$f":"Sach!P128","v":0},null,0,0,null,null,0,0,null,0.2,null,null,0.5,0.11,null,null,0,null,"NW/WB",0,0,null,null,null,null,null,null,0]
[null,"Sachen in Schaukästen, Vitrinen und Automaten außerhalb der Geschäftsräumlichkeiten E0071","NW",{"$f":"30/1000","v":0.03},{"$f":"Sach!P129","v":0},null,0,0,null,null,0,0,null,0.2,null,null,0.5,0.11,null,null,0,null,"NW",0,0,null,null,null,null,null,null,0]
[null,"Geld und Geldeswerte unter festem Verschluss E9891","ER",null,{"$f":"Sach!P130","v":0},5000,0,0,{"$f":"$AB$169","v":1},null,0,{"$f":"$B$162","v":0},null,{"$f":"$C$9","v":0.2},null,null,{"$f":"$C$11","v":0.5},{"$f":"$D$10","v":0.11},null,null,0,null,"ER (5000 inkl.)",0,0,null,null,null,null,null,null,0]
[null,"Öffnung von Behältnissen mittels geraubter Original- und Duplikatschlüssel E3038","ER",{"$f":"1.2/1000","v":1.1999999999999999E-3},{"$f":"Sach!P131","v":0},null,0,0,null,"x",0,{"$f":"$B$162","v":0},null,{"$f":"$C$9","v":0.2},null,null,{"$f":"$C$11","v":0.5},{"$f":"$D$10","v":0.11},null,null,0,null,"ER",null,null,null,null,null,null,null,null,0]
[null,"Beraubung innerhalb der Versicherungsräumlichkeiten inkl. Kundenberaubung E3062/E0062","ER",{"$f":"3/1000","v":3.0000000000000001E-3},{"$f":"Sach!P132","v":0},5000,0,0,null,"x",0,0,null,0.2,null,null,0.5,0.11,null,null,0,null,"ER (5000 inkl.)",null,null,null,null,null,null,null,null,0]
[null,"20 % Aufräumungs-, Abbruch-, De- u. Remontagekosten, Bewegungs- u. Schutzkosten, Deponiekosten für nicht zu behandelnden Abfall. Im Rahmen dieser Summe gelten Mehrkosten durch die Behandlung von gefährlichem Abfall und/oder kontaminierten Erdreich bis 50 % der Summe als versichert A3024","ER",{"$f":"Sach!T125-Sach!T121","v":0},{"$f":"Sach!P133","v":0},{"$f":"X194*0.05","v":0},{"$f":"Sach!T125","v":0.05},{"$f":"Y194","v":0},null,null,0,0,null,0.2,null,null,0.5,0.11,null,null,0,null,{"$f":"\"20 % inkl. (\"&F179&\")\"","v":"20 % inkl. (0)"},null,null,null,null,null,null,null,null,{"$f":"Y179","v":0}]
[null,"Mehrkosten durch die Behandlung von gefährlichem Abfall und/oder kontaminiertem Erdreich","ER",{"$f":"D162","v":0},{"$f":"Sach!P134","v":0},null,{"$f":"MAX(E180:F180)*$B$162","v":0},{"$f":"MAX(0,E180-F180)","v":0},{"$f":"$AB$169","v":1},null,{"$f":"H180*D180*(1+I180)","v":0},0,null,0.2,null,null,0.5,0.11,null,null,0,null,{"$f":"IF(F180=\"\",C180,C180&\" (\"&F180&\" inkl.)\")","v":"ER"},null,null,null,null,null,null,null,null,0]
[null,"Zentralschlüsselanlage (Schlüsselverlust) gem. E9882 (Selbstbehalt 10 %)","ER",{"$f":"90/1000","v":0.09},{"$f":"Sach!P135","v":0},null,0,{"$f":"MAX(0,E181-F181)","v":0},null,"x",0,0,null,0.2,null,null,0.5,0.11,null,null,0,null,{"$f":"IF(F181=\"\",C181,C181&\" (\"&F181&\" inkl.)\")","v":"ER"}]
[null,"Schlossänderungskosten für Behältnisse E3033","ER",{"$f":"9.5/1000","v":9.4999999999999998E-3},{"$f":"Sach!P136","v":0},null,0,{"$f":"MAX(0,E182-F182)","v":0},null,"x",0,{"$f":"$B$162","v":0},null,{"$f":"$C$9","v":0.2},null,null,{"$f":"$C$11","v":0.5},{"$f":"$D$10","v":0.11},null,null,0,null,{"$f":"IF(F182=\"\",C182,C182&\" (\"&F182&\" inkl.)\")","v":"ER"}]
[null,"Telefonmissbrauch (5.000 gem. E9823)"]
[null,"Mehraufwand im Schadensfall (10 %  gem. BB 4817)"]
[null,"Verteurerung im Schadensfall (15 % gem. BB 4907)"]
[null,"Geld und Geldeswerte im Sicherheitsbehältnis",null,null,null,null,null,null,{"$f":"$AB$169","v":1},null,0,null,null,null,null,null,null,null,null,null,null,null,null,{"$f":"G186","v":0},{"$f":"IF(X186=0,0,K186)","v":0},null,null,null,null,null,null,0]
[null,"Sicherheitsgrad EN0 bzw. VSÖ IV (VS 15.000)","ER",{"$f":"0.5/1000","v":5.0000000000000001E-4},{"$f":"Sach!P141","v":0},null,0,{"$f":"MAX(0,E187-F187)","v":0},1,null,0,{"$f":"$B$162","v":0},null,{"$f":"$C$9","v":0.2},null,null,{"$f":"$C$11","v":0.5},{"$f":"$D$10","v":0.11},null,null,{"$f":"K187*L187*(1-M187)*(1-N187)*(1-O187)*(1-P187)*(1-Q187)*(1+R187)*(1+S187)*(1+T187)","v":0},null,{"$f":"IF(F187=\"\",C187,C187&\" (\"&F187&\" inkl.)\")","v":"ER"},0,0,null,null,null,null,null,null,0]
[null,"Sicherheitsgrad EN1 bzw. VSÖ III/c 1-3 (VS 30.000)","ER",{"$f":"0.4/1000","v":4.0000000000000002E-4},{"$f":"Sach!P142","v":0},null,0,0,1,null,0,0,null,0.2,null,null,0.5,0.11,null,null,0,null,"ER",0,0,null,null,null,null,null,null,0]
[null,"Sicherheitsgrad VSÖ III/b (VS 45.000)","ER",{"$f":"0.4/1000","v":4.0000000000000002E-4},{"$f":"Sach!P143","v":0},null,0,0,1,null,0,0,null,0.2,null,null,0.5,0.11,null,null,0,null,"ER",0,0,null,null,null,null,null,null,0]
[null,"Sicherheitsgrad EN2 bzw. VSÖ II/d (VS 75.000)","ER",{"$f":"0.3/1000","v":2.9999999999999997E-4},{"$f":"Sach!P144","v":0},null,0,0,1,null,0,0,null,0.2,null,null,0.5,0.11,null,null,0,null,"ER",0,0,null,null,null,null,null,null,0]
[null,"Sicherheitsgrad EN3 bzw. VSÖ II/c (VS (100.000)","ER",{"$f":"0.2/1000","v":2.0000000000000001E-4},{"$f":"Sach!P145","v":0},null,0,0,1,null,0,0,null,0.2,null,null,0.5,0.11,null,null,0,null,"ER",0,0,null,null,null,null,null,null,0]
[null,"Sicherheitsgrad EN4 (VS 150.000)","ER",{"$f":"0.2/1000","v":2.0000000000000001E-4},{"$f":"Sach!P146","v":0},null,0,0,1,null,0,0,null,0.2,null,null,0.5,0.11,null,null,0,null,"ER",0,0,null,null,null,null,null,null,0]
[null,"Sicherheitsgrad EN5 bzw. VSÖ II/b (SV 250.000)","ER",{"$f":"0.2/1000","v":2.0000000000000001E-4},{"$f":"Sach!P147","v":0},null,0,0,1,null,0,0,null,0.2,null,null,0.5,0.11,null,null,0,null,"ER",0,0,null,null,null,null,null,null,0]
[null,null,null,null,null,null,null,null,null,"Gesamt",{"$f":"SUM(K164:K193)","v":0},0,null,0.2,null,null,0.5,0.11,null,null,{"$f":"SUM(U164:U193)","v":0},null,null,{"$f":"SUM(X164:X193)","v":0},{"$f":"SUM(Y164:Y193)","v":0},null,null,null,null,null,null,{"$f":"SUM(AF164:AF193)","v":0},{"$f":"AF194-AF195","v":-4121.21}]
[null,null,null,null,null,null,null,null,null,"MP",50,0,null,0.2,null,null,null,0.11,null,null,{"$f":"K195*L195*(1-M195)*(1-N195)*(1-O195)*(1-P195)*(1-Q195)*(1+R195)*(1+S195)*(1+T195)","v":0},null,null,{"$f":"112340*5","v":561700},{"$f":"760.6/0.15","v":5070.666666666667},null,null,null,null,null,null,4121.21]
[null,null,null,null,null,null,null,null,null,"für Antrag",{"$f":"MAX(K194:K195)*L196","v":0},0,null,0.2,null,null,null,null,null,null,{"$f":"MAX(U194:U195)","v":0},null,null,{"$f":"X194-X195","v":-561700},{"$f":"Y194-Y195","v":-5070.666666666667}]
[]
[]
[null,"Sparte gewählt","Durchschnittsatz"]
[null,{"$f":"Sach!P152","v":0},"Inhaltssatz",null,null,null,null,null,null,null,null,null,"Nachlässe",null,null,null,null,"Zuschläge",null,null,null,null,"Anzeige Art"]
["Botenberaubung",{"$f":"IF(B200=1,A201,A201&\": Sparte nicht gewählt\")","v":"Botenberaubung: Sparte nicht gewählt"},"Art","%o-Satz","VS gewählt","VS inkludiert","VS Anzeige","VS Berechnung","Zuschlag Ringbote",null,"Tarifprämie","Sparte gewählt",{"$f":"'Berechnung Sparten'!$B$8","v":"NÖ-Vorteil (außer F)"},{"$f":"'Berechnung Sparten'!$B$9","v":"Laufzeit-Nachlass"},"Risikonachlass",null,"Sondernachlass",{"$f":"'Berechnung Sparten'!$B$10","v":"Steuer"},null,null,"Zahlprämie"]
[null,"Botenberaubung","VS",{"$f":"3.75/1000","v":3.7499999999999999E-3},{"$f":"Sach!S156","v":0},null,{"$f":"E202*B200","v":0},{"$f":"MAX(0,E202-F202)","v":0},{"$f":"IF(E202>300000,100%,0)","v":0},{"$f":"Sach!P153","v":1},{"$f":"H202*D202*(1+I202)*(1+J202)","v":0},{"$f":"$B$200","v":0},null,{"$f":"$C$9","v":0.2},null,null,{"$f":"$C$11","v":0.5},{"$f":"$D$10","v":0.11},null,null,{"$f":"K202*L202*(1-M202)*(1-N202)*(1-O202)*(1-P202)*(1-Q202)*(1+R202)*(1+S202)*(1+T202)","v":0},null,{"$f":"Sach!S154&\", \"&IF(Sach!O153=FALSE,\"ohne Ringbotenklausel\",\"mit Ringbotenklausel\")","v":"Ohne Begleitung, mit Ringbotenklausel"}]
[null,null,null,null,null,null,null,null,null,"Gesamt",{"$f":"K202","v":0},{"$f":"$B$200","v":0},null,{"$f":"$C$9","v":0.2},null,null,{"$f":"$C$11","v":0.5},{"$f":"$D$10","v":0.11},null,null,{"$f":"U202","v":0}]
[null,null,null,null,null,null,null,null,null,"MP",20,{"$f":"$B$200","v":0},null,{"$f":"$C$9","v":0.2},null,null,null,{"$f":"$D$10","v":0.11},null,null,{"$f":"K204*L204*(1-M204)*(1-N204)*(1-O204)*(1-P204)*(1-Q204)*(1+R204)*(1+S204)*(1+T204)","v":0}]
[null,null,null,null,null,null,null,null,null,"für Antrag",{"$f":"MAX(K203:K204)*L205","v":0},{"$f":"$B$200","v":0},null,{"$f":"$C$9","v":0.2},null,null,null,null,null,null,{"$f":"MAX(U203:U204)","v":0}]
[]
[]
[null,"Sparte gewählt","Durchschnittsatz",null,null,null,null,null,null,null,{"$f":"1395+1365+115.5+115.5+38.5+38.5","v":3068}]
[null,{"$f":"Sach!P158","v":0},"Inhaltssatz",{"$f":"I5","v":0},null,null,null,null,null,null,null,null,"Nachlässe",null,null,null,null,"Zuschläge"]
["Leitungswasser",{"$f":"IF(B209=1,A210,A210&\": Sparte nicht gewählt\")","v":"Leitungswasser: Sparte nicht gewählt"},"Art","%o-Satz","VS gewählt","VS inkludiert","VS Anzeige","VS Berechnung",null,null,"Tarifprämie","Sparte gewählt",{"$f":"'Berechnung Sparten'!$B$8","v":"NÖ-Vorteil (außer F)"},{"$f":"'Berechnung Sparten'!$B$9","v":"Laufzeit-Nachlass"},"Risikonachlass",null,"Sondernachlass",{"$f":"'Berechnung Sparten'!$B$10","v":"Steuer"},"15 Meter",null,"Zahlprämie",null,"Anzeige Art","VS für NK","Prämie NK"]
[null,"Grunddeckung (Gebäude, KTE, Vorräte laut Risikoübersicht)","VS",null,null,null,{"$f":"W11*B209","v":0},null,null,null,{"$f":"'Berechnung Grund'!C80*(1+I211)","v":0},{"$f":"$B$209","v":0},null,{"$f":"$C$9","v":0.2},null,null,{"$f":"$C$11","v":0.5},{"$f":"$D$10","v":0.11},{"$f":"Sach!$U$175","v":0},null,{"$f":"K211*L211*(1-M211)*(1-N211)*(1-O211)*(1-P211)*(1-Q211)*(1+R211)*(1+S211)*(1+T211)","v":0},null,{"$f":"IF(F211=\"\",C211,C211&\" (\"&F211&\" inkl.)\")","v":"VS"},{"$f":"W11+W12","v":0},{"$f":"IF(X211=0,0,K211)","v":0}]
[null,"Technische und kaufmännische Betriebseinrichtung sowie Vorräte (im Eigentum des Versicherungsnehmers) ständig außerhalb des Versicherungsortes jedoch innerhalb Österreichs","NW/WBS",{"$f":"D209*2","v":0},{"$f":"Sach!P164","v":0},null,{"$f":"MAX(E212:F212)*$B$209","v":0},{"$f":"MAX(0,E212-F212)","v":0},null,null,{"$f":"H212*D212*(1+I212)","v":0},{"$f":"$B$209","v":0},null,{"$f":"$C$9","v":0.2},null,null,{"$f":"$C$11","v":0.5},{"$f":"$D$10","v":0.11},{"$f":"Sach!$U$175","v":0},null,0,null,"NW/WBS",{"$f":"G212","v":0},{"$f":"IF(X212=0,0,K212)","v":0},null,null,null,"Korrisionsschäden"]
[null,"Wiederherstellungskosten von Datenträgern (Geschäftsbücher, Akten, Pläne, elektronische Speichermedien, Typenscheine, kodierte KFZ-Schlüssel und dgl.) und den darauf befindlichen Daten","ER",{"$f":"2.5/1000","v":2.5000000000000001E-3},{"$f":"Sach!P165","v":0},5000,0,0,null,null,{"$f":"H213*D213*(1+I213)","v":0},0,null,0.2,null,null,0.5,0.11,{"$f":"Sach!$U$175","v":0},null,0,null,"ER (5000 inkl.)",{"$f":"G213","v":0},{"$f":"IF(X213=0,0,K213)","v":0},null,null,null,{"$f":"Sach!R182","v":"exkl. Korrosionsschäden"},"Behebungskosten nach Rohrgebrechen in gemieteten Räumlichkeiten gem. L3017",{"$f":"5/1000","v":5.0000000000000001E-3}]
[null,"Sachen der Betriebsinhaber und Dienstnehmer (ausgenommen jedoch Bargeld, Edelmetall-, Gold-, Silber- und Schmucksachen, Kraftfahrzeuge sowie in Wohnungen befindlicher Hausrat)","NW",{"$f":"D209","v":0},{"$f":"Sach!P166","v":0},5000,0,0,null,null,0,0,null,0.2,null,null,0.5,0.11,{"$f":"Sach!$U$175","v":0},null,0,null,"NW (5000 inkl.)",{"$f":"G214","v":0},{"$f":"IF(X214=0,0,K214)","v":0},null,null,null,{"$f":"Sach!R181","v":"inkl. Korrosionsschäden"},"Behebungskosten nach Rohrgebrechen in gemieteten Räumlichkeiten inkl. Korrosionsschäden gem. L3018",{"$f":"15/1000","v":1.4999999999999999E-2}]
[null,{"$f":"AD216","v":"Behebungskosten nach Rohrgebrechen in gemieteten Räumlichkeiten inkl. Korrosionsschäden gem. L3018"},"ER",{"$f":"AE216","v":1.4999999999999999E-2},{"$f":"Sach!P167","v":0},null,0,0,null,null,0,0,null,0.2,null,null,0.5,0.11,{"$f":"Sach!$U$175","v":0},null,0,null,"ER",{"$f":"G215","v":0},{"$f":"IF(X215=0,0,K215)","v":0},null,null,null,"Gewählt"]
[null,"Kosten für die Beseitigung von Verstopfungen der Ableitungsrohren der Gebäudeleitungs-wasserinstallation am Versicherungsort sowie der Wand- und Fußbodenheizung","ER",{"$f":"60/1000","v":0.06},{"$f":"Sach!P168","v":0},null,0,0,null,null,0,0,null,0.2,null,null,0.5,0.11,{"$f":"Sach!$U$175","v":0},null,0,null,"ER",{"$f":"G216","v":0},null,null,null,null,{"$f":"Sach!R184","v":"inkl. Korrosionsschäden"},{"$f":"VLOOKUP(AC216,AC213:AE214,2,FALSE)","v":"Behebungskosten nach Rohrgebrechen in gemieteten Räumlichkeiten inkl. Korrosionsschäden gem. L3018"},{"$f":"VLOOKUP(AC216,AC213:AE214,3,FALSE)","v":1.4999999999999999E-2}]
[null,"Schäden durch Flüssigkeitsaustritt aus Fußboden- oder Wandheizungen, Solaranlagen zur Wasseraufbereitung und Klimaanlagen, sowie Gebrechensbehebungen an den Rohrleitungen dieser Anlagen (im Rahmen der Gebäude-VS prämienfrei)",null,null,{"$f":"Sach!P169","v":0},null,0,0,null,null,0,0,null,0.2,null,null,0.5,0.11,{"$f":"Sach!$U$175","v":0},null,0,null,0]
[null,"Schäden an versicherten Gebäuden durch Austritt von Wasser aus Schwimmbecken am Versicherungsgrundstück sowie Gebrechensbehebung an Rohren der Filteranlage bzw. von Zu- und Ableitungen des Schwimmbeckens L3013","ER",{"$f":"4/1000","v":4.0000000000000001E-3},{"$f":"Sach!P170","v":0},null,0,0,null,null,0,0,null,0.2,null,null,0.5,0.11,{"$f":"Sach!$U$175","v":0},null,0,null,"ER",{"$f":"G218","v":0}]
[null,"Schäden am Gebäude durch Austritt von Wasser aus Aquarien oder Wasserbetten (im Rahmen der Gebäude-VS prämienfrei) L0819",null,null,{"$f":"Sach!P171","v":0},null,{"$f":"IF(E219=1,\"ja\",\"nein\")","v":"nein"},0,null,null,0,0,null,0.2,null,null,0.5,0.11,{"$f":"Sach!$U$175","v":0},null,0,null,0]
[null,"Schäden am Gebäude durch Austritt von Wasser aus innen liegenden Regenabflussrohren sowie Gebrechensbehebung an erdverlegten Regen-wasserkanälen am Versicherungsgrundstück","ER",{"$f":"4/1000","v":4.0000000000000001E-3},{"$f":"Sach!P172","v":0},null,{"$f":"MAX(E220:F220)*$B$209","v":0},0,null,null,0,0,null,0.2,null,null,0.5,0.11,{"$f":"Sach!$U$175","v":0},null,0,null,"ER",{"$f":"G220","v":0}]
[null,"Folgeschäden am Gebäude bei Austritt aus im Gebäude befindlichen niederschlagswasserführenden Ableitungsssystemen (10.000 €)","ER",{"$f":"25/1000","v":2.5000000000000001E-2},{"$f":"Sach!P173","v":0},null,0,0,null,null,0,0,null,0.2,null,null,0.5,0.11,{"$f":"Sach!$U$175","v":0},null,0,null,"ER",0]
[null,"Erdwärmerohre am Versicherungsgrundstück inkl. Grabarbeiten L0820","ER",{"$f":"5/1000","v":5.0000000000000001E-3},{"$f":"Sach!P174","v":0},null,0,0,null,null,0,0,null,0.2,null,null,0.5,0.11,{"$f":"Sach!$U$175","v":0},null,0,null,"ER",0,{"$f":"IF(X222=0,0,K222)","v":0}]
[null,"Wasserzu– und Ableitungsrohre außerhalb des Versicherungsgrundstückes","ER",{"$f":"25/1000","v":2.5000000000000001E-2},{"$f":"Sach!P175","v":0},null,0,0,null,null,0,0,null,0.2,null,null,0.5,0.11,{"$f":"Sach!$U$175","v":0},null,0,null,"ER",0,0]
[null,"Gasleitungen € 10.000 (Selbstbehalt 20%, max. € 500) gem. L9928","ER",{"$f":"30/1000","v":0.03},{"$f":"Sach!P176","v":0},null,0,0,null,null,0,0,null,0.2,null,null,0.5,0.11,{"$f":"Sach!$U$175","v":0},null,0,null,"ER",0,0]
[null,"Geld und Geldeswerte, Sparbücher, Wertpapiere, Urkunden, Schmuck-, Gold- und Platinsachen, Edelsteine, Edelmetalle und echte Perlen sowie Münzen- und Briefmarkensammlungen,  Brief - und Stempelmarken, Vignetten, Kurzparkscheine, Lose und Telefonwertkarten unter festem Verschluss.","ER",{"$f":"0.25/1000","v":2.5000000000000001E-4},{"$f":"Sach!P177","v":0},5000,0,0,null,null,0,0,null,0.2,null,null,0.5,0.11,{"$f":"Sach!$U$175","v":0},null,0,null,"ER (5000 inkl.)",0,0]
[null,"Groß- und/oder Kleintiere","WB",{"$f":"D209","v":0},{"$f":"Sach!P178","v":0},null,0,0,null,null,0,0,null,0.2,null,null,0.5,0.11,{"$f":"Sach!$U$175","v":0},null,0,null,"WB",0,0]
[null,"Suchkosten bei gerechtfertigter Schadenvermutung  (€ 5.000 auf ER)","ER",null,{"$f":"Sach!P185","v":0},null,0,0,null,null,0,0,null,0.2,null,null,0.5,0.11,{"$f":"Sach!$U$175","v":0},null,0,null,"ER",0,0]
[null,"20 % Aufräumungs-, Abbruch-, De- und Remont- agekosten, Bewegungs- und Schutzkosten, Deponiekosten für nicht zu behandelnden Abfall. Im Rahmen dieser Versicherungssumme gelten Mehrkosten durch die Behandlung von gefährlichem Abfall und/oder kontaminiertem Erdreich bis 50 % der Versicherungssumme als mitversichert. A3024","ER",null,null,null,null,0,null,null,null,0,null,0.2,null,null,0.5,0.11,{"$f":"Sach!$U$175","v":0},null,0,null,{"$f":"\"5 % inkl. (\"&F228&\")\"","v":"5 % inkl. ()"}]
[null,"Mehrkosten durch die Behandlung von gefährlichem Abfall und/oder kontaminiertem Erdreich. A3024","ER",{"$f":"D209","v":0},{"$f":"Sach!P181","v":0},null,{"$f":"MAX(E229:F229)*$B$209","v":0},{"$f":"MAX(0,E229-F229)","v":0},null,null,{"$f":"H229*D229*(1+I229)","v":0},0,null,0.2,null,null,0.5,0.11,{"$f":"Sach!$U$175","v":0},null,0,null,{"$f":"IF(F229=\"\",C229,C229&\" (\"&F229&\" inkl.)\")","v":"ER"}]
[null,"Sachverständigenkosten A4850","ER",{"$f":"2.5/1000","v":2.5000000000000001E-3},{"$f":"Sach!P182","v":0},null,{"$f":"MAX(E230:F230)*$B$209","v":0},{"$f":"MAX(0,E230-F230)","v":0},null,null,{"$f":"H230*D230*(1+I230)","v":0},0,null,0.2,null,null,0.5,0.11,{"$f":"Sach!$U$175","v":0},null,0,null,{"$f":"IF(F230=\"\",C230,C230&\" (\"&F230&\" inkl.)\")","v":"ER"}]
[null,"Wasserverlust nach gedecktem Schadenereignis L3050","ER",{"$f":"5/1000","v":5.0000000000000001E-3},{"$f":"Sach!P183","v":0},2000,{"$f":"MAX(E231:F231)*$B$209","v":0},{"$f":"MAX(0,E231-F231)","v":0},null,null,{"$f":"H231*D231*(1+I231)","v":0},0,null,0.2,null,null,0.5,0.11,{"$f":"Sach!$U$175","v":0},null,0,null,{"$f":"IF(F231=\"\",C231,C231&\" (\"&F231&\" inkl.)\")","v":"ER (2000 inkl.)"},{"$f":"G231","v":0},{"$f":"IF(X231=0,0,K231)","v":0}]
[null,"Folgeschäden durch undichte Fugen L9929","ER",{"$f":"3/1000","v":3.0000000000000001E-3},{"$f":"Sach!P184","v":0},null,{"$f":"MAX(E232:F232)*$B$209","v":0},{"$f":"MAX(0,E232-F232)","v":0},null,null,{"$f":"H232*D232*(1+I232)","v":0},0,null,0.2,null,null,0.5,0.11,{"$f":"Sach!$U$175","v":0},null,{"$f":"K232*L232*(1-M232)*(1-N232)*(1-O232)*(1-P232)*(1-Q232)*(1+R232)*(1+S232)*(1+T232)","v":0},null,{"$f":"IF(F232=\"\",C232,C232&\" (\"&F232&\" inkl.)\")","v":"ER"}]
[null,"Mehraufwand im Schadensfall (10 %  gem. BB 4817)",null,null,null,null,null,null,null,null,null,null,null,null,null,null,null,null,{"$f":"Sach!$U$175","v":0}]
[null,"Verteuerung im Schadensfall (15 % gem. BB 4907)",null,null,null,null,null,null,null,null,null,null,null,null,null,null,null,null,{"$f":"Sach!$U$175","v":0}]
[null,"Geld und Geldeswerte im Sicherheitsbehältnis",null,null,null,null,null,null,null,null,{"$f":"H235*D235*(1+I235)","v":0},null,null,null,null,null,null,null,null,null,null,null,null,{"$f":"G235","v":0},{"$f":"IF(X235=0,0,K235)","v":0}]
[null,"Sicherheitsgrad EN0 bzw. VSÖ IV (VS. 15.000)","ER",{"$f":"0.5/1000","v":5.0000000000000001E-4},{"$f":"Sach!P188","v":0},null,{"$f":"MAX(E236:F236)*$B$275","v":0},{"$f":"MAX(0,E236-F236)","v":0},null,null,0,0,null,{"$f":"$C$9","v":0.2},null,null,{"$f":"$C$11","v":0.5},{"$f":"$D$10","v":0.11},{"$f":"Sach!$U$175","v":0},null,{"$f":"K236*L236*(1-M236)*(1-N236)*(1-O236)*(1-P236)*(1-Q236)*(1+R236)*(1+S236)*(1+T236)","v":0},null,{"$f":"IF(F236=\"\",C236,C236&\" (\"&F236&\" inkl.)\")","v":"ER"},0,0]
[null,"Sicherheitsgrad EN1 bzw. VSÖ III/c 1-3 (VS 30.000)","ER",{"$f":"0.4/1000","v":4.0000000000000002E-4},{"$f":"Sach!P189","v":0},null,0,0,null,null,0,0,null,0.2,null,null,0.5,0.11,{"$f":"Sach!$U$175","v":0},null,0,null,"ER",0,0]
[null,"Sicherheitsgrad VSÖ III/b (VS 45.000)","ER",{"$f":"0.4/1000","v":4.0000000000000002E-4},{"$f":"Sach!P190","v":0},null,0,0,null,null,0,0,null,0.2,null,null,0.5,0.11,{"$f":"Sach!$U$175","v":0},null,0,null,"ER",0,0]
[null,"Sicherheitsgrad EN2 bzw. VSÖ II/d (VS 75.000)","ER",{"$f":"0.3/1000","v":2.9999999999999997E-4},{"$f":"Sach!P191","v":0},null,0,0,null,null,0,0,null,0.2,null,null,0.5,0.11,{"$f":"Sach!$U$175","v":0},null,0,null,"ER",0,0]
[null,"Sicherheitsgrad EN3 bzw. VSÖ II/c (VS (100.000)","ER",{"$f":"0.2/1000","v":2.0000000000000001E-4},{"$f":"Sach!P192","v":0},null,0,0,null,null,0,0,null,0.2,null,null,0.5,0.11,{"$f":"Sach!$U$175","v":0},null,0,null,"ER",0,0]
[null,"Sicherheitsgrad EN4 (VS 150.000)","ER",{"$f":"0.2/1000","v":2.0000000000000001E-4},{"$f":"Sach!P193","v":0},null,0,0,null,null,0,0,null,0.2,null,null,0.5,0.11,{"$f":"Sach!$U$175","v":0},null,0,null,"ER",0,0]
[null,"Sicherheitsgrad EN5 bzw. VSÖ II/b (VS 250.000)","ER",{"$f":"0.2/1000","v":2.0000000000000001E-4},{"$f":"Sach!P194","v":0},null,0,0,null,null,0,0,null,0.2,null,null,0.5,0.11,{"$f":"Sach!$U$175","v":0},null,0,null,"ER",0,0]
[null,null,null,null,null,null,null,null,null,"Gesamt",{"$f":"SUM(K211:K242)","v":0},0,null,{"$f":"$C$9","v":0.2},null,null,{"$f":"$C$11","v":0.5},{"$f":"$D$10","v":0.11},null,null,{"$f":"SUM(U211:U242)","v":0},null,null,{"$f":"SUM(X211:X234)","v":0},{"$f":"SUM(Y211:Y234)","v":0}]
[null,null,null,null,null,null,null,null,null,"MP",20,0,null,{"$f":"$C$9","v":0.2},null,null,null,{"$f":"$D$10","v":0.11},null,null,{"$f":"K244*L244*(1-M244)*(1-N244)*(1-O244)*(1-P244)*(1-Q244)*(1+R244)*(1+S244)*(1+T244)","v":0},null,null,{"$f":"585200/0.2","v":2926000},{"$f":"472.53/0.15","v":3150.2}]
[null,null,null,null,null,null,null,null,null,"für Antrag",{"$f":"MAX(K243:K244)*L245","v":0},0,null,{"$f":"$C$9","v":0.2},null,null,null,null,null,null,{"$f":"MAX(U243:U244)","v":0}]
[]
[]
[null,"Sparte gewählt","Gebäudesatz",{"$f":"0.55/1000","v":5.5000000000000003E-4},"VS Gebäude",{"$f":"T8","v":0},"Reiner Vermieter","Zuschlag m²",null,null,{"$f":"K249/2","v":0}]
[null,{"$f":"Sach!P199","v":0},"Inhaltssatz",{"$f":"J5","v":0},"VS Inhalt",{"$f":"T9","v":0},{"$f":"IF(Kundendaten!E13=0,\"ja\",\"nein\")","v":"nein"},{"$f":"Sach!S206","v":1},null,null,{"$f":"K251+K253","v":0},null,"Nachlässe",null,null,null,null,"Zuschläge"]
["Glasbruch",{"$f":"IF(B249=1,A250,A250&\": Sparte nicht gewählt\")","v":"Glasbruch: Sparte nicht gewählt"},"Art","%o-Satz","VS gewählt","VS inkludiert","VS Anzeige","VS Berechnung",null,null,"Tarifprämie","Sparte gewählt",{"$f":"'Berechnung Sparten'!$B$8","v":"NÖ-Vorteil (außer F)"},{"$f":"'Berechnung Sparten'!$B$9","v":"Laufzeit-Nachlass"},"Risikonachlass",null,"Sondernachlass",{"$f":"'Berechnung Sparten'!$B$10","v":"Steuer"},null,null,"Zahlprämie",null,"Anzeige Art"]
[null,"Grunddeckung: sämtliche zum Betrieb gehörenden Scheiben inkl. Mehrscheibenisolierverglasungen und Kunststoffverglasungen bis zu nachfolgender Einzelgröße einer Scheibe,  Lichtkuppeln und Scheiben in Solaranlagen aller Art inkl. Photovoltaikanlagen. Nicht versichert: Fassadenverkleidungen, Glasfliesen, Glas-/Gewächshäuser","m² Einzelscheibe",{"$f":"IF(G249=\"ja\",D248,D249)*H249","v":0},{"$f":"IF(G249=\"ja\",F248,F249)","v":0},null,{"$f":"\"bis \"&Sach!R206&\" Einzelgröße der Scheibe\"","v":"bis 6 m² Einzelgröße der Scheibe"},{"$f":"MAX(0,E251-F251)","v":0},null,null,{"$f":"H251*D251*(1+I251)","v":0},{"$f":"$B$249","v":0},{"$f":"$C$8","v":0.1},{"$f":"$C$9","v":0.2},null,null,{"$f":"$C$11","v":0.5},{"$f":"$D$10","v":0.11},null,null,{"$f":"K251*L251*(1-M251)*(1-N251)*(1-O251)*(1-P251)*(1-Q251)*(1+R251)*(1+S251)*(1+T251)","v":0},null,{"$f":"IF(F251=\"\",C251,C251&\" (\"&F251&\" inkl.)\")","v":"m² Einzelscheibe"}]
[null,"Ausschluss von Glasschäden an Mieträumlichkeiten","ja/nein",-0.5,{"$f":"Sach!P201","v":0},null,{"$f":"MAX(E252:F252)*$B$249","v":0},{"$f":"MAX(0,E252-F252)","v":0},null,null,{"$f":"K251*D252*H252","v":0},{"$f":"$B$249","v":0},{"$f":"$C$8","v":0.1},{"$f":"$C$9","v":0.2},null,null,{"$f":"$C$11","v":0.5},{"$f":"$D$10","v":0.11},null,null,{"$f":"K252*L252*(1-M252)*(1-N252)*(1-O252)*(1-P252)*(1-Q252)*(1+R252)*(1+S252)*(1+T252)","v":0},null,{"$f":"IF(F252=\"\",C252,C252&\" (\"&F252&\" inkl.)\")","v":"ja/nein"}]
[null,"Schäden durch Gewalttätigkeiten anlässlich einer öffentlichen Ansammlung oder Kundgebung GL005","ja/nein",0.25,{"$f":"Sach!P202","v":0},null,0,{"$f":"MAX(0,E253-F253)","v":0},null,null,{"$f":"K251*D253*H253","v":0},0,0.1,0.2,null,null,0.5,0.11,null,null,{"$f":"K253*L253*(1-M253)*(1-N253)*(1-O253)*(1-P253)*(1-Q253)*(1+R253)*(1+S253)*(1+T253)","v":0},null,"ja/nein"]
[null,"Firmenschilder, unabhängig von der Glasart","VW",{"$f":"30/1000","v":0.03},{"$f":"Sach!P203","v":0},1000,{"$f":"MAX(E254:F254)*$B$249","v":0},{"$f":"MAX(0,E254-F254)","v":0},null,null,{"$f":"H254*D254*(1+I254)","v":0},0,0.1,0.2,null,null,0.5,0.11,null,null,{"$f":"K254*L254*(1-M254)*(1-N254)*(1-O254)*(1-P254)*(1-Q254)*(1+R254)*(1+S254)*(1+T254)","v":0},null,{"$f":"IF(F254=\"\",C254,C254&\" (\"&F254&\" inkl.)\")","v":"VW (1000 inkl.)"}]
[null,"Blei-, Messing- und sonstige Kunstverglasungen, Folien oder Bemalungen","VW",{"$f":"18.5/1000","v":1.8499999999999999E-2},{"$f":"Sach!P204","v":0},1000,{"$f":"MAX(E255:F255)*$B$249","v":0},{"$f":"MAX(0,E255-F255)","v":0},null,null,{"$f":"H255*D255*(1+I255)","v":0},0,0.1,0.2,null,null,0.5,0.11,null,null,{"$f":"K255*L255*(1-M255)*(1-N255)*(1-O255)*(1-P255)*(1-Q255)*(1+R255)*(1+S255)*(1+T255)","v":0},null,{"$f":"IF(F255=\"\",C255,C255&\" (\"&F255&\" inkl.)\")","v":"VW (1000 inkl.)"}]
[null,"Neonröhren GL010","VW",{"$f":"60/1000","v":0.06},{"$f":"Sach!P205","v":0},null,{"$f":"MAX(E256:F256)*$B$249","v":0},{"$f":"MAX(0,E256-F256)","v":0},null,null,{"$f":"H256*D256*(1+I256)","v":0},0,0.1,0.2,null,null,0.5,0.11,null,null,{"$f":"K256*L256*(1-M256)*(1-N256)*(1-O256)*(1-P256)*(1-Q256)*(1+R256)*(1+S256)*(1+T256)","v":0},null,{"$f":"IF(F256=\"\",C256,C256&\" (\"&F256&\" inkl.)\")","v":"VW"}]
[null,"Folgeschäden durch Glasbruch gem. GL924/GL925","ER",{"$f":"30/1000","v":0.03},{"$f":"Sach!P206","v":0},5000,{"$f":"MAX(E257:F257)*$B$249","v":0},{"$f":"MAX(0,E257-F257)","v":0},null,null,{"$f":"H257*D257*(1+I257)","v":0},0,0.1,0.2,null,null,0.5,0.11,null,null,{"$f":"K257*L257*(1-M257)*(1-N257)*(1-O257)*(1-P257)*(1-Q257)*(1+R257)*(1+S257)*(1+T257)","v":0},null,{"$f":"IF(F257=\"\",C257,C257&\" (\"&F257&\" inkl.)\")","v":"ER (5000 inkl.)"}]
[null,"Notverschalungs- und Notverglasungskosten","prämienfrei",null,{"$f":"Sach!P207","v":0},null,0,0,null,null,{"$f":"H258*D258*(1+I258)","v":0},0,0.1,0.2,null,null,0.5,0.11,null,null,0,null,"prämienfrei"]
[null,"Kosten zur Beseitigung und Wiederanbringung von Hindernissen","prämienfrei",null,{"$f":"Sach!P208","v":0},null,0,0,null,null,0,0,0.1,0.2,null,null,0.5,0.11,null,null,0,null,"prämienfrei"]
[null,"Kosten für Gerüste","prämienfrei",null,{"$f":"Sach!P209","v":0},null,0,0,null,null,0,0,0.1,0.2,null,null,0.5,0.11,null,null,0,null,"prämienfrei"]
[null,"Überstundenkosten sowie Kosten für Nacht- und Wochenenddienste","prämienfrei",null,{"$f":"Sach!P210","v":0},null,0,0,null,null,0,0,0.1,0.2,null,null,0.5,0.11,null,null,0,null,"prämienfrei"]
[null,"Gastgärten auf öffenlichem Grund bis zu jeweils 75 Sitzplätzen (Schanigärten)"]
[null,"Entsorgungskosten bis 50 % des Wertes der vom Schaden betroffenen Verglasung GL923","prämienfrei",null,{"$f":"Sach!P211","v":0},null,0,0,null,null,0,0,0.1,0.2,null,null,0.5,0.11,null,null,0,null,"prämienfrei"]
[null,"Kabinenverglasung einer selbstfahrenden Arbeitsmaschine und eines sonstigen Kraftfahr-zeuges (Kennzeichen / Marke und Type ist anzuführen (Selbstbehalt € 100,00 pro Schadenfall)","Kfz 1",{"$f":"100/1000","v":0.1},{"$f":"Sach!P214","v":0},null,0,0,null,null,0,0,0.1,0.2,null,null,0.5,0.11,null,null,0,null,{"$f":"IF(Sach!I214=\"\",\"\",Sach!I214)","v":""}]
[null,null,"Kfz 2",{"$f":"100/1000","v":0.1},{"$f":"Sach!P215","v":0},null,0,{"$f":"MAX(0,E265-F265)","v":0},null,null,{"$f":"H265*D265*(1+I265)","v":0},0,0.1,0.2,null,null,0.5,0.11,null,null,{"$f":"K265*L265*(1-M265)*(1-N265)*(1-O265)*(1-P265)*(1-Q265)*(1+R265)*(1+S265)*(1+T265)","v":0},null,{"$f":"IF(Sach!I215=\"\",\"\",Sach!I215)","v":""}]
[null,null,"Kfz 3",{"$f":"100/1000","v":0.1},{"$f":"Sach!P216","v":0},null,0,{"$f":"MAX(0,E266-F266)","v":0},null,null,{"$f":"H266*D266*(1+I266)","v":0},0,0.1,0.2,null,null,0.5,0.11,null,null,0,null,{"$f":"IF(Sach!I216=\"\",\"\",Sach!I216)","v":""}]
[null,null,"Kfz 4",{"$f":"100/1000","v":0.1},{"$f":"Sach!P217","v":0},null,0,{"$f":"MAX(0,E267-F267)","v":0},null,null,{"$f":"H267*D267*(1+I267)","v":0},0,0.1,0.2,null,null,0.5,0.11,null,null,0,null,{"$f":"IF(Sach!I217=\"\",\"\",Sach!I217)","v":""}]
[null,null,"Kfz 5",{"$f":"100/1000","v":0.1},{"$f":"Sach!P218","v":0},null,0,{"$f":"MAX(0,E268-F268)","v":0},null,null,{"$f":"H268*D268*(1+I268)","v":0},0,0.1,0.2,null,null,0.5,0.11,null,null,0,null,{"$f":"IF(Sach!I218=\"\",\"\",Sach!I218)","v":""}]
[null,null,null,null,null,null,null,null,null,"Gesamt",{"$f":"SUM(K251:K268)","v":0},0,0.1,{"$f":"$C$9","v":0.2},null,null,{"$f":"$C$11","v":0.5},{"$f":"$D$10","v":0.11},null,null,{"$f":"SUM(U251:U268)","v":0}]
[null,null,null,null,null,null,null,null,null,"MP",20,0,0.1,{"$f":"$C$9","v":0.2},null,null,null,{"$f":"$D$10","v":0.11},null,null,0]
[null,null,null,null,null,null,null,null,null,"für Antrag",{"$f":"MAX(K269:K270)*L271","v":0},0,0.1,{"$f":"$C$9","v":0.2},null,null,null,null,null,null,{"$f":"MAX(U269:U270)","v":0}]
[]
[]
[null,"Sparte gewählt","Durchschnittsatz"]
[null,{"$f":"Sach!P223","v":0},"Inhaltssatz",{"$f":"K5","v":0},null,null,null,null,null,null,null,null,"Nachlässe",null,null,null,null,"Zuschläge"]
["Sturmversicherung",{"$f":"IF(B275=1,A276,A276&\": Sparte nicht gewählt\")","v":"Sturmversicherung: Sparte nicht gewählt"},"Art","%o-Satz","VS gewählt","VS inkludiert","VS Anzeige","VS Berechnung",null,null,"Tarifprämie","Sparte gewählt",{"$f":"'Berechnung Sparten'!$B$8","v":"NÖ-Vorteil (außer F)"},{"$f":"'Berechnung Sparten'!$B$9","v":"Laufzeit-Nachlass"},null,null,"Sondernachlass",{"$f":"'Berechnung Sparten'!$B$10","v":"Steuer"},null,null,"Zahlprämie",null,"Anzeige Art","VS für NK","Prämie NK",null,"Grundpromille ohne ER-Zuschlag"]
[null,"Grunddeckung (Gebäude, KTE, Vorräte)","VS",null,null,null,{"$f":"V11*$B$275","v":0},null,null,null,{"$f":"N9","v":0},{"$f":"$B$275","v":0},null,{"$f":"$C$9","v":0.2},null,null,{"$f":"$C$11","v":0.5},{"$f":"$D$10","v":0.11},null,null,{"$f":"K277*L277*(1-M277)*(1-N277)*(1-O277)*(1-P277)*(1-Q277)*(1+R277)*(1+S277)*(1+T277)","v":0},null,{"$f":"IF(F277=\"\",C277,C277&\" (\"&F277&\" inkl.)\")","v":"VS"},{"$f":"V11+V12","v":0},{"$f":"IF(X277=0,0,K277)","v":0}]
[null,"Technische und kaufmännische Betriebseinrichtung sowie Vorräte (im Eigentum des Versicherungsnehmers) ständig außerhalb des Versicherungsortes, jedoch innerhalb Österreichs, im massiv/harten Gebäude befindlich (dies gilt nicht versichert in Bauhütten, Bau und Lagercontainern)","ER",{"$f":"D275*2","v":0},{"$f":"Sach!P225","v":0},null,{"$f":"MAX(E278:F278)*$B$275","v":0},{"$f":"MAX(0,E278-F278)","v":0},null,null,{"$f":"H278*D278","v":0},{"$f":"$B$275","v":0},null,{"$f":"$C$9","v":0.2},null,null,{"$f":"$C$11","v":0.5},{"$f":"$D$10","v":0.11},null,null,0,null,"ER",{"$f":"G278","v":0},0]
[null,"Wiederherstellungskosten von Datenträgern (Geschäftsbücher, Akten, Pläne, elektronische Speichermedien, Typenscheine, kodierte KFZ-Schlüssel und dgl.) und den darauf befindlichen Daten ","ER",{"$f":"2/1000","v":2E-3},{"$f":"Sach!P226","v":0},5000,0,0,null,null,0,0,null,0.2,null,null,0.5,0.11,null,null,0,null,"ER (5000 inkl.)",0,0]
[null,"Sachen der Betriebsinhaber und Dienstnehmer (ausgenommen jedoch Bargeld, Edelmetall-, Gold-, Silber- und Schmucksachen, Kraftfahrzeuge sowie in Wohnungen befindlicher Hausrat) ","NW",{"$f":"D275","v":0},{"$f":"Sach!P227","v":0},5000,0,0,null,null,0,0,null,0.2,null,null,0.5,0.11,null,null,0,null,"NW (5000 inkl.)",0,0]
[null,"Schäden an sämtlichen baulichen Außenanlagen (ausgenommen Gebäude) am Versicherungsgrundstück, die fix im Erdreich verankert sind. 5.000 prämienfrei inkludiert. ST303",{"$f":"IF(Sach!I228=\"\",\"ER\",Sach!I228)","v":"ER"},{"$f":"IF(C281=\"ZW\",AA281,AA281*2)","v":0.02},{"$f":"Sach!P228","v":0},5000,0,0,null,null,0,0,null,0.2,null,null,0.5,0.11,null,null,0,null,"ER (5000 inkl.)",0,0,null,{"$f":"10/1000","v":0.01}]
[null,"KFZ fahrend und ruhend am Versicherungsort, exkl. Hagel",{"$f":"IF(Sach!I229=\"\",\"ER\",Sach!I229)","v":"ER"},{"$f":"IF(C282=\"ZW\",AA282,AA282*2)","v":3.0000000000000001E-3},{"$f":"Sach!P229","v":0},null,0,0,null,null,0,0,null,0.2,null,null,0.5,0.11,null,null,0,null,"ER",0,0,null,{"$f":"1.5/1000","v":1.5E-3}]
[null,"KFZ fahrend und ruhend am Versicherungsort, inkl. Hagel (Selbstbehalt 10 % min. 350 pro Kfz)",{"$f":"IF(Sach!I230=\"\",\"ER\",Sach!I230)","v":"ER"},{"$f":"IF(C283=\"ZW\",AA283,AA283*3)","v":7.5000000000000011E-2},{"$f":"Sach!P230","v":0},null,0,0,null,null,0,0,null,0.2,null,null,0.5,0.11,null,null,0,null,"ER",0,0,null,{"$f":"25/1000","v":2.5000000000000001E-2}]
[null,"KFZ und/oder Anhänger im Gebäude befindlich ST098",{"$f":"IF(Sach!I231=\"\",\"ER\",Sach!I231)","v":"ER"},{"$f":"IF(C284=\"ZW\",AA284,AA284*2)","v":0},{"$f":"Sach!P231","v":0},null,0,0,null,null,0,0,null,0.2,null,null,0.5,0.11,null,null,0,null,"ER",0,0,null,{"$f":"D275","v":0}]
[null,"Anhänger fahrend und ruhend am Versicherungsort, exkl. Hagel",{"$f":"IF(Sach!I232=\"\",\"ER\",Sach!I232)","v":"ER"},{"$f":"IF(C285=\"ZW\",AA285,AA285*2)","v":2.3999999999999998E-3},{"$f":"Sach!P232","v":0},null,0,0,null,null,0,0,null,0.2,null,null,0.5,0.11,null,null,0,null,"ER",0,0,null,{"$f":"1.2/1000","v":1.1999999999999999E-3}]
[null,"Anhänger fahrend und ruhend am Versicherungsort, inkl. Hagel (Selbstbehalt 10 % min. 350 pro Kfz)",{"$f":"IF(Sach!I233=\"\",\"ER\",Sach!I233)","v":"ER"},{"$f":"IF(C286=\"ZW\",AA286,AA286*3)","v":0.06},{"$f":"Sach!P233","v":0},null,0,0,null,null,0,0,null,0.2,null,null,0.5,0.11,null,null,0,null,"ER",0,0,null,{"$f":"20/1000","v":0.02}]
[null,"Schaukästen, Vitrinen und Automaten samt Inhalt außerhalb des Versicherungsortes","NW",{"$f":"5/1000","v":5.0000000000000001E-3},{"$f":"Sach!P234","v":0},null,0,0,null,null,0,0,null,0.2,null,null,0.5,0.11,null,null,0,null,"NW",0,0]
[null,"Tische, Stühle, Sonnenschirme und fix im Erdreich verankerte Spielplatzeinrichtungen im Freien (Schanigärten), Selbstbehalt je Schadensfall: 20 %","NW",{"$f":"60/1000","v":0.06},{"$f":"Sach!P235","v":0},null,0,0,null,null,0,0,null,0.2,null,null,0.5,0.11,null,null,0,null,"NW",0,0]
[null,"Antennen- und oder Solaranlagen aller Art inkl. Photovoltaikanlagen am Versicherungsort im Rahmen der Versicherungssumme",null,null,{"$f":"Sach!P236","v":0},null,0,0,null,null,0,0,null,0.2,null,null,0.5,0.11,null,null,0,null,0,null,0]
[null,"Beleuchtungskörper, Fahnenstangen, Firmenschilder, Reklameanlagen, Markisen und sonstige mit dem Gebäude verbundene Beschattungssysteme (alles nur am Versicherungsort befindlich)","NW",{"$f":"30/1000","v":0.03},{"$f":"Sach!P237","v":0},null,0,0,null,null,0,0,null,0.2,null,null,0.5,0.11,null,null,0,null,"NW",{"$f":"G290","v":0},0]
[null,"Schwimmbecken im Freien (gemauert, Polyester oder Stahlblech) ohne Abdeckungen","NW",{"$f":"3/1000","v":3.0000000000000001E-3},{"$f":"Sach!P238","v":0},null,0,0,null,null,0,0,null,0.2,null,null,0.5,0.11,null,null,0,null,"NW",0,0]
[null,"Fix am Beckenrand montierte (oder in solchen Schienen laufenden) Schwimmbadabdeckungen (keine Folien oder Planen)","NW",{"$f":"15/1000","v":1.4999999999999999E-2},{"$f":"Sach!P239","v":0},null,0,0,null,null,0,0,null,0.2,null,null,0.5,0.11,null,null,0,null,"NW",0,0]
[null,"Fix am Beckenrand montierte sonstige Schwimmbadabdeckungen (auch begehbare Folien oder Rollabdeckungen)","NW",{"$f":"45/1000","v":4.4999999999999998E-2},{"$f":"Sach!P240","v":0},null,0,0,null,null,0,0,null,0.2,null,null,0.5,0.11,null,null,0,null,"NW",0,0]
[null,"Groß- und/oder Kleintiere im Gebäude befindlich","WBK",{"$f":"D275","v":0},{"$f":"Sach!P241","v":0},null,0,0,null,null,0,0,null,0.2,null,null,0.5,0.11,null,null,0,null,"WBK",0,0]
[null,"Geld und Geldeswerte, Sparbücher, Wertpapiere, Urkunden, Schmuck-, Gold- und Platinsachen, Edelsteine, Edelmetalle und echte Perlen sowie Münzen- und Briefmarkensammlungen,  Brief - und Stempelmarken, Vignetten, Kurzparkscheine, Lose und Telefonwertkarten unter festem Verschluss","ER",{"$f":"0.5/1000","v":5.0000000000000001E-4},{"$f":"Sach!P242","v":0},5000,0,0,null,null,0,0,null,0.2,null,null,0.5,0.11,null,null,0,null,"ER (5000 inkl.)",0,0]
[null,"Schäden durch Witterungsniederschläge an Gebäudeinnenteilen ST302","ER",{"$f":"4/1000","v":4.0000000000000001E-3},{"$f":"Sach!P243","v":0},null,0,0,null,null,0,0,null,0.2,null,null,0.5,0.11,null,null,0,null,"ER",0]
[null,"Gebäudeschäden durch vom Dach abrutschende Schneemassen und Dachlawinen","ER",{"$f":"4/1000","v":4.0000000000000001E-3},{"$f":"Sach!P244","v":0},null,0,0,null,null,0,0,null,0.2,null,null,0.5,0.11,null,null,0,null,"ER",0,{"$f":"IF(X297=0,0,K297)","v":0}]
[null,"20 % Aufräumungs-, Abbruch-, De- und Re-montagekosten, Bewegungs- und Schutzkosten, Deponiekosten für nicht zu behandelnden Abfall. Im Rahmen dieser Versicherungssumme gelten Mehrkosten durch die Behandlung von gefährlichem Abfall und/oder kontaminiertem Erdreich bis 50 % der Versicherungssumme als mitversichert. A3024","ER"]
[null,"Mehrkosten durch die Behandlung von gefährlichem Abfall und/oder kontaminiertem Erdreich. A3024","ER",{"$f":"D275","v":0},{"$f":"Sach!P246","v":0},null,{"$f":"MAX(E299:F299)*$B$275","v":0},{"$f":"MAX(0,E299-F299)","v":0},null,null,{"$f":"H299*D299","v":0},0,null,0.2,null,null,0.5,0.11,null,null,{"$f":"K299*L299*(1-M299)*(1-N299)*(1-O299)*(1-P299)*(1-Q299)*(1+R299)*(1+S299)*(1+T299)","v":0},null,{"$f":"IF(F299=\"\",C299,C299&\" (\"&F299&\" inkl.)\")","v":"ER"}]
[null,"Sachverständigenkosten ","ER",{"$f":"2.5/1000","v":2.5000000000000001E-3},{"$f":"Sach!P247","v":0},null,0,0,null,null,0,0,null,0.2,null,null,0.5,0.11,null,null,0,null,"ER"]
[null,"Optische Schäden nach einem Sturmschaden am Gebäude, wenn Reparatur bzw. Austausch erfolgt (5.000 auf ER, Selbstbehalt 10 %)",null,null,{"$f":"Sach!P253","v":0},null,0,0,null,null,0,0,null,0.2,null,null,0.5,0.11,null,null,0,null,0,{"$f":"G301","v":0},{"$f":"IF(X301=0,0,K301)","v":0}]
[null,"Kosten für das Sichern oder Entfernen von Bäumen und Masten auf dem Versicherungsgrundstück, die durch Sturm beschädigt wurden (5.000 auf ER)",null,null,{"$f":"Sach!P254","v":0},null,0,0,null,null,0,0,null,0.2,null,null,0.5,0.11,null,null,0,null,0,{"$f":"G302","v":0},{"$f":"IF(X302=0,0,K302)","v":0}]
[null,"Katastrophenschutz 5.000 gem. ST909",null,null,{"$f":"Sach!P255","v":0},null,0,0,null,null,0,0,null,0.2,null,null,0.5,0.11,null,null,0,null,0,{"$f":"G303","v":0},{"$f":"IF(X303=0,0,K303)","v":0}]
[null,"Mehraufwand im Schadensfall (10 %  gem. BB 4817)"]
[null,"Verteurerung im Schadensfall (15 % gem. BB 4907)",null,null,{"$f":"Sach!P256","v":0},null,0,0,null,null,0,0,null,0.2,null,null,0.5,0.11,null,null,0,null,0,{"$f":"G305","v":0},{"$f":"IF(X305=0,0,K305)","v":0}]
[null,"Geld und Geldeswerte im Sicherheitsbehältnis",null,null,null,null,null,null,null,null,{"$f":"H306*D306*(1+I306)","v":0},null,null,null,null,null,null,null,null,null,null,null,null,{"$f":"G306","v":0},{"$f":"IF(X306=0,0,K306)","v":0}]
[null,"Sicherheitsgrad EN0 bzw. VSÖ IV (VS. 15.000)","ER",{"$f":"0.15/1000","v":1.4999999999999999E-4},{"$f":"Sach!P254","v":0},null,0,{"$f":"MAX(0,E307-F307)","v":0},null,null,0,{"$f":"$B$162","v":0},null,{"$f":"$C$9","v":0.2},null,null,{"$f":"$C$11","v":0.5},{"$f":"$D$10","v":0.11},null,null,{"$f":"K307*L307*(1-M307)*(1-N307)*(1-O307)*(1-P307)*(1-Q307)*(1+R307)*(1+S307)*(1+T307)","v":0},null,{"$f":"IF(F307=\"\",C307,C307&\" (\"&F307&\" inkl.)\")","v":"ER"},0,0]
[null,"Sicherheitsgrad EN1 bzw. VSÖ III/c 1-3 (VS 30.000)","ER",{"$f":"0.15/1000","v":1.4999999999999999E-4},{"$f":"Sach!P255","v":0},null,0,0,null,null,0,0,null,0.2,null,null,0.5,0.11,null,null,0,null,"ER",0,0]
[null,"Sicherheitsgrad VSÖ III/b (VS 45.000)","ER",{"$f":"0.15/1000","v":1.4999999999999999E-4},{"$f":"Sach!P256","v":0},null,0,0,null,null,0,0,null,0.2,null,null,0.5,0.11,null,null,0,null,"ER",0,0]
[null,"Sicherheitsgrad EN2 bzw. VSÖ II/d (VS 75.000)","ER",{"$f":"0.1/1000","v":1E-4},{"$f":"Sach!P257","v":0},null,0,0,null,null,0,0,null,0.2,null,null,0.5,0.11,null,null,0,null,"ER",0,0]
[null,"Sicherheitsgrad EN3 bzw. VSÖ II/c (VS (100.000)","ER",{"$f":"0.1/1000","v":1E-4},{"$f":"Sach!P258","v":0},null,0,0,null,null,0,0,null,0.2,null,null,0.5,0.11,null,null,0,null,"ER",0,0]
[null,"Sicherheitsgrad EN4 (VS 150.000)","ER",{"$f":"0.1/1000","v":1E-4},{"$f":"Sach!P259","v":0},null,0,0,null,null,0,0,null,0.2,null,null,0.5,0.11,null,null,0,null,"ER",0,0]
[null,"Sicherheitsgrad EN5 bzw. VSÖ II/b (VS 250.000)","ER",{"$f":"0.1/1000","v":1E-4},{"$f":"Sach!P260","v":0},null,0,0,null,null,0,0,null,0.2,null,null,0.5,0.11,null,null,0,null,"ER",0,0]
[null,null,null,null,null,null,null,null,null,"Gesamt",{"$f":"SUM(K277:K313)","v":0},0,null,{"$f":"$C$9","v":0.2},null,null,{"$f":"$C$11","v":0.5},{"$f":"$D$10","v":0.11},null,null,{"$f":"SUM(U277:U313)","v":0},null,null,{"$f":"SUM(X277:X313)","v":0},{"$f":"SUM(Y277:Y313)","v":0}]
[null,null,null,null,null,null,null,null,null,"MP",20,0,null,{"$f":"$C$9","v":0.2},null,null,null,{"$f":"$D$10","v":0.11},null,null,{"$f":"K315*L315*(1-M315)*(1-N315)*(1-O315)*(1-P315)*(1-Q315)*(1+R315)*(1+S315)*(1+T315)","v":0}]
[null,null,null,null,null,null,null,null,null,"für Antrag",{"$f":"MAX(K314:K315)*L316","v":0},0,null,{"$f":"$C$9","v":0.2},null,null,null,null,null,null,{"$f":"MAX(U314:U315)","v":0}]
[]
[]
[]
[null,"Sparte gewählt"]
[null,{"$f":"Sach!P265","v":0},null,null,null,null,null,null,null,null,null,null,"Nachlässe",null,null,null,null,"Zuschläge"]
["Naturkatastrophen",{"$f":"IF(B321=1,A322,A322&\": Sparte nicht gewählt\")","v":"Naturkatastrophen: Sparte nicht gewählt"},"Art","%o-Satz","VS gewählt","VS inkludiert","VS Anzeige","VS Berechnung",null,null,"Tarifprämie","Sparte gewählt",{"$f":"'Berechnung Sparten'!$B$8","v":"NÖ-Vorteil (außer F)"},{"$f":"'Berechnung Sparten'!$B$9","v":"Laufzeit-Nachlass"},null,null,"Sondernachlass",{"$f":"'Berechnung Sparten'!$B$10","v":"Steuer"},null,null,"Zahlprämie",null,"Anzeige Art"]
[null,"Naturkatastrophen","ER",{"$f":"Sach!T268","v":0},{"$f":"Sach!U268","v":0},null,{"$f":"E323*B321","v":0},{"$f":"E323","v":0},null,null,{"$f":"H323*D323","v":0},{"$f":"$B$321","v":0},null,{"$f":"$C$9","v":0.2},null,null,null,{"$f":"$D$10","v":0.11},null,null,{"$f":"K323*L323*(1-M323)*(1-N323)*(1-O323)*(1-P323)*(1-Q323)*(1+R323)*(1+S323)*(1+T323)","v":0},null,{"$f":"IF(F323=\"\",C323,C323&\" (\"&F323&\" inkl.)\")","v":"ER"}]
[null,null,null,null,null,null,null,null,null,"Gesamt",{"$f":"SUM(K323)","v":0},{"$f":"$B$321","v":0},null,{"$f":"$C$9","v":0.2},null,null,null,{"$f":"$D$10","v":0.11},null,null,{"$f":"SUM(U323)","v":0}]
[null,null,null,null,null,null,null,null,null,"MP",0,{"$f":"$B$321","v":0},null,{"$f":"$C$9","v":0.2},null,null,null,{"$f":"$D$10","v":0.11},null,null,{"$f":"K325*L325*(1-M325)*(1-N325)*(1-O325)*(1-P325)*(1-Q325)*(1+R325)*(1+S325)*(1+T325)","v":0}]
[null,null,null,null,null,null,null,null,null,"für Antrag",{"$f":"MAX(K324:K325)*L326","v":0},{"$f":"$B$321","v":0},null,{"$f":"$C$9","v":0.2},null,null,null,{"$f":"$D$10","v":0.11},null,null,{"$f":"MAX(U324:U325)","v":0}]
[]
[]
[]
[null,"Prämienbasis",{"$f":"K335/(1+I335)","v":0}]
[null,"Berechnung MP: MP für Grunddeckung vs. Lohnsummenprämie; MP für Haftpflichtpakete vs. Gesamtprämie der Haftpflichtpakete - jeweils separat. Die Haftpflichtpakete werden mit u.a. Hilfsrechnung verglichen und als Zuschlag auf die Endprämie gerechnet."]
[null,"Sparte gewählt",null,"LS","MP - LS","Erw. P","UP","UW",null,null,"VS",{"$f":"Hpfl!Q114","v":1500000},null,null,null,null,null,null,null,null,null,null,null,null,null,null,null,null,"Auslandsdeckung"]
[null,{"$f":"Hpfl!P13","v":0},"Inhaltssatz",{"$f":"L5","v":0},{"$f":"M5","v":0},{"$f":"'Berechnung Grund'!P30","v":0},{"$f":"N5","v":0},{"$f":"O5","v":0},null,null,"Zuschlag",{"$f":"Hpfl!R114","v":0},"Nachlässe",null,null,null,null,"Zuschläge",null,null,null,null,null,null,null,null,null,null,"Bis 25 % des Umsatzes",0.1]
["Haftpflicht",{"$f":"IF(B333=1,A334,A334&\": Sparte nicht gewählt\")","v":"Haftpflicht: Sparte nicht gewählt"},"BB","SB","PVS","MP","Prämie",null,"Zuschlag VS","Gewählt","Tarifprämie","Sparte gewählt",{"$f":"'Berechnung Sparten'!$B$8","v":"NÖ-Vorteil (außer F)"},{"$f":"'Berechnung Sparten'!$B$9","v":"Laufzeit-Nachlass"},"Risikonachlass",null,"Sondernachlass",{"$f":"'Berechnung Sparten'!$B$10","v":"Steuer"},null,null,"Zahlprämie","Anzeige für Antrag",null,null,null,null,null,null,"Über 25 % des Umsatzes",0.25]
["x","Grunddeckung","VS",null,{"$f":"L332","v":1500000},{"$f":"E333","v":0},null,null,{"$f":"$L$333","v":0},{"$f":"$B$333","v":0},{"$f":"IF(J335=0,0,MAX(AG348*J335,F335)*(1+I335))","v":0},{"$f":"$B$333","v":0},null,{"$f":"$C$9","v":0.2},null,null,{"$f":"$C$11","v":0.5},{"$f":"$D$10","v":0.11},null,null,{"$f":"IF($B$333=0,0,K335*L335*(1-M335)*(1-N335)*(1-O335)*(1-P335)*(1-Q335)*(1+R335)*(1+S335)*(1+T335))","v":0},null,null,null,null,null,null,null,"Gewählt",null,null,"Lohn- und Gehaltssumme","Nachlass auf Prämie"]
["x","UP-Zuschlag",null,null,null,null,null,null,0,null,{"$f":"AG347*(1+I336)","v":0},{"$f":"$B$333","v":0},null,{"$f":"$C$9","v":0.2},null,null,{"$f":"$C$11","v":0.5},{"$f":"$D$10","v":0.11},null,null,{"$f":"IF($B$333=0,0,K336*L336*(1-M336)*(1-N336)*(1-O336)*(1-P336)*(1-Q336)*(1+R336)*(1+S336)*(1+T336))","v":0},null,null,null,null,null,null,null,{"$f":"Hpfl!U88","v":"Bis 25 % des Umsatzes"},{"$f":"VLOOKUP(AC336,AC333:AD334,2,FALSE)","v":0.1},null,"in € größer als",null,"Nachlas","Nachlass"]
["prämienfrei","Auslandsdeckung für Länder der EU inkl. unbewusster Export gesamte Erde (ausgenommen USA, Kanada u. Australien) H3700",1,"kein SB",{"$f":"$E$335*C337","v":1500000},null,null,null,null,null,null,null,null,null,null,null,null,null,null,null,null,null,null,null,null,null,null,null,null,null,null,150000,0.2,{"$f":"IF($AG$344>AF337,AG337,0)","v":0},{"$f":"MAX(AH337:AH341)","v":0}]
["prämienfrei","Reine Vermögensschäden H1016",0.5,100,{"$f":"$E$335*C338","v":750000},null,null,null,null,null,null,null,null,null,null,null,null,null,null,null,null,null,null,null,null,null,null,null,null,null,null,200000,0.3,{"$f":"IF($AG$344>AF338,AG338,0)","v":0}]
["prämienfrei","Arbeitnehmergarderoben H3718",1,"kein SB",1500000,null,null,null,null,null,null,null,null,null,null,null,null,null,null,null,null,null,null,null,null,null,null,null,null,null,null,350000,0.45,{"$f":"IF($AG$344>AF339,AG339,0)","v":0}]
["prämienfrei","genormte Vertragshaftungen H1002",1,100,1500000,null,null,null,null,null,null,null,null,null,null,null,null,null,null,null,null,null,null,null,null,null,null,null,null,null,null,600000,0.5,{"$f":"IF($AG$344>AF340,AG340,0)","v":0}]
["prämienfrei","Grundstücke, Gebäude od. Räumlichkeiten die Fremdzwecken dienen (vermietet) - ausgenommen Mietwohnhäuser  H1712",1,"kein SB",1500000,null,null,null,null,null,null,null,null,null,null,null,null,null,null,null,null,null,null,null,null,null,null,null,null,null,null,1200000,0.55000000000000004,{"$f":"IF($AG$344>AF341,AG341,0)","v":0}]
["prämienfrei","gewerbsmäßige Vermietung/Verleihung - ausgenommen reine Verleihbetriebe H3713",1,"kein SB",1500000]
["prämienfrei","Bauherrnhaftpflicht - Bauvorhaben bis 1.000.000 H1746",1,"kein SB",1500000,null,null,null,null,null,null,null,null,null,null,null,null,null,null,null,null,null,null,null,null,null,null,null,null,null,null,"Umsatz",{"$f":"Hpfl!G14","v":0}]
["prämienfrei","Erweiterte Privathaftpflicht (subsidiär) für den Betriebsinhaber, bei Gesellschaften für den jeweiligen Geschäftsführer",1,"kein SB",1500000,null,null,null,null,null,null,null,null,null,null,null,null,null,null,null,null,null,null,null,null,null,null,null,null,null,null,"LuG",{"$f":"Hpfl!J14","v":0}]
["prämienfrei","Anschlussbahnen und gemietete bahneigene Lagerplätze H3751",1,"kein SB",1500000,null,null,null,null,null,null,null,null,null,null,null,null,null,null,null,null,null,null,null,null,null,null,null,null,null,null,"UP-Satz",{"$f":"G333","v":0}]
["prämienfrei","Schadenersatzverpflichtungen nach dem Wasserrechtsgesetz H1017",1,"kein SB",1500000,null,null,null,null,null,null,null,null,null,null,null,null,null,null,null,null,null,null,null,null,null,null,null,null,null,null,"Überschuss",{"$f":"IF(AG343<100000,0,MAX(AG343-AG344*5,0))","v":0},"Umsatzprämie gilt erst ab 100.000 Mindestumsatz"]
["prämienfrei","Erweiterte Produktehaftpflicht (örtlicher Geltungsbereich EU) H1029",null,300,100000,null,null,null,null,null,null,null,null,null,null,null,null,null,null,null,null,null,null,null,null,null,null,null,null,null,null,"Umsatzprämie",{"$f":"AG345*AG346","v":0},{"$f":"900000*AG345*1.25","v":0}]
["prämienfrei","Cross-Liability N031",1,"kein SB",1500000,null,null,null,null,null,null,null,null,null,null,null,null,null,null,null,null,null,null,null,null,null,null,null,null,null,null,"LS-Prämie",{"$f":"AG344*D333*(1-AI337)","v":0}]
["prämienfrei","Ansprüche der gesetzlichen Vertreter N013",1,"kein SB",1500000]
["prämienfrei","Arbeitsunfälle unter gleichgestellten Mitarbeitern N014",1,"kein SB",1500000,null,null,null,null,null,null,null,null,null,null,null,null,null,null,null,null,null,null,null,null,null,null,null,null,null,null,"LS-Prämie ohne VS-Zuschlag, inkl. MP-Zuschlag",{"$f":"K335/(1+I335)","v":0}]
["prämienfrei","Isotopenrisiko",1,"kein SB",1500000]
["prämienfrei","Arbeitsmaschinen – Fahrtrisiko auf öffentlichen Verkehrsflächen N016",1,"kein SB",1500000]
["prämienfrei","Pauschalreisegesetz H5793",0.25,"kein SB",375000]
["prämienfrei","Hunde(e) H1771, H1695",1,"kein SB",1500000]
[null,"Mietsachschäden (Feuer- oder Leitungswasserschaden) - Regresshaftung H1092",1,100,1500000,0,100,null,null,{"$f":"Hpfl!P40*$B$333","v":0},{"$f":"MAX(G355,F355)*J355*(1+I355)","v":0},{"$f":"$B$333","v":0},null,{"$f":"$C$9","v":0.2},null,null,{"$f":"$C$11","v":0.5},{"$f":"$D$10","v":0.11},null,null,{"$f":"IF($B$333=0,0,K355*L355*(1-M355)*(1-N355)*(1-O355)*(1-P355)*(1-Q355)*(1+R355)*(1+S355)*(1+T355))","v":0}]
[null,"Tätigkeit an unbeweglichen Sachen H1015",0.5,100,750000,100,{"$f":"$C$330*10%","v":0},null,0,{"$f":"Hpfl!P41*$B$333","v":0},{"$f":"MAX(G356,F356)*J356*(1+I356)","v":0},0,null,0.2,null,null,0.5,0.11,null,null,{"$f":"IF($B$333=0,0,K356*L356*(1-M356)*(1-N356)*(1-O356)*(1-P356)*(1-Q356)*(1+R356)*(1+S356)*(1+T356))","v":0}]
[null,"Sachschäden durch Umweltstörung inkl. Umweltsanierungskosten (USK) H2630, H2830, H2802","wählbar","lt. Klausel",{"$f":"IF(Hpfl!Q86=Hpfl!Q82,\"nein\",Hpfl!Q86)","v":"nein"},null,{"$f":"H333","v":0},null,{"$f":"IF(Hpfl!Q86=Hpfl!Q84,30%,0)","v":0},{"$f":"Hpfl!P42*$B$333","v":0},{"$f":"MAX(G357,F357)*J357*(1+I357)","v":0},0,null,0.2,null,null,0.5,0.11,null,null,{"$f":"IF($B$333=0,0,K357*L357*(1-M357)*(1-N357)*(1-O357)*(1-P357)*(1-Q357)*(1+R357)*(1+S357)*(1+T357))","v":0}]
[null,"Subunternehmer H1404",1,"kein SB",1500000,null,75,null,0,{"$f":"Hpfl!P43*$B$333","v":0},{"$f":"IF(J358=0,0,MAX(G358,F358)*(1+I358))","v":0},0,null,0.2,null,null,0.5,0.11,null,null,{"$f":"IF($B$333=0,0,K358*L358*(1-M358)*(1-N358)*(1-O358)*(1-P358)*(1-Q358)*(1+R358)*(1+S358)*(1+T358))","v":0}]
[null,"Eingestellte Fahrzeuge von Arbeitnehmern und Besuchern H1019",0.25,100,375000,null,75,null,0,{"$f":"Hpfl!P44*$B$333","v":0},{"$f":"MAX(G359,F359)*J359*(1+I359)","v":0},0,null,0.2,null,null,0.5,0.11,null,null,{"$f":"IF($B$333=0,0,K359*L359*(1-M359)*(1-N359)*(1-O359)*(1-P359)*(1-Q359)*(1+R359)*(1+S359)*(1+T359))","v":0}]
[null,"Be- und Entladung von fremden Fahrzeugen sowie Containern H1011",0.25,100,375000,100,{"$f":"$C$330*7%","v":0},null,0,{"$f":"Hpfl!P45*$B$333","v":0},0,0,null,0.2,null,null,0.5,0.11,null,null,0]
[null,"Allmählichkeit H1096",0.25,100,{"$f":"$E$335*C361","v":375000},100,{"$f":"$C$330*8%","v":0},null,0,{"$f":"Hpfl!P46*$B$333","v":0},0,0,null,0.2,null,null,0.5,0.11,null,null,0]
[null,"Verwahrung von beweglichen Sachen H1014",0.25,100,375000,null,{"$f":"$C$330*5%","v":0},null,0,{"$f":"Hpfl!P47*$B$333","v":0},0,0,null,0.2,null,null,0.5,0.11,null,null,0]
[null,"Nachbesserungs-Begleitschäden H1091",0.25,100,375000,270,{"$f":"$C$330*25%","v":0},null,0,{"$f":"Hpfl!P48*$B$333","v":0},0,0,null,0.2,null,null,0.5,0.11,null,null,0]
[null,"Automatische Waschanlagen H1025",0.25,100,375000,null,300,null,0,{"$f":"Hpfl!P49*$B$333","v":0},0,0,null,0.2,null,null,0.5,0.11,null,null,0]
[null,"Abhol- und Zustelldienst von Fahrzeugen H1027",0.25,100,375000,null,175,null,0,{"$f":"Hpfl!P50*$B$333","v":0},0,0,null,0.2,null,null,0.5,0.11,null,null,0]
[null,"Hebebühne(n) H1098",0.25,100,375000,null,200,null,0,{"$f":"Hpfl!P51*$B$333","v":0},0,0,null,0.2,null,null,0.5,0.11,null,null,0]
[null,"Schäden an Kundenfahrzeugen außerhalb der Betriebsstätte H1023",0.25,100,375000,270,{"$f":"$C$330*15%","v":0},null,0,{"$f":"Hpfl!P52*$B$333","v":0},0,0,null,0.2,null,null,0.5,0.11,null,null,0]
[null,"Diebstahl oder Raub in Verwahrung genommener Fahrzeuge H1024",0.25,100,375000,100,{"$f":"$C$330*5%","v":0},null,0,{"$f":"Hpfl!P53*$B$333","v":0},0,0,null,0.2,null,null,0.5,0.11,null,null,0]
[null,"Verlust oder Abhandenkommen eingebrachter Sachen der Beherbergungsgäste (ausgenommen Kraft- u. Wasserfahrzeuge) H4735",null,"kein SB","lt. Klausel",null,0,null,0,{"$f":"Hpfl!P54*$B$333","v":0},0,0,null,0.2,null,null,0.5,0.11,null,null,0]
[null,"Beschädigung, Vernichtung, Verlust oder Abhandenkommen von Kraftfahrzeugen, Anhängern u. Wasserfahrzeugen der Beherbergungsgäste H1036",1,100,{"$f":"$E$335*C370","v":1500000},null,0,null,0,{"$f":"Hpfl!P55*$B$333","v":0},0,0,null,0.2,null,null,0.5,0.11,null,null,0]
[null,"Bewachte Garderoben H3763",null,"kein SB","lt. Klausel",null,0,null,0,{"$f":"Hpfl!P56*$B$333","v":0},0,0,null,0.2,null,null,0.5,0.11,null,null,0]
[null,"Schäden an Kundenfahrzeugen - Servicestationen u. Garagen H1020",0.25,100,{"$f":"$E$335*C372","v":375000},270,{"$f":"$C$330*20%","v":0},null,0,{"$f":"Hpfl!P57*$B$333","v":0},0,0,null,0.2,null,null,0.5,0.11,null,null,0]
[null,"Schäden an Kundenfahrzeugen - Reifenhandel H1021",0.25,100,{"$f":"$E$335*C373","v":375000},135,{"$f":"$C$330*20%","v":0},null,0,{"$f":"Hpfl!P58*$B$333","v":0},0,0,null,0.2,null,null,0.5,0.11,null,null,0]
[null,"Schäden an Kundenfahrzeugen - Tankstellen ohne Servicetätigkeiten H1022",0.25,100,{"$f":"$E$335*C374","v":375000},270,{"$f":"$C$330*20%","v":0},null,0,{"$f":"Hpfl!P59*$B$333","v":0},0,0,null,0.2,null,null,0.5,0.11,null,null,0]
[null,"Schadenersatzverpflichtung wegen Schäden an Kfz bei Überprüfung nach § 57a KFG H1065",0.25,300,{"$f":"$E$335*C375","v":375000},270,{"$f":"$C$330*5%","v":0},null,0,{"$f":"Hpfl!P60*$B$333","v":0},0,0,null,0.2,null,null,0.5,0.11,null,null,0]
[null,"Tätigkeit an beweglichen Sachen H1030",0.25,300,{"$f":"$E$335*C376","v":375000},300,{"$f":"$C$330*25%","v":0},null,0,{"$f":"Hpfl!P61*$B$333","v":0},0,0,null,0.2,null,null,0.5,0.11,null,null,0]
[null,"Verlust, Abhandenkommen und Diebstahl von - zur Durchführung von Reinigungsarbeiten - in Verwahrung genommener Schlüssel.    ",null,"kein SB","wählbar",null,{"$f":"J377*100/1000","v":0},null,null,{"$f":"Hpfl!P62*$B$333","v":0},{"$f":"G377","v":0},0,null,0.2,null,null,0.5,0.11,null,null,0]
[null,"Berge- und Abschleppschäden an fremden Kraftfahrzeugen H1052",0.25,300,{"$f":"$E$335*C378","v":375000},null,250,null,0,{"$f":"Hpfl!P63*$B$333","v":0},{"$f":"MAX(G378,F378)*J378*(1+I378)","v":0},0,null,0.2,null,null,0.5,0.11,null,null,0]
[null,"Reit- bzw. Fahrlehrer H1693",1,"kein SB",{"$f":"$E$335*C379","v":1500000},null,40,null,0,{"$f":"Hpfl!P64*$B$333","v":0},0,0,null,0.2,null,null,0.5,0.11,null,null,0]
[null,"Gaststallung H1737",null,"kein SB","wählbar",null,{"$f":"15/1000","v":1.4999999999999999E-2},null,null,{"$f":"Hpfl!P65*$B$333","v":0},0,0,null,0.2,null,null,0.5,0.11,null,null,0]
[null,"eigene(s) Pferd(e) inkl. Kutschenfahrten H1695",1,"kein SB",{"$f":"$E$335*C381","v":1500000},null,70,null,0,{"$f":"Hpfl!P66*$B$333","v":0},0,0,null,0.2,null,null,0.5,0.11,null,null,0]
[null,"fremde(s) Pferd(e) inkl. Kutschenfahrten H1695",1,"kein SB",{"$f":"$E$335*C382","v":1500000},null,40,null,0,{"$f":"Hpfl!P67*$B$333","v":0},0,0,null,0.2,null,null,0.5,0.11,null,null,0]
[null,"Auslandsdeckung für die gesamte Erde (ausgenommen USA, Kanada u. Australien) H3701",1,"kein SB",{"$f":"$E$335*C383","v":1500000},null,{"$f":"($K$335+$K$336)/(1+I335)*$AD$336","v":0},null,0,{"$f":"Hpfl!P68*$B$333","v":0},0,0,null,0.2,null,null,0.5,0.11,null,null,{"$f":"IF($B$333=0,0,K383*L383*(1-M383)*(1-N383)*(1-O383)*(1-P383)*(1-Q383)*(1+R383)*(1+S383)*(1+T383))","v":0}]
[null,"Import aus allen Ländern der Erde H3750",1,"kein SB",{"$f":"$E$335*C384","v":1500000},null,{"$f":"($K$335+$K$336)/(1+I335)*$AD$336","v":0},null,0,{"$f":"Hpfl!P69*$B$333","v":0},0,0,null,0.2,null,null,0.5,0.11,null,null,{"$f":"IF($B$333=0,0,K384*L384*(1-M384)*(1-N384)*(1-O384)*(1-P384)*(1-Q384)*(1+R384)*(1+S384)*(1+T384))","v":0}]
[null,"Erweiterte Produktehaftpflicht (örtlicher Geltungsbereich EU) - Höherversicherung",null,300,"wählbar",null,{"$f":"F333/1000*AG343","v":0},null,{"$f":"Hpfl!U101","v":0},{"$f":"Hpfl!P70*$B$333","v":0},{"$f":"MAX(G385,F385)*J385*(1+I385)","v":0},0,null,0.2,null,null,0.5,0.11,null,null,{"$f":"IF($B$333=0,0,K385*L385*(1-M385)*(1-N385)*(1-O385)*(1-P385)*(1-Q385)*(1+R385)*(1+S385)*(1+T385))","v":0}]
[null,"Erweiterte Produktehaftpflicht - Bewusster Export - Auslandsdeckung für gesamte Erde (ausgenommen USA, Kanada, Australien)",null,300,"wählbar",null,{"$f":"G385","v":0},null,null,{"$f":"Hpfl!P71","v":0},{"$f":"K385*J386","v":0},0,null,0.2,null,null,0.5,0.11,null,null,{"$f":"IF($B$333=0,0,K386*L386*(1-M386)*(1-N386)*(1-O386)*(1-P386)*(1-Q386)*(1+R386)*(1+S386)*(1+T386))","v":0}]
[null,"Erweiterte Mietsachschäden H1192",null,300,100000,null,100,null,null,{"$f":"Hpfl!P72*$B$333","v":0},{"$f":"MAX(G387,F387)*J387*(1+I387)","v":0},0,null,0.2,null,null,0.5,0.11,null,null,{"$f":"IF($B$333=0,0,K387*L387*(1-M387)*(1-N387)*(1-O387)*(1-P387)*(1-Q387)*(1+R387)*(1+S387)*(1+T387))","v":0}]
[{"$f":"SUM(A355:A364)","v":0},null,null,null,null,null,null,null,null,"Gesamt",{"$f":"IF(B333=0,0,SUM(K335:K387))","v":0},{"$f":"$B$333","v":0},null,{"$f":"$C$9","v":0.2},null,null,0.5,0.11,null,null,{"$f":"SUM(U335:U387)","v":0}]
[null,null,null,"Prämie Basispaket","MP inkl Zuschlag VS","Zuschlag",null,null,null,"ehemals Mindestprmäiencheck, nicht mehr erforderlich da neue Berechnungsmethode seit 05/2020"]
[null,null,null,{"$f":"SUMIF(H337:H387,\"ja\",K337:K387)","v":0},{"$f":"F333*(1+I335)","v":0},{"$f":"MAX(0,E390-D390)","v":0},null,null,null,"für Antrag",{"$f":"K388+K389","v":0},0,null,0.2,null,null,0.5,0.11,null,null,{"$f":"K390*L390*(1-M390)*(1-N390)*(1-O390)*(1-P390)*(1-Q390)*(1+R390)*(1+S390)*(1+T390)","v":0}]
[]
[null,null,null,null,null,{"$f":"200*2.1*2","v":840},{"$f":"200*310","v":62000}]
[null,"Sparte gewählt"]
[null,{"$f":"Hpfl!P6","v":0},null,null,null,null,null,null,null,null,null,null,"Nachlässe",null,null,null,null,"Zuschläge"]
["Haftpflicht für Haus- und Grundbesitz",{"$f":"IF(B394=1,A395,A395&\": Sparte nicht gewählt\")","v":"Haftpflicht für Haus- und Grundbesitz: Sparte nicht gewählt"},"Art","%o-Satz","Gebäudwert","VS inkludiert","VS Anzeige","VS Berechnung",null,null,"Tarifprämie","Sparte gewählt",{"$f":"'Berechnung Sparten'!$B$8","v":"NÖ-Vorteil (außer F)"},{"$f":"'Berechnung Sparten'!$B$9","v":"Laufzeit-Nachlass"},null,null,"Sondernachlass",{"$f":"'Berechnung Sparten'!$B$10","v":"Steuer"},null,null,"Zahlprämie",null,"Anzeige Art",null,null,null,"Prämiensatz",{"$f":"0.2/1000","v":2.0000000000000001E-4}]
[null,"Haftpflicht für Haus- und Grundbesitz","ER",{"$f":"AB397","v":2.0000000000000001E-4},{"$f":"T8","v":0},null,{"$f":"Hpfl!R6*B394","v":0},{"$f":"E396","v":0},null,null,{"$f":"H396*D396","v":0},{"$f":"$B$394","v":0},null,{"$f":"$C$9","v":0.2},null,null,{"$f":"$C$11","v":0.5},{"$f":"$D$10","v":0.11},null,null,{"$f":"K396*L396*(1-M396)*(1-N396)*(1-O396)*(1-P396)*(1-Q396)*(1+R396)*(1+S396)*(1+T396)","v":0},null,{"$f":"IF(F396=\"\",C396,C396&\" (\"&F396&\" inkl.)\")","v":"ER"},null,null,null,"Zuschlag",{"$f":"Hpfl!S6","v":0}]
[null,"Sachschäden durch Umweltstörung inkl. Umweltsanierungskosten (USK) H4631, H2630","ER",55,{"$f":"Hpfl!P8","v":0},null,600000,{"$f":"E397","v":0},null,null,{"$f":"H397*D397","v":0},{"$f":"$B$394","v":0},null,{"$f":"$C$9","v":0.2},null,null,{"$f":"$C$11","v":0.5},{"$f":"$D$10","v":0.11},null,null,{"$f":"K397*L397*(1-M397)*(1-N397)*(1-O397)*(1-P397)*(1-Q397)*(1+R397)*(1+S397)*(1+T397)","v":0},null,{"$f":"IF(F397=\"\",C397,C397&\" (\"&F397&\" inkl.)\")","v":"ER"},null,null,null,"Prämiensatz",{"$f":"AB395*(1+AB396)","v":2.0000000000000001E-4}]
[null,null,null,null,null,null,null,null,null,"Gesamt",{"$f":"SUM(K396:K397)","v":0},{"$f":"$B$394","v":0},null,{"$f":"$C$9","v":0.2},null,null,{"$f":"$C$11","v":0.5},{"$f":"$D$10","v":0.11},null,null,{"$f":"SUM(U396:U397)","v":0}]
[null,null,null,null,null,null,null,null,null,"MP",0,{"$f":"$B$394","v":0},null,{"$f":"$C$9","v":0.2},null,null,null,{"$f":"$D$10","v":0.11},null,null,{"$f":"K399*L399*(1-M399)*(1-N399)*(1-O399)*(1-P399)*(1-Q399)*(1+R399)*(1+S399)*(1+T399)","v":0}]
[null,null,null,null,null,null,null,null,null,"für Antrag",{"$f":"MAX(K398:K399)*L400","v":0},{"$f":"$B$394","v":0},null,{"$f":"$C$9","v":0.2},null,null,null,null,null,null,{"$f":"MAX(U398:U399)","v":0}]
[]
[null,"Sparte gewählt"]
[null,{"$f":"Sach!P271","v":0},"Prämiensatz",{"$f":"Q5","v":0},{"$f":"IF(D403=0,\"Sparte für Branche nicht möglich\",\"\")","v":"Sparte für Branche nicht möglich"},null,null,null,null,null,null,null,"Nachlässe",null,null,null,null,"Zuschläge"]
["Technik Pauschal",{"$f":"IF(B403=1,A404,A404&\": Sparte nicht gewählt\")","v":"Technik Pauschal: Sparte nicht gewählt"},"Art","%o-Satz","VS gewählt","VS inkludiert","VS Anzeige","VS Berechnung",null,null,"Tarifprämie","Sparte gewählt",{"$f":"'Berechnung Sparten'!$B$8","v":"NÖ-Vorteil (außer F)"},{"$f":"'Berechnung Sparten'!$B$9","v":"Laufzeit-Nachlass"},"Nachlass VS, SB",null,"Sondernachlass",{"$f":"'Berechnung Sparten'!$B$10","v":"Steuer"},null,null,"Zahlprämie",null,"Anzeige Art"]
[null,"Grunddeckung","VS",{"$f":"D403/1000","v":0},{"$f":"T9","v":0},null,{"$f":"E405*B403","v":0},{"$f":"MAX(0,E405-F405)","v":0},null,null,{"$f":"H405*D405","v":0},{"$f":"$B$403","v":0},null,{"$f":"$E$9","v":0.1},{"$f":"Sach!$R$277","v":0},null,{"$f":"$C$11","v":0.5},{"$f":"$D$10","v":0.11},null,null,{"$f":"K405*L405*(1-M405)*(1-N405)*(1-O405)*(1-P405)*(1-Q405)*(1+R405)*(1+S405)*(1+T405)","v":0},null,{"$f":"IF(F405=\"\",C405,C405&\" (\"&F405&\" inkl.)\")","v":"VS"}]
[null,"Erd- und Grabarbeiten sowie Wiederherstellung der Oberfläche gem. MB368","ER",{"$f":"80/1000","v":0.08},{"$f":"Sach!J273","v":0},null,{"$f":"MAX(E406:F406)*B403","v":0},{"$f":"MAX(0,E406-F406)","v":0},null,null,{"$f":"H406*D406","v":0},{"$f":"$B$403","v":0},null,{"$f":"$E$9","v":0.1},{"$f":"Sach!$R$277","v":0},null,{"$f":"$C$11","v":0.5},{"$f":"$D$10","v":0.11},null,null,{"$f":"K406*L406*(1-M406)*(1-N406)*(1-O406)*(1-P406)*(1-Q406)*(1+R406)*(1+S406)*(1+T406)","v":0},null,{"$f":"IF(F406=\"\",C406,C406&\" (\"&F406&\" inkl.)\")","v":"ER"}]
[null,null,null,null,null,null,null,null,null,"Gesamt",{"$f":"K405+K406","v":0},{"$f":"$B$403","v":0},null,{"$f":"$E$9","v":0.1},null,null,{"$f":"$C$11","v":0.5},{"$f":"$D$10","v":0.11},null,null,{"$f":"SUM(U405:U406)","v":0}]
[null,null,null,null,null,null,null,null,null,"MP",150,{"$f":"$B$403","v":0},null,{"$f":"$E$9","v":0.1},null,null,null,{"$f":"$D$10","v":0.11},null,null,{"$f":"K408*L408*(1-M408)*(1-N408)*(1-O408)*(1-P408)*(1-Q408)*(1+R408)*(1+S408)*(1+T408)","v":0}]
[null,null,null,null,null,null,null,null,null,"für Antrag",{"$f":"MAX(K407:K408)*L409","v":0},{"$f":"$B$403","v":0},null,{"$f":"$E$9","v":0.1},null,null,null,null,null,null,{"$f":"MAX(U407:U408)","v":0}]
[]
[null,"Sparte gewählt"]
[null,{"$f":"Sach!P278","v":0},"Prämiensatz",{"$f":"Q14","v":0},null,null,null,null,null,null,null,null,"Nachlässe",null,null,null,null,"Zuschläge"]
["Technik Indirekter Blitz",{"$f":"IF(B412=1,A413,A413&\": Sparte nicht gewählt\")","v":"Technik Indirekter Blitz: Sparte nicht gewählt"},"Art","%o-Satz","VS gewählt","VS inkludiert","VS Anzeige","VS Berechnung",null,null,"Tarifprämie","Sparte gewählt",{"$f":"'Berechnung Sparten'!$B$8","v":"NÖ-Vorteil (außer F)"},{"$f":"'Berechnung Sparten'!$B$9","v":"Laufzeit-Nachlass"},"Risikonachlass",null,"Sondernachlass",{"$f":"'Berechnung Sparten'!$B$10","v":"Steuer"},null,null,"Zahlprämie",null,"Anzeige Art"]
[null,"Indirekter Blitz an KTE gem. MB301 (Selbstbehalt 200)","ER",{"$f":"25/1000","v":2.5000000000000001E-2},{"$f":"Sach!J279","v":0},null,{"$f":"E414*B412","v":0},{"$f":"MAX(0,E414-F414)","v":0},null,null,{"$f":"H414*D414","v":0},{"$f":"$B$412","v":0},null,{"$f":"$E$9","v":0.1},null,null,{"$f":"$C$11","v":0.5},{"$f":"$D$10","v":0.11},null,null,{"$f":"K414*L414*(1-M414)*(1-N414)*(1-O414)*(1-P414)*(1-Q414)*(1+R414)*(1+S414)*(1+T414)","v":0},null,{"$f":"IF(F414=\"\",C414,C414&\" (\"&F414&\" inkl.)\")","v":"ER"}]
[null,"Erd- und Grabarbeiten sowie Wiederherstellung der Oberfläche gem. MB368","ER",{"$f":"80/1000","v":0.08},{"$f":"Sach!J280","v":0},null,{"$f":"MAX(E415:F415)*B412","v":0},{"$f":"MAX(0,E415-F415)","v":0},null,null,{"$f":"H415*D415","v":0},{"$f":"$B$412","v":0},null,{"$f":"$E$9","v":0.1},null,null,{"$f":"$C$11","v":0.5},{"$f":"$D$10","v":0.11},null,null,{"$f":"K415*L415*(1-M415)*(1-N415)*(1-O415)*(1-P415)*(1-Q415)*(1+R415)*(1+S415)*(1+T415)","v":0},null,{"$f":"IF(F415=\"\",C415,C415&\" (\"&F415&\" inkl.)\")","v":"ER"}]
[null,null,null,null,null,null,null,null,null,"Gesamt",{"$f":"K414+K415","v":0},{"$f":"$B$412","v":0},null,{"$f":"$E$9","v":0.1},null,null,{"$f":"$C$11","v":0.5},{"$f":"$D$10","v":0.11},null,null,{"$f":"SUM(U414:U415)","v":0}]
[null,null,null,null,null,null,null,null,null,"MP",100,{"$f":"$B$412","v":0},null,{"$f":"$E$9","v":0.1},null,null,null,{"$f":"$D$10","v":0.11},null,null,{"$f":"K417*L417*(1-M417)*(1-N417)*(1-O417)*(1-P417)*(1-Q417)*(1+R417)*(1+S417)*(1+T417)","v":0}]
[null,null,null,null,null,null,null,null,null,"für Antrag",{"$f":"MAX(K416:K417)*L418","v":0},{"$f":"$B$412","v":0},null,{"$f":"$E$9","v":0.1},null,null,null,null,null,null,{"$f":"MAX(U416:U417)","v":0}]
[]
[]
[null,"Sparte gewählt"]
[null,{"$f":"Sach!P285","v":0},null,null,null,null,null,null,null,null,null,null,"Nachlässe",null,null,null,null,"Zuschläge"]
["EDV-Geräte",{"$f":"IF(B422=1,A423,A423&\": Sparte nicht gewählt\")","v":"EDV-Geräte: Sparte nicht gewählt"},"Art","%o-Satz","VS gewählt","VS inkludiert","VS Anzeige","VS Berechnung","MP",null,"Tarifprämie","Sparte gewählt",{"$f":"'Berechnung Sparten'!$B$8","v":"NÖ-Vorteil (außer F)"},{"$f":"'Berechnung Sparten'!$B$9","v":"Laufzeit-Nachlass"},"Risikonachlass",null,"Sondernachlass",{"$f":"'Berechnung Sparten'!$B$10","v":"Steuer"},null,null,"Zahlprämie",null,"Anzeige Art"]
[null,"Stationäre Geräte","Neuwert",{"$f":"12/1000","v":1.2E-2},{"$f":"Sach!J286","v":0},null,{"$f":"MAX(E424:F424)*$B$422","v":0},{"$f":"MAX(0,E424-F424)","v":0},75,null,{"$f":"IF(E424=0,0,MAX(H424*D424,I424))","v":0},{"$f":"$B$422","v":0},null,{"$f":"$E$9","v":0.1},null,null,{"$f":"$C$11","v":0.5},{"$f":"$H$10","v":0.112},null,null,{"$f":"K424*L424*(1-M424)*(1-N424)*(1-O424)*(1-P424)*(1-Q424)*(1+R424)*(1+S424)*(1+T424)","v":0},null,"Neuwert"]
[null,"Tragbares Gerät 1","Neuwert",{"$f":"100/1000","v":0.1},{"$f":"Sach!J288","v":0},null,{"$f":"MAX(E425:F425)*$B$422","v":0},0,100,null,{"$f":"IF(E425=0,0,MAX(H425*D425,I425))","v":0},{"$f":"$B$422","v":0},null,{"$f":"$E$9","v":0.1},null,null,{"$f":"$C$11","v":0.5},{"$f":"$H$10","v":0.112},null,null,{"$f":"K425*L425*(1-M425)*(1-N425)*(1-O425)*(1-P425)*(1-Q425)*(1+R425)*(1+S425)*(1+T425)","v":0},null,{"$f":"IF(E425=0,\"\",\"Marke/Type: \"&Sach!G288&\", Neuwert \"&'Berechnung Sparten'!E425)","v":""}]
[null,"Tragbares Gerät 2","Neuwert",{"$f":"100/1000","v":0.1},{"$f":"Sach!J289","v":0},null,0,0,100,null,0,0,null,0.1,null,null,0.5,0.112,null,null,0,null,{"$f":"IF(E426=0,\"\",\"Marke/Type: \"&Sach!G289&\", Neuwert \"&'Berechnung Sparten'!E426)","v":""}]
[null,"Tragbares Gerät 3","Neuwert",{"$f":"100/1000","v":0.1},{"$f":"Sach!J290","v":0},null,0,0,100,null,0,0,null,0.1,null,null,0.5,0.112,null,null,0,null,{"$f":"IF(E427=0,\"\",\"Marke/Type: \"&Sach!G290&\", Neuwert \"&'Berechnung Sparten'!E427)","v":""}]
[null,"Tragbares Gerät 4","Neuwert",{"$f":"100/1000","v":0.1},{"$f":"Sach!J291","v":0},null,0,0,100,null,0,0,null,0.1,null,null,0.5,0.112,null,null,0,null,{"$f":"IF(E428=0,\"\",\"Marke/Type: \"&Sach!G291&\", Neuwert \"&'Berechnung Sparten'!E428)","v":""}]
[null,"Tragbares Gerät 5","Neuwert",{"$f":"100/1000","v":0.1},{"$f":"Sach!J292","v":0},null,0,0,100,null,0,0,null,0.1,null,null,0.5,0.112,null,null,0,null,{"$f":"IF(E429=0,\"\",\"Marke/Type: \"&Sach!G292&\", Neuwert \"&'Berechnung Sparten'!E429)","v":""}]
[null,"Datenträger","Kosten",{"$f":"20/1000","v":0.02},{"$f":"Sach!J293","v":10000},null,0,10000,75,null,200,0,null,0.1,null,null,0.5,0.112,null,null,0,null,{"$f":"IF(F430=\"\",C430,C430&\" (\"&F430&\" inkl.)\")","v":"Kosten"}]
[null,"Mehrkosten Weiterführung","Kosten",{"$f":"Sach!S293","v":4.4999999999999998E-2},{"$f":"Sach!J294","v":0},null,0,0,150,null,0,0,null,0.1,null,null,0.5,0.112,null,null,{"$f":"K431*L431*(1-M431)*(1-N431)*(1-O431)*(1-P431)*(1-Q431)*(1+R431)*(1+S431)*(1+T431)","v":0},null,{"$f":"IF(E431=0,\"\",\"Mehrkosten \"&E431&\", Haftungszeit \"&Sach!R293)","v":""}]
[null,null,null,null,null,null,null,null,null,"Gesamt",{"$f":"SUM(K424:K431)","v":200},0,null,0.1,null,null,{"$f":"$C$11","v":0.5},0.112,null,null,{"$f":"SUM(U424:U431)","v":0}]
[null,null,null,null,null,null,null,null,null,"MP",20,0,null,0.1,null,null,null,0.112,null,null,{"$f":"K433*L433*(1-M433)*(1-N433)*(1-O433)*(1-P433)*(1-Q433)*(1+R433)*(1+S433)*(1+T433)","v":0}]
[null,null,null,null,null,null,null,null,null,"für Antrag",{"$f":"MAX(K432:K433)*L434","v":0},0,null,0.1,null,null,null,null,null,null,{"$f":"MAX(U432:U433)","v":0}]
[]
[]
[null,"Sparte gewählt"]
[null,{"$f":"Sach!P299","v":0},null,null,null,null,null,null,null,null,null,null,"Nachlässe",null,null,null,null,"Zuschläge"]
["Kühlgut",{"$f":"IF(B438=1,A439,A439&\": Sparte nicht gewählt\")","v":"Kühlgut: Sparte nicht gewählt"},"Art","%o-Satz","VS gewählt","VS inkludiert","VS Anzeige","VS Berechnung",null,null,"Tarifprämie","Sparte gewählt",{"$f":"'Berechnung Sparten'!$B$8","v":"NÖ-Vorteil (außer F)"},{"$f":"'Berechnung Sparten'!$B$9","v":"Laufzeit-Nachlass"},"Risikonachlass",null,"Sondernachlass",{"$f":"'Berechnung Sparten'!$B$10","v":"Steuer"},null,null,"Zahlprämie"]
[null,"Kühlgut","VS",{"$f":"X443","v":0.04},{"$f":"Sach!J300","v":0},null,{"$f":"MAX(E440:F440)*B438","v":0},{"$f":"MAX(0,E440-F440)","v":0},null,null,{"$f":"H440*D440","v":0},{"$f":"$B$438","v":0},null,{"$f":"$E$9","v":0.1},null,null,{"$f":"$C$11","v":0.5},{"$f":"$H$10","v":0.112},null,null,{"$f":"K440*L440*(1-M440)*(1-N440)*(1-O440)*(1-P440)*(1-Q440)*(1+R440)*(1+S440)*(1+T440)","v":0},null,"%-Satz",{"$f":"40/1000","v":0.04}]
[null,null,null,null,null,null,null,null,null,"Gesamt",{"$f":"K440","v":0},{"$f":"$B$438","v":0},null,{"$f":"$E$9","v":0.1},null,null,{"$f":"$C$11","v":0.5},{"$f":"$H$10","v":0.112},null,null,{"$f":"SUM(U440)","v":0},null,"Zuschlag Transport",{"$f":"20%","v":0.2}]
[null,null,null,null,null,null,null,null,null,"MP",20,{"$f":"$B$438","v":0},null,{"$f":"$E$9","v":0.1},null,null,null,{"$f":"$H$10","v":0.112},null,null,{"$f":"K442*L442*(1-M442)*(1-N442)*(1-O442)*(1-P442)*(1-Q442)*(1+R442)*(1+S442)*(1+T442)","v":0},null,"Transport j/n",{"$f":"Sach!P300","v":0}]
[null,null,null,null,null,null,null,null,null,"für Antrag",{"$f":"MAX(K441:K442)*L443","v":0},{"$f":"$B$438","v":0},null,{"$f":"$E$9","v":0.1},null,null,null,null,null,null,{"$f":"MAX(U441:U442)","v":0},null,"Gesamt",{"$f":"X440*(1+X441*X442)","v":0.04}]
[]
[]
[null,"Sparte gewählt"]
[null,{"$f":"Sach!P305","v":0},null,null,null,null,null,null,null,null,null,null,"Nachlässe",null,null,null,null,"Zuschläge"]
["Transport",{"$f":"IF(B447=1,A448,A448&\": Sparte nicht gewählt\")","v":"Transport: Sparte nicht gewählt"},"Art","%o-Satz","VS gewählt","VS inkludiert","VS Anzeige","VS Berechnung",null,null,"Tarifprämie","Sparte gewählt",{"$f":"'Berechnung Sparten'!$B$8","v":"NÖ-Vorteil (außer F)"},{"$f":"'Berechnung Sparten'!$B$9","v":"Laufzeit-Nachlass"},"Risikonachlass",null,"Sondernachlass",{"$f":"'Berechnung Sparten'!$B$10","v":"Steuer"},null,null,"Zahlprämie",null,"Anzeige Art"]
[null,"Transport","ER",null,null,null,null,null,null,null,{"$f":"Sach!R317","v":0},{"$f":"$B$447","v":0},null,{"$f":"$C$9","v":0.2},null,null,{"$f":"Kundendaten!$D$67","v":0.2},{"$f":"$J$10","v":0.126},null,null,{"$f":"K449*L449*(1-M449)*(1-N449)*(1-O449)*(1-P449)*(1-Q449)*(1+R449)*(1+S449)*(1+T449)","v":0},null,{"$f":"IF(F449=\"\",C449,C449&\" (\"&F449&\" inkl.)\")","v":"ER"}]
[null,null,null,null,null,null,null,null,null,"Gesamt",{"$f":"K449","v":0},{"$f":"$B$447","v":0},null,{"$f":"$C$9","v":0.2},null,null,{"$f":"Kundendaten!$D$67","v":0.2},{"$f":"$J$10","v":0.126},null,null,{"$f":"SUM(U449)","v":0}]
[null,null,null,null,null,null,null,null,null,"MP",0,{"$f":"$B$447","v":0},null,{"$f":"$C$9","v":0.2},null,null,null,{"$f":"$J$10","v":0.126},null,null,{"$f":"K451*L451*(1-M451)*(1-N451)*(1-O451)*(1-P451)*(1-Q451)*(1+R451)*(1+S451)*(1+T451)","v":0}]
[null,null,null,null,null,null,null,null,null,"für Antrag",{"$f":"MAX(K450:K451)*L452","v":0},{"$f":"$B$447","v":0},null,{"$f":"$C$9","v":0.2},null,null,null,null,null,null,{"$f":"MAX(U450:U451)","v":0}]
[null,"Sparte gewählt"]
[null,{"$f":"RS!S6","v":0}]
["Firmenrechtsschutz",{"$f":"IF(B454=1,A455,A455&\": Sparte nicht gewählt\")","v":"Firmenrechtsschutz: Sparte nicht gewählt"},"Art","%o-Satz","VS gewählt","VS inkludiert","VS Anzeige","VS Berechnung",null,null,"Tarifprämie","Sparte gewählt",{"$f":"'Berechnung Sparten'!$B$8","v":"NÖ-Vorteil (außer F)"},{"$f":"'Berechnung Sparten'!$B$9","v":"Laufzeit-Nachlass"},null,null,"Sondernachlass",{"$f":"'Berechnung Sparten'!$B$10","v":"Steuer"},"EU-Deckung",null,"Zahlprämie",null,"Deckung?",null,"RS-Gruppe",{"$f":"'Berechnung Sparten'!R5","v":0}]
[null,"Grunddeckung für Betrieb, Dienstnehmer und Betriebsinhaber","VS",{"$f":"'RS Grunddeckung'!C10/1000","v":{"$error":"#N/A"}},141000,null,{"$f":"IF(B454=1,\"ja\",\"nein\")","v":"nein"},{"$f":"E456*$B$454","v":0},null,null,{"$f":"H456*D456","v":{"$error":"#N/A"}},{"$f":"$B$454","v":0},null,{"$f":"$C$9","v":0.2},null,null,{"$f":"Kundendaten!$D$64","v":0.35},{"$f":"$D$10","v":0.11},{"$f":"IF(RS!$R$7=TRUE,20%,0)","v":0},null,{"$f":"IF($B$454=0,0,K456*L456*(1-M456)*(1-N456)*(1-O456)*(1-P456)*(1-Q456)*(1+R456)*(1+S456)*(1+T456))","v":0},null,{"$f":"IF(U456=0,\"nein\",\"ja\")","v":"nein"},null,null,null,"gratis für Gruppe","Promille"]
[null,"LMG-Gegenprobenziehung gem. RV849","ER",{"$f":"AB457","v":7.5000000000000002E-4},{"$f":"RS!S11","v":0},{"$f":"Sach!S390","v":0},{"$f":"IF(OR(Z455=2,Z455=3),\"ja\",IF(E457=0,\"nein\",\"ja\"))","v":"nein"},{"$f":"E457*$B$454","v":0},null,null,{"$f":"H457*D457","v":0},{"$f":"$B$454","v":0},null,0.2,null,null,{"$f":"Kundendaten!$D$64","v":0.35},0.11,{"$f":"IF(RS!$R$7=TRUE,20%,0)","v":0},null,{"$f":"IF($B$454=0,0,K457*L457*(1-M457)*(1-N457)*(1-O457)*(1-P457)*(1-Q457)*(1+R457)*(1+S457)*(1+T457))","v":0},null,null,null,"LMG-Gegenproben",{"$f":"0.75/1000","v":7.5000000000000002E-4},2.2999999999999998,{"$f":"IF(OR(Z455=2,Z455=3),0,Z457)","v":7.5000000000000002E-4}]
[null,"Allgemeiner Vertrags-Rechtsschutz","ER",{"$f":"'RS Grunddeckung'!E10/1000","v":{"$error":"#N/A"}},{"$f":"RS!Y41","v":0},{"$f":"Sach!S391","v":0},{"$f":"IF(E458=0,\"nein\",\"ja\")","v":"nein"},{"$f":"E458*$B$454","v":0},null,null,{"$f":"E456*D458","v":{"$error":"#N/A"}},0,null,0.2,null,null,{"$f":"Kundendaten!$D$64","v":0.35},0.11,{"$f":"IF(RS!$R$7=TRUE,20%,0)","v":0},null,{"$f":"IF($B$454=0,0,K458*L458*(1-M458)*(1-N458)*(1-O458)*(1-P458)*(1-Q458)*(1+R458)*(1+S458)*(1+T458))","v":0},null,null,null,"Handelsverterter",{"$f":"0.75/1000","v":7.5000000000000002E-4},5,{"$f":"IF(Z455=5,0,Z458)","v":7.5000000000000002E-4}]
[null,"Streitigkeiten aus dem Bereich des Handelsvertreterrechts","ER",{"$f":"AB458","v":7.5000000000000002E-4},{"$f":"RS!S13","v":0},{"$f":"Sach!S392","v":0},{"$f":"IF(AND(E458>0,Z455=5),\"ja\",IF(E459=0,\"nein\",\"ja\"))","v":"nein"},{"$f":"E459*$B$454","v":0},null,null,{"$f":"IF(K458=0,0,H459*D459)","v":{"$error":"#N/A"}},0,null,0.2,null,null,{"$f":"Kundendaten!$D$64","v":0.35},0.11,{"$f":"IF(RS!$R$7=TRUE,20%,0)","v":0},null,{"$f":"IF($B$454=0,0,K459*L459*(1-M459)*(1-N459)*(1-O459)*(1-P459)*(1-Q459)*(1+R459)*(1+S459)*(1+T459))","v":0}]
[null,null,null,null,null,null,null,null,null,"Gesamt",{"$f":"SUM(K456:K459)","v":{"$error":"#N/A"}},0,null,{"$f":"$C$9","v":0.2},null,null,null,0.11,null,null,{"$f":"SUM(U456:U459)","v":0}]
[null,null,null,null,null,null,{"$f":"105000*44/1000+K457+K459","v":{"$error":"#N/A"}},null,null,"MP",0,0,null,0.2,null,null,null,0.11,null,null,{"$f":"IF($B$454=0,0,K461*L461*(1-M461)*(1-N461)*(1-O461)*(1-P461)*(1-Q461)*(1+R461)*(1+S461)*(1+T461))","v":0}]
[null,null,null,null,null,null,null,null,null,"für Antrag",{"$f":"MAX(K460:K461)*L462","v":{"$error":"#N/A"}},0,null,0.2,null,null,null,null,null,null,{"$f":"MAX(U460:U461)","v":0}]
[]
[]
[null,"Sparte gewählt"]
[null,{"$f":"RS!S18","v":0},null,"VS",{"$f":"E456","v":141000},null,null,null,null,null,null,null,null,null,null,null,null,null,null,null,null,null,null,null,null,"Geschäftlich befördertes Gut"]
["Fahrzeug- und Lenkerrechtsschutz",{"$f":"IF(B466=1,A467,A467&\": Sparte nicht gewählt\")","v":"Fahrzeug- und Lenkerrechtsschutz: Sparte nicht gewählt"},"Art","%o-Satz","Stk. Gewählt",null,null,null,null,null,"Tarifprämie","Sparte gewählt",{"$f":"'Berechnung Sparten'!$B$8","v":"NÖ-Vorteil (außer F)"},{"$f":"'Berechnung Sparten'!$B$9","v":"Laufzeit-Nachlass"},"Flottennachlass",null,"Sondernachlass",{"$f":"'Berechnung Sparten'!$B$10","v":"Steuer"},"Gesch. bef. Gut",null,"Zahlprämie",null,"Anzeige Art",null,null,"Zuschlag",0.2]
[null,{"$f":"'RS Grunddeckung'!I168","v":"Motor(fahr)räder, vierrädrige Leichtfahrzeuge"},"VS",{"$f":"'RS Grunddeckung'!K168/1000","v":6.7000000000000002E-4},{"$f":"RS!S21","v":0},null,null,null,null,null,{"$f":"E468*D468*$E$466","v":0},{"$f":"$B$466","v":0},null,{"$f":"$C$9","v":0.2},{"$f":"$AA$475","v":0},null,{"$f":"Kundendaten!$D$64","v":0.35},{"$f":"$D$10","v":0.11},{"$f":"$AA$469","v":0},null,{"$f":"K468*L468*(1-M468)*(1-N468)*(1-O468)*(1-P468)*(1-Q468)*(1+R468)*(1+S468)*(1+T468)","v":0},null,null,null,null,"Gewählt?",{"$f":"IF(RS!V47=RS!V43,1,0)","v":0}]
[null,{"$f":"'RS Grunddeckung'!I169","v":"Pkw/Kombi Normaltarif"},null,{"$f":"'RS Grunddeckung'!K169/1000","v":1.33E-3},{"$f":"RS!S22","v":0},null,null,null,null,null,{"$f":"E469*D469*$E$466","v":0},{"$f":"$B$466","v":0},null,0.2,{"$f":"$AA$475","v":0},null,{"$f":"Kundendaten!$D$64","v":0.35},{"$f":"$D$10","v":0.11},{"$f":"$AA$469","v":0},null,{"$f":"K469*L469*(1-M469)*(1-N469)*(1-O469)*(1-P469)*(1-Q469)*(1+R469)*(1+S469)*(1+T469)","v":0},null,null,null,null,"Zuschlag",{"$f":"AA467*AA468","v":0}]
[null,{"$f":"'RS Grunddeckung'!I170","v":"Pkw/Kombi mit gewerbsmäßiger Selbstfahrvermietung"},null,{"$f":"'RS Grunddeckung'!K170/1000","v":3.3250000000000003E-3},{"$f":"RS!S23","v":0},null,null,null,null,null,0,0,null,0.2,0,null,{"$f":"Kundendaten!$D$64","v":0.35},0.11,0,null,0,null,null,null,null,null,null,null,"Fahrzeuge"]
[null,{"$f":"'RS Grunddeckung'!I171","v":"Pkw/Kombi: Taxi"},null,{"$f":"'RS Grunddeckung'!K171/1000","v":0},{"$f":"RS!S24","v":"Anfrage an VT erforderlich"},null,null,null,null,null,null,null,null,null,null,null,{"$f":"Kundendaten!$D$64","v":0.35},null,null,null,null,null,null,null,null,"Flottenachlass",null,null,0,0.05]
[null,{"$f":"'RS Grunddeckung'!I172","v":"Omnibusse"},null,{"$f":"'RS Grunddeckung'!K172/1000","v":3.3300000000000001E-3},{"$f":"RS!S25","v":0},null,null,null,null,null,0,0,null,0.2,0,null,{"$f":"Kundendaten!$D$64","v":0.35},0.11,0,null,0,null,null,null,null,"Fahrzeuge",{"$f":"SUM(E468:E481)","v":0},null,10,0.1]
[null,{"$f":"'RS Grunddeckung'!I173","v":"Lkw bis 1,5 to Nutzlast"},null,{"$f":"'RS Grunddeckung'!K173/1000","v":1.4199999999999998E-3},{"$f":"RS!S26","v":0},null,null,null,null,null,0,0,null,0.2,0,null,{"$f":"Kundendaten!$D$64","v":0.35},0.11,0,null,0,null,null,null,null,"Nachlass",{"$f":"VLOOKUP(AA472,AC471:AD473,2,TRUE)","v":0.05},null,20,0.15]
[null,{"$f":"'RS Grunddeckung'!I174","v":"Lkw über 1,5 to Nutzlast, Sattelzugfahrzeuge"},null,{"$f":"'RS Grunddeckung'!K174/1000","v":1.81E-3},{"$f":"RS!S27","v":0},null,null,null,null,null,0,0,null,0.2,0,null,{"$f":"Kundendaten!$D$64","v":0.35},0.11,0,null,0,null,null,null,null,"Flotte?",{"$f":"IF(AND(AA472>4,RS!V47=RS!V45),1,0)","v":0}]
[null,{"$f":"'RS Grunddeckung'!I175","v":"Zugmaschinen"},null,{"$f":"'RS Grunddeckung'!K175/1000","v":1.33E-3},{"$f":"RS!S28","v":0},null,null,null,null,null,0,0,null,0.2,0,null,{"$f":"Kundendaten!$D$64","v":0.35},0.11,0,null,0,null,null,null,null,"Nachlass",{"$f":"AA473*AA474","v":0}]
[null,{"$f":"'RS Grunddeckung'!I176","v":"Anhänger für Pkw/Kombi (außer Wohnwagen)"},null,{"$f":"'RS Grunddeckung'!K176/1000","v":2.7E-4},{"$f":"RS!S29","v":0},null,null,null,null,null,0,0,null,0.2,0,null,{"$f":"Kundendaten!$D$64","v":0.35},0.11,0,null,0]
[null,{"$f":"'RS Grunddeckung'!I177","v":"Wohnwagenanhänger"},null,{"$f":"'RS Grunddeckung'!K177/1000","v":6.7000000000000002E-4},{"$f":"RS!S30","v":0},null,null,null,null,null,0,0,null,0.2,0,null,{"$f":"Kundendaten!$D$64","v":0.35},0.11,0,null,0]
[null,{"$f":"'RS Grunddeckung'!I178","v":"Sonstige Anhänger (auch Sattelanhänger)"},null,{"$f":"'RS Grunddeckung'!K178/1000","v":4.6999999999999999E-4},{"$f":"RS!S31","v":0},null,null,null,null,null,0,0,null,0.2,0,null,{"$f":"Kundendaten!$D$64","v":0.35},0.11,0,null,0]
[null,{"$f":"'RS Grunddeckung'!I179","v":"Motorkarren"},null,{"$f":"'RS Grunddeckung'!K179/1000","v":4.6999999999999999E-4},{"$f":"RS!S32","v":0},null,null,null,null,null,0,0,null,0.2,0,null,{"$f":"Kundendaten!$D$64","v":0.35},0.11,0,null,0]
[null,{"$f":"'RS Grunddeckung'!I180","v":"Selbstfahrende Arbeitsmaschinen"},null,{"$f":"'RS Grunddeckung'!K180/1000","v":1.47E-3},{"$f":"RS!S33","v":0},null,null,null,null,null,0,0,null,0.2,0,null,{"$f":"Kundendaten!$D$64","v":0.35},0.11,0,null,0]
[null,{"$f":"'RS Grunddeckung'!I181","v":"Probefahrkennzeichen"},null,{"$f":"'RS Grunddeckung'!K181/1000","v":1.81E-3},{"$f":"RS!S34","v":0},null,null,null,null,null,0,0,null,0.2,0,null,{"$f":"Kundendaten!$D$64","v":0.35},0.11,0,null,0]
[null,"Lenker-Rechtsschutz (fremde Fahrzeuge)",null,{"$f":"0.73/1000","v":7.2999999999999996E-4},{"$f":"RS!S35","v":0},null,null,null,null,null,{"$f":"E482*D482*$E$466","v":0},0,null,0.2,null,null,{"$f":"Kundendaten!$D$64","v":0.35},0.11,null,null,{"$f":"K482*L482*(1-M482)*(1-N482)*(1-O482)*(1-P482)*(1-Q482)*(1+R482)*(1+S482)*(1+T482)","v":0}]
[null,null,null,null,null,null,null,null,null,"Gesamt",{"$f":"SUM(K468:K482)","v":0},0,null,null,null,null,null,null,null,null,{"$f":"SUM(U468:U482)","v":0}]
[null,null,null,null,null,null,null,{"$f":"SUM(K483*0.85)","v":0},null,"MP",0,0,null,0.2,0,null,null,0.11,null,null,{"$f":"K484*L484*(1-M484)*(1-N484)*(1-O484)*(1-P484)*(1-Q484)*(1+R484)*(1+S484)*(1+T484)","v":0}]
[null,null,null,null,null,{"$f":"SUM(K468:K481)*0.85","v":0},null,null,null,"für Antrag",{"$f":"MAX(K483:K484)*L485","v":0},0,null,0.2,0,null,null,null,null,null,{"$f":"MAX(U483:U484)","v":0}]
[]
[]
[null,"Sparte gewählt"]
[null,{"$f":"RS!S40","v":0},null,"VS",{"$f":"E466","v":141000}]
["Grundstückseigentums- und Mietrechtsschutz",{"$f":"IF(B489=1,A490,A490&\": Sparte nicht gewählt\")","v":"Grundstückseigentums- und Mietrechtsschutz: Sparte nicht gewählt"},"Art","%o-Satz","Stk./Menge",null,null,null,null,null,"Tarifprämie","Sparte gewählt",{"$f":"'Berechnung Sparten'!$B$8","v":"NÖ-Vorteil (außer F)"},{"$f":"'Berechnung Sparten'!$B$9","v":"Laufzeit-Nachlass"},"Flottennachlass",null,"Sondernachlass",{"$f":"'Berechnung Sparten'!$B$10","v":"Steuer"},"Gesch. bef. Gut",null,"Zahlprämie",null,"Anzeige Art",null,null,null,null,null,"%o"]
["Selbstnutzung","Wohneinheit","Anzahl",{"$f":"AC491/1000","v":1.33E-3},{"$f":"RS!S43","v":0},null,null,null,null,null,{"$f":"D491*$E$456*E491","v":0},{"$f":"$B$489","v":0},null,{"$f":"$C$9","v":0.2},null,null,{"$f":"Kundendaten!$D$64","v":0.35},{"$f":"$D$10","v":0.11},null,null,{"$f":"K491*L491*(1-M491)*(1-N491)*(1-O491)*(1-P491)*(1-Q491)*(1+R491)*(1+S491)*(1+T491)","v":0},null,null,null,null,"Selbstnutzung","Wohneinheit","je Wohneinheit",1.33]
[null,"Einzelgarage oder Abstellplatz","Anzahl",{"$f":"AC492/1000","v":5.2999999999999998E-4},{"$f":"RS!S44","v":0},null,null,null,null,null,{"$f":"D492*$E$456*E492","v":0},{"$f":"$B$489","v":0},null,0.2,null,null,{"$f":"Kundendaten!$D$64","v":0.35},{"$f":"$D$10","v":0.11},null,null,0,null,null,null,null,null,"Einzelgarage oder Abstellplatz","je Garage/Abstellplatz",0.53]
[null,"Unbebautes Grundstück","Fläche m²",5.9999999999999995E-4,{"$f":"ROUNDUP(RS!S45/2500,0)","v":0},null,null,null,null,null,{"$f":"D493*$E$456*E493","v":0},0,null,0.2,null,null,{"$f":"Kundendaten!$D$64","v":0.35},0.11,null,null,0,null,null,null,null,null,"Unbebautes Grundstück","je angefangene 2.500 m²",0.6]
[null,"Gewerbliche Einheit als Mieter","Jahresbruttomiete",{"$f":"AC494","v":0.03},{"$f":"RS!S46","v":0},null,null,null,null,null,{"$f":"D494*E494","v":0},0,null,0.2,null,null,{"$f":"Kundendaten!$D$64","v":0.35},0.11,null,null,0,null,null,null,null,null,"Gewerbliche Einheit als Mieter","Jahresbruttomiete",0.03]
[null,"Gewerbliche Einheit als Eigentümer","überdachte Fläche m²",1.2700000000000001E-3,{"$f":"ROUNDUP(RS!S47/250,0)","v":0},null,null,null,null,null,{"$f":"D495*$E$456*E495","v":0},0,null,0.2,null,null,{"$f":"Kundendaten!$D$64","v":0.35},0.11,null,null,0,null,null,null,null,null,"Gewerbliche Einheit als Eigentümer","je angefangene 250 m² überdachte Fläche",1.27]
["Gebrauchsüberlassung","Wohneinheit","Anzahl",2.2699999999999999E-3,{"$f":"RS!S49","v":0},null,null,null,null,null,{"$f":"D496*$E$456*E496","v":0},0,null,0.2,null,null,{"$f":"Kundendaten!$D$64","v":0.35},0.11,null,null,0,null,null,null,null,"Gebrauchsüberlassung","Wohneinheit","je Wohneinheit",2.27]
[null,"Einzelgarage oder Abstellplatz","Anzahl",5.2999999999999998E-4,{"$f":"RS!S50","v":0},null,null,null,null,null,{"$f":"D497*$E$456*E497","v":0},0,null,0.2,null,null,{"$f":"Kundendaten!$D$64","v":0.35},0.11,null,null,0,null,null,null,null,null,"Einzelgarage oder Abstellplatz","je Garage/Abstellplatz",0.53]
[null,"Unbebautes Grundstück (nicht landw. Genutzt)","Fläche m²",1.07E-3,{"$f":"ROUNDUP(RS!S51/2500,0)","v":0},null,null,null,null,null,{"$f":"D498*$E$456*E498","v":0},0,null,0.2,null,null,{"$f":"Kundendaten!$D$64","v":0.35},0.11,null,null,0,null,null,null,null,null,"Unbebautes Grundstück (nicht landw. Genutzt)","je angefangene 2.500 m²",1.07]
[null,"Gewerbliche Einheit als Vermieter","Jahresbruttomiete",{"$f":"AC499","v":0.03},{"$f":"RS!S52","v":0},null,null,null,null,null,{"$f":"D499*E499","v":0},0,null,0.2,null,null,{"$f":"Kundendaten!$D$64","v":0.35},0.11,null,null,0,null,null,null,null,null,"Gewerbliche Einheit als Vermieter","Jahresbruttomiete",0.03]
[null,null,null,null,null,null,null,null,null,"Gesamt",{"$f":"SUM(K491:K499)","v":0},0,null,null,null,null,null,null,null,null,{"$f":"SUM(U491:U499)","v":0}]
[null,null,null,null,null,null,null,null,null,"MP",0,0,null,{"$f":"$C$9","v":0.2},null,null,null,{"$f":"$D$10","v":0.11},null,null,{"$f":"K501*L501*(1-M501)*(1-N501)*(1-O501)*(1-P501)*(1-Q501)*(1+R501)*(1+S501)*(1+T501)","v":0}]
[null,null,null,null,null,null,null,null,null,"für Antrag",{"$f":"MAX(K500:K501)*L502","v":0},0,null,{"$f":"$C$9","v":0.2},null,null,null,null,null,null,{"$f":"MAX(U500:U501)","v":0}]
[]
[]
[]
[null,"Sparte gewählt"]
[null,{"$f":"Sach!P311","v":0},null,null,null,null,null,null,null,null,null,null,"Nachlässe",null,null,null,null,"Zuschläge"]
["Gewerbe-Soforthilfe",{"$f":"IF(B507=1,A508,A508&\": Sparte nicht gewählt\")","v":"Gewerbe-Soforthilfe: Sparte nicht gewählt"},"Art","%o-Satz","VS gewählt","VS inkludiert","VS Anzeige","VS Berechnung",null,null,"Tarifprämie","Sparte gewählt",{"$f":"'Berechnung Sparten'!$B$8","v":"NÖ-Vorteil (außer F)"},{"$f":"'Berechnung Sparten'!$B$9","v":"Laufzeit-Nachlass"},null,null,"Sondernachlass",{"$f":"'Berechnung Sparten'!$B$10","v":"Steuer"},null,null,"Zahlprämie"]
[null,null,"VS",null,null,null,null,null,null,null,77.7,{"$f":"B507","v":0},null,{"$f":"$C$9","v":0.2},null,null,null,{"$f":"$H$10","v":0.112},null,null,{"$f":"K509*L509*(1-M509)*(1-N509)*(1-O509)*(1-P509)*(1-Q509)*(1+R509)*(1+S509)*(1+T509)","v":0}]

{"sheet":"Hpfl","index":10,"n_rows":114,"n_cols":21,"rows_kept":114,"cut":false,"hidden":false,"merged":[[46,1,46,5],[47,1,47,5],[18,1,18,9],[72,8,72,9],[16,8,16,10],[20,1,20,5],[40,1,40,5],[43,1,43,5],[70,1,70,5],[69,1,69,5],[24,1,24,5],[27,1,27,5],[39,1,39,5],[21,1,21,5],[22,1,22,5],[19,1,19,10],[2,1,2,4],[45,1,45,5],[4,1,4,10],[5,1,5,2],[5,4,5,7],[5,9,5,10],[8,8,8,9],[14,5,14,7],[14,8,14,10],[16,5,16,7],[15,5,15,7],[14,1,16,4],[38,1,38,10],[93,16,93,17],[15,8,15,10],[13,6,13,7],[13,9,13,10],[48,1,48,5],[33,1,33,5],[41,1,41,5],[44,1,44,5],[23,1,23,5],[25,1,25,5],[13,1,13,2],[13,3,13,4],[17,1,17,5],[28,1,28,5],[29,1,29,5],[30,1,30,5],[71,1,71,5],[55,1,55,5],[56,1,56,5],[57,1,57,5],[59,1,59,5],[60,1,60,5],[67,1,67,5],[61,1,61,5],[62,1,62,5],[63,1,63,5],[68,1,68,5],[66,1,66,5],[58,1,58,5],[65,1,65,5],[64,1,64,5],[50,1,50,5],[51,1,51,5],[52,1,52,5],[53,1,53,5],[54,1,54,5],[53,8,55,8],[7,1,7,8],[6,1,6,8],[42,1,42,5],[32,1,32,5],[34,1,34,5],[35,1,35,5],[36,1,36,5],[37,1,37,5],[49,1,49,5],[11,1,11,10],[12,1,12,2],[12,4,12,7],[31,1,31,5],[12,8,12,10],[26,1,26,5]]}
[null,null,null,null,null,null,null,null,null,null,null,null,"Spart möglich","Sparte Grau"]
[]
[null,"Haftpflichtversicherung gewünscht?",null,null,null,null,null,null,null,null,null,null,1,1,false,{"$f":"IF(O3=TRUE,1,0)*M3","v":0}]
[]
[null,"Haus- und Grundbesitzhaftpflicht",null,null,null,null,null,null,null,null,null,null,{"$f":"'Übersicht und Druck'!$E$27","v":0},"x",null,null,null,"VS Gewählt","Zuschlag"]
[null,"Sparte gewählt",null,null,null,null,null,null,"VS",1500000,null,null,{"$f":"'Übersicht und Druck'!$E$27","v":0},{"$f":"M6","v":0},true,{"$f":"IF(O6=TRUE,1,0)*M6","v":0},null,{"$f":"IF(J6=\"\",Hpfl!Q96,J6)","v":1500000},{"$f":"VLOOKUP(R6,Hpfl!Q95:R112,2,FALSE)","v":0}]
[null,"Auswahlbausteine",null,null,null,null,null,null,null,"Auswahl","Prämie",null,{"$f":"'Übersicht und Druck'!$E$27","v":0},{"$f":"M7","v":0}]
[null,{"$f":"'Berechnung Sparten'!B397","v":"Sachschäden durch Umweltstörung inkl. Umweltsanierungskosten (USK) H4631, H2630"},null,null,null,null,null,null,null,null,{"$f":"'Berechnung Sparten'!U397","v":0},null,{"$f":"'Übersicht und Druck'!$E$27","v":0},{"$f":"M8","v":0},false,{"$f":"IF(O8=TRUE,1,0)*P6","v":0}]
[null,null,null,null,null,null,null,null,"Spartenprämie",null,{"$f":"'Berechnung Sparten'!U400","v":0},null,{"$f":"'Übersicht und Druck'!$E$27","v":0},{"$f":"M9","v":0}]
[]
[]
[null,"Haftpflicht",null,null,null,null,null,null,null,null,null,null,{"$f":"'Übersicht und Druck'!$E$26","v":0},"x"]
[null,"Sparte gewählt",null,null,null,null,null,null,null,null,null,null,{"$f":"'Übersicht und Druck'!$E$26","v":0},"x",true,{"$f":"IF(O13=TRUE,1,0)*M13","v":0}]
[null,"Versicherungsumme",null,1500000,null,"Umsatz",null,null,"Lohn-summe",null,null,null,{"$f":"'Übersicht und Druck'!$E$26","v":0},{"$f":"$P$13","v":0}]
[null,"Örtlicher Geltungsbereich",null,null,null,"Import","Export",null,"Keine Erweiterung",null,null,null,{"$f":"'Übersicht und Druck'!$E$26","v":0},0]
[null,null,null,null,null,"Export","Import",null,"Keine Erweiterung",null,null,null,{"$f":"'Übersicht und Druck'!$E$26","v":0},0]
[null,null,null,null,null,"Antei am Gesamtumsatz",null,null,"Bis 25 % des Umsatzes",null,null,null,{"$f":"'Übersicht und Druck'!$E$26","v":0},0]
[null,null,null,null,null,null,"SB 10 max. 1.000 min:","VS",null,"Auswahl","Prämie",null,{"$f":"'Übersicht und Druck'!$E$26","v":0},0]
[null,"Grunddeckung AHVB und allfälliger Zuschlag für Mindestprämie",null,null,null,null,null,null,null,null,{"$f":"'Berechnung Sparten'!U335+'Berechnung Sparten'!U336","v":0},null,{"$f":"'Übersicht und Druck'!$E$26","v":0},0]
[null,"Prämienfreie Zusatzdeckungen",null,null,null,null,null,null,null,null,null,null,1,1]
[null,{"$f":"'Berechnung Sparten'!B337","v":"Auslandsdeckung für Länder der EU inkl. unbewusster Export gesamte Erde (ausgenommen USA, Kanada u. Australien) H3700"},null,null,null,null,{"$f":"'Berechnung Sparten'!D337","v":"kein SB"},{"$f":"'Berechnung Sparten'!E337","v":1500000},null,null,{"$f":"'Berechnung Sparten'!U337","v":0},null,{"$f":"'Übersicht und Druck'!$E$26","v":0},0,null,{"$f":"IF(OR(I21=\"ja\",O21=TRUE),1,0)","v":0}]
[null,{"$f":"'Berechnung Sparten'!B338","v":"Reine Vermögensschäden H1016"},null,null,null,null,{"$f":"'Berechnung Sparten'!D338","v":100},{"$f":"'Berechnung Sparten'!E338","v":750000},null,null,{"$f":"'Berechnung Sparten'!U338","v":0},null,{"$f":"'Übersicht und Druck'!$E$26","v":0},0,null,0]
[null,{"$f":"'Berechnung Sparten'!B339","v":"Arbeitnehmergarderoben H3718"},null,null,null,null,{"$f":"'Berechnung Sparten'!D339","v":"kein SB"},{"$f":"'Berechnung Sparten'!E339","v":1500000},null,null,{"$f":"'Berechnung Sparten'!U339","v":0},null,{"$f":"'Übersicht und Druck'!$E$26","v":0},0,null,0]
[null,{"$f":"'Berechnung Sparten'!B340","v":"genormte Vertragshaftungen H1002"},null,null,null,null,{"$f":"'Berechnung Sparten'!D340","v":100},{"$f":"'Berechnung Sparten'!E340","v":1500000},null,null,{"$f":"'Berechnung Sparten'!U340","v":0},null,{"$f":"'Übersicht und Druck'!$E$26","v":0},0,null,0]
[null,{"$f":"'Berechnung Sparten'!B341","v":"Grundstücke, Gebäude od. Räumlichkeiten die Fremdzwecken dienen (vermietet) - ausgenommen Mietwohnhäuser  H1712"},null,null,null,null,{"$f":"'Berechnung Sparten'!D341","v":"kein SB"},{"$f":"'Berechnung Sparten'!E341","v":1500000},null,null,{"$f":"'Berechnung Sparten'!U341","v":0},null,{"$f":"'Übersicht und Druck'!$E$26","v":0},0,null,0]
[null,{"$f":"'Berechnung Sparten'!B342","v":"gewerbsmäßige Vermietung/Verleihung - ausgenommen reine Verleihbetriebe H3713"},null,null,null,null,{"$f":"'Berechnung Sparten'!D342","v":"kein SB"},{"$f":"'Berechnung Sparten'!E342","v":1500000},null,null,{"$f":"'Berechnung Sparten'!U342","v":0},null,{"$f":"'Übersicht und Druck'!$E$26","v":0},0,null,0]
[null,{"$f":"'Berechnung Sparten'!B343","v":"Bauherrnhaftpflicht - Bauvorhaben bis 1.000.000 H1746"},null,null,null,null,{"$f":"'Berechnung Sparten'!D343","v":"kein SB"},{"$f":"'Berechnung Sparten'!E343","v":1500000},null,null,{"$f":"'Berechnung Sparten'!U343","v":0},null,{"$f":"'Übersicht und Druck'!$E$26","v":0},0,null,0]
[null,{"$f":"'Berechnung Sparten'!B344","v":"Erweiterte Privathaftpflicht (subsidiär) für den Betriebsinhaber, bei Gesellschaften für den jeweiligen Geschäftsführer"},null,null,null,null,{"$f":"'Berechnung Sparten'!D344","v":"kein SB"},{"$f":"'Berechnung Sparten'!E344","v":1500000},null,null,{"$f":"'Berechnung Sparten'!U344","v":0},null,{"$f":"'Übersicht und Druck'!$E$26","v":0},0,null,0]
[null,{"$f":"'Berechnung Sparten'!B345","v":"Anschlussbahnen und gemietete bahneigene Lagerplätze H3751"},null,null,null,null,{"$f":"'Berechnung Sparten'!D345","v":"kein SB"},{"$f":"'Berechnung Sparten'!E345","v":1500000},null,null,{"$f":"'Berechnung Sparten'!U345","v":0},null,{"$f":"'Übersicht und Druck'!$E$26","v":0},0]
[null,{"$f":"'Berechnung Sparten'!B346","v":"Schadenersatzverpflichtungen nach dem Wasserrechtsgesetz H1017"},null,null,null,null,{"$f":"'Berechnung Sparten'!D346","v":"kein SB"},{"$f":"'Berechnung Sparten'!E346","v":1500000},null,null,{"$f":"'Berechnung Sparten'!U346","v":0},null,{"$f":"'Übersicht und Druck'!$E$26","v":0},0]
[null,{"$f":"'Berechnung Sparten'!B347","v":"Erweiterte Produktehaftpflicht (örtlicher Geltungsbereich EU) H1029"},null,null,null,null,{"$f":"'Berechnung Sparten'!D347","v":300},{"$f":"'Berechnung Sparten'!E347","v":100000},null,null,{"$f":"'Berechnung Sparten'!U347","v":0},null,{"$f":"'Übersicht und Druck'!$E$26","v":0},0]
[null,{"$f":"'Berechnung Sparten'!B348","v":"Cross-Liability N031"},null,null,null,null,{"$f":"'Berechnung Sparten'!D348","v":"kein SB"},{"$f":"'Berechnung Sparten'!E348","v":1500000},null,null,{"$f":"'Berechnung Sparten'!U348","v":0},null,{"$f":"'Übersicht und Druck'!$E$26","v":0},0]
[null,{"$f":"'Berechnung Sparten'!B349","v":"Ansprüche der gesetzlichen Vertreter N013"},null,null,null,null,{"$f":"'Berechnung Sparten'!D349","v":"kein SB"},{"$f":"'Berechnung Sparten'!E349","v":1500000},null,null,{"$f":"'Berechnung Sparten'!U349","v":0},null,{"$f":"'Übersicht und Druck'!$E$26","v":0},0]
[null,{"$f":"'Berechnung Sparten'!B350","v":"Arbeitsunfälle unter gleichgestellten Mitarbeitern N014"},null,null,null,null,{"$f":"'Berechnung Sparten'!D350","v":"kein SB"},{"$f":"'Berechnung Sparten'!E350","v":1500000},null,null,{"$f":"'Berechnung Sparten'!U350","v":0},null,{"$f":"'Übersicht und Druck'!$E$26","v":0},0]
[null,{"$f":"'Berechnung Sparten'!B351","v":"Isotopenrisiko"},null,null,null,null,{"$f":"'Berechnung Sparten'!D351","v":"kein SB"},{"$f":"'Berechnung Sparten'!E351","v":1500000},null,null,{"$f":"'Berechnung Sparten'!U351","v":0},null,{"$f":"'Übersicht und Druck'!$E$26","v":0},0]
[null,{"$f":"'Berechnung Sparten'!B352","v":"Arbeitsmaschinen – Fahrtrisiko auf öffentlichen Verkehrsflächen N016"},null,null,null,null,{"$f":"'Berechnung Sparten'!D352","v":"kein SB"},{"$f":"'Berechnung Sparten'!E352","v":1500000},null,null,{"$f":"'Berechnung Sparten'!U352","v":0},null,{"$f":"'Übersicht und Druck'!$E$26","v":0},0]
[null,{"$f":"'Berechnung Sparten'!B353","v":"Pauschalreisegesetz H5793"},null,null,null,null,{"$f":"'Berechnung Sparten'!D353","v":"kein SB"},{"$f":"'Berechnung Sparten'!E353","v":375000},null,null,{"$f":"'Berechnung Sparten'!U353","v":0},null,{"$f":"'Übersicht und Druck'!$E$26","v":0},0]
[null,{"$f":"'Berechnung Sparten'!B354","v":"Hunde(e) H1771, H1695"},null,null,null,null,{"$f":"'Berechnung Sparten'!D354","v":"kein SB"},{"$f":"'Berechnung Sparten'!E354","v":1500000},null,null,{"$f":"'Berechnung Sparten'!U354","v":0},null,{"$f":"'Übersicht und Druck'!$E$26","v":0},0]
[null,"Prämienpflichtige Zusatzdeckungen",null,null,null,null,null,null,null,null,null,null,1,1]
[null,{"$f":"'Berechnung Sparten'!B355","v":"Mietsachschäden (Feuer- oder Leitungswasserschaden) - Regresshaftung H1092"},null,null,null,null,{"$f":"'Berechnung Sparten'!D355","v":100},{"$f":"'Berechnung Sparten'!E355","v":1500000},null,null,{"$f":"'Berechnung Sparten'!U355","v":0},null,{"$f":"'Übersicht und Druck'!$E$26","v":0},0,false,0]
[null,{"$f":"'Berechnung Sparten'!B356","v":"Tätigkeit an unbeweglichen Sachen H1015"},null,null,null,null,{"$f":"'Berechnung Sparten'!D356","v":100},{"$f":"'Berechnung Sparten'!E356","v":750000},null,null,{"$f":"'Berechnung Sparten'!U356","v":0},null,{"$f":"'Übersicht und Druck'!$E$26","v":0},0,false,0]
[null,{"$f":"'Berechnung Sparten'!B357","v":"Sachschäden durch Umweltstörung inkl. Umweltsanierungskosten (USK) H2630, H2830, H2802"},null,null,null,null,{"$f":"'Berechnung Sparten'!D357","v":"lt. Klausel"},"wählbar","VS wählen","Nicht versichert",{"$f":"'Berechnung Sparten'!U357","v":0},null,{"$f":"'Übersicht und Druck'!$E$26","v":0},0,false,{"$f":"IF(Q86=Q82,0,1)","v":0}]
[null,{"$f":"'Berechnung Sparten'!B358","v":"Subunternehmer H1404"},null,null,null,null,{"$f":"'Berechnung Sparten'!D358","v":"kein SB"},{"$f":"'Berechnung Sparten'!E358","v":1500000},null,null,{"$f":"'Berechnung Sparten'!U358","v":0},null,{"$f":"'Übersicht und Druck'!$E$26","v":0},0,false,0]
[null,{"$f":"'Berechnung Sparten'!B359","v":"Eingestellte Fahrzeuge von Arbeitnehmern und Besuchern H1019"},null,null,null,null,{"$f":"'Berechnung Sparten'!D359","v":100},{"$f":"'Berechnung Sparten'!E359","v":375000},null,null,{"$f":"'Berechnung Sparten'!U359","v":0},null,{"$f":"'Übersicht und Druck'!$E$26","v":0},0,false,0]
[null,{"$f":"'Berechnung Sparten'!B360","v":"Be- und Entladung von fremden Fahrzeugen sowie Containern H1011"},null,null,null,null,{"$f":"'Berechnung Sparten'!D360","v":100},{"$f":"'Berechnung Sparten'!E360","v":375000},null,null,{"$f":"'Berechnung Sparten'!U360","v":0},null,{"$f":"'Übersicht und Druck'!$E$26","v":0},0,false,0]
[null,{"$f":"'Berechnung Sparten'!B361","v":"Allmählichkeit H1096"},null,null,null,null,{"$f":"'Berechnung Sparten'!D361","v":100},{"$f":"'Berechnung Sparten'!E361","v":375000},null,null,{"$f":"'Berechnung Sparten'!U361","v":0},null,{"$f":"'Übersicht und Druck'!$E$26","v":0},0,false,0]
[null,{"$f":"'Berechnung Sparten'!B362","v":"Verwahrung von beweglichen Sachen H1014"},null,null,null,null,{"$f":"'Berechnung Sparten'!D362","v":100},{"$f":"'Berechnung Sparten'!E362","v":375000},null,null,{"$f":"'Berechnung Sparten'!U362","v":0},null,{"$f":"'Übersicht und Druck'!$E$26","v":0},0,false,0]
[null,{"$f":"'Berechnung Sparten'!B363","v":"Nachbesserungs-Begleitschäden H1091"},null,null,null,null,{"$f":"'Berechnung Sparten'!D363","v":100},{"$f":"'Berechnung Sparten'!E363","v":375000},null,null,{"$f":"'Berechnung Sparten'!U363","v":0},null,{"$f":"'Übersicht und Druck'!$E$26","v":0},0,false,0]
[null,{"$f":"'Berechnung Sparten'!B364","v":"Automatische Waschanlagen H1025"},null,null,null,null,{"$f":"'Berechnung Sparten'!D364","v":100},{"$f":"'Berechnung Sparten'!E364","v":375000},null,null,{"$f":"'Berechnung Sparten'!U364","v":0},null,{"$f":"'Übersicht und Druck'!$E$26","v":0},0,false,0]
[null,{"$f":"'Berechnung Sparten'!B365","v":"Abhol- und Zustelldienst von Fahrzeugen H1027"},null,null,null,null,{"$f":"'Berechnung Sparten'!D365","v":100},{"$f":"'Berechnung Sparten'!E365","v":375000},null,null,{"$f":"'Berechnung Sparten'!U365","v":0},null,{"$f":"'Übersicht und Druck'!$E$26","v":0},0,false,0]
[null,{"$f":"'Berechnung Sparten'!B366","v":"Hebebühne(n) H1098"},null,null,null,null,{"$f":"'Berechnung Sparten'!D366","v":100},{"$f":"'Berechnung Sparten'!E366","v":375000},null,null,{"$f":"'Berechnung Sparten'!U366","v":0},null,{"$f":"'Übersicht und Druck'!$E$26","v":0},0,false,0]
[null,{"$f":"'Berechnung Sparten'!B367","v":"Schäden an Kundenfahrzeugen außerhalb der Betriebsstätte H1023"},null,null,null,null,{"$f":"'Berechnung Sparten'!D367","v":100},{"$f":"'Berechnung Sparten'!E367","v":375000},null,null,{"$f":"'Berechnung Sparten'!U367","v":0},null,{"$f":"'Übersicht und Druck'!$E$26","v":0},0,false,{"$f":"IF(OR(I52=\"ja\",O52=TRUE),1,0)","v":0}]
[null,{"$f":"'Berechnung Sparten'!B368","v":"Diebstahl oder Raub in Verwahrung genommener Fahrzeuge H1024"},null,null,null,null,{"$f":"'Berechnung Sparten'!D368","v":100},{"$f":"'Berechnung Sparten'!E368","v":375000},null,null,{"$f":"'Berechnung Sparten'!U368","v":0},null,{"$f":"'Übersicht und Druck'!$E$26","v":0},0,false,0]
[null,{"$f":"'Berechnung Sparten'!B369","v":"Verlust oder Abhandenkommen eingebrachter Sachen der Beherbergungsgäste (ausgenommen Kraft- u. Wasserfahrzeuge) H4735"},null,null,null,null,{"$f":"'Berechnung Sparten'!D369","v":"kein SB"},{"$f":"'Berechnung Sparten'!E369","v":"lt. Klausel"},"prämienfreie Zusatz-Deckungen, möglich für Gastro-Betriebe",null,{"$f":"'Berechnung Sparten'!U369","v":0},null,{"$f":"'Übersicht und Druck'!$E$26","v":0},0,false,0]
[null,{"$f":"'Berechnung Sparten'!B370","v":"Beschädigung, Vernichtung, Verlust oder Abhandenkommen von Kraftfahrzeugen, Anhängern u. Wasserfahrzeugen der Beherbergungsgäste H1036"},null,null,null,null,{"$f":"'Berechnung Sparten'!D370","v":100},{"$f":"'Berechnung Sparten'!E370","v":1500000},null,null,{"$f":"'Berechnung Sparten'!U370","v":0},null,{"$f":"'Übersicht und Druck'!$E$26","v":0},0,false,0]
[null,{"$f":"'Berechnung Sparten'!B371","v":"Bewachte Garderoben H3763"},null,null,null,null,{"$f":"'Berechnung Sparten'!D371","v":"kein SB"},{"$f":"'Berechnung Sparten'!E371","v":"lt. Klausel"},null,null,{"$f":"'Berechnung Sparten'!U371","v":0},null,{"$f":"'Übersicht und Druck'!$E$26","v":0},{"$f":"$P$13","v":0},false,0]
[null,{"$f":"'Berechnung Sparten'!B372","v":"Schäden an Kundenfahrzeugen - Servicestationen u. Garagen H1020"},null,null,null,null,{"$f":"'Berechnung Sparten'!D372","v":100},{"$f":"'Berechnung Sparten'!E372","v":375000},null,null,{"$f":"'Berechnung Sparten'!U372","v":0},null,{"$f":"'Übersicht und Druck'!$E$26","v":0},0,false,0]
[null,{"$f":"'Berechnung Sparten'!B373","v":"Schäden an Kundenfahrzeugen - Reifenhandel H1021"},null,null,null,null,{"$f":"'Berechnung Sparten'!D373","v":100},{"$f":"'Berechnung Sparten'!E373","v":375000},null,null,{"$f":"'Berechnung Sparten'!U373","v":0},null,{"$f":"'Übersicht und Druck'!$E$26","v":0},0,false,0]
[null,{"$f":"'Berechnung Sparten'!B374","v":"Schäden an Kundenfahrzeugen - Tankstellen ohne Servicetätigkeiten H1022"},null,null,null,null,{"$f":"'Berechnung Sparten'!D374","v":100},{"$f":"'Berechnung Sparten'!E374","v":375000},null,null,{"$f":"'Berechnung Sparten'!U374","v":0},null,{"$f":"'Übersicht und Druck'!$E$26","v":0},0,false,0]
[null,{"$f":"'Berechnung Sparten'!B375","v":"Schadenersatzverpflichtung wegen Schäden an Kfz bei Überprüfung nach § 57a KFG H1065"},null,null,null,null,{"$f":"'Berechnung Sparten'!D375","v":300},{"$f":"'Berechnung Sparten'!E375","v":375000},null,null,{"$f":"'Berechnung Sparten'!U375","v":0},null,{"$f":"'Übersicht und Druck'!$E$26","v":0},0,false,0]
[null,{"$f":"'Berechnung Sparten'!B376","v":"Tätigkeit an beweglichen Sachen H1030"},null,null,null,null,{"$f":"'Berechnung Sparten'!D376","v":300},{"$f":"'Berechnung Sparten'!E376","v":375000},null,null,{"$f":"'Berechnung Sparten'!U376","v":0},null,{"$f":"'Übersicht und Druck'!$E$26","v":0},0,false,0]
[null,{"$f":"'Berechnung Sparten'!B377","v":"Verlust, Abhandenkommen und Diebstahl von - zur Durchführung von Reinigungsarbeiten - in Verwahrung genommener Schlüssel.    "},null,null,null,null,{"$f":"'Berechnung Sparten'!D377","v":"kein SB"},{"$f":"'Berechnung Sparten'!E377","v":"wählbar"},"freie VS",null,{"$f":"'Berechnung Sparten'!U377","v":0},null,{"$f":"'Übersicht und Druck'!$E$26","v":0},0,null,{"$f":"J62","v":0}]
[null,{"$f":"'Berechnung Sparten'!B378","v":"Berge- und Abschleppschäden an fremden Kraftfahrzeugen H1052"},null,null,null,null,{"$f":"'Berechnung Sparten'!D378","v":300},{"$f":"'Berechnung Sparten'!E378","v":375000},null,null,{"$f":"'Berechnung Sparten'!U378","v":0},null,{"$f":"'Übersicht und Druck'!$E$26","v":0},0,false,{"$f":"IF(OR(I63=\"ja\",O63=TRUE),1,0)","v":0}]
[null,{"$f":"'Berechnung Sparten'!B379","v":"Reit- bzw. Fahrlehrer H1693"},null,null,null,null,{"$f":"'Berechnung Sparten'!D379","v":"kein SB"},{"$f":"'Berechnung Sparten'!E379","v":1500000},"Anzahl",null,{"$f":"'Berechnung Sparten'!U379","v":0},null,{"$f":"'Übersicht und Druck'!$E$26","v":0},0,{"$f":"IF(J64=\"\",FALSE,TRUE)","v":false},{"$f":"J64","v":0}]
[null,{"$f":"'Berechnung Sparten'!B380","v":"Gaststallung H1737"},null,null,null,null,{"$f":"'Berechnung Sparten'!D380","v":"kein SB"},{"$f":"'Berechnung Sparten'!E380","v":"wählbar"},"freie VS",null,{"$f":"'Berechnung Sparten'!U380","v":0},null,{"$f":"'Übersicht und Druck'!$E$26","v":0},0,true,{"$f":"J65","v":0}]
[null,{"$f":"'Berechnung Sparten'!B381","v":"eigene(s) Pferd(e) inkl. Kutschenfahrten H1695"},null,null,null,null,{"$f":"'Berechnung Sparten'!D381","v":"kein SB"},{"$f":"'Berechnung Sparten'!E381","v":1500000},"Anzahl",null,{"$f":"'Berechnung Sparten'!U381","v":0},null,{"$f":"'Übersicht und Druck'!$E$26","v":0},0,{"$f":"IF(J66=\"\",FALSE,TRUE)","v":false},{"$f":"J66","v":0}]
[null,{"$f":"'Berechnung Sparten'!B382","v":"fremde(s) Pferd(e) inkl. Kutschenfahrten H1695"},null,null,null,null,{"$f":"'Berechnung Sparten'!D382","v":"kein SB"},{"$f":"'Berechnung Sparten'!E382","v":1500000},"Anzahl",null,{"$f":"'Berechnung Sparten'!U382","v":0},null,{"$f":"'Übersicht und Druck'!$E$26","v":0},0,{"$f":"IF(J67=\"\",FALSE,TRUE)","v":false},{"$f":"J67","v":0}]
[null,{"$f":"'Berechnung Sparten'!B383","v":"Auslandsdeckung für die gesamte Erde (ausgenommen USA, Kanada u. Australien) H3701"},null,null,null,null,{"$f":"'Berechnung Sparten'!D383","v":"kein SB"},{"$f":"'Berechnung Sparten'!E383","v":1500000},null,{"$f":"U84","v":"nein"},{"$f":"'Berechnung Sparten'!U383","v":0},null,{"$f":"'Übersicht und Druck'!$E$26","v":0},0,true,{"$f":"IF(OR(I68=\"ja\",J68=\"ja\"),1,0)","v":0}]
[null,{"$f":"'Berechnung Sparten'!B384","v":"Import aus allen Ländern der Erde H3750"},null,null,null,null,{"$f":"'Berechnung Sparten'!D384","v":"kein SB"},{"$f":"'Berechnung Sparten'!E384","v":1500000},null,{"$f":"U80","v":"nein"},{"$f":"'Berechnung Sparten'!U384","v":0},null,{"$f":"'Übersicht und Druck'!$E$26","v":0},0,true,{"$f":"IF(OR(I69=\"ja\",J69=\"ja\"),1,0)","v":0}]
[null,{"$f":"'Berechnung Sparten'!B385","v":"Erweiterte Produktehaftpflicht (örtlicher Geltungsbereich EU) - Höherversicherung"},null,null,null,null,{"$f":"'Berechnung Sparten'!D385","v":300},{"$f":"'Berechnung Sparten'!E385","v":"wählbar"},null,"keine Erhöhung",{"$f":"'Berechnung Sparten'!U385","v":0},null,{"$f":"'Übersicht und Druck'!$E$26","v":0},0,null,{"$f":"IF(T101=T95,0,1)","v":0}]
[null,{"$f":"'Berechnung Sparten'!B386","v":"Erweiterte Produktehaftpflicht - Bewusster Export - Auslandsdeckung für gesamte Erde (ausgenommen USA, Kanada, Australien)"},null,null,null,null,{"$f":"'Berechnung Sparten'!D386","v":300},{"$f":"'Berechnung Sparten'!E386","v":"wählbar"},null,null,{"$f":"'Berechnung Sparten'!U386","v":0},{"$f":"IF(AND(N71=0,O71=TRUE),\"Nur möglich bei Höherversicherung (min. 200.000 VS)\",\"\")","v":""},{"$f":"'Übersicht und Druck'!$E$26","v":0},{"$f":"IF(K70=0,0,1)","v":0},false,{"$f":"IF(OR(I71=\"ja\",O71=TRUE),1,0)*N71","v":0}]
[null,{"$f":"'Berechnung Sparten'!B387","v":"Erweiterte Mietsachschäden H1192"},null,null,null,null,{"$f":"'Berechnung Sparten'!D387","v":300},{"$f":"'Berechnung Sparten'!E387","v":100000},null,null,{"$f":"'Berechnung Sparten'!U387","v":0},null,{"$f":"'Übersicht und Druck'!$E$26","v":0},0,false,{"$f":"IF(OR(I72=\"ja\",O72=TRUE),1,0)","v":0}]
[null,null,null,null,null,null,null,null,"Spartenprämie",null,{"$f":"'Berechnung Sparten'!U390","v":0},null,{"$f":"'Übersicht und Druck'!$E$26","v":0},0]
[]
[]
[]
[]
[]
[null,null,null,null,null,null,null,null,null,null,null,null,null,null,null,null,null,null,null,"Import","Gewählt"]
[null,null,null,null,null,null,null,null,null,null,null,null,null,null,null,null,null,null,null,"Keine Erweiterung",{"$f":"IF(I15=T81,\"ja\",\"nein\")","v":"nein"}]
[null,null,null,null,null,null,null,null,null,null,null,null,null,null,null,null,"Umweltstörung",null,null,"Alle Länder der Erde"]
[null,null,null,null,null,null,null,null,null,null,null,null,null,null,null,null,"Nicht versichert"]
[null,null,null,null,null,null,null,null,null,null,null,null,null,null,null,null,600000,null,null,"Export","Gewählt"]
[null,null,null,null,null,null,null,null,null,null,null,null,null,null,null,null,1000000,null,null,"Keine Erweiterung",{"$f":"IF(I16=T85,\"ja\",\"nein\")","v":"nein"}]
[null,null,null,null,null,null,null,null,null,null,null,null,null,null,null,null,"Gewählt",null,null,"Gesamte Erde (ausg. USA, CAN, AUS)"]
[null,null,null,null,null,null,null,null,null,null,null,null,null,null,null,null,{"$f":"IF(J42=\"\",Q82,J42)","v":"Nicht versichert"}]
[null,null,null,null,null,null,null,null,null,null,null,null,null,null,null,null,null,null,null,"Umsatzanteil","Gewählt"]
[null,null,null,null,null,null,null,null,null,null,null,null,null,null,null,null,null,null,null,"Bis 25 % des Umsatzes",{"$f":"IF(I17=T88,T88,T89)","v":"Bis 25 % des Umsatzes"}]
[null,null,null,null,null,null,null,null,null,null,null,null,null,null,null,null,null,null,null,"Über 25 % des Umsatzes"]
[]
[]
[null,null,null,null,null,null,null,null,null,null,null,null,null,null,null,null,"Achtung, Deckung ist Text und keine Formel in dieser Zeile!"]
[]
[null,null,null,null,null,null,null,null,null,null,null,null,null,null,null,null,"Versicherungsumme",null,null,"Erw. PH","Zuschlag"]
[null,null,null,null,null,null,null,null,null,null,null,null,null,null,null,null,1000000,-0.05,null,"keine Erhöhung",0]
[null,null,null,null,null,null,null,null,null,null,null,null,null,null,null,null,1500000,0,null,200000,0]
[null,null,null,null,null,null,null,null,null,null,null,null,null,null,null,null,2000000,0.1,null,300000,0.5]
[null,null,null,null,null,null,null,null,null,null,null,null,null,null,null,null,2500000,0.18,null,400000,0.8]
[null,null,null,null,null,null,null,null,null,null,null,null,null,null,null,null,3000000,0.25,null,500000,1.1000000000000001]
[null,null,null,null,null,null,null,null,null,null,null,null,null,null,null,null,3500000,0.3,null,"Gewählt"]
[null,null,null,null,null,null,null,null,null,null,null,null,null,null,null,null,4000000,0.34,null,{"$f":"IF(OR(J70=\"\",J70=T95),T95,J70)","v":"keine Erhöhung"},{"$f":"IF(T101=T95,U95:Z95,VLOOKUP(T101,T95:U99,2,FALSE))","v":0}]
[null,null,null,null,null,null,null,null,null,null,null,null,null,null,null,null,5000000,0.4]
[null,null,null,null,null,null,null,null,null,null,null,null,null,null,null,null,6000000,0.46]
[null,null,null,null,null,null,null,null,null,null,null,null,null,null,null,null,7000000,0.51]
[null,null,null,null,null,null,null,null,null,null,null,null,null,null,null,null,8000000,0.56000000000000005]
[null,null,null,null,null,null,null,null,null,null,null,null,null,null,null,null,9000000,0.61]
[null,null,null,null,null,null,null,null,null,null,null,null,null,null,null,null,10000000,0.65]
[null,null,null,null,null,null,null,null,null,null,null,null,null,null,null,null,11000000,0.69]
[null,null,null,null,null,null,null,null,null,null,null,null,null,null,null,null,12000000,0.73]
[null,null,null,null,null,null,null,null,null,null,null,null,null,null,null,null,13000000,0.77]
[null,null,null,null,null,null,null,null,null,null,null,null,null,null,null,null,14000000,0.81]
[null,null,null,null,null,null,null,null,null,null,null,null,null,null,null,null,15000000,0.85]
[null,null,null,null,null,null,null,null,null,null,null,null,null,null,null,null,"Gewählt"]
[null,null,null,null,null,null,null,null,null,null,null,null,null,null,null,null,{"$f":"IF(D14=\"\",Q96,D14)","v":1500000},{"$f":"VLOOKUP(Q114,Q95:R112,2,FALSE)","v":0}]

{"sheet":"RS","index":11,"n_rows":53,"n_cols":29,"rows_kept":53,"cut":false,"hidden":false,"merged":[[48,1,48,4],[52,8,52,9],[7,1,7,5],[7,6,7,10],[2,1,2,4],[43,7,43,9],[44,7,44,9],[45,7,45,9],[46,7,46,9],[48,7,48,9],[49,7,49,9],[50,7,50,9],[51,7,51,9],[49,1,49,4],[50,1,50,4],[51,1,51,4],[32,1,32,5],[32,7,32,9],[33,1,33,5],[33,7,33,9],[47,1,47,10],[41,1,41,10],[42,7,42,9],[40,7,40,9],[40,1,40,4],[42,1,42,4],[40,5,40,6],[43,1,43,4],[44,1,44,4],[45,1,45,4],[46,1,46,4],[34,1,34,7],[35,8,35,9],[38,1,38,10],[39,1,39,2],[39,4,39,10],[4,1,4,10],[5,1,5,2],[5,4,5,7],[5,8,5,10],[23,6,23,10],[18,7,18,10],[18,3,18,6],[21,1,21,5],[22,1,22,5],[23,1,23,5],[29,7,29,9],[28,1,28,5],[11,11,11,14],[10,1,10,5],[12,1,12,5],[9,1,9,7],[6,1,6,3],[10,6,10,8],[12,6,12,8],[11,1,11,3],[11,5,11,6],[27,7,27,9],[29,1,29,5],[17,1,17,2],[20,1,20,5],[19,1,19,5],[19,7,19,9],[20,7,20,9],[26,1,26,5],[27,1,27,5],[26,7,26,9],[25,1,25,5],[30,1,30,5],[13,8,13,9],[16,1,16,10],[31,1,31,5],[6,8,6,9],[6,5,6,6],[31,7,31,9],[28,7,28,9],[24,1,24,5],[17,4,17,10],[8,1,8,8],[24,7,24,9],[25,7,25,9],[21,7,21,9],[22,7,22,9],[30,7,30,9]]}
[null,null,null,null,null,null,null,null,null,null,null,null,null,null,null,"Möglich","Spalte grau","Makros","für Berechnung"]
[]
[null,"Rechtsschutzversicherung gewünscht?",null,null,null,null,null,null,null,null,null,null,null,null,null,1,1,false,{"$f":"IF(R3=TRUE,1,0)*P3","v":0}]
[]
[null,"Firmen-Rechtsschutz",null,null,null,null,null,null,null,null,null,null,null,null,null,{"$f":"'Übersicht und Druck'!$E$28","v":0},1]
[null,"Sparte gewählt",null,null,"Allgemeine Deckungsübersicht",null,null,null,{"$f":"IF(Z28=6,\"Kfz-Betrieb - spezielle Deckungsübersicht\",\"\")","v":""},null,null,null,null,null,null,{"$f":"'Übersicht und Druck'!$E$28","v":0},1,false,{"$f":"IF(R6=TRUE,1,0)*P6","v":0}]
[null,"Anzahl der Beschäftigten (max. 100)",null,null,null,"Erweiterung EU-Deckung",null,null,"Versicherungssumme ",null,{"$f":"'Berechnung Sparten'!E456","v":141000},null,null,null,null,{"$f":"'Übersicht und Druck'!$E$28","v":0},{"$f":"$S$6","v":0},false]
[null,{"$f":"W40","v":"Der Privatbereich gilt für:"},null,null,null,null,null,null,null,null,null,null,null,null,null,{"$f":"'Übersicht und Druck'!$E$28","v":0},{"$f":"$S$6","v":0}]
[null,"Deckung",null,null,null,null,null,null,null,"Auswahl","Prämie",null,null,null,null,{"$f":"'Übersicht und Druck'!$E$28","v":0},0]
[null,{"$f":"'Berechnung Sparten'!B456","v":"Grunddeckung für Betrieb, Dienstnehmer und Betriebsinhaber"},null,null,null,null,null,null,null,"ja",{"$f":"'Berechnung Sparten'!U456","v":0},null,null,null,null,{"$f":"'Übersicht und Druck'!$E$28","v":0},0]
[null,{"$f":"'Berechnung Sparten'!B457","v":"LMG-Gegenprobenziehung gem. RV849"},null,null,null,null,{"$f":"IF(OR(Z28=2,Z28=3),\"Für diese Branche prämienfrei inkludiert\",\"\")","v":""},null,null,null,{"$f":"'Berechnung Sparten'!U457","v":0},null,null,null,null,{"$f":"'Übersicht und Druck'!$E$28","v":0},0,false,{"$f":"IF(OR(Z28=2,Z28=3),1,IF(R11=TRUE,1,0))*P11*K7*S6","v":0},null,null,null,null,null,null,null,null,null,{"$f":"IF(AB35=\"ja\",\"inklusive Kfz-Handel\",\"exklusive Kfz-Handel\")","v":"inklusive Kfz-Handel"}]
[null,{"$f":"'Berechnung Sparten'!B458","v":"Allgemeiner Vertrags-Rechtsschutz"},null,null,null,"Inkl. Kfz-Handel",null,"ja","Streitwert",null,{"$f":"'Berechnung Sparten'!U458","v":0},{"$f":"IF(AND(S12=1,J12=\"\"),\"bitte Streitwert wählen\",IF(J12<Y41,\"Streitwert zu niedrig für diese Branche - auf 10.000 erhöht\",\"\"))","v":""},null,null,null,{"$f":"'Übersicht und Druck'!$E$28","v":0},0,false,{"$f":"IF(R12=TRUE,1,0)*P12*S6","v":0}]
[null,{"$f":"'Berechnung Sparten'!B459","v":"Streitigkeiten aus dem Bereich des Handelsvertreterrechts"},null,null,null,null,{"$f":"IF(Z28=5,\"Für diese Branche prämienfrei inkludiert\",\"\")","v":""},null,null,null,{"$f":"'Berechnung Sparten'!U459","v":0},{"$f":"IF(AND(R13=TRUE,K12=0),\"AVRS erforderlich\",\"\")","v":""},null,null,null,{"$f":"'Übersicht und Druck'!$E$28","v":0},0,false,{"$f":"IF(Z28=5,1,IF(R13=TRUE,1,0))*P13*S12*K7","v":0}]
[null,{"$f":"IF(S12*S6=1,\"Achtung: AVRS ist anfragepflichtig\",\"\")","v":""},null,null,null,null,null,null,"Spartenprämie",null,{"$f":"'Berechnung Sparten'!U462","v":0},null,null,null,null,{"$f":"'Übersicht und Druck'!$E$28","v":0},0]
[]
[null,null,null,null,null,null,null,null,null,null,null,null,null,null,null,null,null,null,null,"Gewählt"]
[null,"Fahrzeug-und Lenkerrechtsschutz",null,null,null,null,null,null,null,null,null,null,null,null,null,{"$f":"'Übersicht und Druck'!$E$30","v":0},1]
[null,"Sparte gewählt",null,null,{"$f":"IF(AND(S6=1,S18=1,Z28=6),\"Achtung: Fahrzeuge sind ev. schon in Grunddeckung für Kfz-Betriebe inkludiert!\",\"\")","v":""},null,null,null,null,null,null,null,null,null,null,{"$f":"'Übersicht und Druck'!$E$30","v":0},1,false,{"$f":"IF(R18=TRUE,1,0)*P18","v":0}]
[null,null,"Variante","Kfz-Flotten-Rechtsschutz",null,null,null,{"$f":"IF(D19=\"\",\"Bitte Variante auswählen\",IF(AND(V47=V45,SUM(G21:G23,G25:G34)<5),\"erst ab 5 Kfz möglich\",\"\"))","v":"erst ab 5 Kfz möglich"},null,null,null,null,null,null,null,{"$f":"'Übersicht und Druck'!$E$30","v":0},{"$f":"$S$18","v":0}]
[null,"Art des Fahrzeugs",null,null,null,null,"Anzahl",{"$f":"W47","v":"alle Kennzeichen"},null,null,"Prämie",null,null,null,null,{"$f":"'Übersicht und Druck'!$E$30","v":0},0]
[null,{"$f":"'RS Grunddeckung'!I168","v":"Motor(fahr)räder, vierrädrige Leichtfahrzeuge"},null,null,null,null,null,null,null,null,{"$f":"'Berechnung Sparten'!U468","v":0},null,null,null,null,{"$f":"'Übersicht und Druck'!$E$30","v":0},0,null,{"$f":"G21","v":0}]
[null,{"$f":"'RS Grunddeckung'!I169","v":"Pkw/Kombi Normaltarif"},null,null,null,null,null,null,null,null,{"$f":"'Berechnung Sparten'!U469","v":0},null,null,null,null,{"$f":"'Übersicht und Druck'!$E$30","v":0},0,null,{"$f":"G22","v":0}]
[null,{"$f":"'RS Grunddeckung'!I170","v":"Pkw/Kombi mit gewerbsmäßiger Selbstfahrvermietung"},null,null,null,null,null,null,null,null,{"$f":"'Berechnung Sparten'!U470","v":0},null,null,null,null,{"$f":"'Übersicht und Druck'!$E$30","v":0},0,null,0]
[null,{"$f":"'RS Grunddeckung'!I171","v":"Pkw/Kombi: Taxi"},null,null,null,null,"Anfrage an VT erforderlich",null,null,null,null,null,null,null,null,{"$f":"'Übersicht und Druck'!$E$30","v":0},0,null,"Anfrage an VT erforderlich"]
[null,{"$f":"'RS Grunddeckung'!I172","v":"Omnibusse"},null,null,null,null,null,null,null,null,{"$f":"'Berechnung Sparten'!U472","v":0},null,null,null,null,{"$f":"'Übersicht und Druck'!$E$30","v":0},0,null,0]
[null,{"$f":"'RS Grunddeckung'!I173","v":"Lkw bis 1,5 to Nutzlast"},null,null,null,null,null,null,null,null,{"$f":"'Berechnung Sparten'!U473","v":0},null,null,null,null,{"$f":"'Übersicht und Druck'!$E$30","v":0},0,null,0]
[null,{"$f":"'RS Grunddeckung'!I174","v":"Lkw über 1,5 to Nutzlast, Sattelzugfahrzeuge"},null,null,null,null,null,null,null,null,{"$f":"'Berechnung Sparten'!U474","v":0},null,null,null,null,{"$f":"'Übersicht und Druck'!$E$30","v":0},0,null,0]
[null,{"$f":"'RS Grunddeckung'!I175","v":"Zugmaschinen"},null,null,null,null,null,null,null,null,{"$f":"'Berechnung Sparten'!U475","v":0},null,null,null,null,{"$f":"'Übersicht und Druck'!$E$30","v":0},0,null,0,null,null,null,null,null,"RS-Gruppe",{"$f":"'Berechnung Grund'!R30","v":0}]
[null,{"$f":"'RS Grunddeckung'!I176","v":"Anhänger für Pkw/Kombi (außer Wohnwagen)"},null,null,null,null,null,null,null,null,{"$f":"'Berechnung Sparten'!U476","v":0},null,null,null,null,{"$f":"'Übersicht und Druck'!$E$30","v":0},0,null,0,null,"Privatbereich","Rechtsform",{"$f":"Kundendaten!O4","v":0},null,null,"Wert"]
[null,{"$f":"'RS Grunddeckung'!I177","v":"Wohnwagenanhänger"},null,null,null,null,null,null,null,null,{"$f":"'Berechnung Sparten'!U477","v":0},null,null,null,null,{"$f":"'Übersicht und Druck'!$E$30","v":0},0,null,0,null,"Rechtsformen","Namensnennung?",null,null,"Streitwert",5000]
[null,{"$f":"'RS Grunddeckung'!I178","v":"Sonstige Anhänger (auch Sattelanhänger)"},null,null,null,null,null,null,null,null,{"$f":"'Berechnung Sparten'!U478","v":0},null,null,null,null,{"$f":"'Übersicht und Druck'!$E$30","v":0},0,null,0,null,0,"ja","Der Privatbereich gilt für:",null,{"$f":"IF($Z$28>3,Z31,Z30)","v":5000},10000,null,"3500 Nur bei Gruppe 1, 2, 3"]
[null,{"$f":"'RS Grunddeckung'!I179","v":"Motorkarren"},null,null,null,null,null,null,null,null,{"$f":"'Berechnung Sparten'!U479","v":0},null,null,null,null,{"$f":"'Übersicht und Druck'!$E$30","v":0},0,null,0,null,"Einzelunternehmen","nein","Der Privatbereich gilt für den Einzelnunternehmer. ",null,10000,15000]
[null,{"$f":"'RS Grunddeckung'!I180","v":"Selbstfahrende Arbeitsmaschinen"},null,null,null,null,null,null,null,null,{"$f":"'Berechnung Sparten'!U480","v":0},null,null,null,null,{"$f":"'Übersicht und Druck'!$E$30","v":0},0,null,0,null,"OG","ja","Der Privatbereich gilt für folgenden Gesellschafter:",null,15000,20000]
[null,{"$f":"'RS Grunddeckung'!I181","v":"Probefahrkennzeichen"},null,null,null,null,null,null,null,null,{"$f":"'Berechnung Sparten'!U481","v":0},null,null,null,null,{"$f":"'Übersicht und Druck'!$E$30","v":0},0,null,0,null,"KG","ja","Der Privatbereich gilt für folgenden Geschäftsführer:",null,20000,30000,null,"Kfz-Handel"]
[null,{"$f":"'Berechnung Sparten'!B482","v":"Lenker-Rechtsschutz (fremde Fahrzeuge)"},null,null,null,null,null,null,"ja/nein",null,{"$f":"'Berechnung Sparten'!U482","v":0},null,null,null,null,{"$f":"'Übersicht und Druck'!$E$30","v":0},0,false,{"$f":"IF(R35=TRUE,1,0)*P35","v":0},null,"GmbH","ja","Der Privatbereich gilt für folgenden Geschäftsführer:",null,30000,40000,null,{"$f":"IF(H12=\"\",\"nein\",H12)","v":"ja"}]
[null,null,null,null,null,null,null,null,"Spartenprämie",null,{"$f":"'Berechnung Sparten'!U485","v":0},null,null,null,null,{"$f":"'Übersicht und Druck'!$E$30","v":0},0,null,null,null,"GmbH und Co KG","ja","Der Privatbereich gilt für folgenden Geschäftsführer:",null,40000,50000]
[null,null,null,null,null,null,null,null,null,null,null,null,null,null,null,null,null,null,null,null,"Verein","ja","Der Privatbereich gilt für:",null,50000,75000,null,"Für Antrag"]
[null,null,null,null,null,null,null,null,null,null,null,null,null,null,null,null,null,null,null,null,"Genossenschaft","ja","Der Privatbereich gilt für:",null,75000,100000,null,{"$f":"\"Allgemeiner Vertrags-Rechtsschutz \"&IF(Z28=6,AC11,\"\")","v":"Allgemeiner Vertrags-Rechtsschutz "}]
[null,"Rechtsschutz für Grundstückseigentum und Miete",null,null,null,null,null,null,null,null,null,null,null,null,null,{"$f":"'Übersicht und Druck'!$E$29","v":0},1,null,null,null,"AG","ja","Der Privatbereich gilt für folgenden Vorstand:",null,{"$f":"IF($Z$28>3,\"\",Z38)","v":100000}]
[null,"Sparte gewählt",null,null,"Allgemeine Deckungsübersicht",null,null,null,null,null,null,null,null,null,null,{"$f":"'Übersicht und Druck'!$E$29","v":0},1,false,{"$f":"IF(R40=TRUE,1,0)*P40","v":0},null,{"$f":"W29","v":0},{"$f":"VLOOKUP(W29,U31:W39,2,FALSE)","v":"ja"},{"$f":"VLOOKUP(W29,U31:W39,3,FALSE)","v":"Der Privatbereich gilt für:"},null,"Gewählt"]
[null,"Art des Objekts",null,null,null,"Berechnungsgrundlage",null,"Adresse(n)",null,null,"Prämie",null,null,null,null,{"$f":"'Übersicht und Druck'!$E$29","v":0},{"$f":"$S$40","v":0},null,null,null,"Für Antrag",{"$f":"IF(V40=\"ja\",W40&\" \"&G8,W40)","v":"Der Privatbereich gilt für: "},null,null,{"$f":"IF(J12=\"\",0,IF(AND(Z28>3,J12=Z30),Z31,J12))*S12","v":0}]
[null,"Selbstnutzung (Eigentümer, Mieter, Pächter, dinglich Nutzungsberechtigter)",null,null,null,null,null,null,null,null,null,null,null,null,null,{"$f":"'Übersicht und Druck'!$E$29","v":0},{"$f":"$S$40","v":0},null,null,null,null,"Variante"]
[null,{"$f":"'Berechnung Sparten'!B491","v":"Wohneinheit"},null,null,null,{"$f":"'Berechnung Sparten'!C491","v":"Anzahl"},null,null,null,null,{"$f":"'Berechnung Sparten'!U491","v":0},null,null,null,null,{"$f":"'Übersicht und Druck'!$E$29","v":0},0,null,{"$f":"G43*P43","v":0},null,null,"Einzelrisken mit geschäftlich befördertem Gut","Kennzeichen, Marke, Type"]
[null,{"$f":"'Berechnung Sparten'!B492","v":"Einzelgarage oder Abstellplatz"},null,null,null,{"$f":"'Berechnung Sparten'!C492","v":"Anzahl"},null,null,null,null,{"$f":"'Berechnung Sparten'!U492","v":0},null,null,null,null,{"$f":"'Übersicht und Druck'!$E$29","v":0},0,null,{"$f":"G44*P44","v":0},null,null,"Einzelrisken ohne geschäftlich befördertem Gut","Kennzeichen, Marke, Type"]
[null,{"$f":"'Berechnung Sparten'!B493","v":"Unbebautes Grundstück"},null,null,null,{"$f":"'Berechnung Sparten'!C493","v":"Fläche m²"},null,null,null,null,{"$f":"'Berechnung Sparten'!U493","v":0},null,null,null,null,{"$f":"'Übersicht und Druck'!$E$29","v":0},0,null,0,null,null,"Kfz-Flotten-Rechtsschutz","alle Kennzeichen"]
[null,{"$f":"'Berechnung Sparten'!B494","v":"Gewerbliche Einheit als Mieter"},null,null,null,{"$f":"'Berechnung Sparten'!C494","v":"Jahresbruttomiete"},null,null,null,null,{"$f":"'Berechnung Sparten'!U494","v":0},null,null,null,null,{"$f":"'Übersicht und Druck'!$E$29","v":0},0,null,0,null,null,"Gewählt"]
[null,{"$f":"'Berechnung Sparten'!B495","v":"Gewerbliche Einheit als Eigentümer"},null,null,null,{"$f":"'Berechnung Sparten'!C495","v":"überdachte Fläche m²"},null,null,null,null,{"$f":"'Berechnung Sparten'!U495","v":0},null,null,null,null,{"$f":"'Übersicht und Druck'!$E$29","v":0},0,null,0,null,null,{"$f":"IF(D19=\"\",V45,D19)","v":"Kfz-Flotten-Rechtsschutz"},{"$f":"VLOOKUP(V47,V43:W45,2,FALSE)","v":"alle Kennzeichen"}]
[null,"Fremdnutzung (Vermieter, Verpächter)",null,null,null,null,null,null,null,null,null,null,null,null,null,{"$f":"'Übersicht und Druck'!$E$29","v":0},0]
[null,{"$f":"'Berechnung Sparten'!B496","v":"Wohneinheit"},null,null,null,{"$f":"'Berechnung Sparten'!C496","v":"Anzahl"},null,null,null,null,{"$f":"'Berechnung Sparten'!U496","v":0},null,null,null,null,{"$f":"'Übersicht und Druck'!$E$29","v":0},0,null,0]
[null,{"$f":"'Berechnung Sparten'!B497","v":"Einzelgarage oder Abstellplatz"},null,null,null,{"$f":"'Berechnung Sparten'!C497","v":"Anzahl"},null,null,null,null,{"$f":"'Berechnung Sparten'!U497","v":0},null,null,null,null,{"$f":"'Übersicht und Druck'!$E$29","v":0},0,null,0]
[null,{"$f":"'Berechnung Sparten'!B498","v":"Unbebautes Grundstück (nicht landw. Genutzt)"},null,null,null,{"$f":"'Berechnung Sparten'!C498","v":"Fläche m²"},null,null,null,null,{"$f":"'Berechnung Sparten'!U498","v":0},null,null,null,null,{"$f":"'Übersicht und Druck'!$E$29","v":0},0,null,0]
[null,{"$f":"'Berechnung Sparten'!B499","v":"Gewerbliche Einheit als Vermieter"},null,null,null,{"$f":"'Berechnung Sparten'!C499","v":"Jahresbruttomiete"},null,null,null,null,{"$f":"'Berechnung Sparten'!U499","v":0},null,null,null,null,{"$f":"'Übersicht und Druck'!$E$29","v":0},0,null,0]
[null,null,null,null,null,null,null,null,"Spartenprämie",null,{"$f":"'Berechnung Sparten'!U502","v":0},null,null,null,null,{"$f":"'Übersicht und Druck'!$E$29","v":0},0]

{"sheet":"Druck","index":12,"n_rows":32,"n_cols":8,"rows_kept":32,"cut":false,"hidden":false,"merged":[[22,0,22,2],[5,0,5,1],[4,6,4,7],[15,0,15,2],[6,0,10,0],[4,1,4,4],[7,1,7,7],[8,1,8,7],[14,0,14,2],[6,1,6,7],[16,4,16,6],[17,0,17,2],[16,0,16,2],[19,4,19,6],[18,0,18,2],[2,0,2,7],[11,0,11,7],[9,1,9,7],[10,1,10,7],[18,4,18,6],[17,4,17,6],[13,0,13,7],[5,2,5,7],[15,4,15,6],[3,6,3,7],[3,1,3,4],[14,4,14,6],[26,0,26,2],[26,4,26,7],[27,0,27,3],[27,4,27,7],[19,0,19,2],[20,0,20,2],[21,0,21,2],[20,4,20,6],[24,0,24,2],[23,0,23,2],[25,0,25,2],[23,4,23,6],[25,4,25,6],[24,4,24,6],[21,4,21,6],[22,4,22,6]]}
[]
[{"$f":"IF(COUNTBLANK(('Berechnung Grund'!B22:B26))=5,\"Achtung: Keine Branche gewählt, Berechnung nicht möglich!\",\"\")","v":"Achtung: Keine Branche gewählt, Berechnung nicht möglich!"}]
["Kundendaten"]
["Name",{"$f":"Antrag!C15","v":0},null,null,null,"Rechtsform",{"$f":"Antrag!L15","v":0}]
["Straße",{"$f":"Antrag!C16","v":0},null,null,null,"PLZ, Ort",{"$f":"Antrag!L16","v":{"$error":"#N/A"}}]
["Art des Betriebs",null,{"$f":"Antrag!I22","v":"Betrieb"}]
["Branchen",{"$f":"IF(Antrag!B25=\"\",\"\",Antrag!B25)","v":""}]
[null,{"$f":"IF(Antrag!B26=\"\",\"\",Antrag!B26)","v":""}]
[null,{"$f":"IF(Antrag!B27=\"\",\"\",Antrag!B27)","v":""}]
[null,{"$f":"IF(Antrag!B28=\"\",\"\",Antrag!B28)","v":""}]
[null,{"$f":"IF(Antrag!B29=\"\",\"\",Antrag!B29)","v":""}]
["Vertragsdaten"]
["Beginn",{"$f":"Antrag!D19","v":"2026-03-23"},"Ablauf",{"$f":"Antrag!H19","v":"2036-03-23"},{"$f":"Antrag!J19","v":"Prämie Jährlich per SEPA-Lastschrift"},null,null,{"$f":"Antrag!O19","v":{"$error":"#N/A"}}]
["Übersicht Sparten und Jahresprämien"]
[{"$f":"'Übersicht und Druck'!B12","v":"Feuer"},null,null,{"$f":"'Übersicht und Druck'!H12","v":"nicht gewählt"},{"$f":"'Übersicht und Druck'!B24","v":"Sturm"},null,null,{"$f":"'Übersicht und Druck'!H24","v":"nicht gewählt"}]
[{"$f":"'Übersicht und Druck'!B13","v":"Feuer/Total-Betriebsunterbrechung"},null,null,{"$f":"'Übersicht und Druck'!H13","v":{"$error":"#N/A"}},{"$f":"'Übersicht und Druck'!B25","v":"Katastrophenschutz"},null,null,{"$f":"'Übersicht und Druck'!H25","v":"nicht gewählt"}]
[{"$f":"'Übersicht und Druck'!B14","v":"Mietentgang-BU"},null,null,{"$f":"'Übersicht und Druck'!H14","v":"nicht gewählt"},{"$f":"'Übersicht und Druck'!B26","v":"Haftpflicht"},null,null,{"$f":"'Übersicht und Druck'!H26","v":"nicht gewählt"}]
[{"$f":"'Übersicht und Druck'!B15","v":"Mehrkosten-BU"},null,null,{"$f":"'Übersicht und Druck'!H15","v":"nicht gewählt"},{"$f":"'Übersicht und Druck'!B27","v":"Reine Haus- und Grundbesitz-Haftpflicht"},null,null,{"$f":"'Übersicht und Druck'!H27","v":"nicht möglich"}]
[{"$f":"'Übersicht und Druck'!B16","v":"Feuer-EC"},null,null,{"$f":"'Übersicht und Druck'!H16","v":"nicht gewählt"},{"$f":"'Übersicht und Druck'!B28","v":"Firmenrechtsschutz"},null,null,{"$f":"'Übersicht und Druck'!H28","v":"nicht gewählt"}]
[{"$f":"'Übersicht und Druck'!B17","v":"EC-Betriebsunterbrechung"},null,null,{"$f":"'Übersicht und Druck'!H17","v":"nicht gewählt"},{"$f":"'Übersicht und Druck'!B29","v":"Grundstückseigentums- und Mietrechtsschutz"},null,null,{"$f":"'Übersicht und Druck'!H29","v":"nicht gewählt"}]
[{"$f":"'Übersicht und Druck'!B18","v":"EC-Mietentgang-BU"},null,null,{"$f":"'Übersicht und Druck'!H18","v":"nicht gewählt"},{"$f":"'Übersicht und Druck'!B30","v":"Fahrzeug- und Lenkerrechtsschutz"},null,null,{"$f":"'Übersicht und Druck'!H30","v":"nicht gewählt"}]
[{"$f":"'Übersicht und Druck'!B19","v":"EC-Mehrkosten-BU"},null,null,{"$f":"'Übersicht und Druck'!H19","v":"nicht gewählt"},{"$f":"'Übersicht und Druck'!B31","v":"Technik Pauschal"},null,null,{"$f":"'Übersicht und Druck'!H31","v":"nicht möglich"}]
[{"$f":"'Übersicht und Druck'!B20","v":"Einbruchdiebstahl"},null,null,{"$f":"'Übersicht und Druck'!H20","v":"nicht möglich"},{"$f":"'Übersicht und Druck'!B32","v":"Technik Indirekter Blitz"},null,null,{"$f":"'Übersicht und Druck'!H32","v":"nicht möglich"}]
[{"$f":"'Übersicht und Druck'!B21","v":"Botenberaubung"},null,null,{"$f":"'Übersicht und Druck'!H21","v":"nicht möglich"},{"$f":"'Übersicht und Druck'!B33","v":"EDV"},null,null,{"$f":"'Übersicht und Druck'!H33","v":"nicht möglich"}]
[{"$f":"'Übersicht und Druck'!B22","v":"Leitungswasser"},null,null,{"$f":"'Übersicht und Druck'!H22","v":"nicht gewählt"},{"$f":"'Übersicht und Druck'!B34","v":"Kühlgut"},null,null,{"$f":"'Übersicht und Druck'!H34","v":"nicht gewählt"}]
[{"$f":"'Übersicht und Druck'!B23","v":"Glas"},null,null,{"$f":"'Übersicht und Druck'!H23","v":"nicht möglich"},{"$f":"'Übersicht und Druck'!B35","v":"Transport"},null,null,{"$f":"'Übersicht und Druck'!H35","v":"nicht möglich"}]
[{"$f":"'Übersicht und Druck'!B36","v":"Gewerbe-Soforthilfe"},null,null,{"$f":"'Übersicht und Druck'!H36","v":"nicht gewählt"}]
["Gesamtjahresprämie",null,null,null,{"$f":"'Übersicht und Druck'!R3","v":{"$error":"#N/A"}}]
[]
[{"$f":"IF(Kundendaten!G44>0,\"Achtung: Sonderrabatt muss von Maklerbetreuung genehmigt werden!\",\"\")","v":"Achtung: Sonderrabatt muss von Maklerbetreuung genehmigt werden!"}]
[{"$f":"Antrag!B11","v":""}]
[null,null,null,"Produktinformationsblätter mitdrucken"]

{"sheet":"Übersicht und Druck","index":13,"n_rows":53,"n_cols":18,"rows_kept":53,"cut":false,"hidden":true,"merged":[]}
[]
[null,"Betriebsart",null,null,null,null,null,"Ganze Sparte gewählt?",null,"Sach",{"$f":"Sach!P2","v":0},null,"KTE-Multiplikator",{"$f":"IF('Berechnung Sparten'!T9=0,0,1)","v":0}]
[null,{"$f":"Kundendaten!E12","v":"Betrieb"},{"$f":"Kundendaten!E13","v":1},null,null,null,null,null,null,"Hpfl",{"$f":"Hpfl!P3","v":0},null,null,null,null,"Gesamt",null,{"$f":"SUM(G12:G36)","v":{"$error":"#N/A"}}]
[null,"Vermieter",{"$f":"IF(C3=1,0,1)","v":0},null,null,null,null,null,null,"RS",{"$f":"RS!S3","v":0},null,null,null,null,"ZW",null,{"$f":"Kundendaten!E30","v":1}]
[null,null,null,null,null,null,null,null,null,null,null,null,null,null,null,"Prämie ZW",null,{"$f":"R3/R4","v":{"$error":"#N/A"}}]
[null,null,"Betrieb","Vermieter","Ausgrauen","Sparte möglich?","Prämie","Bezeichnung","Zeile Beginn","Zeile Ende","Anzeigen"]
[null,"Kundendaten",null,null,null,null,null,null,1,{"$f":"I8-1","v":48},1]
[null,"Datenschutz",null,null,null,null,null,null,{"$f":"ROW(Antrag!B49)","v":49},156,1]
[null,"SEPA-Mandat",null,null,null,null,null,null,{"$f":"ROW(Antrag!B157)","v":157},210,{"$f":"IF(Kundendaten!H26=Kundendaten!H23,1,0)","v":1}]
[null,"El. Zustellung",null,null,null,null,null,null,{"$f":"ROW(Antrag!B211)","v":211},236,{"$f":"IF(Kundendaten!C49=TRUE,1,0)","v":0}]
[null,"Riskooorte",null,null,null,null,null,null,{"$f":"ROW(Antrag!B237)","v":237},291,{"$f":"K2","v":0}]
["Berechnung","Feuer",1,1,{"$f":"F12*$K$2","v":0},{"$f":"IF($C$3=1,C12,D12)","v":1},{"$f":"'Berechnung Sparten'!U66","v":0},{"$f":"IF(F12=0,\"nicht möglich\",IF(G12=0,\"nicht gewählt\",G12))","v":"nicht gewählt"},{"$f":"ROW(Antrag!B292)","v":292},333,{"$f":"IF(G12>0,1,0)","v":0}]
[null,"Feuer/Total-Betriebsunterbrechung",1,0,{"$f":"F13*$K$2","v":0},{"$f":"IF($C$3=1,C13,D13)","v":1},{"$f":"'Berechnung Sparten'!U78","v":{"$error":"#N/A"}},{"$f":"IF(F13=0,\"nicht möglich\",IF(G13=0,\"nicht gewählt\",G13))","v":{"$error":"#N/A"}},{"$f":"ROW(Antrag!B334)","v":334},{"$f":"I14-1","v":342},{"$f":"IF(G13>0,1,0)","v":{"$error":"#N/A"}}]
[null,"Mietentgang-BU",1,1,0,1,{"$f":"'Berechnung Sparten'!U87","v":0},"nicht gewählt",{"$f":"ROW(Antrag!B343)","v":343},348,0]
[null,"Mehrkosten-BU",1,0,0,1,{"$f":"'Berechnung Sparten'!U98","v":0},"nicht gewählt",{"$f":"ROW(Antrag!B349)","v":349},354,0]
[null,"Feuer-EC",1,1,0,1,{"$f":"'Berechnung Sparten'!U118","v":0},"nicht gewählt",{"$f":"ROW(Antrag!B355)","v":355},377,0]
[null,"EC-Betriebsunterbrechung",1,0,0,1,{"$f":"'Berechnung Sparten'!U129","v":0},"nicht gewählt",{"$f":"ROW(Antrag!B378)","v":378},{"$f":"I20-1","v":400},{"$f":"IF(SUM($G$17:$G$19)>0,1,0)","v":0}]
[null,"EC-Mietentgang-BU",1,1,0,1,{"$f":"'Berechnung Sparten'!U138","v":0},"nicht gewählt",{"$f":"I17","v":378},{"$f":"I20-1","v":400},{"$f":"IF(SUM($G$17:$G$19)>0,1,0)","v":0}]
[null,"EC-Mehrkosten-BU",1,0,0,1,{"$f":"'Berechnung Sparten'!U147","v":0},"nicht gewählt",{"$f":"I18","v":378},{"$f":"I20-1","v":400},{"$f":"IF(SUM($G$17:$G$19)>0,1,0)","v":0}]
[null,"Einbruchdiebstahl",{"$f":"$N$2","v":0},0,0,0,{"$f":"'Berechnung Sparten'!U196","v":0},"nicht möglich",{"$f":"ROW(Antrag!B401)","v":401},438,0]
[null,"Botenberaubung",{"$f":"$N$2","v":0},0,0,0,{"$f":"'Berechnung Sparten'!U205","v":0},"nicht möglich",{"$f":"ROW(Antrag!B439)","v":439},444,0,null,{"$f":"VLOOKUP(534,'Übersicht und Druck'!$I$7:$K$53,3,TRUE)","v":0}]
[null,"Leitungswasser",1,1,0,1,{"$f":"'Berechnung Sparten'!U245","v":0},"nicht gewählt",{"$f":"ROW(Antrag!B445)","v":445},484,0]
[null,"Glas",{"$f":"$N$2","v":0},1,0,0,{"$f":"'Berechnung Sparten'!U271","v":0},"nicht möglich",{"$f":"ROW(Antrag!B485)","v":485},508,0]
[null,"Sturm",1,1,0,1,{"$f":"'Berechnung Sparten'!U316","v":0},"nicht gewählt",{"$f":"ROW(Antrag!B509)","v":509},552,0]
[null,"Katastrophenschutz",1,1,0,1,{"$f":"'Berechnung Sparten'!U326","v":0},"nicht gewählt",{"$f":"ROW(Antrag!B553)","v":553},558,0]
[null,"Haftpflicht",1,0,{"$f":"F26*$K$3","v":0},1,{"$f":"'Berechnung Sparten'!U390","v":0},"nicht gewählt",{"$f":"ROW(Antrag!B559)","v":559},619,0]
[null,"Reine Haus- und Grundbesitz-Haftpflicht",0,1,{"$f":"F27*$K$3","v":0},0,{"$f":"'Berechnung Sparten'!U400","v":0},"nicht möglich",{"$f":"ROW(Antrag!B620)","v":620},{"$f":"I28-1","v":626},0]
[null,"Firmenrechtsschutz",1,0,{"$f":"F28*$K$4","v":0},1,{"$f":"'Berechnung Sparten'!U462","v":0},"nicht gewählt",{"$f":"ROW(Antrag!A627)","v":627},{"$f":"I29-1","v":670},0]
[null,"Grundstückseigentums- und Mietrechtsschutz",1,1,{"$f":"F29*$K$4","v":0},1,{"$f":"'Berechnung Sparten'!U502","v":0},"nicht gewählt",{"$f":"ROW(Antrag!A671)","v":671},{"$f":"I30-1","v":687},0]
[null,"Fahrzeug- und Lenkerrechtsschutz",1,1,{"$f":"F30*$K$4","v":0},1,{"$f":"'Berechnung Sparten'!U485","v":0},"nicht gewählt",{"$f":"ROW(Antrag!A688)","v":688},{"$f":"I31-1","v":708},0]
[null,"Technik Pauschal",{"$f":"$N$2","v":0},0,0,{"$f":"IF(C3=1,C31,D31)*IF('Berechnung Sparten'!Q5=0,0,1)","v":0},{"$f":"'Berechnung Sparten'!U409","v":0},"nicht möglich",{"$f":"ROW(Antrag!B709)","v":709},717,0]
[null,"Technik Indirekter Blitz",{"$f":"$N$2","v":0},0,0,0,{"$f":"'Berechnung Sparten'!U418","v":0},"nicht möglich",{"$f":"ROW(Antrag!B718)","v":718},724,0]
[null,"EDV",{"$f":"$N$2","v":0},0,0,0,{"$f":"'Berechnung Sparten'!U434","v":0},"nicht möglich",{"$f":"ROW(Antrag!B725)","v":725},737,0]
[null,"Kühlgut",1,0,0,1,{"$f":"'Berechnung Sparten'!U443","v":0},"nicht gewählt",{"$f":"ROW(Antrag!B738)","v":738},743,0]
[null,"Transport",{"$f":"$N$2","v":0},0,0,0,{"$f":"'Berechnung Sparten'!U452","v":0},"nicht möglich",{"$f":"ROW(Antrag!B744)","v":744},{"$f":"I36-1","v":749},0]
[null,"Gewerbe-Soforthilfe",1,1,0,1,{"$f":"'Berechnung Sparten'!U509","v":0},"nicht gewählt",{"$f":"ROW(Antrag!A750)","v":750},{"$f":"I37-1","v":755},0]
["Beipackzettel","Feuer",null,null,null,null,null,null,{"$f":"ROW(Antrag!A756)","v":756},814,{"$f":"K12*$A$39","v":0}]
["An/aus","F-BU","alle BU",null,null,null,null,null,{"$f":"ROW(Antrag!A815)","v":815},873,{"$f":"SUM(K13:K15)*$A$39","v":{"$error":"#N/A"}}]
[{"$f":"IF(A40=TRUE,1,0)","v":1},"EC",null,null,null,null,null,null,{"$f":"ROW(Antrag!A874)","v":874},991,{"$f":"K16*$A$39","v":0}]
[true,"EC-BU","alle EC-BU",null,null,null,null,null,{"$f":"ROW(Antrag!A992)","v":992},1109,{"$f":"SUM(K17:K19)*$A$39","v":0}]
[null,"ED",null,null,null,null,null,null,{"$f":"ROW(Antrag!A1110)","v":1110},1168,{"$f":"K20*$A$39","v":0}]
[null,"Botenberaubung",null,null,null,null,null,null,{"$f":"ROW(Antrag!A1169)","v":1169},1227,{"$f":"K21*$A$39","v":0}]
[null,"LW",null,null,null,null,null,null,{"$f":"ROW(Antrag!A1228)","v":1228},1286,{"$f":"K22*$A$39","v":0}]
[null,"Glas",null,null,null,null,null,null,{"$f":"ROW(Antrag!A1287)","v":1287},1345,{"$f":"K23*$A$39","v":0}]
[null,"Sturm",null,null,null,null,null,null,{"$f":"ROW(Antrag!A1346)","v":1346},1404,{"$f":"K24*$A$39","v":0}]
[null,"Hpfl","Beide Hpfl",null,null,null,null,null,{"$f":"ROW(Antrag!A1405)","v":1405},1463,{"$f":"SUM(K26:K27)*$A$39","v":0}]
[null,"RS","alle RS",null,null,null,null,null,{"$f":"ROW(Antrag!A1464)","v":1464},1581,{"$f":"SUM(K28:K30)*$A$39","v":0}]
[null,"Maschinenbruch","Technik Pauschal",null,null,null,null,null,{"$f":"ROW(Antrag!A1582)","v":1582},1640,{"$f":"K31*$A$39","v":0}]
[null,"Elektro","Technik Pauschal, EDV",null,null,null,null,null,{"$f":"ROW(Antrag!A1641)","v":1641},1699,{"$f":"SUM(K31,K33)*$A$39","v":0}]
[null,"Kühlgut",null,null,null,null,null,null,{"$f":"ROW(Antrag!A1700)","v":1700},1758,{"$f":"K34*$A$39","v":0}]
[null,"Transport",null,null,null,null,null,null,{"$f":"ROW(Antrag!A1759)","v":1759},1817,{"$f":"K35*$A$39","v":0}]
[null,"Gewerbe-Soforthilfe",null,null,null,null,null,null,{"$f":"ROW(Antrag!$A$1818)","v":1818},1870,{"$f":"K36*$A$39","v":0}]
[null,null,null,null,null,null,null,"Ende",{"$f":"ROW(Antrag!$A$1871)","v":1871},{"$f":"I53","v":1871},0]

{"sheet":"Antrag","index":14,"n_rows":1871,"n_cols":17,"rows_kept":1871,"cut":false,"hidden":false,"merged":[[580,12,580,13],[561,1,561,11],[561,12,561,13],[563,14,580,15],[631,10,631,11],[631,1,631,9],[563,12,563,13],[564,12,564,13],[565,12,565,13],[566,12,566,13],[567,12,567,13],[568,12,568,13],[569,12,569,13],[570,12,570,13],[571,12,571,13],[572,12,572,13],[573,12,573,13],[574,12,574,13],[575,12,575,13],[576,12,576,13],[577,12,577,13],[578,12,578,13],[579,12,579,13],[575,1,575,11],[576,1,576,11],[577,1,577,11],[578,1,578,11],[579,1,579,11],[580,1,580,11],[628,14,628,15],[587,1,587,11],[587,12,587,13],[560,1,560,11],[560,12,560,13],[562,1,562,11],[562,12,562,13],[562,14,562,15],[563,1,563,11],[564,1,564,11],[565,1,565,11],[566,1,566,11],[567,1,567,11],[568,1,568,11],[569,1,569,11],[570,1,570,11],[571,1,571,11],[572,1,572,11],[573,1,573,11],[574,1,574,11],[560,14,560,15],[698,7,698,13],[698,14,698,15],[689,14,689,15],[688,1,688,6],[699,7,699,13],[699,14,699,15],[695,5,695,6],[689,1,689,4],[689,7,689,13],[695,7,695,13],[695,14,695,15],[701,14,701,15],[698,1,698,4],[705,11,705,13],[705,14,705,15],[702,1,702,4],[702,5,702,6],[702,7,702,13],[702,14,702,15],[703,1,703,4],[703,5,703,6],[703,7,703,13],[704,14,704,15],[704,1,704,11],[704,12,704,13],[703,14,703,15],[700,1,700,4],[700,5,700,6],[700,7,700,13],[700,14,700,15],[701,1,701,4],[701,5,701,6],[701,7,701,13],[698,5,698,6],[689,5,689,6],[670,1,670,15],[671,1,671,15],[699,1,699,4],[699,5,699,6],[697,1,697,4],[697,5,697,6],[697,7,697,13],[697,14,697,15],[42,1,42,5],[31,8,31,13],[42,6,42,7],[36,8,36,13],[36,14,36,15],[684,11,684,13],[499,1,499,15],[500,1,500,11],[479,1,479,11],[479,12,479,13],[447,1,447,13],[448,14,448,15],[498,1,498,15],[478,12,478,13],[478,14,478,15],[479,14,479,15],[424,1,424,13],[425,1,425,13],[426,1,426,13],[674,8,674,13],[675,8,675,13],[468,12,468,13],[468,14,468,15],[696,1,696,4],[696,5,696,6],[696,7,696,13],[696,14,696,15],[691,5,691,6],[691,7,691,13],[691,14,691,15],[690,1,690,4],[690,5,690,6],[690,7,690,13],[690,14,690,15],[694,1,694,4],[694,5,694,6],[694,7,694,13],[694,14,694,15],[695,1,695,4],[667,11,667,13],[688,7,688,15],[691,1,691,4],[680,8,680,13],[680,14,680,15],[672,1,672,3],[673,1,673,3],[674,1,674,3],[683,14,683,15],[683,1,683,3],[684,14,684,15],[687,1,687,15],[692,5,692,6],[692,7,692,13],[692,14,692,15],[693,1,693,4],[661,2,661,15],[664,1,664,15],[660,2,660,15],[667,14,667,15],[681,4,681,5],[682,4,682,5],[683,4,683,5],[672,4,672,7],[677,6,677,7],[673,14,673,15],[674,14,674,15],[675,14,675,15],[676,14,676,15],[677,14,677,15],[677,8,677,13],[680,4,680,5],[680,1,680,3],[680,6,680,7],[676,8,676,13],[681,8,681,13],[682,8,682,13],[681,6,681,7],[679,4,679,7],[682,6,682,7],[678,1,678,15],[681,14,681,15],[682,14,682,15],[683,8,683,13],[683,6,683,7],[677,4,677,5],[679,14,679,15],[679,8,679,13],[632,14,632,15],[633,1,633,15],[634,1,634,15],[645,1,645,15],[635,2,635,15],[636,2,636,15],[642,2,642,15],[639,2,639,15],[644,1,644,15],[643,1,643,15],[663,2,663,15],[676,1,676,3],[672,14,672,15],[677,1,677,3],[662,1,662,15],[652,1,652,15],[653,1,653,15],[654,1,654,15],[655,2,655,15],[659,2,659,15],[657,2,657,15],[673,6,673,7],[674,6,674,7],[675,6,675,7],[672,8,672,13],[673,8,673,13],[676,6,676,7],[675,1,675,3],[673,4,673,5],[674,4,674,5],[675,4,675,5],[676,4,676,5],[745,14,745,15],[37,14,37,15],[44,8,44,15],[225,1,225,14],[41,1,41,5],[603,14,603,15],[39,1,39,5],[40,1,40,5],[426,14,426,15],[508,1,508,15],[500,12,500,13],[603,12,603,13],[500,14,500,15],[423,1,423,11],[423,12,423,13],[474,1,474,15],[627,9,627,10],[627,4,627,5],[626,1,626,15],[604,12,604,13],[604,14,604,15],[621,1,621,11],[619,1,619,15],[608,1,608,11],[608,12,608,13],[623,14,623,15],[628,1,628,11],[628,12,628,13],[631,12,631,13],[631,14,631,15],[740,11,740,13],[743,1,743,15],[740,14,740,15],[711,14,711,15],[714,14,714,15],[714,11,714,13],[713,1,713,11],[713,12,713,13],[713,14,713,15],[622,1,622,11],[622,14,622,15],[729,14,729,15],[733,1,733,11],[733,12,733,13],[733,14,733,15],[732,1,732,11],[732,12,732,13],[732,14,732,15],[721,11,721,13],[721,14,721,15],[724,1,724,15],[648,2,648,15],[649,2,649,15],[650,2,650,15],[651,2,651,15],[658,2,658,15],[665,2,665,15],[666,2,666,15],[681,1,681,3],[682,1,682,3],[646,2,646,15],[647,2,647,15],[18,3,18,4],[620,1,620,11],[620,12,620,13],[620,14,620,15],[31,6,31,7],[35,1,35,5],[38,6,38,7],[38,1,38,5],[35,6,35,7],[36,1,36,5],[37,1,37,5],[692,1,692,4],[36,6,36,7],[403,14,403,15],[236,1,236,15],[629,1,629,11],[629,12,629,13],[629,14,629,15],[630,1,630,11],[630,12,630,13],[630,14,630,15],[637,2,637,15],[638,2,638,15],[641,2,641,15],[640,1,640,15],[632,1,632,11],[632,12,632,13],[616,14,616,15],[602,1,602,11],[602,12,602,13],[656,2,656,15],[679,1,679,3],[607,14,607,15],[13,1,13,15],[14,2,14,8],[14,9,14,10],[14,11,14,15],[15,9,15,10],[15,11,15,15],[15,2,15,8],[40,6,40,7],[41,6,41,7],[16,6,16,8],[31,14,31,15],[32,14,32,15],[21,1,21,7],[21,8,21,15],[17,1,17,13],[32,6,32,7],[33,6,33,7],[16,2,16,3],[16,4,16,5],[18,7,18,8],[31,1,31,5],[16,9,16,10],[16,11,16,15],[18,14,18,15],[19,1,19,5],[19,6,19,15],[39,6,39,7],[37,8,37,13],[28,1,28,15],[32,1,32,5],[33,1,33,5],[559,1,559,7],[220,5,220,15],[223,1,223,15],[596,12,596,13],[596,14,596,15],[597,1,597,11],[597,12,597,13],[597,14,597,15],[621,12,621,13],[621,14,621,15],[606,1,606,11],[606,12,606,13],[606,14,606,15],[219,1,219,4],[220,1,220,4],[219,5,219,15],[600,1,600,11],[600,12,600,13],[601,1,601,11],[601,12,601,13],[598,12,598,13],[601,14,601,15],[598,1,598,11],[600,14,600,15],[231,1,234,15],[505,11,505,13],[504,1,504,11],[334,1,334,11],[334,12,334,13],[616,11,616,13],[607,1,607,11],[607,12,607,13],[548,1,548,11],[477,14,477,15],[547,14,547,15],[553,12,553,13],[424,14,424,15],[425,14,425,15],[44,1,44,7],[43,1,43,5],[43,6,43,7],[476,1,476,11],[476,12,476,13],[476,14,476,15],[185,11,185,15],[752,11,752,13],[752,14,752,15],[750,1,751,15],[708,1,708,15],[711,1,711,11],[711,12,711,13],[746,11,746,13],[746,14,746,15],[745,10,745,13],[717,1,717,15],[581,1,581,15],[582,1,582,11],[582,12,582,13],[582,14,582,15],[583,1,583,11],[584,1,584,11],[584,12,584,13],[584,14,584,15],[585,1,585,11],[549,11,549,13],[196,1,196,15],[197,1,200,15],[477,12,477,13],[559,8,559,9],[559,10,559,13],[284,1,284,15],[323,1,323,11],[321,1,321,15],[366,1,366,11],[366,12,366,13],[333,1,333,15],[444,1,444,15],[440,1,440,11],[440,12,440,13],[440,14,440,15],[439,1,439,11],[543,1,543,11],[543,12,543,13],[543,14,543,15],[548,12,548,13],[420,1,420,15],[538,1,538,15],[533,14,533,15],[519,14,519,15],[520,1,520,11],[520,12,520,13],[520,14,520,15],[521,1,521,11],[521,12,521,13],[468,1,468,11],[477,1,477,11],[535,1,535,15],[492,12,492,13],[492,14,492,15],[496,1,496,15],[510,14,510,15],[586,1,586,11],[586,12,586,13],[586,14,586,15],[478,1,478,11],[547,12,547,13],[544,12,544,13],[544,14,544,15],[545,1,545,11],[585,12,585,13],[585,14,585,15],[18,1,18,2],[18,5,18,6],[38,14,38,15],[39,14,39,15],[40,14,40,15],[224,4,224,8],[282,1,282,15],[283,1,283,15],[558,1,558,15],[475,12,475,13],[475,14,475,15],[553,14,553,15],[544,1,544,11],[281,1,281,15],[555,14,555,15],[555,11,555,13],[541,1,541,15],[588,1,588,11],[588,12,588,13],[588,14,588,15],[590,1,590,11],[590,12,590,13],[590,14,590,15],[719,14,719,15],[410,12,410,13],[318,1,318,15],[480,1,480,11],[522,1,522,11],[522,12,522,13],[522,14,522,15],[524,1,524,11],[524,12,524,13],[192,1,195,15],[416,1,416,13],[229,10,229,15],[226,1,227,14],[409,12,409,13],[409,14,409,15],[410,1,410,11],[553,1,553,11],[524,14,524,15],[525,1,525,11],[525,12,525,13],[525,14,525,15],[526,1,526,11],[526,12,526,13],[526,14,526,15],[367,1,367,15],[509,1,509,15],[725,12,725,13],[725,14,725,15],[712,1,712,11],[712,12,712,13],[712,14,712,15],[718,1,718,11],[718,12,718,13],[718,14,718,15],[719,1,719,11],[480,12,480,13],[480,14,480,15],[583,12,583,13],[583,14,583,15],[533,1,533,11],[533,12,533,13],[11,1,11,15],[41,8,41,13],[42,8,42,13],[30,1,30,15],[162,1,165,15],[166,1,169,15],[39,8,39,13],[40,8,40,13],[23,1,23,15],[24,1,24,15],[175,1,175,15],[542,1,542,11],[542,12,542,13],[542,14,542,15],[25,1,25,15],[26,1,26,15],[719,12,719,13],[185,1,185,10],[18,9,18,13],[454,1,454,11],[454,12,454,13],[454,14,454,15],[457,1,457,11],[457,12,457,13],[457,14,457,15],[455,1,455,11],[455,12,455,13],[455,14,455,15],[456,1,456,15],[458,1,458,15],[460,1,460,11],[412,1,412,11],[412,12,412,13],[412,14,412,15],[27,1,27,15],[182,11,182,15],[183,11,183,15],[184,11,184,15],[186,1,187,10],[38,8,38,13],[37,6,37,7],[41,14,41,15],[42,14,42,15],[285,1,285,15],[229,1,229,6],[319,1,319,15],[320,1,320,15],[222,4,222,9],[34,1,34,5],[34,6,34,7],[32,8,32,13],[33,8,33,13],[34,8,34,13],[33,14,33,15],[34,14,34,15],[35,14,35,15],[35,8,35,13],[449,1,449,11],[449,12,449,13],[17,14,17,15],[160,1,160,15],[214,1,214,15],[216,1,216,15],[217,1,217,15],[511,1,511,11],[511,12,511,13],[511,14,511,15],[176,1,176,15],[177,1,178,15],[182,1,182,10],[179,1,179,10],[180,1,181,10],[183,1,184,10],[286,1,286,15],[510,1,510,11],[510,12,510,13],[501,14,501,15],[502,1,502,11],[502,12,502,13],[502,14,502,15],[503,12,503,13],[467,14,467,15],[470,1,470,11],[727,1,727,11],[727,12,727,13],[727,14,727,15],[485,1,485,11],[485,12,485,13],[485,14,485,15],[486,1,486,11],[486,12,486,13],[486,14,486,15],[487,1,487,11],[487,12,487,13],[487,14,487,15],[488,1,488,11],[488,12,488,13],[488,14,488,15],[489,1,489,11],[489,12,489,13],[489,14,489,15],[491,1,491,11],[491,12,491,13],[491,14,491,15],[726,1,726,11],[505,14,505,15],[503,1,503,11],[516,12,516,13],[516,14,516,15],[517,1,517,11],[517,12,517,13],[517,14,517,15],[518,1,518,11],[514,14,514,15],[515,1,515,11],[515,12,515,13],[515,14,515,15],[516,1,516,11],[534,1,534,11],[534,12,534,13],[534,14,534,15],[528,1,528,11],[528,12,528,13],[503,14,503,15],[501,1,501,11],[501,12,501,13],[497,1,497,15],[490,1,490,11],[490,12,490,13],[490,14,490,15],[492,1,492,11],[518,12,518,13],[518,14,518,15],[519,1,519,11],[521,14,521,15],[531,14,531,15],[527,1,527,11],[513,1,513,11],[519,12,519,13],[527,12,527,13],[527,14,527,15],[730,1,730,11],[730,12,730,13],[730,14,730,15],[731,1,731,11],[731,12,731,13],[731,14,731,15],[728,1,728,11],[728,12,728,13],[728,14,728,15],[729,1,729,11],[729,12,729,13],[536,1,536,15],[615,14,615,15],[627,1,627,3],[614,12,614,13],[614,14,614,15],[622,12,622,13],[627,6,627,8],[627,11,627,13],[627,14,627,15],[623,11,623,13],[608,14,608,15],[609,1,609,11],[726,12,726,13],[726,14,726,15],[559,14,559,15],[595,14,595,15],[593,14,593,15],[589,1,589,11],[589,12,589,13],[589,14,589,15],[725,1,725,11],[592,14,592,15],[593,1,593,11],[561,14,561,15],[605,1,605,11],[605,12,605,13],[605,14,605,15],[591,1,591,11],[591,12,591,13],[591,14,591,15],[528,14,528,15],[529,1,529,11],[529,12,529,13],[529,14,529,15],[530,1,530,11],[530,12,530,13],[530,14,530,15],[531,1,531,11],[531,12,531,13],[532,1,532,15],[545,12,545,13],[545,14,545,15],[549,14,549,15],[546,1,546,11],[546,12,546,13],[546,14,546,15],[547,1,547,11],[548,14,548,15],[554,1,554,11],[554,12,554,13],[554,14,554,15],[552,1,552,15],[587,14,587,15],[453,1,453,11],[453,12,453,13],[453,14,453,15],[470,14,470,15],[471,1,471,11],[471,12,471,13],[471,14,471,15],[465,1,465,11],[465,12,465,13],[465,14,465,15],[467,12,467,13],[466,1,466,15],[472,1,472,15],[473,1,473,15],[523,1,523,15],[462,12,462,13],[512,1,512,11],[512,12,512,13],[512,14,512,15],[504,12,504,13],[504,14,504,15],[513,12,513,13],[513,14,513,15],[514,1,514,11],[461,1,461,11],[461,12,461,13],[461,14,461,15],[467,1,467,11],[481,11,481,13],[481,14,481,15],[484,1,484,15],[514,12,514,13],[253,9,253,10],[302,14,302,15],[303,1,303,11],[303,12,303,13],[275,3,275,4],[275,5,275,6],[275,7,275,8],[275,9,275,10],[271,13,271,15],[408,12,408,13],[408,14,408,15],[421,1,421,11],[421,12,421,13],[421,14,421,15],[411,1,411,11],[411,12,411,13],[738,12,738,13],[738,14,738,15],[734,11,734,13],[737,1,737,15],[450,1,450,11],[450,12,450,13],[450,14,450,15],[464,1,464,11],[464,12,464,13],[463,1,463,11],[463,12,463,13],[463,14,463,15],[459,12,459,13],[459,14,459,15],[460,12,460,13],[459,1,459,11],[246,1,246,2],[247,1,247,2],[271,3,271,4],[272,1,272,2],[272,3,272,4],[293,14,293,15],[251,9,251,10],[252,7,252,8],[246,13,246,15],[247,13,247,15],[273,13,273,15],[274,13,274,15],[293,1,293,11],[264,9,264,10],[276,1,276,2],[276,3,276,4],[449,14,449,15],[441,14,441,15],[441,11,441,13],[446,1,446,15],[445,1,445,15],[448,1,448,13],[447,14,447,15],[259,1,259,2],[252,5,252,6],[253,5,253,6],[253,1,253,2],[258,13,258,15],[256,1,256,3],[294,14,294,15],[297,1,297,11],[252,9,252,10],[239,1,239,3],[240,3,240,4],[245,3,245,4],[246,3,246,4],[247,3,247,4],[241,1,241,2],[263,5,263,6],[263,7,263,8],[277,7,277,8],[240,1,240,2],[250,1,250,2],[242,1,242,2],[243,1,243,2],[244,1,244,2],[253,3,253,4],[249,3,249,4],[250,3,250,4],[252,1,252,2],[252,3,252,4],[241,3,241,4],[242,3,242,4],[243,3,243,4],[244,3,244,4],[251,1,251,2],[264,7,264,8],[265,7,265,8],[264,1,264,2],[264,3,264,4],[263,3,263,4],[277,1,277,2],[277,3,277,4],[277,5,277,6],[276,5,276,6],[276,7,276,8],[276,9,276,10],[275,1,275,2],[273,1,273,2],[251,3,251,4],[245,1,245,2],[253,7,253,8],[248,1,248,2],[249,1,249,2],[251,7,251,8],[248,3,248,4],[256,4,256,15],[257,1,257,2],[257,3,257,4],[296,1,296,11],[296,12,296,13],[262,1,262,2],[262,3,262,4],[261,3,261,4],[265,9,265,10],[263,1,263,2],[277,9,277,10],[268,1,268,3],[263,9,263,10],[265,1,265,2],[264,5,264,6],[272,13,272,15],[273,3,273,4],[274,1,274,2],[274,3,274,4],[271,1,271,2],[280,1,280,15],[279,1,279,15],[258,1,258,2],[296,14,296,15],[258,3,258,4],[259,3,259,4],[260,1,260,2],[260,3,260,4],[261,1,261,2],[309,1,309,11],[309,12,309,13],[316,14,316,15],[315,14,315,15],[315,12,315,13],[314,1,314,15],[269,1,269,2],[269,3,269,4],[270,1,270,2],[270,3,270,4],[265,3,265,4],[265,5,265,6],[291,1,291,15],[308,12,308,13],[295,14,295,15],[295,12,295,13],[311,14,311,15],[312,14,312,15],[311,12,311,13],[312,12,312,13],[307,12,307,13],[303,14,303,15],[315,1,315,11],[316,1,316,11],[304,1,304,11],[313,1,313,11],[305,12,305,13],[306,14,306,15],[310,12,310,13],[301,12,301,13],[310,1,310,11],[307,1,307,11],[300,1,300,11],[304,14,304,15],[297,12,297,13],[287,1,287,15],[288,1,288,15],[289,1,289,15],[290,1,290,15],[292,1,292,15],[313,14,313,15],[307,14,307,15],[305,14,305,15],[317,1,317,11],[317,12,317,13],[317,14,317,15],[306,12,306,13],[308,14,308,15],[309,14,309,15],[294,12,294,13],[299,1,299,15],[297,14,297,15],[301,14,301,15],[302,1,302,11],[302,12,302,13],[298,1,298,15],[325,14,325,15],[239,4,239,15],[268,4,268,15],[259,13,259,15],[260,13,260,15],[269,13,269,15],[270,13,270,15],[248,13,248,15],[249,13,249,15],[250,13,250,15],[257,13,257,15],[323,12,323,13],[323,14,323,15],[322,1,322,15],[261,13,261,15],[262,13,262,15],[295,1,295,11],[308,1,308,11],[301,1,301,11],[251,5,251,6],[316,12,316,13],[313,12,313,13],[305,1,305,11],[306,1,306,11],[240,13,240,15],[241,13,241,15],[242,13,242,15],[300,14,300,15],[300,12,300,13],[311,1,311,11],[312,1,312,11],[310,14,310,15],[243,13,243,15],[244,13,244,15],[245,13,245,15],[336,1,336,11],[336,12,336,13],[336,14,336,15],[330,14,330,15],[330,11,330,13],[328,1,328,11],[328,12,328,13],[328,14,328,15],[329,1,329,11],[329,12,329,13],[329,14,329,15],[326,1,326,11],[326,12,326,13],[326,14,326,15],[327,1,327,11],[327,12,327,13],[327,14,327,15],[335,1,335,11],[335,12,335,13],[335,14,335,15],[334,14,334,15],[304,12,304,13]],"merged_total":1269,"flags":["merged_cut"]}
[{"$f":"VLOOKUP(ROW(),'Übersicht und Druck'!$I$7:$K$53,3,TRUE)","v":1},{"$f":"\"Kurzoffert/Antrag für \"&Kundendaten!$O$4&\" \"&Kundendaten!$O$3","v":"Kurzoffert/Antrag für  "},null,null,null,null,null,null,null,null,null,null,null,null,null,{"$f":"TODAY()","v":"2026-03-23"}]
[{"$f":"VLOOKUP(ROW(),'Übersicht und Druck'!$I$7:$K$53,3,TRUE)","v":1},"Kurzoffert/Antrag"]
[{"$f":"VLOOKUP(ROW(),'Übersicht und Druck'!$I$7:$K$53,3,TRUE)","v":1},"Gewerbe Plus"]
[{"$f":"VLOOKUP(ROW(),'Übersicht und Druck'!$I$7:$K$53,3,TRUE)","v":1},"Aktion: Gewerbeoffensive 25"]
[{"$f":"VLOOKUP(ROW(),'Übersicht und Druck'!$I$7:$K$53,3,TRUE)","v":1},null,null,null,null,null,null,null,null,null,null,null,null,null,null,"Offertersteller:"]
[{"$f":"VLOOKUP(ROW(),'Übersicht und Druck'!$I$7:$K$53,3,TRUE)","v":1},{"$f":"IF(Kundendaten!H46=\"nein\",\"\",\"Konvertierung zu \"&Kundendaten!O32)","v":""},null,null,null,null,null,null,null,null,null,null,null,null,null,{"$f":"Grunddaten!C5","v":0}]
[{"$f":"VLOOKUP(ROW(),'Übersicht und Druck'!$I$7:$K$53,3,TRUE)","v":1},{"$f":"IF(OR(Kundendaten!O33=\"\",Kundendaten!O33=\"nein\"),\"\",VLOOKUP(Kundendaten!O33,Kundendaten!B34:C36,2,FALSE))","v":""},null,null,null,null,null,null,null,null,null,null,null,null,null,{"$f":"\"Werber-Nr.: \"&Grunddaten!C11","v":"Werber-Nr.: "}]
[{"$f":"VLOOKUP(ROW(),'Übersicht und Druck'!$I$7:$K$53,3,TRUE)","v":1},null,null,null,null,null,null,null,null,null,null,null,null,null,null,{"$f":"Grunddaten!C6&\", \"&Grunddaten!C7","v":", "}]
[{"$f":"VLOOKUP(ROW(),'Übersicht und Druck'!$I$7:$K$53,3,TRUE)","v":1},null,null,null,null,null,null,null,null,null,null,null,null,null,null,{"$f":"\"Tel.: \"&Grunddaten!C8","v":"Tel.: "}]
[{"$f":"VLOOKUP(ROW(),'Übersicht und Druck'!$I$7:$K$53,3,TRUE)","v":1},{"$f":"Druck!A30","v":"Achtung: Sonderrabatt muss von Maklerbetreuung genehmigt werden!"},null,null,null,null,null,null,null,null,null,null,null,null,null,{"$f":"\"Mail: \"&Grunddaten!C9","v":"Mail: "}]
[{"$f":"VLOOKUP(ROW(),'Übersicht und Druck'!$I$7:$K$53,3,TRUE)","v":1},{"$f":"IF(RS!S12*RS!S6*RS!S3=1,\"Achtung: der allgemeine Vertragsrechtsschutz ist anfragepflichtig!\",\"\")","v":""},null,null,null,null,null,null,null,null,null,null,null,null,null,{"$f":"Grunddaten!C10","v":0}]
[{"$f":"VLOOKUP(ROW(),'Übersicht und Druck'!$I$7:$K$53,3,TRUE)","v":1},"Wir danken für Ihre Anfrage und erlauben uns, diesbezüglich ein darauf basiertes, unverbindliches Offert zu unterbreiten.\nDer Deckungsumfang richtet sich nach den der jeweiligen Versicherungssparte zugrundeliegenden Allgemeinen und Besonderen Bedingungen.\n Die genannte Gesamtprämie ist auf Basis einer 10-jährigen Vertragslaufzeit berechnet und beinhaltet bereits sämtliche Nachlässe sowie die derzeit gültigen Steuern. \n\nDie Hauptversammlung beschließt alljährlich in den Sparten Feuer (Zivil und Landwirtschaft), Allgemeine Unfall, Glasbruch und in Bündelpolizzen integrierter Haushalt Versicherung nach einem günstigen Schadenverlauf pro Sparte für das Folgejahr einen  Gewinnanteil - den NV Vorteil - der in der Erstprämie bereits berücksichtigt ist. Dieser Anteil beträgt in der Sparte Feuer 5%, in den anderen genannten Sparten 10%. Auf diesen NV Vorteil besteht kein Rechtsanspruch. Der in der Polizze ausgewiesene NV Vorteil kann in der Folgeprämienvorschreibung nur dann gewährt werden, wenn die Hauptversammlung dies bei gutem Schadenverlauf auch in den Folgejahren neuerlich beschließt."]
[{"$f":"VLOOKUP(ROW(),'Übersicht und Druck'!$I$7:$K$53,3,TRUE)","v":1}]
[{"$f":"VLOOKUP(ROW(),'Übersicht und Druck'!$I$7:$K$53,3,TRUE)","v":1},"Kunden und Vertragsaten"]
[{"$f":"VLOOKUP(ROW(),'Übersicht und Druck'!$I$7:$K$53,3,TRUE)","v":1},"Firma",{"$f":"Kundendaten!O3","v":0},null,null,null,null,null,null,"Rechtsform",null,{"$f":"Kundendaten!O4","v":0}]
[{"$f":"VLOOKUP(ROW(),'Übersicht und Druck'!$I$7:$K$53,3,TRUE)","v":1},"Straße",{"$f":"Kundendaten!O8","v":0},null,null,null,null,null,null,"PLZ, Ort",null,{"$f":"Kundendaten!O9&\" \"&IF(Kundendaten!O11=\"\",Kundendaten!O10,Kundendaten!O11)","v":{"$error":"#N/A"}}]
[{"$f":"VLOOKUP(ROW(),'Übersicht und Druck'!$I$7:$K$53,3,TRUE)","v":1},"FN",{"$f":"Kundendaten!O5","v":0},null,"Geschlecht",null,{"$f":"IF(Kundendaten!O4=Kundendaten!G5,Kundendaten!O6,\"\")","v":""},null,null,"Geburtsdatum",null,{"$f":"IF(Kundendaten!O4=Kundendaten!G5,Kundendaten!O7,\"\")","v":""}]
[{"$f":"VLOOKUP(ROW(),'Übersicht und Druck'!$I$7:$K$53,3,TRUE)","v":1},"Wurde zu den beantragten Sparten bereits eine Versicherung gekündigt/einvernehmlich aufgelöst?",null,null,null,null,null,null,null,null,null,null,null,null,{"$f":"Kundendaten!H45","v":"ja"}]
[{"$f":"VLOOKUP(ROW(),'Übersicht und Druck'!$I$7:$K$53,3,TRUE)","v":1},"Beginn",null,{"$f":"Kundendaten!I36","v":"2026-03-23"},null,"Ablauf",null,{"$f":"Kundendaten!O21","v":"2036-03-23"},null,{"$f":"\"Prämie \"&Kundendaten!O43&\" per \"&Kundendaten!O22","v":"Prämie Jährlich per SEPA-Lastschrift"},null,null,null,null,{"$f":"'Übersicht und Druck'!R5","v":{"$error":"#N/A"}}]
[{"$f":"VLOOKUP(ROW(),'Übersicht und Druck'!$I$7:$K$53,3,TRUE)","v":1},"Elektronische Kommunikation: ",null,null,null,null,{"$f":"IF(Kundendaten!C49=TRUE,\"ja: \"&Kundendaten!O37,\"nein\")","v":"nein"}]
[{"$f":"VLOOKUP(ROW(),'Übersicht und Druck'!$I$7:$K$53,3,TRUE)","v":1}]
[{"$f":"VLOOKUP(ROW(),'Übersicht und Druck'!$I$7:$K$53,3,TRUE)","v":1},"Art des versicherten Risikos",null,null,null,null,null,null,{"$f":"Kundendaten!E12","v":"Betrieb"}]
[{"$f":"VLOOKUP(ROW(),'Übersicht und Druck'!$I$7:$K$53,3,TRUE)","v":1}]
[{"$f":"VLOOKUP(ROW(),'Übersicht und Druck'!$I$7:$K$53,3,TRUE)","v":1},"Versicherte Branchen"]
[{"$f":"VLOOKUP(ROW(),'Übersicht und Druck'!$I$7:$K$53,3,TRUE)","v":1},{"$f":"Branche!D5","v":""}]
[{"$f":"VLOOKUP(ROW(),'Übersicht und Druck'!$I$7:$K$53,3,TRUE)","v":1},{"$f":"Branche!D6","v":""}]
[{"$f":"VLOOKUP(ROW(),'Übersicht und Druck'!$I$7:$K$53,3,TRUE)","v":1},{"$f":"Branche!D7","v":""}]
[{"$f":"VLOOKUP(ROW(),'Übersicht und Druck'!$I$7:$K$53,3,TRUE)","v":1},{"$f":"Branche!D8","v":""}]
[{"$f":"VLOOKUP(ROW(),'Übersicht und Druck'!$I$7:$K$53,3,TRUE)","v":1},{"$f":"Branche!D9","v":""}]
[{"$f":"VLOOKUP(ROW(),'Übersicht und Druck'!$I$7:$K$53,3,TRUE)","v":1}]
[{"$f":"VLOOKUP(ROW(),'Übersicht und Druck'!$I$7:$K$53,3,TRUE)","v":1},"Spartenübersicht inkl. Jahresprämien"]
[{"$f":"VLOOKUP(ROW(),'Übersicht und Druck'!$I$7:$K$53,3,TRUE)","v":1},{"$f":"'Übersicht und Druck'!B12","v":"Feuer"},null,null,null,null,{"$f":"'Übersicht und Druck'!H12","v":"nicht gewählt"},null,{"$f":"'Übersicht und Druck'!B24","v":"Sturm"},null,null,null,null,null,{"$f":"'Übersicht und Druck'!H24","v":"nicht gewählt"}]
[{"$f":"VLOOKUP(ROW(),'Übersicht und Druck'!$I$7:$K$53,3,TRUE)","v":1},{"$f":"'Übersicht und Druck'!B13","v":"Feuer/Total-Betriebsunterbrechung"},null,null,null,null,{"$f":"'Übersicht und Druck'!H13","v":{"$error":"#N/A"}},null,{"$f":"'Übersicht und Druck'!B25","v":"Katastrophenschutz"},null,null,null,null,null,{"$f":"'Übersicht und Druck'!H25","v":"nicht gewählt"}]
[{"$f":"VLOOKUP(ROW(),'Übersicht und Druck'!$I$7:$K$53,3,TRUE)","v":1},{"$f":"'Übersicht und Druck'!B14","v":"Mietentgang-BU"},null,null,null,null,{"$f":"'Übersicht und Druck'!H14","v":"nicht gewählt"},null,{"$f":"'Übersicht und Druck'!B26","v":"Haftpflicht"},null,null,null,null,null,{"$f":"'Übersicht und Druck'!H26","v":"nicht gewählt"}]
[{"$f":"VLOOKUP(ROW(),'Übersicht und Druck'!$I$7:$K$53,3,TRUE)","v":1},{"$f":"'Übersicht und Druck'!B15","v":"Mehrkosten-BU"},null,null,null,null,{"$f":"'Übersicht und Druck'!H15","v":"nicht gewählt"},null,{"$f":"'Übersicht und Druck'!B27","v":"Reine Haus- und Grundbesitz-Haftpflicht"},null,null,null,null,null,{"$f":"'Übersicht und Druck'!H27","v":"nicht möglich"}]
[{"$f":"VLOOKUP(ROW(),'Übersicht und Druck'!$I$7:$K$53,3,TRUE)","v":1},{"$f":"'Übersicht und Druck'!B16","v":"Feuer-EC"},null,null,null,null,{"$f":"'Übersicht und Druck'!H16","v":"nicht gewählt"},null,{"$f":"'Übersicht und Druck'!B28","v":"Firmenrechtsschutz"},null,null,null,null,null,{"$f":"'Übersicht und Druck'!H28","v":"nicht gewählt"}]
[{"$f":"VLOOKUP(ROW(),'Übersicht und Druck'!$I$7:$K$53,3,TRUE)","v":1},{"$f":"'Übersicht und Druck'!B17","v":"EC-Betriebsunterbrechung"},null,null,null,null,{"$f":"'Übersicht und Druck'!H17","v":"nicht gewählt"},null,{"$f":"'Übersicht und Druck'!B29","v":"Grundstückseigentums- und Mietrechtsschutz"},null,null,null,null,null,{"$f":"'Übersicht und Druck'!H29","v":"nicht gewählt"}]
[{"$f":"VLOOKUP(ROW(),'Übersicht und Druck'!$I$7:$K$53,3,TRUE)","v":1},{"$f":"'Übersicht und Druck'!B18","v":"EC-Mietentgang-BU"},null,null,null,null,{"$f":"'Übersicht und Druck'!H18","v":"nicht gewählt"},null,{"$f":"'Übersicht und Druck'!B30","v":"Fahrzeug- und Lenkerrechtsschutz"},null,null,null,null,null,{"$f":"'Übersicht und Druck'!H30","v":"nicht gewählt"}]
[{"$f":"VLOOKUP(ROW(),'Übersicht und Druck'!$I$7:$K$53,3,TRUE)","v":1},{"$f":"'Übersicht und Druck'!B19","v":"EC-Mehrkosten-BU"},null,null,null,null,{"$f":"'Übersicht und Druck'!H19","v":"nicht gewählt"},null,{"$f":"'Übersicht und Druck'!B31","v":"Technik Pauschal"},null,null,null,null,null,{"$f":"'Übersicht und Druck'!H31","v":"nicht möglich"}]
[{"$f":"VLOOKUP(ROW(),'Übersicht und Druck'!$I$7:$K$53,3,TRUE)","v":1},{"$f":"'Übersicht und Druck'!B20","v":"Einbruchdiebstahl"},null,null,null,null,{"$f":"'Übersicht und Druck'!H20","v":"nicht möglich"},null,{"$f":"'Übersicht und Druck'!B32","v":"Technik Indirekter Blitz"},null,null,null,null,null,{"$f":"'Übersicht und Druck'!H32","v":"nicht möglich"}]
[{"$f":"VLOOKUP(ROW(),'Übersicht und Druck'!$I$7:$K$53,3,TRUE)","v":1},{"$f":"'Übersicht und Druck'!B21","v":"Botenberaubung"},null,null,null,null,{"$f":"'Übersicht und Druck'!H21","v":"nicht möglich"},null,{"$f":"'Übersicht und Druck'!B33","v":"EDV"},null,null,null,null,null,{"$f":"'Übersicht und Druck'!H33","v":"nicht möglich"}]
[{"$f":"VLOOKUP(ROW(),'Übersicht und Druck'!$I$7:$K$53,3,TRUE)","v":1},{"$f":"'Übersicht und Druck'!B22","v":"Leitungswasser"},null,null,null,null,{"$f":"'Übersicht und Druck'!H22","v":"nicht gewählt"},null,{"$f":"'Übersicht und Druck'!B34","v":"Kühlgut"},null,null,null,null,null,{"$f":"'Übersicht und Druck'!H34","v":"nicht gewählt"}]
[{"$f":"VLOOKUP(ROW(),'Übersicht und Druck'!$I$7:$K$53,3,TRUE)","v":1},{"$f":"'Übersicht und Druck'!B23","v":"Glas"},null,null,null,null,{"$f":"'Übersicht und Druck'!H23","v":"nicht möglich"},null,{"$f":"'Übersicht und Druck'!B35","v":"Transport"},null,null,null,null,null,{"$f":"'Übersicht und Druck'!H35","v":"nicht möglich"}]
[1,{"$f":"'Übersicht und Druck'!B36","v":"Gewerbe-Soforthilfe"},null,null,null,null,{"$f":"'Übersicht und Druck'!H36","v":"nicht gewählt"}]
[{"$f":"VLOOKUP(ROW(),'Übersicht und Druck'!$I$7:$K$53,3,TRUE)","v":1},{"$f":"Druck!A28","v":"Gesamtjahresprämie"},null,null,null,null,null,null,{"$f":"Druck!E28","v":{"$error":"#N/A"}}]
[{"$f":"VLOOKUP(ROW(),'Übersicht und Druck'!$I$7:$K$53,3,TRUE)","v":1}]
[{"$f":"VLOOKUP(ROW(),'Übersicht und Druck'!$I$7:$K$53,3,TRUE)","v":1}]
[{"$f":"VLOOKUP(ROW(),'Übersicht und Druck'!$I$7:$K$53,3,TRUE)","v":1},{"$f":"\"NV-Rechner Gewerbe Plus, V\"&Grunddaten!F3&\"/\"&Kundendaten!G44*100","v":"NV-Rechner Gewerbe Plus, V2026-01/50"},null,null,null,null,null,null,null,null,null,"Gewerbeaktion 2021:",null,null,{"$f":"Branche!F5","v":""}]
[{"$f":"VLOOKUP(ROW(),'Übersicht und Druck'!$I$7:$K$53,3,TRUE)","v":1}]
[{"$f":"VLOOKUP(ROW(),'Übersicht und Druck'!$I$7:$K$53,3,TRUE)","v":1}]
[{"$f":"VLOOKUP(ROW(),'Übersicht und Druck'!$I$7:$K$53,3,TRUE)","v":1}]
[{"$f":"VLOOKUP(ROW(),'Übersicht und Druck'!$I$7:$K$53,3,TRUE)","v":1}]
[{"$f":"VLOOKUP(ROW(),'Übersicht und Druck'!$I$7:$K$53,3,TRUE)","v":1}]
[{"$f":"VLOOKUP(ROW(),'Übersicht und Druck'!$I$7:$K$53,3,TRUE)","v":1}]
[{"$f":"VLOOKUP(ROW(),'Übersicht und Druck'!$I$7:$K$53,3,TRUE)","v":1}]
[{"$f":"VLOOKUP(ROW(),'Übersicht und Druck'!$I$7:$K$53,3,TRUE)","v":1}]
[{"$f":"VLOOKUP(ROW(),'Übersicht und Druck'!$I$7:$K$53,3,TRUE)","v":1}]
[{"$f":"VLOOKUP(ROW(),'Übersicht und Druck'!$I$7:$K$53,3,TRUE)","v":1}]
[{"$f":"VLOOKUP(ROW(),'Übersicht und Druck'!$I$7:$K$53,3,TRUE)","v":1}]
[{"$f":"VLOOKUP(ROW(),'Übersicht und Druck'!$I$7:$K$53,3,TRUE)","v":1}]
[{"$f":"VLOOKUP(ROW(),'Übersicht und Druck'!$I$7:$K$53,3,TRUE)","v":1}]
[{"$f":"VLOOKUP(ROW(),'Übersicht und Druck'!$I$7:$K$53,3,TRUE)","v":1}]
[{"$f":"VLOOKUP(ROW(),'Übersicht und Druck'!$I$7:$K$53,3,TRUE)","v":1}]
[{"$f":"VLOOKUP(ROW(),'Übersicht und Druck'!$I$7:$K$53,3,TRUE)","v":1}]
[{"$f":"VLOOKUP(ROW(),'Übersicht und Druck'!$I$7:$K$53,3,TRUE)","v":1}]
[{"$f":"VLOOKUP(ROW(),'Übersicht und Druck'!$I$7:$K$53,3,TRUE)","v":1}]
[{"$f":"VLOOKUP(ROW(),'Übersicht und Druck'!$I$7:$K$53,3,TRUE)","v":1}]
[{"$f":"VLOOKUP(ROW(),'Übersicht und Druck'!$I$7:$K$53,3,TRUE)","v":1}]
[{"$f":"VLOOKUP(ROW(),'Übersicht und Druck'!$I$7:$K$53,3,TRUE)","v":1}]
[{"$f":"VLOOKUP(ROW(),'Übersicht und Druck'!$I$7:$K$53,3,TRUE)","v":1}]
[{"$f":"VLOOKUP(ROW(),'Übersicht und Druck'!$I$7:$K$53,3,TRUE)","v":1}]
[{"$f":"VLOOKUP(ROW(),'Übersicht und Druck'!$I$7:$K$53,3,TRUE)","v":1}]
[{"$f":"VLOOKUP(ROW(),'Übersicht und Druck'!$I$7:$K$53,3,TRUE)","v":1}]
[{"$f":"VLOOKUP(ROW(),'Übersicht und Druck'!$I$7:$K$53,3,TRUE)","v":1}]
[{"$f":"VLOOKUP(ROW(),'Übersicht und Druck'!$I$7:$K$53,3,TRUE)","v":1}]
[{"$f":"VLOOKUP(ROW(),'Übersicht und Druck'!$I$7:$K$53,3,TRUE)","v":1}]
[{"$f":"VLOOKUP(ROW(),'Übersicht und Druck'!$I$7:$K$53,3,TRUE)","v":1}]
[{"$f":"VLOOKUP(ROW(),'Übersicht und Druck'!$I$7:$K$53,3,TRUE)","v":1}]
[{"$f":"VLOOKUP(ROW(),'Übersicht und Druck'!$I$7:$K$53,3,TRUE)","v":1}]
[{"$f":"VLOOKUP(ROW(),'Übersicht und Druck'!$I$7:$K$53,3,TRUE)","v":1}]
[{"$f":"VLOOKUP(ROW(),'Übersicht und Druck'!$I$7:$K$53,3,TRUE)","v":1}]
[{"$f":"VLOOKUP(ROW(),'Übersicht und Druck'!$I$7:$K$53,3,TRUE)","v":1}]
[{"$f":"VLOOKUP(ROW(),'Übersicht und Druck'!$I$7:$K$53,3,TRUE)","v":1}]
[{"$f":"VLOOKUP(ROW(),'Übersicht und Druck'!$I$7:$K$53,3,TRUE)","v":1}]
[{"$f":"VLOOKUP(ROW(),'Übersicht und Druck'!$I$7:$K$53,3,TRUE)","v":1}]
[{"$f":"VLOOKUP(ROW(),'Übersicht und Druck'!$I$7:$K$53,3,TRUE)","v":1}]
[{"$f":"VLOOKUP(ROW(),'Übersicht und Druck'!$I$7:$K$53,3,TRUE)","v":1}]
[{"$f":"VLOOKUP(ROW(),'Übersicht und Druck'!$I$7:$K$53,3,TRUE)","v":1}]
[{"$f":"VLOOKUP(ROW(),'Übersicht und Druck'!$I$7:$K$53,3,TRUE)","v":1}]
[{"$f":"VLOOKUP(ROW(),'Übersicht und Druck'!$I$7:$K$53,3,TRUE)","v":1}]
[{"$f":"VLOOKUP(ROW(),'Übersicht und Druck'!$I$7:$K$53,3,TRUE)","v":1}]
[{"$f":"VLOOKUP(ROW(),'Übersicht und Druck'!$I$7:$K$53,3,TRUE)","v":1}]
[{"$f":"VLOOKUP(ROW(),'Übersicht und Druck'!$I$7:$K$53,3,TRUE)","v":1}]
[{"$f":"VLOOKUP(ROW(),'Übersicht und Druck'!$I$7:$K$53,3,TRUE)","v":1}]
[{"$f":"VLOOKUP(ROW(),'Übersicht und Druck'!$I$7:$K$53,3,TRUE)","v":1}]
[{"$f":"VLOOKUP(ROW(),'Übersicht und Druck'!$I$7:$K$53,3,TRUE)","v":1}]
[{"$f":"VLOOKUP(ROW(),'Übersicht und Druck'!$I$7:$K$53,3,TRUE)","v":1}]
[{"$f":"VLOOKUP(ROW(),'Übersicht und Druck'!$I$7:$K$53,3,TRUE)","v":1}]
[{"$f":"VLOOKUP(ROW(),'Übersicht und Druck'!$I$7:$K$53,3,TRUE)","v":1}]
[{"$f":"VLOOKUP(ROW(),'Übersicht und Druck'!$I$7:$K$53,3,TRUE)","v":1}]
[{"$f":"VLOOKUP(ROW(),'Übersicht und Druck'!$I$7:$K$53,3,TRUE)","v":1}]
[{"$f":"VLOOKUP(ROW(),'Übersicht und Druck'!$I$7:$K$53,3,TRUE)","v":1}]
[{"$f":"VLOOKUP(ROW(),'Übersicht und Druck'!$I$7:$K$53,3,TRUE)","v":1}]
[{"$f":"VLOOKUP(ROW(),'Übersicht und Druck'!$I$7:$K$53,3,TRUE)","v":1}]
[{"$f":"VLOOKUP(ROW(),'Übersicht und Druck'!$I$7:$K$53,3,TRUE)","v":1}]
[{"$f":"VLOOKUP(ROW(),'Übersicht und Druck'!$I$7:$K$53,3,TRUE)","v":1}]
[{"$f":"VLOOKUP(ROW(),'Übersicht und Druck'!$I$7:$K$53,3,TRUE)","v":1}]
[{"$f":"VLOOKUP(ROW(),'Übersicht und Druck'!$I$7:$K$53,3,TRUE)","v":1}]
[{"$f":"VLOOKUP(ROW(),'Übersicht und Druck'!$I$7:$K$53,3,TRUE)","v":1}]
[{"$f":"VLOOKUP(ROW(),'Übersicht und Druck'!$I$7:$K$53,3,TRUE)","v":1}]
[{"$f":"VLOOKUP(ROW(),'Übersicht und Druck'!$I$7:$K$53,3,TRUE)","v":1}]
[{"$f":"VLOOKUP(ROW(),'Übersicht und Druck'!$I$7:$K$53,3,TRUE)","v":1}]
[{"$f":"VLOOKUP(ROW(),'Übersicht und Druck'!$I$7:$K$53,3,TRUE)","v":1}]
[{"$f":"VLOOKUP(ROW(),'Übersicht und Druck'!$I$7:$K$53,3,TRUE)","v":1}]
[{"$f":"VLOOKUP(ROW(),'Übersicht und Druck'!$I$7:$K$53,3,TRUE)","v":1}]
[{"$f":"VLOOKUP(ROW(),'Übersicht und Druck'!$I$7:$K$53,3,TRUE)","v":1}]
[{"$f":"VLOOKUP(ROW(),'Übersicht und Druck'!$I$7:$K$53,3,TRUE)","v":1}]
[{"$f":"VLOOKUP(ROW(),'Übersicht und Druck'!$I$7:$K$53,3,TRUE)","v":1}]
[{"$f":"VLOOKUP(ROW(),'Übersicht und Druck'!$I$7:$K$53,3,TRUE)","v":1}]
[{"$f":"VLOOKUP(ROW(),'Übersicht und Druck'!$I$7:$K$53,3,TRUE)","v":1}]
[{"$f":"VLOOKUP(ROW(),'Übersicht und Druck'!$I$7:$K$53,3,TRUE)","v":1}]
[{"$f":"VLOOKUP(ROW(),'Übersicht und Druck'!$I$7:$K$53,3,TRUE)","v":1}]
[{"$f":"VLOOKUP(ROW(),'Übersicht und Druck'!$I$7:$K$53,3,TRUE)","v":1}]
[{"$f":"VLOOKUP(ROW(),'Übersicht und Druck'!$I$7:$K$53,3,TRUE)","v":1}]
[{"$f":"VLOOKUP(ROW(),'Übersicht und Druck'!$I$7:$K$53,3,TRUE)","v":1}]
[{"$f":"VLOOKUP(ROW(),'Übersicht und Druck'!$I$7:$K$53,3,TRUE)","v":1}]
[{"$f":"VLOOKUP(ROW(),'Übersicht und Druck'!$I$7:$K$53,3,TRUE)","v":1}]
[{"$f":"VLOOKUP(ROW(),'Übersicht und Druck'!$I$7:$K$53,3,TRUE)","v":1}]
[{"$f":"VLOOKUP(ROW(),'Übersicht und Druck'!$I$7:$K$53,3,TRUE)","v":1}]
[{"$f":"VLOOKUP(ROW(),'Übersicht und Druck'!$I$7:$K$53,3,TRUE)","v":1}]
[{"$f":"VLOOKUP(ROW(),'Übersicht und Druck'!$I$7:$K$53,3,TRUE)","v":1}]
[{"$f":"VLOOKUP(ROW(),'Übersicht und Druck'!$I$7:$K$53,3,TRUE)","v":1}]
[{"$f":"VLOOKUP(ROW(),'Übersicht und Druck'!$I$7:$K$53,3,TRUE)","v":1}]
[{"$f":"VLOOKUP(ROW(),'Übersicht und Druck'!$I$7:$K$53,3,TRUE)","v":1}]
[{"$f":"VLOOKUP(ROW(),'Übersicht und Druck'!$I$7:$K$53,3,TRUE)","v":1}]
[{"$f":"VLOOKUP(ROW(),'Übersicht und Druck'!$I$7:$K$53,3,TRUE)","v":1}]
[{"$f":"VLOOKUP(ROW(),'Übersicht und Druck'!$I$7:$K$53,3,TRUE)","v":1}]
[{"$f":"VLOOKUP(ROW(),'Übersicht und Druck'!$I$7:$K$53,3,TRUE)","v":1}]
[{"$f":"VLOOKUP(ROW(),'Übersicht und Druck'!$I$7:$K$53,3,TRUE)","v":1}]
[{"$f":"VLOOKUP(ROW(),'Übersicht und Druck'!$I$7:$K$53,3,TRUE)","v":1}]
[{"$f":"VLOOKUP(ROW(),'Übersicht und Druck'!$I$7:$K$53,3,TRUE)","v":1}]
[{"$f":"VLOOKUP(ROW(),'Übersicht und Druck'!$I$7:$K$53,3,TRUE)","v":1}]
[{"$f":"VLOOKUP(ROW(),'Übersicht und Druck'!$I$7:$K$53,3,TRUE)","v":1}]
[{"$f":"VLOOKUP(ROW(),'Übersicht und Druck'!$I$7:$K$53,3,TRUE)","v":1}]
[{"$f":"VLOOKUP(ROW(),'Übersicht und Druck'!$I$7:$K$53,3,TRUE)","v":1}]
[{"$f":"VLOOKUP(ROW(),'Übersicht und Druck'!$I$7:$K$53,3,TRUE)","v":1}]
[{"$f":"VLOOKUP(ROW(),'Übersicht und Druck'!$I$7:$K$53,3,TRUE)","v":1}]
[{"$f":"VLOOKUP(ROW(),'Übersicht und Druck'!$I$7:$K$53,3,TRUE)","v":1}]
[{"$f":"VLOOKUP(ROW(),'Übersicht und Druck'!$I$7:$K$53,3,TRUE)","v":1}]
[{"$f":"VLOOKUP(ROW(),'Übersicht und Druck'!$I$7:$K$53,3,TRUE)","v":1}]
[{"$f":"VLOOKUP(ROW(),'Übersicht und Druck'!$I$7:$K$53,3,TRUE)","v":1}]
[{"$f":"VLOOKUP(ROW(),'Übersicht und Druck'!$I$7:$K$53,3,TRUE)","v":1}]
[{"$f":"VLOOKUP(ROW(),'Übersicht und Druck'!$I$7:$K$53,3,TRUE)","v":1}]
[{"$f":"VLOOKUP(ROW(),'Übersicht und Druck'!$I$7:$K$53,3,TRUE)","v":1},"Information zur Vergütung: "]
[{"$f":"VLOOKUP(ROW(),'Übersicht und Druck'!$I$7:$K$53,3,TRUE)","v":1},"Art der Vergütung: Provision"]
[{"$f":"VLOOKUP(ROW(),'Übersicht und Druck'!$I$7:$K$53,3,TRUE)","v":1}]
[{"$f":"VLOOKUP(ROW(),'Übersicht und Druck'!$I$7:$K$53,3,TRUE)","v":1}]
[{"$f":"VLOOKUP(ROW(),'Übersicht und Druck'!$I$7:$K$53,3,TRUE)","v":1}]
[{"$f":"VLOOKUP(ROW(),'Übersicht und Druck'!$I$7:$K$53,3,TRUE)","v":1}]
[{"$f":"VLOOKUP(ROW(),'Übersicht und Druck'!$I$7:$K$53,3,TRUE)","v":1}]
[{"$f":"VLOOKUP(ROW(),'Übersicht und Druck'!$I$7:$K$53,3,TRUE)","v":1},"SEPA-MANDAT"]
[{"$f":"VLOOKUP(ROW(),'Übersicht und Druck'!$I$7:$K$53,3,TRUE)","v":1}]
[{"$f":"VLOOKUP(ROW(),'Übersicht und Druck'!$I$7:$K$53,3,TRUE)","v":1},"Die Europäische Union hat sich per Stichtag 01.02.2014 zum Ziel gesetzt einen einheitlichen europäischen Zahlungsverkehrsraum zu schaffen. Ab diesem Zeitpunkt ersetzt die SEPA Lastschrift das bis dahin gebräuchliche Lastschriftverfahren. "]
[{"$f":"VLOOKUP(ROW(),'Übersicht und Druck'!$I$7:$K$53,3,TRUE)","v":1}]
[{"$f":"VLOOKUP(ROW(),'Übersicht und Druck'!$I$7:$K$53,3,TRUE)","v":1}]
[{"$f":"VLOOKUP(ROW(),'Übersicht und Druck'!$I$7:$K$53,3,TRUE)","v":1}]
[{"$f":"VLOOKUP(ROW(),'Übersicht und Druck'!$I$7:$K$53,3,TRUE)","v":1},"Falls Sie den Einzug der anfallenden Prämien von Ihrem Konto wünschen, sind wir verpflichtet ein unterschriebenes SEPA-Mandat vom Kunden einzufordern. Wir ersuchen Sie daher das ausgefüllte SEPA-Lastschrift-Mandat zu unterschreiben und an uns zu schicken. "]
[{"$f":"VLOOKUP(ROW(),'Übersicht und Druck'!$I$7:$K$53,3,TRUE)","v":1}]
[{"$f":"VLOOKUP(ROW(),'Übersicht und Druck'!$I$7:$K$53,3,TRUE)","v":1}]
[{"$f":"VLOOKUP(ROW(),'Übersicht und Druck'!$I$7:$K$53,3,TRUE)","v":1}]
[{"$f":"VLOOKUP(ROW(),'Übersicht und Druck'!$I$7:$K$53,3,TRUE)","v":1}]
[{"$f":"VLOOKUP(ROW(),'Übersicht und Druck'!$I$7:$K$53,3,TRUE)","v":1},"Danke für die Erledigung. "]
[{"$f":"VLOOKUP(ROW(),'Übersicht und Druck'!$I$7:$K$53,3,TRUE)","v":1}]
[{"$f":"VLOOKUP(ROW(),'Übersicht und Druck'!$I$7:$K$53,3,TRUE)","v":1}]
[{"$f":"VLOOKUP(ROW(),'Übersicht und Druck'!$I$7:$K$53,3,TRUE)","v":1}]
[{"$f":"VLOOKUP(ROW(),'Übersicht und Druck'!$I$7:$K$53,3,TRUE)","v":1},"Name und Anschrift des Auftraggebers"]
[{"$f":"VLOOKUP(ROW(),'Übersicht und Druck'!$I$7:$K$53,3,TRUE)","v":1},{"$f":"Kundendaten!D19","v":" "}]
[{"$f":"VLOOKUP(ROW(),'Übersicht und Druck'!$I$7:$K$53,3,TRUE)","v":1},{"$f":"Kundendaten!D20","v":0}]
[{"$f":"VLOOKUP(ROW(),'Übersicht und Druck'!$I$7:$K$53,3,TRUE)","v":1}]
[{"$f":"VLOOKUP(ROW(),'Übersicht und Druck'!$I$7:$K$53,3,TRUE)","v":1},"IBAN"]
[{"$f":"VLOOKUP(ROW(),'Übersicht und Druck'!$I$7:$K$53,3,TRUE)","v":1},{"$f":"IF(Kundendaten!O24=\"\",\"\",Kundendaten!O24)","v":""}]
[{"$f":"VLOOKUP(ROW(),'Übersicht und Druck'!$I$7:$K$53,3,TRUE)","v":1}]
[{"$f":"VLOOKUP(ROW(),'Übersicht und Druck'!$I$7:$K$53,3,TRUE)","v":1},"BIC",null,null,null,null,null,null,null,null,null,"Creditor ID: AT73ZZZ00000003278"]
[{"$f":"VLOOKUP(ROW(),'Übersicht und Druck'!$I$7:$K$53,3,TRUE)","v":1},{"$f":"IF(Kundendaten!O23=\"\",\"\",Kundendaten!O23)","v":""},null,null,null,null,null,null,null,null,null,"Die Niederösterreichische Versicherung AG"]
[{"$f":"VLOOKUP(ROW(),'Übersicht und Druck'!$I$7:$K$53,3,TRUE)","v":1},null,null,null,null,null,null,null,null,null,null,"Neue Herrengasse 10"]
[{"$f":"VLOOKUP(ROW(),'Übersicht und Druck'!$I$7:$K$53,3,TRUE)","v":1},"Mandatsreferenz (Polizzennummer)",null,null,null,null,null,null,null,null,null,"3100 St. Pölten"]
[{"$f":"VLOOKUP(ROW(),'Übersicht und Druck'!$I$7:$K$53,3,TRUE)","v":1}]
[{"$f":"VLOOKUP(ROW(),'Übersicht und Druck'!$I$7:$K$53,3,TRUE)","v":1}]
[{"$f":"VLOOKUP(ROW(),'Übersicht und Druck'!$I$7:$K$53,3,TRUE)","v":1}]
[{"$f":"VLOOKUP(ROW(),'Übersicht und Druck'!$I$7:$K$53,3,TRUE)","v":1}]
[{"$f":"VLOOKUP(ROW(),'Übersicht und Druck'!$I$7:$K$53,3,TRUE)","v":1},"SEPA-Lastschrift-Mandat (Ermächtigung) "]
[{"$f":"VLOOKUP(ROW(),'Übersicht und Druck'!$I$7:$K$53,3,TRUE)","v":1}]
[{"$f":"VLOOKUP(ROW(),'Übersicht und Druck'!$I$7:$K$53,3,TRUE)","v":1},"Ich ermächtige/Wir ermächtigen die Niederösterreichische Versicherung AG, Zahlungen von meinem/unserem Konto mittels SEPA-Lastschrift einzuziehen. Zugleich weise ich mein/weisen wir unser Kreditinstitut an, die von der Niederösterreichischen Versicherung AG auf mein/unser Konto gezogenen SEPA-Lastschriften wiederkehrend einzulösen. "]
[{"$f":"VLOOKUP(ROW(),'Übersicht und Druck'!$I$7:$K$53,3,TRUE)","v":1}]
[{"$f":"VLOOKUP(ROW(),'Übersicht und Druck'!$I$7:$K$53,3,TRUE)","v":1}]
[{"$f":"VLOOKUP(ROW(),'Übersicht und Druck'!$I$7:$K$53,3,TRUE)","v":1}]
[{"$f":"VLOOKUP(ROW(),'Übersicht und Druck'!$I$7:$K$53,3,TRUE)","v":1}]
[{"$f":"VLOOKUP(ROW(),'Übersicht und Druck'!$I$7:$K$53,3,TRUE)","v":1},"Ich kann/wir können innerhalb von acht Wochen, beginnend mit dem Belastungsdatum, die Erstattung des belasteten Betrages verlangen. Es gelten dabei die mit meinem/unserem Kreditinstitut vereinbarten Bedingungen. "]
[{"$f":"VLOOKUP(ROW(),'Übersicht und Druck'!$I$7:$K$53,3,TRUE)","v":1}]
[{"$f":"VLOOKUP(ROW(),'Übersicht und Druck'!$I$7:$K$53,3,TRUE)","v":1}]
[{"$f":"VLOOKUP(ROW(),'Übersicht und Druck'!$I$7:$K$53,3,TRUE)","v":1}]
[{"$f":"VLOOKUP(ROW(),'Übersicht und Druck'!$I$7:$K$53,3,TRUE)","v":1}]
[{"$f":"VLOOKUP(ROW(),'Übersicht und Druck'!$I$7:$K$53,3,TRUE)","v":1}]
[{"$f":"VLOOKUP(ROW(),'Übersicht und Druck'!$I$7:$K$53,3,TRUE)","v":1},"Ort und Datum",null,null,null,null,null,null,null,null,null,null,null,null,null,"Unterschrift(en) der (des) Auftraggeber(s)"]
[{"$f":"VLOOKUP(ROW(),'Übersicht und Druck'!$I$7:$K$53,3,TRUE)","v":1}]
[{"$f":"VLOOKUP(ROW(),'Übersicht und Druck'!$I$7:$K$53,3,TRUE)","v":1}]
[{"$f":"VLOOKUP(ROW(),'Übersicht und Druck'!$I$7:$K$53,3,TRUE)","v":1}]
[{"$f":"VLOOKUP(ROW(),'Übersicht und Druck'!$I$7:$K$53,3,TRUE)","v":1}]
[{"$f":"VLOOKUP(ROW(),'Übersicht und Druck'!$I$7:$K$53,3,TRUE)","v":1}]
[{"$f":"VLOOKUP(ROW(),'Übersicht und Druck'!$I$7:$K$53,3,TRUE)","v":1}]
[{"$f":"VLOOKUP(ROW(),'Übersicht und Druck'!$I$7:$K$53,3,TRUE)","v":0}]
[{"$f":"VLOOKUP(ROW(),'Übersicht und Druck'!$I$7:$K$53,3,TRUE)","v":0}]
[{"$f":"VLOOKUP(ROW(),'Übersicht und Druck'!$I$7:$K$53,3,TRUE)","v":0}]
[{"$f":"VLOOKUP(ROW(),'Übersicht und Druck'!$I$7:$K$53,3,TRUE)","v":0}]
[{"$f":"VLOOKUP(ROW(),'Übersicht und Druck'!$I$7:$K$53,3,TRUE)","v":0},"Elektronische Kommunikation gewünscht"]
[{"$f":"VLOOKUP(ROW(),'Übersicht und Druck'!$I$7:$K$53,3,TRUE)","v":0}]
[{"$f":"VLOOKUP(ROW(),'Übersicht und Druck'!$I$7:$K$53,3,TRUE)","v":0},"Hiermit beantrage ich die elektronische Kommunikation.\n\nDie elektronische Kommunikation gilt für sämtliche Verträge Ihrer Kundennummer (und nicht nur für diesen Vertrag)."]
[{"$f":"VLOOKUP(ROW(),'Übersicht und Druck'!$I$7:$K$53,3,TRUE)","v":0},"So funktioniert es:\nFüllen Sie die nachstehende Einverständniserklärung bitte vollständig aus und schicken uns diese an emailzahlschein@nv.at oder per Post an die untenstehende Adresse. Sie können auch im MEINE NV Kundenportal unter www.meine.nv.at im Bereich Service die Zustellung ganz rasch und unkompliziert auf die elektronische Zustellung ändern."]
[{"$f":"VLOOKUP(ROW(),'Übersicht und Druck'!$I$7:$K$53,3,TRUE)","v":0}]
[{"$f":"VLOOKUP(ROW(),'Übersicht und Druck'!$I$7:$K$53,3,TRUE)","v":0},"Name:",null,null,null,{"$f":"Kundendaten!O3&\" \"&Kundendaten!O4","v":" "}]
[{"$f":"VLOOKUP(ROW(),'Übersicht und Druck'!$I$7:$K$53,3,TRUE)","v":0},"E-Mail-Adresse: ",null,null,null,{"$f":"IF(Kundendaten!O37=\"\",\"\",Kundendaten!O37)","v":""}]
[{"$f":"VLOOKUP(ROW(),'Übersicht und Druck'!$I$7:$K$53,3,TRUE)","v":0}]
[{"$f":"VLOOKUP(ROW(),'Übersicht und Druck'!$I$7:$K$53,3,TRUE)","v":0}]
[{"$f":"VLOOKUP(ROW(),'Übersicht und Druck'!$I$7:$K$53,3,TRUE)","v":0},"Ablauf:\nSie bekommen von uns eine E-Mail.\nDie elektronische Zustellung startet, sobald Sie diese E-Mail mit dem Verifizierungslink bestätigt haben.\nSie können die Vereinbarung zur elektronischen Kommunikation jederzeit widerrufen.\nWir werden Ihnen dann die Dokumente wieder per Post zustellen. "]
[{"$f":"VLOOKUP(ROW(),'Übersicht und Druck'!$I$7:$K$53,3,TRUE)","v":0}]
[{"$f":"VLOOKUP(ROW(),'Übersicht und Druck'!$I$7:$K$53,3,TRUE)","v":0},null,null,"Ich möchte dies auch für weitere Polizzen:"]
[{"$f":"VLOOKUP(ROW(),'Übersicht und Druck'!$I$7:$K$53,3,TRUE)","v":0},"Die elektronische Kommunikation umfasst nachstehende Informationen und Dokumente: \n   - Polizze und Polizzenanhang \n     der Beitragszahler erhält diese Dokumente auch auf dem Postweg \n   - Prolongationsvorschlag \n   - Zahlschein inkl. Mahnungen \n     die 3. Mahnung wird postalisch zugestellt\n   - Information in Bezug auf die Polizze, z.B. Mailings, Prolongationen, \n     Auszahlungsunterlagen, Kontoinformationen \n   - Information unabhängig von einer Polizze \n     Sofern bei der jeweiligen Information der elektronische Versand entschieden \n     wird \n   - Gewinnbescheinigung \n   - Sonstige Briefe"]
[{"$f":"VLOOKUP(ROW(),'Übersicht und Druck'!$I$7:$K$53,3,TRUE)","v":0}]
[{"$f":"VLOOKUP(ROW(),'Übersicht und Druck'!$I$7:$K$53,3,TRUE)","v":0}]
[{"$f":"VLOOKUP(ROW(),'Übersicht und Druck'!$I$7:$K$53,3,TRUE)","v":0},"Ort, Datum: ",null,null,null,null,null,null,null,null,"Unterschrift des Antragsstellers"]
[{"$f":"VLOOKUP(ROW(),'Übersicht und Druck'!$I$7:$K$53,3,TRUE)","v":0}]
[{"$f":"VLOOKUP(ROW(),'Übersicht und Druck'!$I$7:$K$53,3,TRUE)","v":0},"Bei Fragen steht Ihr persönlicher Berater gerne zur Verfügung.\n\nFreundliche Grüße,\nNiederösterreichische\nVersicherung AG"]
[{"$f":"VLOOKUP(ROW(),'Übersicht und Druck'!$I$7:$K$53,3,TRUE)","v":0}]
[{"$f":"VLOOKUP(ROW(),'Übersicht und Druck'!$I$7:$K$53,3,TRUE)","v":0}]
[{"$f":"VLOOKUP(ROW(),'Übersicht und Druck'!$I$7:$K$53,3,TRUE)","v":0}]
[{"$f":"VLOOKUP(ROW(),'Übersicht und Druck'!$I$7:$K$53,3,TRUE)","v":0}]
[{"$f":"VLOOKUP(ROW(),'Übersicht und Druck'!$I$7:$K$53,3,TRUE)","v":0},"Übersicht der versicherten Risikoorte, Gebäude, Einrichtungen und Inhalte"]
[{"$f":"VLOOKUP(ROW(),'Übersicht und Druck'!$I$7:$K$53,3,TRUE)","v":0}]
[{"$f":"VLOOKUP(ROW(),'Übersicht und Druck'!$I$7:$K$53,3,TRUE)","v":0}]
[{"$f":"VLOOKUP(ROW(),'Übersicht und Druck'!$I$7:$K$53,3,TRUE)","v":0},"Risikoort 1",null,null,{"$f":"IF(Basisdaten!T4=FALSE,\"nicht gewählt\",Basisdaten!V16&\" \"&Basisdaten!V17&\", \"&Basisdaten!V18)","v":{"$error":"#N/A"}}]
[{"$f":"VLOOKUP(ROW(),'Übersicht und Druck'!$I$7:$K$53,3,TRUE)","v":0},"Versicherungs-summe",null,"Art des Gebäudes",null,"Bau-art","hartes Dach","Gew. Fläche","LW-Sparte","Fremd.-beherb.","Pool","Sturm","offenes Gebäu.","Bezeichnung"]
[{"$f":"VLOOKUP(ROW(),'Übersicht und Druck'!$I$7:$K$53,3,TRUE)","v":0},{"$f":"IF(Basisdaten!$T$4=FALSE,\"\",IF(Basisdaten!D7=\"\",\"\",Basisdaten!D7))","v":""},null,{"$f":"IF($B242=\"\",\"\",IF(Basisdaten!F7=\"\",\"\",Basisdaten!F7))","v":""},null,{"$f":"IF($B242=\"\",\"\",IF(Basisdaten!H7=\"\",\"\",Basisdaten!H7))","v":""},{"$f":"IF($B242=\"\",\"\",IF(Basisdaten!I7=\"\",\"\",Basisdaten!I7))","v":""},{"$f":"IF($B242=\"\",\"\",IF(Basisdaten!J7=\"\",\"\",Basisdaten!J7))","v":""},{"$f":"IF($B242=\"\",\"\",IF(Basisdaten!K7=\"\",\"\",Basisdaten!K7))","v":""},{"$f":"IF($B242=\"\",\"\",IF(Basisdaten!L7=\"\",\"\",Basisdaten!L7))","v":""},{"$f":"IF($B242=\"\",\"\",IF(Basisdaten!M7=\"\",\"\",Basisdaten!M7))","v":""},{"$f":"IF($B242=\"\",\"\",IF(Basisdaten!N7=\"\",\"\",Basisdaten!N7))","v":""},{"$f":"IF($B242=\"\",\"\",IF(Basisdaten!O7=\"\",\"\",Basisdaten!O7))","v":""},{"$f":"IF($B242=\"\",\"\",IF(Basisdaten!P7=\"\",\"\",Basisdaten!P7))","v":""}]
[{"$f":"VLOOKUP(ROW(),'Übersicht und Druck'!$I$7:$K$53,3,TRUE)","v":0},{"$f":"IF(Basisdaten!$T$4=FALSE,\"\",IF(Basisdaten!D8=\"\",\"\",Basisdaten!D8))","v":""},null,{"$f":"IF($B243=\"\",\"\",IF(Basisdaten!F8=\"\",\"\",Basisdaten!F8))","v":""},null,{"$f":"IF($B243=\"\",\"\",IF(Basisdaten!H8=\"\",\"\",Basisdaten!H8))","v":""},{"$f":"IF($B243=\"\",\"\",IF(Basisdaten!I8=\"\",\"\",Basisdaten!I8))","v":""},{"$f":"IF($B243=\"\",\"\",IF(Basisdaten!J8=\"\",\"\",Basisdaten!J8))","v":""},{"$f":"IF($B243=\"\",\"\",IF(Basisdaten!K8=\"\",\"\",Basisdaten!K8))","v":""},{"$f":"IF($B243=\"\",\"\",IF(Basisdaten!L8=\"\",\"\",Basisdaten!L8))","v":""},{"$f":"IF($B243=\"\",\"\",IF(Basisdaten!M8=\"\",\"\",Basisdaten!M8))","v":""},{"$f":"IF($B243=\"\",\"\",IF(Basisdaten!N8=\"\",\"\",Basisdaten!N8))","v":""},{"$f":"IF($B243=\"\",\"\",IF(Basisdaten!O8=\"\",\"\",Basisdaten!O8))","v":""},{"$f":"IF($B243=\"\",\"\",IF(Basisdaten!P8=\"\",\"\",Basisdaten!P8))","v":""}]
[{"$f":"VLOOKUP(ROW(),'Übersicht und Druck'!$I$7:$K$53,3,TRUE)","v":0},{"$f":"IF(Basisdaten!$T$4=FALSE,\"\",IF(Basisdaten!D9=\"\",\"\",Basisdaten!D9))","v":""},null,{"$f":"IF($B244=\"\",\"\",IF(Basisdaten!F9=\"\",\"\",Basisdaten!F9))","v":""},null,{"$f":"IF($B244=\"\",\"\",IF(Basisdaten!H9=\"\",\"\",Basisdaten!H9))","v":""},{"$f":"IF($B244=\"\",\"\",IF(Basisdaten!I9=\"\",\"\",Basisdaten!I9))","v":""},{"$f":"IF($B244=\"\",\"\",IF(Basisdaten!J9=\"\",\"\",Basisdaten!J9))","v":""},{"$f":"IF($B244=\"\",\"\",IF(Basisdaten!K9=\"\",\"\",Basisdaten!K9))","v":""},{"$f":"IF($B244=\"\",\"\",IF(Basisdaten!L9=\"\",\"\",Basisdaten!L9))","v":""},{"$f":"IF($B244=\"\",\"\",IF(Basisdaten!M9=\"\",\"\",Basisdaten!M9))","v":""},{"$f":"IF($B244=\"\",\"\",IF(Basisdaten!N9=\"\",\"\",Basisdaten!N9))","v":""},{"$f":"IF($B244=\"\",\"\",IF(Basisdaten!O9=\"\",\"\",Basisdaten!O9))","v":""},{"$f":"IF($B244=\"\",\"\",IF(Basisdaten!P9=\"\",\"\",Basisdaten!P9))","v":""}]
[{"$f":"VLOOKUP(ROW(),'Übersicht und Druck'!$I$7:$K$53,3,TRUE)","v":0},{"$f":"IF(Basisdaten!$T$4=FALSE,\"\",IF(Basisdaten!D10=\"\",\"\",Basisdaten!D10))","v":""},null,{"$f":"IF($B245=\"\",\"\",IF(Basisdaten!F10=\"\",\"\",Basisdaten!F10))","v":""},null,{"$f":"IF($B245=\"\",\"\",IF(Basisdaten!H10=\"\",\"\",Basisdaten!H10))","v":""},{"$f":"IF($B245=\"\",\"\",IF(Basisdaten!I10=\"\",\"\",Basisdaten!I10))","v":""},{"$f":"IF($B245=\"\",\"\",IF(Basisdaten!J10=\"\",\"\",Basisdaten!J10))","v":""},{"$f":"IF($B245=\"\",\"\",IF(Basisdaten!K10=\"\",\"\",Basisdaten!K10))","v":""},{"$f":"IF($B245=\"\",\"\",IF(Basisdaten!L10=\"\",\"\",Basisdaten!L10))","v":""},{"$f":"IF($B245=\"\",\"\",IF(Basisdaten!M10=\"\",\"\",Basisdaten!M10))","v":""},{"$f":"IF($B245=\"\",\"\",IF(Basisdaten!N10=\"\",\"\",Basisdaten!N10))","v":""},{"$f":"IF($B245=\"\",\"\",IF(Basisdaten!O10=\"\",\"\",Basisdaten!O10))","v":""},{"$f":"IF($B245=\"\",\"\",IF(Basisdaten!P10=\"\",\"\",Basisdaten!P10))","v":""}]
[{"$f":"VLOOKUP(ROW(),'Übersicht und Druck'!$I$7:$K$53,3,TRUE)","v":0},{"$f":"IF(Basisdaten!$T$4=FALSE,\"\",IF(Basisdaten!D11=\"\",\"\",Basisdaten!D11))","v":""},null,{"$f":"IF($B246=\"\",\"\",IF(Basisdaten!F11=\"\",\"\",Basisdaten!F11))","v":""},null,{"$f":"IF($B246=\"\",\"\",IF(Basisdaten!H11=\"\",\"\",Basisdaten!H11))","v":""},{"$f":"IF($B246=\"\",\"\",IF(Basisdaten!I11=\"\",\"\",Basisdaten!I11))","v":""},{"$f":"IF($B246=\"\",\"\",IF(Basisdaten!J11=\"\",\"\",Basisdaten!J11))","v":""},{"$f":"IF($B246=\"\",\"\",IF(Basisdaten!K11=\"\",\"\",Basisdaten!K11))","v":""},{"$f":"IF($B246=\"\",\"\",IF(Basisdaten!L11=\"\",\"\",Basisdaten!L11))","v":""},{"$f":"IF($B246=\"\",\"\",IF(Basisdaten!M11=\"\",\"\",Basisdaten!M11))","v":""},{"$f":"IF($B246=\"\",\"\",IF(Basisdaten!N11=\"\",\"\",Basisdaten!N11))","v":""},{"$f":"IF($B246=\"\",\"\",IF(Basisdaten!O11=\"\",\"\",Basisdaten!O11))","v":""},{"$f":"IF($B246=\"\",\"\",IF(Basisdaten!P11=\"\",\"\",Basisdaten!P11))","v":""}]
[{"$f":"VLOOKUP(ROW(),'Übersicht und Druck'!$I$7:$K$53,3,TRUE)","v":0},{"$f":"IF(Basisdaten!$T$4=FALSE,\"\",IF(Basisdaten!D12=\"\",\"\",Basisdaten!D12))","v":""},null,{"$f":"IF($B247=\"\",\"\",IF(Basisdaten!F12=\"\",\"\",Basisdaten!F12))","v":""},null,{"$f":"IF($B247=\"\",\"\",IF(Basisdaten!H12=\"\",\"\",Basisdaten!H12))","v":""},{"$f":"IF($B247=\"\",\"\",IF(Basisdaten!I12=\"\",\"\",Basisdaten!I12))","v":""},{"$f":"IF($B247=\"\",\"\",IF(Basisdaten!J12=\"\",\"\",Basisdaten!J12))","v":""},{"$f":"IF($B247=\"\",\"\",IF(Basisdaten!K12=\"\",\"\",Basisdaten!K12))","v":""},{"$f":"IF($B247=\"\",\"\",IF(Basisdaten!L12=\"\",\"\",Basisdaten!L12))","v":""},{"$f":"IF($B247=\"\",\"\",IF(Basisdaten!M12=\"\",\"\",Basisdaten!M12))","v":""},{"$f":"IF($B247=\"\",\"\",IF(Basisdaten!N12=\"\",\"\",Basisdaten!N12))","v":""},{"$f":"IF($B247=\"\",\"\",IF(Basisdaten!O12=\"\",\"\",Basisdaten!O12))","v":""},{"$f":"IF($B247=\"\",\"\",IF(Basisdaten!P12=\"\",\"\",Basisdaten!P12))","v":""}]
[{"$f":"VLOOKUP(ROW(),'Übersicht und Druck'!$I$7:$K$53,3,TRUE)","v":0},{"$f":"IF(Basisdaten!$T$4=FALSE,\"\",IF(Basisdaten!D13=\"\",\"\",Basisdaten!D13))","v":""},null,{"$f":"IF($B248=\"\",\"\",IF(Basisdaten!F13=\"\",\"\",Basisdaten!F13))","v":""},null,{"$f":"IF($B248=\"\",\"\",IF(Basisdaten!H13=\"\",\"\",Basisdaten!H13))","v":""},{"$f":"IF($B248=\"\",\"\",IF(Basisdaten!I13=\"\",\"\",Basisdaten!I13))","v":""},{"$f":"IF($B248=\"\",\"\",IF(Basisdaten!J13=\"\",\"\",Basisdaten!J13))","v":""},{"$f":"IF($B248=\"\",\"\",IF(Basisdaten!K13=\"\",\"\",Basisdaten!K13))","v":""},{"$f":"IF($B248=\"\",\"\",IF(Basisdaten!L13=\"\",\"\",Basisdaten!L13))","v":""},{"$f":"IF($B248=\"\",\"\",IF(Basisdaten!M13=\"\",\"\",Basisdaten!M13))","v":""},{"$f":"IF($B248=\"\",\"\",IF(Basisdaten!N13=\"\",\"\",Basisdaten!N13))","v":""},{"$f":"IF($B248=\"\",\"\",IF(Basisdaten!O13=\"\",\"\",Basisdaten!O13))","v":""},{"$f":"IF($B248=\"\",\"\",IF(Basisdaten!P13=\"\",\"\",Basisdaten!P13))","v":""}]
[{"$f":"VLOOKUP(ROW(),'Übersicht und Druck'!$I$7:$K$53,3,TRUE)","v":0},{"$f":"IF(Basisdaten!$T$4=FALSE,\"\",IF(Basisdaten!D14=\"\",\"\",Basisdaten!D14))","v":""},null,{"$f":"IF($B249=\"\",\"\",IF(Basisdaten!F14=\"\",\"\",Basisdaten!F14))","v":""},null,{"$f":"IF($B249=\"\",\"\",IF(Basisdaten!H14=\"\",\"\",Basisdaten!H14))","v":""},{"$f":"IF($B249=\"\",\"\",IF(Basisdaten!I14=\"\",\"\",Basisdaten!I14))","v":""},{"$f":"IF($B249=\"\",\"\",IF(Basisdaten!J14=\"\",\"\",Basisdaten!J14))","v":""},{"$f":"IF($B249=\"\",\"\",IF(Basisdaten!K14=\"\",\"\",Basisdaten!K14))","v":""},{"$f":"IF($B249=\"\",\"\",IF(Basisdaten!L14=\"\",\"\",Basisdaten!L14))","v":""},{"$f":"IF($B249=\"\",\"\",IF(Basisdaten!M14=\"\",\"\",Basisdaten!M14))","v":""},{"$f":"IF($B249=\"\",\"\",IF(Basisdaten!N14=\"\",\"\",Basisdaten!N14))","v":""},{"$f":"IF($B249=\"\",\"\",IF(Basisdaten!O14=\"\",\"\",Basisdaten!O14))","v":""},{"$f":"IF($B249=\"\",\"\",IF(Basisdaten!P14=\"\",\"\",Basisdaten!P14))","v":""}]
[{"$f":"VLOOKUP(ROW(),'Übersicht und Druck'!$I$7:$K$53,3,TRUE)","v":0},{"$f":"IF(Basisdaten!$T$4=FALSE,\"\",IF(Basisdaten!D15=\"\",\"\",Basisdaten!D15))","v":""},null,{"$f":"IF($B250=\"\",\"\",IF(Basisdaten!F15=\"\",\"\",Basisdaten!F15))","v":""},null,{"$f":"IF($B250=\"\",\"\",IF(Basisdaten!H15=\"\",\"\",Basisdaten!H15))","v":""},{"$f":"IF($B250=\"\",\"\",IF(Basisdaten!I15=\"\",\"\",Basisdaten!I15))","v":""},{"$f":"IF($B250=\"\",\"\",IF(Basisdaten!J15=\"\",\"\",Basisdaten!J15))","v":""},{"$f":"IF($B250=\"\",\"\",IF(Basisdaten!K15=\"\",\"\",Basisdaten!K15))","v":""},{"$f":"IF($B250=\"\",\"\",IF(Basisdaten!L15=\"\",\"\",Basisdaten!L15))","v":""},{"$f":"IF($B250=\"\",\"\",IF(Basisdaten!M15=\"\",\"\",Basisdaten!M15))","v":""},{"$f":"IF($B250=\"\",\"\",IF(Basisdaten!N15=\"\",\"\",Basisdaten!N15))","v":""},{"$f":"IF($B250=\"\",\"\",IF(Basisdaten!O15=\"\",\"\",Basisdaten!O15))","v":""},{"$f":"IF($B250=\"\",\"\",IF(Basisdaten!P15=\"\",\"\",Basisdaten!P15))","v":""}]
[{"$f":"VLOOKUP(ROW(),'Übersicht und Druck'!$I$7:$K$53,3,TRUE)","v":0},{"$f":"IF(Basisdaten!$T$5=FALSE,\"\",IF(Basisdaten!D16=\"\",\"\",Basisdaten!D16))","v":""},null,{"$f":"IF($B251=\"\",\"\",IF(Basisdaten!F16=\"\",\"\",Basisdaten!F16))","v":""},null,{"$f":"IF($B251=\"\",\"\",IF(Basisdaten!H16=\"\",\"\",Basisdaten!H16))","v":""},{"$f":"IF($B251=\"\",\"\",IF(Basisdaten!I16=\"\",\"\",Basisdaten!I16))","v":""},{"$f":"IF($B251=\"\",\"\",IF(Basisdaten!J16=\"\",\"\",Basisdaten!J16))","v":""},{"$f":"IF($B251=\"\",\"\",IF(Basisdaten!K16=\"\",\"\",Basisdaten!K16))","v":""},{"$f":"IF($B251=\"\",\"\",IF(Basisdaten!L16=\"\",\"\",Basisdaten!L16))","v":""},{"$f":"IF($B251=\"\",\"\",IF(Basisdaten!M16=\"\",\"\",Basisdaten!M16))","v":""},{"$f":"IF($B251=\"\",\"\",IF(Basisdaten!N16=\"\",\"\",Basisdaten!N16))","v":""},{"$f":"IF($B251=\"\",\"\",IF(Basisdaten!O16=\"\",\"\",Basisdaten!O16))","v":""},{"$f":"IF($B251=\"\",\"\",IF(Basisdaten!P16=\"\",\"\",Basisdaten!P16))","v":""}]
[{"$f":"VLOOKUP(ROW(),'Übersicht und Druck'!$I$7:$K$53,3,TRUE)","v":0},"Inhalt",null,"VS",null,"Einbruch",null,"Sturm",null,"LW"]
[{"$f":"VLOOKUP(ROW(),'Übersicht und Druck'!$I$7:$K$53,3,TRUE)","v":0},"KTE",null,{"$f":"IF(Basisdaten!$T$4=FALSE,\"\",IF(Basisdaten!D18=\"\",\"\",Basisdaten!D18))","v":""},null,{"$f":"Basisdaten!F18","v":"ja, volle VS"},null,{"$f":"Basisdaten!H18","v":"ja, volle VS"},null,{"$f":"Basisdaten!J18","v":"ja, volle VS"}]
[{"$f":"VLOOKUP(ROW(),'Übersicht und Druck'!$I$7:$K$53,3,TRUE)","v":0},"Vorräte",null,{"$f":"IF(Basisdaten!$T$4=FALSE,\"\",IF(Basisdaten!D19=\"\",\"\",Basisdaten!D19))","v":""},null,{"$f":"Basisdaten!F19","v":"ja, volle VS"},null,{"$f":"Basisdaten!H19","v":"ja, volle VS"},null,{"$f":"Basisdaten!J19","v":"ja, volle VS"}]
[{"$f":"VLOOKUP(ROW(),'Übersicht und Druck'!$I$7:$K$53,3,TRUE)","v":0}]
[{"$f":"VLOOKUP(ROW(),'Übersicht und Druck'!$I$7:$K$53,3,TRUE)","v":0}]
[{"$f":"VLOOKUP(ROW(),'Übersicht und Druck'!$I$7:$K$53,3,TRUE)","v":0},"Risikoort 2",null,null,{"$f":"IF(Basisdaten!T23=FALSE,\"nicht gewählt\",Basisdaten!F23&\" \"&Basisdaten!H23&\", \"&Basisdaten!L23)","v":"nicht gewählt"}]
[{"$f":"VLOOKUP(ROW(),'Übersicht und Druck'!$I$7:$K$53,3,TRUE)","v":0},"Versicherungs-summe",null,"Art des Gebäudes",null,"Bau-art","hartes Dach","Gew. Fläche","LW-Sparte","Fremd.-beherb.","Pool","Sturm","offenes Gebäu.","Bezeichnung"]
[{"$f":"VLOOKUP(ROW(),'Übersicht und Druck'!$I$7:$K$53,3,TRUE)","v":0},{"$f":"IF(Basisdaten!$T$23=FALSE,\"\",IF(Basisdaten!D25=\"\",\"\",Basisdaten!D25))","v":""},null,{"$f":"IF($B259=\"\",\"\",IF(Basisdaten!F25=\"\",\"\",Basisdaten!F25))","v":""},null,{"$f":"IF($B259=\"\",\"\",IF(Basisdaten!H25=\"\",\"\",Basisdaten!H25))","v":""},{"$f":"IF($B259=\"\",\"\",IF(Basisdaten!I25=\"\",\"\",Basisdaten!I25))","v":""},{"$f":"IF($B259=\"\",\"\",IF(Basisdaten!J25=\"\",\"\",Basisdaten!J25))","v":""},{"$f":"IF($B259=\"\",\"\",IF(Basisdaten!K25=\"\",\"\",Basisdaten!K25))","v":""},{"$f":"IF($B259=\"\",\"\",IF(Basisdaten!L25=\"\",\"\",Basisdaten!L25))","v":""},{"$f":"IF($B259=\"\",\"\",IF(Basisdaten!M25=\"\",\"\",Basisdaten!M25))","v":""},{"$f":"IF($B259=\"\",\"\",IF(Basisdaten!N25=\"\",\"\",Basisdaten!N25))","v":""},{"$f":"IF($B259=\"\",\"\",IF(Basisdaten!O25=\"\",\"\",Basisdaten!O25))","v":""},{"$f":"IF($B259=\"\",\"\",IF(Basisdaten!P25=\"\",\"\",Basisdaten!P25))","v":""}]
[{"$f":"VLOOKUP(ROW(),'Übersicht und Druck'!$I$7:$K$53,3,TRUE)","v":0},{"$f":"IF(Basisdaten!$T$23=FALSE,\"\",IF(Basisdaten!D26=\"\",\"\",Basisdaten!D26))","v":""},null,{"$f":"IF($B260=\"\",\"\",IF(Basisdaten!F26=\"\",\"\",Basisdaten!F26))","v":""},null,{"$f":"IF($B260=\"\",\"\",IF(Basisdaten!H26=\"\",\"\",Basisdaten!H26))","v":""},{"$f":"IF($B260=\"\",\"\",IF(Basisdaten!I26=\"\",\"\",Basisdaten!I26))","v":""},{"$f":"IF($B260=\"\",\"\",IF(Basisdaten!J26=\"\",\"\",Basisdaten!J26))","v":""},{"$f":"IF($B260=\"\",\"\",IF(Basisdaten!K26=\"\",\"\",Basisdaten!K26))","v":""},{"$f":"IF($B260=\"\",\"\",IF(Basisdaten!L26=\"\",\"\",Basisdaten!L26))","v":""},{"$f":"IF($B260=\"\",\"\",IF(Basisdaten!M26=\"\",\"\",Basisdaten!M26))","v":""},{"$f":"IF($B260=\"\",\"\",IF(Basisdaten!N26=\"\",\"\",Basisdaten!N26))","v":""},{"$f":"IF($B260=\"\",\"\",IF(Basisdaten!O26=\"\",\"\",Basisdaten!O26))","v":""},{"$f":"IF($B260=\"\",\"\",IF(Basisdaten!P26=\"\",\"\",Basisdaten!P26))","v":""}]
[{"$f":"VLOOKUP(ROW(),'Übersicht und Druck'!$I$7:$K$53,3,TRUE)","v":0},{"$f":"IF(Basisdaten!$T$23=FALSE,\"\",IF(Basisdaten!D27=\"\",\"\",Basisdaten!D27))","v":""},null,{"$f":"IF($B261=\"\",\"\",IF(Basisdaten!F27=\"\",\"\",Basisdaten!F27))","v":""},null,{"$f":"IF($B261=\"\",\"\",IF(Basisdaten!H27=\"\",\"\",Basisdaten!H27))","v":""},{"$f":"IF($B261=\"\",\"\",IF(Basisdaten!I27=\"\",\"\",Basisdaten!I27))","v":""},{"$f":"IF($B261=\"\",\"\",IF(Basisdaten!J27=\"\",\"\",Basisdaten!J27))","v":""},{"$f":"IF($B261=\"\",\"\",IF(Basisdaten!K27=\"\",\"\",Basisdaten!K27))","v":""},{"$f":"IF($B261=\"\",\"\",IF(Basisdaten!L27=\"\",\"\",Basisdaten!L27))","v":""},{"$f":"IF($B261=\"\",\"\",IF(Basisdaten!M27=\"\",\"\",Basisdaten!M27))","v":""},{"$f":"IF($B261=\"\",\"\",IF(Basisdaten!N27=\"\",\"\",Basisdaten!N27))","v":""},{"$f":"IF($B261=\"\",\"\",IF(Basisdaten!O27=\"\",\"\",Basisdaten!O27))","v":""},{"$f":"IF($B261=\"\",\"\",IF(Basisdaten!P27=\"\",\"\",Basisdaten!P27))","v":""}]
[{"$f":"VLOOKUP(ROW(),'Übersicht und Druck'!$I$7:$K$53,3,TRUE)","v":0},{"$f":"IF(Basisdaten!$T$23=FALSE,\"\",IF(Basisdaten!D28=\"\",\"\",Basisdaten!D28))","v":""},null,{"$f":"IF($B262=\"\",\"\",IF(Basisdaten!F28=\"\",\"\",Basisdaten!F28))","v":""},null,{"$f":"IF($B262=\"\",\"\",IF(Basisdaten!H28=\"\",\"\",Basisdaten!H28))","v":""},{"$f":"IF($B262=\"\",\"\",IF(Basisdaten!I28=\"\",\"\",Basisdaten!I28))","v":""},{"$f":"IF($B262=\"\",\"\",IF(Basisdaten!J28=\"\",\"\",Basisdaten!J28))","v":""},{"$f":"IF($B262=\"\",\"\",IF(Basisdaten!K28=\"\",\"\",Basisdaten!K28))","v":""},{"$f":"IF($B262=\"\",\"\",IF(Basisdaten!L28=\"\",\"\",Basisdaten!L28))","v":""},{"$f":"IF($B262=\"\",\"\",IF(Basisdaten!M28=\"\",\"\",Basisdaten!M28))","v":""},{"$f":"IF($B262=\"\",\"\",IF(Basisdaten!N28=\"\",\"\",Basisdaten!N28))","v":""},{"$f":"IF($B262=\"\",\"\",IF(Basisdaten!O28=\"\",\"\",Basisdaten!O28))","v":""},{"$f":"IF($B262=\"\",\"\",IF(Basisdaten!P28=\"\",\"\",Basisdaten!P28))","v":""}]
[{"$f":"VLOOKUP(ROW(),'Übersicht und Druck'!$I$7:$K$53,3,TRUE)","v":0},{"$f":"IF(Basisdaten!$T$23=FALSE,\"\",IF(Basisdaten!D29=\"\",\"\",Basisdaten!D29))","v":""},null,{"$f":"IF($B263=\"\",\"\",IF(Basisdaten!F29=\"\",\"\",Basisdaten!F29))","v":""},null,{"$f":"IF($B263=\"\",\"\",IF(Basisdaten!H29=\"\",\"\",Basisdaten!H29))","v":""},{"$f":"IF($B263=\"\",\"\",IF(Basisdaten!I29=\"\",\"\",Basisdaten!I29))","v":""},{"$f":"IF($B263=\"\",\"\",IF(Basisdaten!J29=\"\",\"\",Basisdaten!J29))","v":""},{"$f":"IF($B263=\"\",\"\",IF(Basisdaten!K29=\"\",\"\",Basisdaten!K29))","v":""},{"$f":"IF($B263=\"\",\"\",IF(Basisdaten!L29=\"\",\"\",Basisdaten!L29))","v":""},{"$f":"IF($B263=\"\",\"\",IF(Basisdaten!M29=\"\",\"\",Basisdaten!M29))","v":""},{"$f":"IF($B263=\"\",\"\",IF(Basisdaten!N29=\"\",\"\",Basisdaten!N29))","v":""},{"$f":"IF($B263=\"\",\"\",IF(Basisdaten!O29=\"\",\"\",Basisdaten!O29))","v":""},{"$f":"IF($B263=\"\",\"\",IF(Basisdaten!P29=\"\",\"\",Basisdaten!P29))","v":""}]
[{"$f":"VLOOKUP(ROW(),'Übersicht und Druck'!$I$7:$K$53,3,TRUE)","v":0},"Inhalt",null,"VS",null,"Einbruch",null,"Sturm",null,"LW"]
[{"$f":"VLOOKUP(ROW(),'Übersicht und Druck'!$I$7:$K$53,3,TRUE)","v":0},"KTE",null,{"$f":"IF(Basisdaten!$T$23=FALSE,\"\",IF(Basisdaten!D31=\"\",\"\",Basisdaten!D31))","v":""},null,{"$f":"Basisdaten!F31","v":"ja, volle VS"},null,{"$f":"Basisdaten!H31","v":"ja, volle VS"},null,{"$f":"Basisdaten!J31","v":"ja, volle VS"}]
[{"$f":"VLOOKUP(ROW(),'Übersicht und Druck'!$I$7:$K$53,3,TRUE)","v":0},"Vorräte",null,{"$f":"IF(Basisdaten!$T$23=FALSE,\"\",IF(Basisdaten!D32=\"\",\"\",Basisdaten!D32))","v":""},null,{"$f":"Basisdaten!F32","v":"ja, volle VS"},null,{"$f":"Basisdaten!H32","v":"ja, volle VS"},null,{"$f":"Basisdaten!J32","v":"ja, volle VS"}]
[{"$f":"VLOOKUP(ROW(),'Übersicht und Druck'!$I$7:$K$53,3,TRUE)","v":0}]
[{"$f":"VLOOKUP(ROW(),'Übersicht und Druck'!$I$7:$K$53,3,TRUE)","v":0}]
[{"$f":"VLOOKUP(ROW(),'Übersicht und Druck'!$I$7:$K$53,3,TRUE)","v":0},"Risikoort 3",null,null,{"$f":"IF(Basisdaten!T36=FALSE,\"nicht gewählt\",Basisdaten!F36&\" \"&Basisdaten!H36&\", \"&Basisdaten!L36)","v":"nicht gewählt"}]
[{"$f":"VLOOKUP(ROW(),'Übersicht und Druck'!$I$7:$K$53,3,TRUE)","v":0},"Versicherungs-summe",null,"Art des Gebäudes",null,"Bau-art","hartes Dach","Gew. Fläche","LW-Sparte","Fremd.-beherb.","Pool","Sturm","offenes Gebäu.","Bezeichnung"]
[{"$f":"VLOOKUP(ROW(),'Übersicht und Druck'!$I$7:$K$53,3,TRUE)","v":0},{"$f":"IF(Basisdaten!$T$36=FALSE,\"\",IF(Basisdaten!D38=\"\",\"\",Basisdaten!D38))","v":""},null,{"$f":"IF($B271=\"\",\"\",IF(Basisdaten!F38=\"\",\"\",Basisdaten!F38))","v":""},null,{"$f":"IF($B271=\"\",\"\",IF(Basisdaten!H38=\"\",\"\",Basisdaten!H38))","v":""},{"$f":"IF($B271=\"\",\"\",IF(Basisdaten!I38=\"\",\"\",Basisdaten!I38))","v":""},{"$f":"IF($B271=\"\",\"\",IF(Basisdaten!J38=\"\",\"\",Basisdaten!J38))","v":""},{"$f":"IF($B271=\"\",\"\",IF(Basisdaten!K38=\"\",\"\",Basisdaten!K38))","v":""},{"$f":"IF($B271=\"\",\"\",IF(Basisdaten!L38=\"\",\"\",Basisdaten!L38))","v":""},{"$f":"IF($B271=\"\",\"\",IF(Basisdaten!M38=\"\",\"\",Basisdaten!M38))","v":""},{"$f":"IF($B271=\"\",\"\",IF(Basisdaten!N38=\"\",\"\",Basisdaten!N38))","v":""},{"$f":"IF($B271=\"\",\"\",IF(Basisdaten!O38=\"\",\"\",Basisdaten!O38))","v":""},{"$f":"IF($B271=\"\",\"\",IF(Basisdaten!P38=\"\",\"\",Basisdaten!P38))","v":""}]
[{"$f":"VLOOKUP(ROW(),'Übersicht und Druck'!$I$7:$K$53,3,TRUE)","v":0},{"$f":"IF(Basisdaten!$T$36=FALSE,\"\",IF(Basisdaten!D39=\"\",\"\",Basisdaten!D39))","v":""},null,{"$f":"IF($B272=\"\",\"\",IF(Basisdaten!F39=\"\",\"\",Basisdaten!F39))","v":""},null,{"$f":"IF($B272=\"\",\"\",IF(Basisdaten!H39=\"\",\"\",Basisdaten!H39))","v":""},{"$f":"IF($B272=\"\",\"\",IF(Basisdaten!I39=\"\",\"\",Basisdaten!I39))","v":""},{"$f":"IF($B272=\"\",\"\",IF(Basisdaten!J39=\"\",\"\",Basisdaten!J39))","v":""},{"$f":"IF($B272=\"\",\"\",IF(Basisdaten!K39=\"\",\"\",Basisdaten!K39))","v":""},{"$f":"IF($B272=\"\",\"\",IF(Basisdaten!L39=\"\",\"\",Basisdaten!L39))","v":""},{"$f":"IF($B272=\"\",\"\",IF(Basisdaten!M39=\"\",\"\",Basisdaten!M39))","v":""},{"$f":"IF($B272=\"\",\"\",IF(Basisdaten!N39=\"\",\"\",Basisdaten!N39))","v":""},{"$f":"IF($B272=\"\",\"\",IF(Basisdaten!O39=\"\",\"\",Basisdaten!O39))","v":""},{"$f":"IF($B272=\"\",\"\",IF(Basisdaten!P39=\"\",\"\",Basisdaten!P39))","v":""}]
[{"$f":"VLOOKUP(ROW(),'Übersicht und Druck'!$I$7:$K$53,3,TRUE)","v":0},{"$f":"IF(Basisdaten!$T$36=FALSE,\"\",IF(Basisdaten!D40=\"\",\"\",Basisdaten!D40))","v":""},null,{"$f":"IF($B273=\"\",\"\",IF(Basisdaten!F40=\"\",\"\",Basisdaten!F40))","v":""},null,{"$f":"IF($B273=\"\",\"\",IF(Basisdaten!H40=\"\",\"\",Basisdaten!H40))","v":""},{"$f":"IF($B273=\"\",\"\",IF(Basisdaten!I40=\"\",\"\",Basisdaten!I40))","v":""},{"$f":"IF($B273=\"\",\"\",IF(Basisdaten!J40=\"\",\"\",Basisdaten!J40))","v":""},{"$f":"IF($B273=\"\",\"\",IF(Basisdaten!K40=\"\",\"\",Basisdaten!K40))","v":""},{"$f":"IF($B273=\"\",\"\",IF(Basisdaten!L40=\"\",\"\",Basisdaten!L40))","v":""},{"$f":"IF($B273=\"\",\"\",IF(Basisdaten!M40=\"\",\"\",Basisdaten!M40))","v":""},{"$f":"IF($B273=\"\",\"\",IF(Basisdaten!N40=\"\",\"\",Basisdaten!N40))","v":""},{"$f":"IF($B273=\"\",\"\",IF(Basisdaten!O40=\"\",\"\",Basisdaten!O40))","v":""},{"$f":"IF($B273=\"\",\"\",IF(Basisdaten!P40=\"\",\"\",Basisdaten!P40))","v":""}]
[{"$f":"VLOOKUP(ROW(),'Übersicht und Druck'!$I$7:$K$53,3,TRUE)","v":0},{"$f":"IF(Basisdaten!$T$36=FALSE,\"\",IF(Basisdaten!D41=\"\",\"\",Basisdaten!D41))","v":""},null,{"$f":"IF($B274=\"\",\"\",IF(Basisdaten!F41=\"\",\"\",Basisdaten!F41))","v":""},null,{"$f":"IF($B274=\"\",\"\",IF(Basisdaten!H41=\"\",\"\",Basisdaten!H41))","v":""},{"$f":"IF($B274=\"\",\"\",IF(Basisdaten!I41=\"\",\"\",Basisdaten!I41))","v":""},{"$f":"IF($B274=\"\",\"\",IF(Basisdaten!J41=\"\",\"\",Basisdaten!J41))","v":""},{"$f":"IF($B274=\"\",\"\",IF(Basisdaten!K41=\"\",\"\",Basisdaten!K41))","v":""},{"$f":"IF($B274=\"\",\"\",IF(Basisdaten!L41=\"\",\"\",Basisdaten!L41))","v":""},{"$f":"IF($B274=\"\",\"\",IF(Basisdaten!M41=\"\",\"\",Basisdaten!M41))","v":""},{"$f":"IF($B274=\"\",\"\",IF(Basisdaten!N41=\"\",\"\",Basisdaten!N41))","v":""},{"$f":"IF($B274=\"\",\"\",IF(Basisdaten!O41=\"\",\"\",Basisdaten!O41))","v":""},{"$f":"IF($B274=\"\",\"\",IF(Basisdaten!P41=\"\",\"\",Basisdaten!P41))","v":""}]
[{"$f":"VLOOKUP(ROW(),'Übersicht und Druck'!$I$7:$K$53,3,TRUE)","v":0},{"$f":"IF(Basisdaten!$T$36=FALSE,\"\",IF(Basisdaten!D42=\"\",\"\",Basisdaten!D42))","v":""},null,{"$f":"IF($B275=\"\",\"\",IF(Basisdaten!F42=\"\",\"\",Basisdaten!F42))","v":""},null,{"$f":"IF($B275=\"\",\"\",IF(Basisdaten!H42=\"\",\"\",Basisdaten!H42))","v":""},{"$f":"IF($B275=\"\",\"\",IF(Basisdaten!I42=\"\",\"\",Basisdaten!I42))","v":""},{"$f":"IF($B275=\"\",\"\",IF(Basisdaten!J42=\"\",\"\",Basisdaten!J42))","v":""},{"$f":"IF($B275=\"\",\"\",IF(Basisdaten!K42=\"\",\"\",Basisdaten!K42))","v":""},{"$f":"IF($B275=\"\",\"\",IF(Basisdaten!L42=\"\",\"\",Basisdaten!L42))","v":""},{"$f":"IF($B275=\"\",\"\",IF(Basisdaten!M42=\"\",\"\",Basisdaten!M42))","v":""},{"$f":"IF($B275=\"\",\"\",IF(Basisdaten!N42=\"\",\"\",Basisdaten!N42))","v":""},{"$f":"IF($B275=\"\",\"\",IF(Basisdaten!O42=\"\",\"\",Basisdaten!O42))","v":""},{"$f":"IF($B275=\"\",\"\",IF(Basisdaten!P42=\"\",\"\",Basisdaten!P42))","v":""}]
[{"$f":"VLOOKUP(ROW(),'Übersicht und Druck'!$I$7:$K$53,3,TRUE)","v":0},"Inhalt",null,"VS",null,"Einbruch",null,"Sturm",null,"LW"]
[{"$f":"VLOOKUP(ROW(),'Übersicht und Druck'!$I$7:$K$53,3,TRUE)","v":0},"KTE",null,{"$f":"IF(Basisdaten!$T$36=FALSE,\"\",IF(Basisdaten!D44=\"\",\"\",Basisdaten!D44))","v":""},null,{"$f":"Basisdaten!F44","v":"ja, volle VS"},null,{"$f":"Basisdaten!H44","v":"ja, volle VS"},null,{"$f":"Basisdaten!J44","v":"ja, volle VS"}]
[{"$f":"VLOOKUP(ROW(),'Übersicht und Druck'!$I$7:$K$53,3,TRUE)","v":0},"Vorräte",null,{"$f":"IF(Basisdaten!$T$36=FALSE,\"\",IF(Basisdaten!D45=\"\",\"\",Basisdaten!D45))","v":""},null,{"$f":"Basisdaten!F45","v":"ja, volle VS"},null,{"$f":"Basisdaten!H45","v":"ja, volle VS"},null,{"$f":"Basisdaten!J45","v":"ja, volle VS"}]
[{"$f":"VLOOKUP(ROW(),'Übersicht und Druck'!$I$7:$K$53,3,TRUE)","v":0}]
[{"$f":"VLOOKUP(ROW(),'Übersicht und Druck'!$I$7:$K$53,3,TRUE)","v":0},"Legende (Kurzfassung, genaue Defintionen finden Sie im Tarif)"]
[{"$f":"VLOOKUP(ROW(),'Übersicht und Druck'!$I$7:$K$53,3,TRUE)","v":0},"Bauart I: Massiv (Ziegel, Beton, Stahlbeton, Stahlcontainer etc.), Bauart II: gemischt, Holz"]
[{"$f":"VLOOKUP(ROW(),'Übersicht und Druck'!$I$7:$K$53,3,TRUE)","v":0},"Harte Dachung: nicht brennbare Baustoffe (Zeigel, Eternit, Schiefer, Beton, Metal, Dachpappe, Asphalt)"]
[{"$f":"VLOOKUP(ROW(),'Übersicht und Druck'!$I$7:$K$53,3,TRUE)","v":0},"Gew. Fläche: Anteil der Belegfläche der gewerblichen Nutzung"]
[{"$f":"VLOOKUP(ROW(),'Übersicht und Druck'!$I$7:$K$53,3,TRUE)","v":0},"LW-Sparte: Soll das Gebäude auch in der Sparte Leitungswasser (falls Sparte gewählt wurde) mitversichert sein. "]
[{"$f":"VLOOKUP(ROW(),'Übersicht und Druck'!$I$7:$K$53,3,TRUE)","v":0},"Fremdenbeherb.: Fremdenbeherbergungsbetrieb, Santorium, Kuranstalt mit mehr als 10 Fremdenzimmern mit Wasserversorgung"]
[{"$f":"VLOOKUP(ROW(),'Übersicht und Druck'!$I$7:$K$53,3,TRUE)","v":0},"Pool: Schwimmbecken am/im Gebäude (Mitversicherung Gebäudeschäden, Gebrechensbehebung Zu/Ableitung, Rohe Filteranlage)"]
[{"$f":"VLOOKUP(ROW(),'Übersicht und Druck'!$I$7:$K$53,3,TRUE)","v":0},"Sturm: Soll das Gebäude in der Sparte Sturm (falls Sparte gewählt wude) mitversichert sein. "]
[{"$f":"VLOOKUP(ROW(),'Übersicht und Druck'!$I$7:$K$53,3,TRUE)","v":0},"Offenes Gebäu.: auf einer oder mehreren Seiten offenes Gebäude (angebaute Flugdächer finden keine Berücksichtigung)"]
[{"$f":"VLOOKUP(ROW(),'Übersicht und Druck'!$I$7:$K$53,3,TRUE)","v":0},"KTE: Kaufmännische und technische Betriebseinrichtung"]
[{"$f":"VLOOKUP(ROW(),'Übersicht und Druck'!$I$7:$K$53,3,TRUE)","v":0},"NW: Neuwert, VS: Versicherungssumme, ER: Versicherungssumme auf erstes Risiko, ZW: Zeitwert, WBS: Wiederbeschaffungskosten"]
[{"$f":"VLOOKUP(ROW(),'Übersicht und Druck'!$I$7:$K$53,3,TRUE)","v":0},"VW: Verkehrswert"]
[{"$f":"VLOOKUP(ROW(),'Übersicht und Druck'!$I$7:$K$53,3,TRUE)","v":0},{"$f":"'Berechnung Sparten'!B27","v":"Feuerversicherung: Sparte nicht gewählt"}]
[{"$f":"VLOOKUP(ROW(),'Übersicht und Druck'!$I$7:$K$53,3,TRUE)","v":0},"Schäden, die in Folge grober Fahrlässigkeit entstanden sind, sind im Rahmen der Gesamversicherungssumme (max. 10 Mio) gemäß besonderer Bedingung N032 mitversichert. "]
[{"$f":"VLOOKUP(ROW(),'Übersicht und Druck'!$I$7:$K$53,3,TRUE)","v":0},"Deckungsbausteine bzw. versichertes Risiko",null,null,null,null,null,null,null,null,null,null,"Deckung",null,"Prämie"]
[{"$f":"VLOOKUP(ROW(),'Übersicht und Druck'!$I$7:$K$53,3,TRUE)","v":0},{"$f":"'Berechnung Sparten'!B28&\" (\"&'Berechnung Sparten'!W28&\")\"","v":"Grunddeckung (Gebäude, KTE gem. BB F9013, Vorräte) (VS)"},null,null,null,null,null,null,null,null,null,null,{"$f":"IF('Berechnung Sparten'!G28=0,\"nein\",'Berechnung Sparten'!G28)","v":"nein"},null,{"$f":"'Berechnung Sparten'!U28","v":0}]
[{"$f":"VLOOKUP(ROW(),'Übersicht und Druck'!$I$7:$K$53,3,TRUE)","v":0},{"$f":"'Berechnung Sparten'!B29&\" (\"&'Berechnung Sparten'!W29&\")\"","v":"Technische und kaufmännische Betriebseinrichtung sowie Vorräte (im Eigentum des Versicherungsnehmers) ständig außerhalb des Versicherungsortes jedoch innerhalb Österreichs (ER)"},null,null,null,null,null,null,null,null,null,null,{"$f":"IF('Berechnung Sparten'!G29=0,\"nein\",'Berechnung Sparten'!G29)","v":"nein"},null,{"$f":"'Berechnung Sparten'!U29","v":0}]
[{"$f":"VLOOKUP(ROW(),'Übersicht und Druck'!$I$7:$K$53,3,TRUE)","v":0},{"$f":"'Berechnung Sparten'!B30&\" (\"&'Berechnung Sparten'!W30&\")\"","v":"Wiederherstellungskosten von Datenträgern (Geschäftsbücher, Akten, Pläne, elektronische Speichermedien, Typenscheine, kodierte KFZ-Schlüssel und dgl.) und den darauf befindlichen Daten (ER 5000 inkl.)"},null,null,null,null,null,null,null,null,null,null,{"$f":"IF('Berechnung Sparten'!G30=0,\"nein\",'Berechnung Sparten'!G30)","v":"nein"},null,{"$f":"'Berechnung Sparten'!U30","v":0}]
[{"$f":"VLOOKUP(ROW(),'Übersicht und Druck'!$I$7:$K$53,3,TRUE)","v":0},{"$f":"'Berechnung Sparten'!B31&\" (\"&'Berechnung Sparten'!W31&\")\"","v":"Sachen der Betriebsinhaber und Dienstnehmer (ausgenommen jedoch Bargeld, Edelmetall-, Gold-, Silber- und Schmucksachen, Kraftfahrzeuge sowie in Wohnungen befindlicher Hausrat)  (NW 5000 inkl.)"},null,null,null,null,null,null,null,null,null,null,{"$f":"IF('Berechnung Sparten'!G31=0,\"nein\",'Berechnung Sparten'!G31)","v":"nein"},null,{"$f":"'Berechnung Sparten'!U31","v":0}]
[{"$f":"VLOOKUP(ROW(),'Übersicht und Druck'!$I$7:$K$53,3,TRUE)","v":0},{"$f":"'Berechnung Sparten'!B32","v":"Grundstücksbegrenzungen aller Art bis  € 50.000,00"}]
[{"$f":"VLOOKUP(ROW(),'Übersicht und Druck'!$I$7:$K$53,3,TRUE)","v":0},{"$f":"'Berechnung Sparten'!B33","v":"Grundstücksbegrenzungen aller Art bis € 10.000,00 gegen Schäden durch fremde KFZ, sofern der Schädiger nicht eruiert werden kann (unverzügliche Anzeige bei der Sicherheitsbehörde erforderlich) "}]
[{"$f":"VLOOKUP(ROW(),'Übersicht und Druck'!$I$7:$K$53,3,TRUE)","v":0},{"$f":"'Berechnung Sparten'!B34&\" (\"&'Berechnung Sparten'!W34&\")\"","v":"Schäden an sämtlichen baulichen Außenanlagen (ausgenommen Gebäude) sowie Bepflanzungen am Versicherungsgrundstück (5000 inkl.) (ER)"},null,null,null,null,null,null,null,null,null,null,{"$f":"IF('Berechnung Sparten'!G34=0,\"nein\",'Berechnung Sparten'!G34)","v":"nein"},null,{"$f":"'Berechnung Sparten'!U34","v":0}]
[{"$f":"VLOOKUP(ROW(),'Übersicht und Druck'!$I$7:$K$53,3,TRUE)","v":0},{"$f":"'Berechnung Sparten'!B35&\" (\"&'Berechnung Sparten'!W35&\")\"","v":"KFZ fahrend und ruhend wo immer befindlich gem. F9127 (ER)"},null,null,null,null,null,null,null,null,null,null,{"$f":"IF('Berechnung Sparten'!G35=0,\"nein\",'Berechnung Sparten'!G35)","v":"nein"},null,{"$f":"'Berechnung Sparten'!U35","v":0}]
[{"$f":"VLOOKUP(ROW(),'Übersicht und Druck'!$I$7:$K$53,3,TRUE)","v":0},{"$f":"'Berechnung Sparten'!B36&\" (\"&'Berechnung Sparten'!W36&\")\"","v":"KFZ fahrend und ruhend am Versicherungsort und auf Probefahrten gem. F0065 (ER)"},null,null,null,null,null,null,null,null,null,null,{"$f":"IF('Berechnung Sparten'!G36=0,\"nein\",'Berechnung Sparten'!G36)","v":"nein"},null,{"$f":"'Berechnung Sparten'!U36","v":0}]
[{"$f":"VLOOKUP(ROW(),'Übersicht und Druck'!$I$7:$K$53,3,TRUE)","v":0},{"$f":"'Berechnung Sparten'!B37&\" (\"&'Berechnung Sparten'!W37&\")\"","v":"KFZ fahrend und ruhend wo immer befindlich, inkl. Kabelschmorschäden gem. F3012 (ER)"},null,null,null,null,null,null,null,null,null,null,{"$f":"IF('Berechnung Sparten'!G37=0,\"nein\",'Berechnung Sparten'!G37)","v":"nein"},null,{"$f":"'Berechnung Sparten'!U37","v":0}]
[{"$f":"VLOOKUP(ROW(),'Übersicht und Druck'!$I$7:$K$53,3,TRUE)","v":0},{"$f":"'Berechnung Sparten'!B38&\" (\"&'Berechnung Sparten'!W38&\")\"","v":"KFZ fahrend und ruhend am Versicherungsort und auf Probefahrten, inkl. Kabelschmorschäden gem. F3065 (ER)"},null,null,null,null,null,null,null,null,null,null,{"$f":"IF('Berechnung Sparten'!G38=0,\"nein\",'Berechnung Sparten'!G38)","v":"nein"},null,{"$f":"'Berechnung Sparten'!U38","v":0}]
[{"$f":"VLOOKUP(ROW(),'Übersicht und Druck'!$I$7:$K$53,3,TRUE)","v":0},{"$f":"'Berechnung Sparten'!B39&\" (\"&'Berechnung Sparten'!W39&\")\"","v":"Anhänger fahrend und ruhend wo immer befindlich (ER)"},null,null,null,null,null,null,null,null,null,null,{"$f":"IF('Berechnung Sparten'!G39=0,\"nein\",'Berechnung Sparten'!G39)","v":"nein"},null,{"$f":"'Berechnung Sparten'!U39","v":0}]
[{"$f":"VLOOKUP(ROW(),'Übersicht und Druck'!$I$7:$K$53,3,TRUE)","v":0},{"$f":"'Berechnung Sparten'!B40&\" (\"&'Berechnung Sparten'!W40&\")\"","v":"Anhänger fahrend und ruhend am Versicherungsort und auf Probefahrten (ER)"},null,null,null,null,null,null,null,null,null,null,{"$f":"IF('Berechnung Sparten'!G40=0,\"nein\",'Berechnung Sparten'!G40)","v":"nein"},null,{"$f":"'Berechnung Sparten'!U40","v":0}]
[{"$f":"VLOOKUP(ROW(),'Übersicht und Druck'!$I$7:$K$53,3,TRUE)","v":0},{"$f":"'Berechnung Sparten'!B41&\" (\"&'Berechnung Sparten'!W41&\")\"","v":"Werkzeuge, Geräte und Vorräte in KFZ befindlich (NW)"},null,null,null,null,null,null,null,null,null,null,{"$f":"IF('Berechnung Sparten'!G41=0,\"nein\",'Berechnung Sparten'!G41)","v":"nein"},null,{"$f":"'Berechnung Sparten'!U41","v":0}]
[{"$f":"VLOOKUP(ROW(),'Übersicht und Druck'!$I$7:$K$53,3,TRUE)","v":0},{"$f":"'Berechnung Sparten'!B42&\" (\"&'Berechnung Sparten'!W42&\")\"","v":"Schaukästen, Vitrinen und Automaten samt Inhalt außerhalb des Versicherungsortes (NW)"},null,null,null,null,null,null,null,null,null,null,{"$f":"IF('Berechnung Sparten'!G42=0,\"nein\",'Berechnung Sparten'!G42)","v":"nein"},null,{"$f":"'Berechnung Sparten'!U42","v":0}]
[{"$f":"VLOOKUP(ROW(),'Übersicht und Druck'!$I$7:$K$53,3,TRUE)","v":0},{"$f":"'Berechnung Sparten'!B43&\" (\"&'Berechnung Sparten'!W43&\")\"","v":"Geld und Geldeswerte, Sparbücher, Wertpapiere, Urkunden, Schmuck-, Gold- und Platinsachen, Edelsteine, Edelmetalle und echte Perlen sowie Münzen- und Briefmarkensammlungen,  Brief - und Stempelmarken, Vignetten, Kurzparkscheine, Lose und Telefonwertkarten unter festem Verschluss (ER 5000 inkl.)"},null,null,null,null,null,null,null,null,null,null,{"$f":"IF('Berechnung Sparten'!G43=0,\"nein\",'Berechnung Sparten'!G43)","v":"nein"},null,{"$f":"'Berechnung Sparten'!U43","v":0}]
[{"$f":"VLOOKUP(ROW(),'Übersicht und Druck'!$I$7:$K$53,3,TRUE)","v":0},{"$f":"'Berechnung Sparten'!B44&\" (\"&'Berechnung Sparten'!W44&\")\"","v":"Kaminbrand, Verpuffungs- und Verrußungsschäden (ER)"},null,null,null,null,null,null,null,null,null,null,{"$f":"IF('Berechnung Sparten'!G44=0,\"nein\",'Berechnung Sparten'!G44)","v":"nein"},null,{"$f":"'Berechnung Sparten'!U44","v":0}]
[{"$f":"VLOOKUP(ROW(),'Übersicht und Druck'!$I$7:$K$53,3,TRUE)","v":0},{"$f":"'Berechnung Sparten'!B45&\" (\"&'Berechnung Sparten'!W45&\")\"","v":"Schwimmbecken im Freien samt Abdeckung am Versicherungsort (NW)"},null,null,null,null,null,null,null,null,null,null,{"$f":"IF('Berechnung Sparten'!G45=0,\"nein\",'Berechnung Sparten'!G45)","v":"nein"},null,{"$f":"'Berechnung Sparten'!U45","v":0}]
[{"$f":"VLOOKUP(ROW(),'Übersicht und Druck'!$I$7:$K$53,3,TRUE)","v":0},{"$f":"'Berechnung Sparten'!B46&\" (\"&'Berechnung Sparten'!W46&\")\"","v":"Groß- und/oder Kleintiere (WBS)"},null,null,null,null,null,null,null,null,null,null,{"$f":"IF('Berechnung Sparten'!G46=0,\"nein\",'Berechnung Sparten'!G46)","v":"nein"},null,{"$f":"'Berechnung Sparten'!U46","v":0}]
[{"$f":"VLOOKUP(ROW(),'Übersicht und Druck'!$I$7:$K$53,3,TRUE)","v":0},{"$f":"'Berechnung Sparten'!B47&\" (\"&'Berechnung Sparten'!W47&\")\"","v":"Räucherkammerinhalt gem. F0078 (ER)"},null,null,null,null,null,null,null,null,null,null,{"$f":"IF('Berechnung Sparten'!G47=0,\"nein\",'Berechnung Sparten'!G47)","v":"nein"},null,{"$f":"'Berechnung Sparten'!U47","v":0}]
[{"$f":"VLOOKUP(ROW(),'Übersicht und Druck'!$I$7:$K$53,3,TRUE)","v":0},{"$f":"'Berechnung Sparten'!B48","v":"20 % Aufräumungs-, Abbruch-, Feuerlösch-, De- u. Remontagekosten, Bewegungs- u. Schutzkosten, Deponiekosten für nicht zu behandelnden Abfall. Im Rahmen dieser Summe gelten Mehrkosten durch die Behandlung von gefährlichem Abfall und/oder kontaminiertem Erdreich bis 50 % der Summe als mitversichert, gem. A3024."}]
[{"$f":"VLOOKUP(ROW(),'Übersicht und Druck'!$I$7:$K$53,3,TRUE)","v":0},{"$f":"'Berechnung Sparten'!B49&\" (\"&'Berechnung Sparten'!W49&\")\"","v":"Mehrkosten durch die Behandlung von gefährlichem Abfall und/oder kontaminiertem Erdreich (A3024) (ER)"},null,null,null,null,null,null,null,null,null,null,{"$f":"IF('Berechnung Sparten'!G49=0,\"nein\",'Berechnung Sparten'!G49)","v":"nein"},null,{"$f":"'Berechnung Sparten'!U49","v":0}]
[{"$f":"VLOOKUP(ROW(),'Übersicht und Druck'!$I$7:$K$53,3,TRUE)","v":0},{"$f":"'Berechnung Sparten'!B50&\" (\"&'Berechnung Sparten'!W50&\")\"","v":"Sachverständigenkosten gem. A4850 (ER)"},null,null,null,null,null,null,null,null,null,null,{"$f":"IF('Berechnung Sparten'!G50=0,\"nein\",'Berechnung Sparten'!G50)","v":"nein"},null,{"$f":"'Berechnung Sparten'!U50","v":0}]
[{"$f":"VLOOKUP(ROW(),'Übersicht und Druck'!$I$7:$K$53,3,TRUE)","v":0},{"$f":"'Berechnung Sparten'!B51&\" (\"&'Berechnung Sparten'!W51&\")\"","v":"Haftungserweiterung auf indirekte Blitzschlagschäden inkl. der Haustechnik gem. F4965 (ER 5000 inkl.)"},null,null,null,null,null,null,null,null,null,null,{"$f":"IF('Berechnung Sparten'!G51=0,\"nein\",'Berechnung Sparten'!G51)","v":"nein"},null,{"$f":"'Berechnung Sparten'!U51","v":0}]
[{"$f":"VLOOKUP(ROW(),'Übersicht und Druck'!$I$7:$K$53,3,TRUE)","v":0},{"$f":"'Berechnung Sparten'!B52","v":"Mehraufwand im Schadensfall (10 %  gem. BB 4817)"}]
[{"$f":"VLOOKUP(ROW(),'Übersicht und Druck'!$I$7:$K$53,3,TRUE)","v":0},{"$f":"'Berechnung Sparten'!B53","v":"Außenversicherung (10 %  gem. BB 4924)"}]
[{"$f":"VLOOKUP(ROW(),'Übersicht und Druck'!$I$7:$K$53,3,TRUE)","v":0},{"$f":"'Berechnung Sparten'!B54","v":"Verteurerung im Schadensfall (15 % gem. BB 4907)"}]
[{"$f":"VLOOKUP(ROW(),'Übersicht und Druck'!$I$7:$K$53,3,TRUE)","v":0},{"$f":"'Berechnung Sparten'!B55","v":"Brandherd 50.000 (gem. N022)"}]
[{"$f":"VLOOKUP(ROW(),'Übersicht und Druck'!$I$7:$K$53,3,TRUE)","v":0},{"$f":"'Berechnung Sparten'!B56","v":"Geld und Geldeswerte im Sicherheitsbehältnis"}]
[{"$f":"VLOOKUP(ROW(),'Übersicht und Druck'!$I$7:$K$53,3,TRUE)","v":0},{"$f":"'Berechnung Sparten'!B57&\" (\"&'Berechnung Sparten'!W57&\")\"","v":"Sicherheitsgrad EN0 bzw. VSÖ IV (VS 15.000) (ER)"},null,null,null,null,null,null,null,null,null,null,{"$f":"IF('Berechnung Sparten'!G57=0,\"nein\",\"ja\")","v":"nein"},null,{"$f":"'Berechnung Sparten'!U57","v":0}]
[{"$f":"VLOOKUP(ROW(),'Übersicht und Druck'!$I$7:$K$53,3,TRUE)","v":0},{"$f":"'Berechnung Sparten'!B58&\" (\"&'Berechnung Sparten'!W58&\")\"","v":"Sicherheitsgrad EN1 bzw. VSÖ III/c 1-3 (VS 30.000) (ER)"},null,null,null,null,null,null,null,null,null,null,{"$f":"IF('Berechnung Sparten'!G58=0,\"nein\",\"ja\")","v":"nein"},null,{"$f":"'Berechnung Sparten'!U58","v":0}]
[{"$f":"VLOOKUP(ROW(),'Übersicht und Druck'!$I$7:$K$53,3,TRUE)","v":0},{"$f":"'Berechnung Sparten'!B59&\" (\"&'Berechnung Sparten'!W59&\")\"","v":"Sicherheitsgrad VSÖ III/b (VS 45.000) (ER)"},null,null,null,null,null,null,null,null,null,null,{"$f":"IF('Berechnung Sparten'!G59=0,\"nein\",\"ja\")","v":"nein"},null,{"$f":"'Berechnung Sparten'!U59","v":0}]
[{"$f":"VLOOKUP(ROW(),'Übersicht und Druck'!$I$7:$K$53,3,TRUE)","v":0},{"$f":"'Berechnung Sparten'!B60&\" (\"&'Berechnung Sparten'!W60&\")\"","v":"Sicherheitsgrad EN2 bzw. VSÖ II/d (VS 75.000) (ER)"},null,null,null,null,null,null,null,null,null,null,{"$f":"IF('Berechnung Sparten'!G60=0,\"nein\",\"ja\")","v":"nein"},null,{"$f":"'Berechnung Sparten'!U60","v":0}]
[{"$f":"VLOOKUP(ROW(),'Übersicht und Druck'!$I$7:$K$53,3,TRUE)","v":0},{"$f":"'Berechnung Sparten'!B61&\" (\"&'Berechnung Sparten'!W61&\")\"","v":"Sicherheitsgrad EN3 bzw. VSÖ II/c (VS 100.000) (ER)"},null,null,null,null,null,null,null,null,null,null,{"$f":"IF('Berechnung Sparten'!G61=0,\"nein\",\"ja\")","v":"nein"},null,{"$f":"'Berechnung Sparten'!U61","v":0}]
[{"$f":"VLOOKUP(ROW(),'Übersicht und Druck'!$I$7:$K$53,3,TRUE)","v":0},{"$f":"'Berechnung Sparten'!B62&\" (\"&'Berechnung Sparten'!W62&\")\"","v":"Sicherheitsgrad EN4 (VS 150.000) (ER)"},null,null,null,null,null,null,null,null,null,null,{"$f":"IF('Berechnung Sparten'!G62=0,\"nein\",\"ja\")","v":"nein"},null,{"$f":"'Berechnung Sparten'!U62","v":0}]
[{"$f":"VLOOKUP(ROW(),'Übersicht und Druck'!$I$7:$K$53,3,TRUE)","v":0},{"$f":"'Berechnung Sparten'!B63&\" (\"&'Berechnung Sparten'!W63&\")\"","v":"Sicherheitsgrad EN5 bzw. VSÖ II/b (VS 250.000) (ER)"},null,null,null,null,null,null,null,null,null,null,{"$f":"IF('Berechnung Sparten'!G63=0,\"nein\",\"ja\")","v":"nein"},null,{"$f":"'Berechnung Sparten'!U63","v":0}]
[{"$f":"VLOOKUP(ROW(),'Übersicht und Druck'!$I$7:$K$53,3,TRUE)","v":0},null,null,null,null,null,null,null,null,null,null,"Spartenprämie",null,null,{"$f":"'Berechnung Sparten'!U66","v":0}]
[{"$f":"VLOOKUP(ROW(),'Übersicht und Druck'!$I$7:$K$53,3,TRUE)","v":0}]
[{"$f":"VLOOKUP(ROW(),'Übersicht und Druck'!$I$7:$K$53,3,TRUE)","v":0}]
[{"$f":"VLOOKUP(ROW(),'Übersicht und Druck'!$I$7:$K$53,3,TRUE)","v":{"$error":"#N/A"}},{"$f":"'Berechnung Sparten'!B71","v":"Feuer-Betriebsunterbrechung: Sparte nicht gewählt"}]
[{"$f":"VLOOKUP(ROW(),'Übersicht und Druck'!$I$7:$K$53,3,TRUE)","v":{"$error":"#N/A"}},"Deckungsbausteine bzw. versichertes Risiko",null,null,null,null,null,null,null,null,null,null,"Deckung",null,"Prämie"]
[{"$f":"VLOOKUP(ROW(),'Übersicht und Druck'!$I$7:$K$53,3,TRUE)","v":{"$error":"#N/A"}},{"$f":"'Berechnung Sparten'!B72&\" (\"&'Berechnung Sparten'!W72&\")\"","v":"Feuer (Haftung 12 Monate, Jahres-Deckungsbeitrag:)"},null,null,null,null,null,null,null,null,null,null,{"$f":"IF('Berechnung Sparten'!G72=0,\"nein\",'Berechnung Sparten'!G72)","v":"nein"},null,{"$f":"'Berechnung Sparten'!U72","v":{"$error":"#N/A"}}]
[{"$f":"VLOOKUP(ROW(),'Übersicht und Druck'!$I$7:$K$53,3,TRUE)","v":{"$error":"#N/A"}},{"$f":"'Berechnung Sparten'!B73&\" (\"&'Berechnung Sparten'!C73&\")\"","v":"Prämienrückgewähr - und Vorsorge-Versicherung, Bes.Bed. BU950 (inkludiert)"},null,null,null,null,null,null,null,null,null,null,{"$f":"IF('Berechnung Sparten'!G73=0,\"nein\",'Berechnung Sparten'!G73)","v":"ja"},null,{"$f":"'Berechnung Sparten'!U73","v":0}]
[{"$f":"VLOOKUP(ROW(),'Übersicht und Druck'!$I$7:$K$53,3,TRUE)","v":{"$error":"#N/A"}},{"$f":"'Berechnung Sparten'!B74&\" (\"&'Berechnung Sparten'!C74&\")\"","v":"Mehrkosten für erhöhten Werbeaufwand (ER)"},null,null,null,null,null,null,null,null,null,null,{"$f":"IF('Berechnung Sparten'!G74=0,\"nein\",'Berechnung Sparten'!G74)","v":"nein"},null,{"$f":"'Berechnung Sparten'!U74","v":{"$error":"#N/A"}}]
[{"$f":"VLOOKUP(ROW(),'Übersicht und Druck'!$I$7:$K$53,3,TRUE)","v":{"$error":"#N/A"}},{"$f":"'Berechnung Sparten'!B75&\" (\"&'Berechnung Sparten'!C75&\")\"","v":"Rückwirkungsschäden (BU 960) (ER)"},null,null,null,null,null,null,null,null,null,null,{"$f":"IF('Berechnung Sparten'!G75=0,\"nein\",'Berechnung Sparten'!G75)","v":"nein"},null,{"$f":"'Berechnung Sparten'!U75","v":0}]
[{"$f":"VLOOKUP(ROW(),'Übersicht und Druck'!$I$7:$K$53,3,TRUE)","v":{"$error":"#N/A"}},null,null,null,null,null,null,null,null,null,null,"Spartenprämie",null,null,{"$f":"'Berechnung Sparten'!U78","v":{"$error":"#N/A"}}]
[{"$f":"VLOOKUP(ROW(),'Übersicht und Druck'!$I$7:$K$53,3,TRUE)","v":{"$error":"#N/A"}}]
[{"$f":"VLOOKUP(ROW(),'Übersicht und Druck'!$I$7:$K$53,3,TRUE)","v":{"$error":"#N/A"}}]
[{"$f":"VLOOKUP(ROW(),'Übersicht und Druck'!$I$7:$K$53,3,TRUE)","v":0},{"$f":"'Berechnung Sparten'!B83","v":"Mietentgang-Betriebsunterbrechung: Sparte nicht gewählt"}]
[{"$f":"VLOOKUP(ROW(),'Übersicht und Druck'!$I$7:$K$53,3,TRUE)","v":0},"Deckungsbausteine bzw. versichertes Risiko",null,null,null,null,null,null,null,null,null,null,"Deckung",null,"Prämie"]
[{"$f":"VLOOKUP(ROW(),'Übersicht und Druck'!$I$7:$K$53,3,TRUE)","v":0},{"$f":"'Berechnung Sparten'!B84&\" (\"&'Berechnung Sparten'!W84&\")\"","v":"Versicherte Gefahren: Feuer. Entgang an Mieteinnahmen bei gänzlicher oder teilweiser Unterbrechung des Betriebes nach einem gedeckten, versicherten Sachschaden. Bes.Bed. BU952 (Haftung 12 Monate, Jahres-Mieteinnahmen:)"},null,null,null,null,null,null,null,null,null,null,{"$f":"IF('Berechnung Sparten'!G84=0,\"nein\",'Berechnung Sparten'!G84)","v":"nein"},null,{"$f":"'Berechnung Sparten'!U84","v":0}]
[{"$f":"VLOOKUP(ROW(),'Übersicht und Druck'!$I$7:$K$53,3,TRUE)","v":0},null,null,null,null,null,null,null,null,null,null,"Spartenprämie",null,null,{"$f":"'Berechnung Sparten'!U87","v":0}]
[{"$f":"VLOOKUP(ROW(),'Übersicht und Druck'!$I$7:$K$53,3,TRUE)","v":0}]
[{"$f":"VLOOKUP(ROW(),'Übersicht und Druck'!$I$7:$K$53,3,TRUE)","v":0}]
[{"$f":"VLOOKUP(ROW(),'Übersicht und Druck'!$I$7:$K$53,3,TRUE)","v":0},{"$f":"'Berechnung Sparten'!B94","v":"Mehrkosten-Betriebsunterbrechung: Sparte nicht gewählt"}]
[{"$f":"VLOOKUP(ROW(),'Übersicht und Druck'!$I$7:$K$53,3,TRUE)","v":0},"Deckungsbausteine bzw. versichertes Risiko",null,null,null,null,null,null,null,null,null,null,"Deckung",null,"Prämie"]
[{"$f":"VLOOKUP(ROW(),'Übersicht und Druck'!$I$7:$K$53,3,TRUE)","v":0},{"$f":"'Berechnung Sparten'!B95&\" (\"&'Berechnung Sparten'!W95&\")\"","v":"Versicherte Gefahren: Feuer. Mehrkosten, die bei einer Betriebsunterbrechung infolge eines ersatzpflichtigen Sachschadens dadurch anfallen, dass der Betrieb an einem anderen Ort ganz oder teilweise weitergeführt wird. Bes.Bed. BU843 (Haftung 3 Monate, Mehrkosten:)"},null,null,null,null,null,null,null,null,null,null,{"$f":"IF('Berechnung Sparten'!G95=0,\"nein\",'Berechnung Sparten'!G95)","v":"nein"},null,{"$f":"'Berechnung Sparten'!U95","v":0}]
[{"$f":"VLOOKUP(ROW(),'Übersicht und Druck'!$I$7:$K$53,3,TRUE)","v":0},null,null,null,null,null,null,null,null,null,null,"Spartenprämie",null,null,{"$f":"'Berechnung Sparten'!U98","v":0}]
[{"$f":"VLOOKUP(ROW(),'Übersicht und Druck'!$I$7:$K$53,3,TRUE)","v":0}]
[{"$f":"VLOOKUP(ROW(),'Übersicht und Druck'!$I$7:$K$53,3,TRUE)","v":0}]
[{"$f":"VLOOKUP(ROW(),'Übersicht und Druck'!$I$7:$K$53,3,TRUE)","v":0},{"$f":"'Berechnung Sparten'!B106","v":"EC-Versicherung (Extended Coverage): Sparte nicht gewählt"}]
[{"$f":"VLOOKUP(ROW(),'Übersicht und Druck'!$I$7:$K$53,3,TRUE)","v":0},"Versicherte Risiken",null,null,null,null,null,null,null,null,null,null,null,null,"Gedeckt?"]
[{"$f":"VLOOKUP(ROW(),'Übersicht und Druck'!$I$7:$K$53,3,TRUE)","v":0},{"$f":"'Berechnung Sparten'!AC108","v":"1.1 Innere Unruhen, böswillige Beschädigung, Streik, Aussperrung\n1.2 Fahrzeuganprall, Rauch, Überschalldruckwelle"},null,null,null,null,null,null,null,null,null,null,null,null,{"$f":"IF('Berechnung Sparten'!AF108=1,\"ja\",\"nein\")","v":"nein"}]
[{"$f":"VLOOKUP(ROW(),'Übersicht und Druck'!$I$7:$K$53,3,TRUE)","v":0},{"$f":"'Berechnung Sparten'!AC109","v":"1.3 Sprinkler-Leckage"},null,null,null,null,null,null,null,null,null,null,null,null,{"$f":"IF('Berechnung Sparten'!AF109=1,\"ja\",\"nein\")","v":"nein"}]
[{"$f":"VLOOKUP(ROW(),'Übersicht und Druck'!$I$7:$K$53,3,TRUE)","v":0},{"$f":"'Berechnung Sparten'!AC110","v":"1.4 Überschwemmung: Anfrage Versicherungtechnik"},null,null,null,null,null,null,null,null,null,null,null,null,{"$f":"IF('Berechnung Sparten'!AF110=1,\"ja\",\"nein\")","v":"nein"}]
[{"$f":"VLOOKUP(ROW(),'Übersicht und Druck'!$I$7:$K$53,3,TRUE)","v":0},{"$f":"'Berechnung Sparten'!AC111","v":"1.5 Vermurung"},null,null,null,null,null,null,null,null,null,null,null,null,{"$f":"IF('Berechnung Sparten'!AF111=1,\"ja\",\"nein\")","v":"nein"}]
[{"$f":"VLOOKUP(ROW(),'Übersicht und Druck'!$I$7:$K$53,3,TRUE)","v":0},{"$f":"'Berechnung Sparten'!AC112","v":"1.6 Erdbeben"},null,null,null,null,null,null,null,null,null,null,null,null,{"$f":"IF('Berechnung Sparten'!AF112=1,\"ja\",\"nein\")","v":"nein"}]
[{"$f":"VLOOKUP(ROW(),'Übersicht und Druck'!$I$7:$K$53,3,TRUE)","v":0},{"$f":"'Berechnung Sparten'!AC113","v":"1.7 Lawinen und Lawinenluftdruck"},null,null,null,null,null,null,null,null,null,null,null,null,{"$f":"IF('Berechnung Sparten'!AF113=1,\"ja\",\"nein\")","v":"nein"}]
[{"$f":"VLOOKUP(ROW(),'Übersicht und Druck'!$I$7:$K$53,3,TRUE)","v":0},{"$f":"'Berechnung Sparten'!AC114","v":"1.8 Erdsenkung"},null,null,null,null,null,null,null,null,null,null,null,null,{"$f":"IF('Berechnung Sparten'!AF114=1,\"ja\",\"nein\")","v":"nein"}]
[{"$f":"VLOOKUP(ROW(),'Übersicht und Druck'!$I$7:$K$53,3,TRUE)","v":0},{"$f":"'Berechnung Sparten'!AC115","v":"1.9 Unbenannte Gefahren"},null,null,null,null,null,null,null,null,null,null,null,null,{"$f":"IF('Berechnung Sparten'!AF115=1,\"ja\",\"nein\")","v":"nein"}]
[{"$f":"VLOOKUP(ROW(),'Übersicht und Druck'!$I$7:$K$53,3,TRUE)","v":0},"Deckungsbausteine bzw. versichertes Risiko",null,null,null,null,null,null,null,null,null,null,"Deckung",null,"Prämie"]
[{"$f":"VLOOKUP(ROW(),'Übersicht und Druck'!$I$7:$K$53,3,TRUE)","v":0},{"$f":"'Berechnung Sparten'!B107&\" (\"&'Berechnung Sparten'!W107&\")\"","v":"Grunddeckung (Gebäude, KTE, Vorräte) (VS)"},null,null,null,null,null,null,null,null,null,null,{"$f":"IF('Berechnung Sparten'!G107=0,\"nein\",'Berechnung Sparten'!G107)","v":"nein"},null,{"$f":"'Berechnung Sparten'!U107","v":0}]
[{"$f":"VLOOKUP(ROW(),'Übersicht und Druck'!$I$7:$K$53,3,TRUE)","v":0},{"$f":"'Berechnung Sparten'!B108&\" (\"&'Berechnung Sparten'!W108&\")\"","v":"Technische und kaufmännische Betriebseinrichtung sowie Vorräte (im Eigentum des Versicherungsnehmers) ständig außerhalb des Versicherungsortes jedoch innerhalb Österreichs (NW/WBS)"},null,null,null,null,null,null,null,null,null,null,{"$f":"IF('Berechnung Sparten'!H108=0,\"nein\",'Berechnung Sparten'!H108)","v":"nein"},null,{"$f":"'Berechnung Sparten'!U108","v":0}]
[{"$f":"VLOOKUP(ROW(),'Übersicht und Druck'!$I$7:$K$53,3,TRUE)","v":0},{"$f":"'Berechnung Sparten'!B113","v":"20 % Aufräumungs-, Abbruch-, Feuerlösch-, De- u. Remontagekosten, Bewegungs- u. Schutzkosten, Deponiekosten für nicht zu behandelnden Abfall. Im Rahmen dieser Summe gelten Mehrkosten durch die Behandlung von gefährlichem Abfall und/oder kontaminiertem Erdreich bis 50 % der Summe als mitversichert."}]
[{"$f":"VLOOKUP(ROW(),'Übersicht und Druck'!$I$7:$K$53,3,TRUE)","v":0},{"$f":"'Berechnung Sparten'!B111&\" (\"&'Berechnung Sparten'!W111&\")\"","v":"Geld und Geldeswerte, Sparbücher, Wertpapiere, Urkunden, Schmuck-, Gold- und Platinsachen, Edelsteine, Edelmetalle und echte Perlen sowie Münzen- und Briefmarkensammlungen,  Brief - und Stempelmarken, Vignetten, Kurzparkscheine, Lose und Telefonwertkarten unter festem Verschluss (ER)"},null,null,null,null,null,null,null,null,null,null,{"$f":"IF('Berechnung Sparten'!H111=0,\"nein\",'Berechnung Sparten'!H111)","v":"nein"},null,{"$f":"'Berechnung Sparten'!U111","v":0}]
[{"$f":"VLOOKUP(ROW(),'Übersicht und Druck'!$I$7:$K$53,3,TRUE)","v":0},{"$f":"'Berechnung Sparten'!B109&\" (\"&'Berechnung Sparten'!W109&\")\"","v":"Wiederherstellungskosten von Datenträgern (Geschäftsbücher, Akten, Pläne, elektronische Speichermedien, Typenscheine, kodierte KFZ-Schlüssel und dgl.) und den darauf befindlichen Daten (ER)"},null,null,null,null,null,null,null,null,null,null,{"$f":"IF('Berechnung Sparten'!H109=0,\"nein\",'Berechnung Sparten'!H109)","v":"nein"},null,{"$f":"'Berechnung Sparten'!U109","v":0}]
[{"$f":"VLOOKUP(ROW(),'Übersicht und Druck'!$I$7:$K$53,3,TRUE)","v":0},{"$f":"'Berechnung Sparten'!B110&\" (\"&'Berechnung Sparten'!W110&\")\"","v":"Sachen der Betriebsinhaber und Dienstnehmer (ausgenommen jedoch Bargeld, Edelmetall-, Gold-, Silber- und Schmucksachen, Kraftfahrzeuge sowie in Wohnungen befindlicher Hausrat)  (ER)"},null,null,null,null,null,null,null,null,null,null,{"$f":"IF('Berechnung Sparten'!H110=0,\"nein\",'Berechnung Sparten'!H110)","v":"nein"},null,{"$f":"'Berechnung Sparten'!U110","v":0}]
[{"$f":"VLOOKUP(ROW(),'Übersicht und Druck'!$I$7:$K$53,3,TRUE)","v":0},{"$f":"'Berechnung Sparten'!B114&\" (\"&'Berechnung Sparten'!W114&\")\"","v":"Mehrkosten durch die Behandlung von gefährlichem Abfall und/oder kontaminiertem Erdreich (ER)"},null,null,null,null,null,null,null,null,null,null,{"$f":"IF('Berechnung Sparten'!H114=0,\"nein\",'Berechnung Sparten'!H114)","v":"nein"},null,{"$f":"'Berechnung Sparten'!U114","v":0}]
[{"$f":"VLOOKUP(ROW(),'Übersicht und Druck'!$I$7:$K$53,3,TRUE)","v":0},{"$f":"'Berechnung Sparten'!B115&\" (\"&'Berechnung Sparten'!W115&\")\"","v":"Sachverständigenkosten (ER)"},null,null,null,null,null,null,null,null,null,null,{"$f":"IF('Berechnung Sparten'!H115=0,\"nein\",'Berechnung Sparten'!H115)","v":"nein"},null,{"$f":"'Berechnung Sparten'!U115","v":0}]
[{"$f":"VLOOKUP(ROW(),'Übersicht und Druck'!$I$7:$K$53,3,TRUE)","v":0},{"$f":"'Berechnung Sparten'!B112&\" (\"&'Berechnung Sparten'!W112&\")\"","v":"Groß- und/oder Kleintiere (WBS)"},null,null,null,null,null,null,null,null,null,null,{"$f":"IF('Berechnung Sparten'!H112=0,\"nein\",'Berechnung Sparten'!H112)","v":"nein"},null,{"$f":"'Berechnung Sparten'!U112","v":0}]
[{"$f":"VLOOKUP(ROW(),'Übersicht und Druck'!$I$7:$K$53,3,TRUE)","v":0},null,null,null,null,null,null,null,null,null,null,"Spartenprämie",null,null,{"$f":"Sach!K89","v":0}]
[{"$f":"VLOOKUP(ROW(),'Übersicht und Druck'!$I$7:$K$53,3,TRUE)","v":0}]
[{"$f":"VLOOKUP(ROW(),'Übersicht und Druck'!$I$7:$K$53,3,TRUE)","v":0}]
[{"$f":"VLOOKUP(ROW(),'Übersicht und Druck'!$I$7:$K$53,3,TRUE)","v":0},"Extended Coverage-Betriebsunterbrechung"]
[{"$f":"VLOOKUP(ROW(),'Übersicht und Druck'!$I$7:$K$53,3,TRUE)","v":0},"Versicherte Risiken",null,null,null,null,null,null,null,null,null,null,null,null,"Gedeckt?"]
[{"$f":"VLOOKUP(ROW(),'Übersicht und Druck'!$I$7:$K$53,3,TRUE)","v":0},{"$f":"'Berechnung Sparten'!AB126","v":"1.1 Innere Unruhen, böswillige Beschädigung, Streik, Aussperrung\n1.2 Fahrzeuganprall, Rauch, Überschalldruckwelle"},null,null,null,null,null,null,null,null,null,null,null,null,{"$f":"IF('Berechnung Sparten'!AE126=1,\"ja\",\"nein\")","v":"nein"}]
[{"$f":"VLOOKUP(ROW(),'Übersicht und Druck'!$I$7:$K$53,3,TRUE)","v":0},{"$f":"'Berechnung Sparten'!AB127","v":"1.3 Sprinkler-Leckage"},null,null,null,null,null,null,null,null,null,null,null,null,{"$f":"IF('Berechnung Sparten'!AE127=1,\"ja\",\"nein\")","v":"nein"}]
[{"$f":"VLOOKUP(ROW(),'Übersicht und Druck'!$I$7:$K$53,3,TRUE)","v":0},{"$f":"'Berechnung Sparten'!AB128","v":"1.4 Überschwemmung: Anfrage Versicherungtechnik"},null,null,null,null,null,null,null,null,null,null,null,null,{"$f":"IF('Berechnung Sparten'!AE128=1,\"ja\",\"nein\")","v":"nein"}]
[{"$f":"VLOOKUP(ROW(),'Übersicht und Druck'!$I$7:$K$53,3,TRUE)","v":0},{"$f":"'Berechnung Sparten'!AB129","v":"1.5 Vermurung"},null,null,null,null,null,null,null,null,null,null,null,null,{"$f":"IF('Berechnung Sparten'!AE129=1,\"ja\",\"nein\")","v":"nein"}]
[{"$f":"VLOOKUP(ROW(),'Übersicht und Druck'!$I$7:$K$53,3,TRUE)","v":0},{"$f":"'Berechnung Sparten'!AB130","v":"1.6 Erdbeben"},null,null,null,null,null,null,null,null,null,null,null,null,{"$f":"IF('Berechnung Sparten'!AE130=1,\"ja\",\"nein\")","v":"nein"}]
[{"$f":"VLOOKUP(ROW(),'Übersicht und Druck'!$I$7:$K$53,3,TRUE)","v":0},{"$f":"'Berechnung Sparten'!AB131","v":"1.7 Lawinen und Lawinenluftdruck"},null,null,null,null,null,null,null,null,null,null,null,null,{"$f":"IF('Berechnung Sparten'!AE131=1,\"ja\",\"nein\")","v":"nein"}]
[{"$f":"VLOOKUP(ROW(),'Übersicht und Druck'!$I$7:$K$53,3,TRUE)","v":0},{"$f":"'Berechnung Sparten'!AB132","v":"1.8 Erdsenkung"},null,null,null,null,null,null,null,null,null,null,null,null,{"$f":"IF('Berechnung Sparten'!AE132=1,\"ja\",\"nein\")","v":"nein"}]
[{"$f":"VLOOKUP(ROW(),'Übersicht und Druck'!$I$7:$K$53,3,TRUE)","v":0},{"$f":"'Berechnung Sparten'!AB133","v":"1.9 Unbenannte Gefahren"},null,null,null,null,null,null,null,null,null,null,null,null,{"$f":"IF('Berechnung Sparten'!AE133=1,\"ja\",\"nein\")","v":"nein"}]
[{"$f":"VLOOKUP(ROW(),'Übersicht und Druck'!$I$7:$K$53,3,TRUE)","v":0},{"$f":"'Berechnung Sparten'!B123","v":"EC-BU (Entgang Deckungsbeitrag nach ersatzpflichtigem Sachschaden): Sparte nicht gewählt"},null,null,null,null,null,null,null,null,null,null,"Deckung",null,"Prämie"]
[{"$f":"VLOOKUP(ROW(),'Übersicht und Druck'!$I$7:$K$53,3,TRUE)","v":0},{"$f":"'Berechnung Sparten'!B124&\" (\"&'Berechnung Sparten'!W124&\")\"","v":"EC-Betriebsunterbrechung (Haftung 12 Monate, Jahres-Deckungsbeitrag:)"},null,null,null,null,null,null,null,null,null,null,{"$f":"IF('Berechnung Sparten'!G124=0,\"nein\",'Berechnung Sparten'!G124)","v":"nein"},null,{"$f":"'Berechnung Sparten'!U124","v":0}]
[{"$f":"VLOOKUP(ROW(),'Übersicht und Druck'!$I$7:$K$53,3,TRUE)","v":0},{"$f":"'Berechnung Sparten'!B125&\" (\"&'Berechnung Sparten'!W125&\")\"","v":"Prämienrückgewähr - und Vorsorge-Versicherung, Bes.Bed. BU950 (inkludiert)"},null,null,null,null,null,null,null,null,null,null,{"$f":"IF(M389=\"nein\",\"nein\",IF('Berechnung Sparten'!G125=0,\"nein\",'Berechnung Sparten'!G125))","v":"nein"},null,{"$f":"'Berechnung Sparten'!U125","v":0}]
[{"$f":"VLOOKUP(ROW(),'Übersicht und Druck'!$I$7:$K$53,3,TRUE)","v":0},{"$f":"'Berechnung Sparten'!B126&\" (\"&'Berechnung Sparten'!W126&\")\"","v":"Mehrkosten für erhöhten Werbeaufwand (ER)"},null,null,null,null,null,null,null,null,null,null,{"$f":"IF('Berechnung Sparten'!G126=0,\"nein\",'Berechnung Sparten'!G126)","v":"nein"},null,{"$f":"'Berechnung Sparten'!U126","v":0}]
[{"$f":"VLOOKUP(ROW(),'Übersicht und Druck'!$I$7:$K$53,3,TRUE)","v":0},null,null,null,null,null,null,null,null,null,null,"Spartenprämie",null,null,{"$f":"'Berechnung Sparten'!U129","v":0}]
[{"$f":"VLOOKUP(ROW(),'Übersicht und Druck'!$I$7:$K$53,3,TRUE)","v":0},{"$f":"'Berechnung Sparten'!B134","v":"EC-Mietentgang-BU: Sparte nicht gewählt"},null,null,null,null,null,null,null,null,null,null,"Deckung",null,"Prämie"]
[{"$f":"VLOOKUP(ROW(),'Übersicht und Druck'!$I$7:$K$53,3,TRUE)","v":0},{"$f":"'Berechnung Sparten'!B135&\" (\"&'Berechnung Sparten'!W135&\")\"","v":"EC-Mietentgang (Haftung 12 Monate, Jahres-Mieteinnahmen:)"},null,null,null,null,null,null,null,null,null,null,{"$f":"IF('Berechnung Sparten'!G135=0,\"nein\",'Berechnung Sparten'!G135)","v":"nein"},null,{"$f":"'Berechnung Sparten'!U135","v":0}]
[{"$f":"VLOOKUP(ROW(),'Übersicht und Druck'!$I$7:$K$53,3,TRUE)","v":0},null,null,null,null,null,null,null,null,null,null,"Spartenprämie",null,null,{"$f":"'Berechnung Sparten'!U138","v":0}]
[{"$f":"VLOOKUP(ROW(),'Übersicht und Druck'!$I$7:$K$53,3,TRUE)","v":0},{"$f":"'Berechnung Sparten'!B143","v":"EC-Mehrkosten-BU: Sparte nicht gewählt"},null,null,null,null,null,null,null,null,null,null,"Deckung",null,"Prämie"]
[{"$f":"VLOOKUP(ROW(),'Übersicht und Druck'!$I$7:$K$53,3,TRUE)","v":0},{"$f":"'Berechnung Sparten'!B144&\" (\"&'Berechnung Sparten'!W144&\")\"","v":"EC-Mehrkosten (Haftung 12 Monate, Mehrkosten:)"},null,null,null,null,null,null,null,null,null,null,{"$f":"IF('Berechnung Sparten'!G144=0,\"nein\",'Berechnung Sparten'!G144)","v":"nein"},null,{"$f":"'Berechnung Sparten'!U144","v":0}]
[{"$f":"VLOOKUP(ROW(),'Übersicht und Druck'!$I$7:$K$53,3,TRUE)","v":0},null,null,null,null,null,null,null,null,null,null,"Spartenprämie",null,null,{"$f":"'Berechnung Sparten'!U147","v":0}]
[{"$f":"VLOOKUP(ROW(),'Übersicht und Druck'!$I$7:$K$53,3,TRUE)","v":0}]
[{"$f":"VLOOKUP(ROW(),'Übersicht und Druck'!$I$7:$K$53,3,TRUE)","v":0}]
[{"$f":"VLOOKUP(ROW(),'Übersicht und Druck'!$I$7:$K$53,3,TRUE)","v":0},{"$f":"'Berechnung Sparten'!B163","v":"Einbruchdiebstahl: Sparte nicht gewählt"}]
[{"$f":"VLOOKUP(ROW(),'Übersicht und Druck'!$I$7:$K$53,3,TRUE)","v":0},"Schäden, die in Folge grober Fahrlässigkeit entstanden sind, sind im Rahmen der Gesamversicherungssumme (max. 1 Mio) gemäß besonderer Bedingung N030 mitversichert. "]
[{"$f":"VLOOKUP(ROW(),'Übersicht und Druck'!$I$7:$K$53,3,TRUE)","v":0},{"$f":"'Berechnung Sparten'!AB168","v":"Alle Risikoorte unbewohnt"}]
[{"$f":"VLOOKUP(ROW(),'Übersicht und Druck'!$I$7:$K$53,3,TRUE)","v":0},"Deckungsbausteine bzw. versichertes Risiko",null,null,null,null,null,null,null,null,null,null,"Deckung",null,"Prämie"]
[{"$f":"VLOOKUP(ROW(),'Übersicht und Druck'!$I$7:$K$53,3,TRUE)","v":0},{"$f":"'Berechnung Sparten'!B164&\" (\"&'Berechnung Sparten'!W164&\")\"","v":"KTE und Vorräte laut Risikoübersicht (VS)"},null,null,null,null,null,null,null,null,null,null,{"$f":"IF('Berechnung Sparten'!G164=0,\"nein\",'Berechnung Sparten'!G164)","v":"nein"},null,{"$f":"'Berechnung Sparten'!U164","v":0}]
[{"$f":"VLOOKUP(ROW(),'Übersicht und Druck'!$I$7:$K$53,3,TRUE)","v":0},{"$f":"'Berechnung Sparten'!B165&\" (\"&'Berechnung Sparten'!W165&\")\"","v":"Technische und kaufmännische Betriebseinrichtung sowie Vorräte (im Eigentum des Versicherungsnehmers) ständig außerhalb des Versicherungsortes jedoch innerhalb Österreichs in versperrten massiv/harten Gebäuden (dies gilt nicht versichert in Bauhütten, Bau und Lagercontainern) (ER)"},null,null,null,null,null,null,null,null,null,null,{"$f":"IF('Berechnung Sparten'!G165=0,\"nein\",'Berechnung Sparten'!G165)","v":"nein"},null,{"$f":"'Berechnung Sparten'!U165","v":0}]
[{"$f":"VLOOKUP(ROW(),'Übersicht und Druck'!$I$7:$K$53,3,TRUE)","v":0},{"$f":"'Berechnung Sparten'!B166&\" (\"&'Berechnung Sparten'!W166&\")\"","v":"Sachen in Bauhütten, Bau- oder Lagercontainern, Verkaufs - und Marktständen (am Versicherungsort bzw. innerhalb Österreichs), Selbstbehalt 20 % (NW/WB)"},null,null,null,null,null,null,null,null,null,null,{"$f":"IF('Berechnung Sparten'!G166=0,\"nein\",'Berechnung Sparten'!G166)","v":"nein"},null,{"$f":"'Berechnung Sparten'!U166","v":0}]
[{"$f":"VLOOKUP(ROW(),'Übersicht und Druck'!$I$7:$K$53,3,TRUE)","v":0},{"$f":"'Berechnung Sparten'!B167&\" (\"&'Berechnung Sparten'!W167&\")\"","v":"Wiederherstellungskosten von Datenträgern (Geschäftsbücher, Akten, Pläne, elektronische Speichermedien, Typenscheine, kodierte KFZ-Schlüssel udgl.) und den darauf befindlichen Daten (ER (5000 inkl.))"},null,null,null,null,null,null,null,null,null,null,{"$f":"IF('Berechnung Sparten'!G167=0,\"nein\",'Berechnung Sparten'!G167)","v":"nein"},null,{"$f":"'Berechnung Sparten'!U167","v":0}]
[{"$f":"VLOOKUP(ROW(),'Übersicht und Druck'!$I$7:$K$53,3,TRUE)","v":0},{"$f":"'Berechnung Sparten'!B168&\" (\"&'Berechnung Sparten'!W168&\")\"","v":"Sachen der Betriebsinhaber und Dienstnehmer (ausgenommen jedoch Bargeld, Edelmetall-, Gold-, Silber- und Schmucksachen, Kraftfahrzeuge sowie in Wohnungen befindlicher Hausrat) (NW (5000 inkl.))"},null,null,null,null,null,null,null,null,null,null,{"$f":"IF('Berechnung Sparten'!G168=0,\"nein\",'Berechnung Sparten'!G168)","v":"nein"},null,{"$f":"'Berechnung Sparten'!U168","v":0}]
[{"$f":"VLOOKUP(ROW(),'Übersicht und Druck'!$I$7:$K$53,3,TRUE)","v":0},{"$f":"'Berechnung Sparten'!B169&\" (\"&'Berechnung Sparten'!W169&\")\"","v":"Schäden an der Grundstücksbegrenzung bzw. am Einfahrtstor nach einem vollbrachten bzw. versuchten Einbruchdiebstahl an der Versicherungsräumlichkeit (ER)"},null,null,null,null,null,null,null,null,null,null,{"$f":"IF('Berechnung Sparten'!G169=0,\"nein\",'Berechnung Sparten'!G169)","v":"nein"},null,{"$f":"'Berechnung Sparten'!U169","v":0}]
[{"$f":"VLOOKUP(ROW(),'Übersicht und Druck'!$I$7:$K$53,3,TRUE)","v":0},{"$f":"'Berechnung Sparten'!B170&\" (\"&'Berechnung Sparten'!W170&\")\"","v":"Tische, Stühle, Sonnenschirme, Spielplatz-einrichtung im Freien (Schanigärten) –  Teildiebstahl und Vandalismus gelten als nicht versichert. Selbstbehalt 20% gem. E9881 (NW)"},null,null,null,null,null,null,null,null,null,null,{"$f":"IF('Berechnung Sparten'!G170=0,\"nein\",'Berechnung Sparten'!G170)","v":"nein"},null,{"$f":"'Berechnung Sparten'!U170","v":0}]
[{"$f":"VLOOKUP(ROW(),'Übersicht und Druck'!$I$7:$K$53,3,TRUE)","v":0},{"$f":"'Berechnung Sparten'!B171&\" (\"&'Berechnung Sparten'!W171&\")\"","v":"Groß- und/oder Kleintiere im Gebäude befindlich (WB)"},null,null,null,null,null,null,null,null,null,null,{"$f":"IF('Berechnung Sparten'!G171=0,\"nein\",'Berechnung Sparten'!G171)","v":"nein"},null,{"$f":"'Berechnung Sparten'!U171","v":0}]
[{"$f":"VLOOKUP(ROW(),'Übersicht und Druck'!$I$7:$K$53,3,TRUE)","v":0},{"$f":"'Berechnung Sparten'!B172&\" (\"&'Berechnung Sparten'!W172&\")\"","v":"Versperrte KFZ, Anhänger und landw. Maschinen im Freien am umzäunten Grundstück (Teildiebstahl und Vandalismus nicht versicherbar) E0081 (ER)"},null,null,null,null,null,null,null,null,null,null,{"$f":"IF('Berechnung Sparten'!G172=0,\"nein\",'Berechnung Sparten'!G172)","v":"nein"},null,{"$f":"'Berechnung Sparten'!U172","v":0}]
[{"$f":"VLOOKUP(ROW(),'Übersicht und Druck'!$I$7:$K$53,3,TRUE)","v":0},{"$f":"'Berechnung Sparten'!B173&\" (\"&'Berechnung Sparten'!W173&\")\"","v":"KFZ, Anhänger und landwirtschaftliche Maschinen im Gebäude befindlich (ER)"},null,null,null,null,null,null,null,null,null,null,{"$f":"IF('Berechnung Sparten'!G173=0,\"nein\",'Berechnung Sparten'!G173)","v":"nein"},null,{"$f":"'Berechnung Sparten'!U173","v":0}]
[{"$f":"VLOOKUP(ROW(),'Übersicht und Druck'!$I$7:$K$53,3,TRUE)","v":0},{"$f":"'Berechnung Sparten'!B174&\" (\"&'Berechnung Sparten'!W174&\")\"","v":"Werkzeuge, Geräte und Vorräte in KFZ befindlich, Selbstbehalt 20 % (NW/WB)"},null,null,null,null,null,null,null,null,null,null,{"$f":"IF('Berechnung Sparten'!G174=0,\"nein\",'Berechnung Sparten'!G174)","v":"nein"},null,{"$f":"'Berechnung Sparten'!U174","v":0}]
[{"$f":"VLOOKUP(ROW(),'Übersicht und Druck'!$I$7:$K$53,3,TRUE)","v":0},{"$f":"'Berechnung Sparten'!B175&\" (\"&'Berechnung Sparten'!W175&\")\"","v":"Sachen in Schaukästen, Vitrinen und Automaten außerhalb der Geschäftsräumlichkeiten E0071 (NW)"},null,null,null,null,null,null,null,null,null,null,{"$f":"IF('Berechnung Sparten'!G175=0,\"nein\",'Berechnung Sparten'!G175)","v":"nein"},null,{"$f":"'Berechnung Sparten'!U175","v":0}]
[{"$f":"VLOOKUP(ROW(),'Übersicht und Druck'!$I$7:$K$53,3,TRUE)","v":0},{"$f":"'Berechnung Sparten'!B176&\" (\"&'Berechnung Sparten'!W176&\")\"","v":"Geld und Geldeswerte unter festem Verschluss E9891 (ER (5000 inkl.))"},null,null,null,null,null,null,null,null,null,null,null,null,"prämienfrei"]
[{"$f":"VLOOKUP(ROW(),'Übersicht und Druck'!$I$7:$K$53,3,TRUE)","v":0},{"$f":"'Berechnung Sparten'!B177&\" (\"&'Berechnung Sparten'!W177&\")\"","v":"Öffnung von Behältnissen mittels geraubter Original- und Duplikatschlüssel E3038 (ER)"},null,null,null,null,null,null,null,null,null,null,{"$f":"IF('Berechnung Sparten'!G177=0,\"nein\",'Berechnung Sparten'!G177)","v":"nein"},null,{"$f":"'Berechnung Sparten'!U177","v":0}]
[{"$f":"VLOOKUP(ROW(),'Übersicht und Druck'!$I$7:$K$53,3,TRUE)","v":0},{"$f":"'Berechnung Sparten'!B178&\" (\"&'Berechnung Sparten'!W178&\")\"","v":"Beraubung innerhalb der Versicherungsräumlichkeiten inkl. Kundenberaubung E3062/E0062 (ER (5000 inkl.))"},null,null,null,null,null,null,null,null,null,null,{"$f":"IF('Berechnung Sparten'!G178=0,\"nein\",'Berechnung Sparten'!G178)","v":"nein"},null,{"$f":"'Berechnung Sparten'!U178","v":0}]
[{"$f":"VLOOKUP(ROW(),'Übersicht und Druck'!$I$7:$K$53,3,TRUE)","v":0},{"$f":"'Berechnung Sparten'!B179","v":"20 % Aufräumungs-, Abbruch-, De- u. Remontagekosten, Bewegungs- u. Schutzkosten, Deponiekosten für nicht zu behandelnden Abfall. Im Rahmen dieser Summe gelten Mehrkosten durch die Behandlung von gefährlichem Abfall und/oder kontaminierten Erdreich bis 50 % der Summe als versichert A3024"}]
[{"$f":"VLOOKUP(ROW(),'Übersicht und Druck'!$I$7:$K$53,3,TRUE)","v":0},"20 % Zuschuss Diebstahl für Wärmepumpen (max. € 2.500) bzw. Balkonkraftwerke (max. € 500) gem. NH003"]
[{"$f":"VLOOKUP(ROW(),'Übersicht und Druck'!$I$7:$K$53,3,TRUE)","v":0},{"$f":"'Berechnung Sparten'!B180&\" (\"&'Berechnung Sparten'!W180&\")\"","v":"Mehrkosten durch die Behandlung von gefährlichem Abfall und/oder kontaminiertem Erdreich (ER)"},null,null,null,null,null,null,null,null,null,null,{"$f":"IF('Berechnung Sparten'!G180=0,\"nein\",'Berechnung Sparten'!G180)","v":"nein"},null,{"$f":"'Berechnung Sparten'!U180","v":0}]
[{"$f":"VLOOKUP(ROW(),'Übersicht und Druck'!$I$7:$K$53,3,TRUE)","v":0},{"$f":"'Berechnung Sparten'!B181&\" (\"&'Berechnung Sparten'!W181&\")\"","v":"Zentralschlüsselanlage (Schlüsselverlust) gem. E9882 (Selbstbehalt 10 %) (ER)"},null,null,null,null,null,null,null,null,null,null,{"$f":"IF('Berechnung Sparten'!G181=0,\"nein\",'Berechnung Sparten'!G181)","v":"nein"},null,{"$f":"'Berechnung Sparten'!U181","v":0}]
[{"$f":"VLOOKUP(ROW(),'Übersicht und Druck'!$I$7:$K$53,3,TRUE)","v":0},{"$f":"'Berechnung Sparten'!B182&\" (\"&'Berechnung Sparten'!W182&\")\"","v":"Schlossänderungskosten für Behältnisse E3033 (ER)"},null,null,null,null,null,null,null,null,null,null,{"$f":"IF('Berechnung Sparten'!G182=0,\"nein\",'Berechnung Sparten'!G182)","v":"nein"},null,{"$f":"'Berechnung Sparten'!U182","v":0}]
[{"$f":"VLOOKUP(ROW(),'Übersicht und Druck'!$I$7:$K$53,3,TRUE)","v":0},{"$f":"'Berechnung Sparten'!B183","v":"Telefonmissbrauch (5.000 gem. E9823)"},null,null,null,null,null,null,null,null,null,null,null,null,"prämienfrei"]
[{"$f":"VLOOKUP(ROW(),'Übersicht und Druck'!$I$7:$K$53,3,TRUE)","v":0},{"$f":"'Berechnung Sparten'!B184","v":"Mehraufwand im Schadensfall (10 %  gem. BB 4817)"},null,null,null,null,null,null,null,null,null,null,null,null,"prämienfrei"]
[{"$f":"VLOOKUP(ROW(),'Übersicht und Druck'!$I$7:$K$53,3,TRUE)","v":0},{"$f":"'Berechnung Sparten'!B185","v":"Verteurerung im Schadensfall (15 % gem. BB 4907)"},null,null,null,null,null,null,null,null,null,null,null,null,"prämienfrei"]
[{"$f":"VLOOKUP(ROW(),'Übersicht und Druck'!$I$7:$K$53,3,TRUE)","v":0},{"$f":"'Berechnung Sparten'!B186","v":"Geld und Geldeswerte im Sicherheitsbehältnis"},null,null,null,null,null,null,null,null,null,null,{"$f":"IF('Berechnung Sparten'!G186=0,\"nein\",'Berechnung Sparten'!G186)","v":"nein"},null,{"$f":"'Berechnung Sparten'!U186","v":0}]
[{"$f":"VLOOKUP(ROW(),'Übersicht und Druck'!$I$7:$K$53,3,TRUE)","v":0},{"$f":"'Berechnung Sparten'!B187&\" (\"&'Berechnung Sparten'!W187&\")\"","v":"Sicherheitsgrad EN0 bzw. VSÖ IV (VS 15.000) (ER)"},null,null,null,null,null,null,null,null,null,null,{"$f":"IF('Berechnung Sparten'!G187=0,\"nein\",\"ja\")","v":"nein"},null,{"$f":"'Berechnung Sparten'!U187","v":0}]
[{"$f":"VLOOKUP(ROW(),'Übersicht und Druck'!$I$7:$K$53,3,TRUE)","v":0},{"$f":"'Berechnung Sparten'!B188&\" (\"&'Berechnung Sparten'!W188&\")\"","v":"Sicherheitsgrad EN1 bzw. VSÖ III/c 1-3 (VS 30.000) (ER)"},null,null,null,null,null,null,null,null,null,null,{"$f":"IF('Berechnung Sparten'!G188=0,\"nein\",\"ja\")","v":"nein"},null,{"$f":"'Berechnung Sparten'!U188","v":0}]
[{"$f":"VLOOKUP(ROW(),'Übersicht und Druck'!$I$7:$K$53,3,TRUE)","v":0},{"$f":"'Berechnung Sparten'!B189&\" (\"&'Berechnung Sparten'!W189&\")\"","v":"Sicherheitsgrad VSÖ III/b (VS 45.000) (ER)"},null,null,null,null,null,null,null,null,null,null,{"$f":"IF('Berechnung Sparten'!G189=0,\"nein\",\"ja\")","v":"nein"},null,{"$f":"'Berechnung Sparten'!U189","v":0}]
[{"$f":"VLOOKUP(ROW(),'Übersicht und Druck'!$I$7:$K$53,3,TRUE)","v":0},{"$f":"'Berechnung Sparten'!B190&\" (\"&'Berechnung Sparten'!W190&\")\"","v":"Sicherheitsgrad EN2 bzw. VSÖ II/d (VS 75.000) (ER)"},null,null,null,null,null,null,null,null,null,null,{"$f":"IF('Berechnung Sparten'!G190=0,\"nein\",\"ja\")","v":"nein"},null,{"$f":"'Berechnung Sparten'!U190","v":0}]
[{"$f":"VLOOKUP(ROW(),'Übersicht und Druck'!$I$7:$K$53,3,TRUE)","v":0},{"$f":"'Berechnung Sparten'!B191&\" (\"&'Berechnung Sparten'!W191&\")\"","v":"Sicherheitsgrad EN3 bzw. VSÖ II/c (VS (100.000) (ER)"},null,null,null,null,null,null,null,null,null,null,{"$f":"IF('Berechnung Sparten'!G191=0,\"nein\",\"ja\")","v":"nein"},null,{"$f":"'Berechnung Sparten'!U191","v":0}]
[{"$f":"VLOOKUP(ROW(),'Übersicht und Druck'!$I$7:$K$53,3,TRUE)","v":0},{"$f":"'Berechnung Sparten'!B192&\" (\"&'Berechnung Sparten'!W192&\")\"","v":"Sicherheitsgrad EN4 (VS 150.000) (ER)"},null,null,null,null,null,null,null,null,null,null,{"$f":"IF('Berechnung Sparten'!G192=0,\"nein\",\"ja\")","v":"nein"},null,{"$f":"'Berechnung Sparten'!U192","v":0}]
[{"$f":"VLOOKUP(ROW(),'Übersicht und Druck'!$I$7:$K$53,3,TRUE)","v":0},{"$f":"'Berechnung Sparten'!B193&\" (\"&'Berechnung Sparten'!W193&\")\"","v":"Sicherheitsgrad EN5 bzw. VSÖ II/b (SV 250.000) (ER)"},null,null,null,null,null,null,null,null,null,null,{"$f":"IF('Berechnung Sparten'!G193=0,\"nein\",\"ja\")","v":"nein"},null,{"$f":"'Berechnung Sparten'!U193","v":0}]
[{"$f":"VLOOKUP(ROW(),'Übersicht und Druck'!$I$7:$K$53,3,TRUE)","v":0},null,null,null,null,null,null,null,null,null,null,"Spartenprämie",null,null,{"$f":"'Berechnung Sparten'!U196","v":0}]
[{"$f":"VLOOKUP(ROW(),'Übersicht und Druck'!$I$7:$K$53,3,TRUE)","v":0}]
[{"$f":"VLOOKUP(ROW(),'Übersicht und Druck'!$I$7:$K$53,3,TRUE)","v":0}]
[{"$f":"VLOOKUP(ROW(),'Übersicht und Druck'!$I$7:$K$53,3,TRUE)","v":0},{"$f":"'Berechnung Sparten'!B201","v":"Botenberaubung: Sparte nicht gewählt"}]
[{"$f":"VLOOKUP(ROW(),'Übersicht und Druck'!$I$7:$K$53,3,TRUE)","v":0},"Deckungsbausteine bzw. versichertes Risiko",null,null,null,null,null,null,null,null,null,null,"Deckung",null,"Prämie"]
[{"$f":"VLOOKUP(ROW(),'Übersicht und Druck'!$I$7:$K$53,3,TRUE)","v":0},{"$f":"'Berechnung Sparten'!B202&\" (\"&'Berechnung Sparten'!W202&\")\"","v":"Botenberaubung (Ohne Begleitung, mit Ringbotenklausel)"},null,null,null,null,null,null,null,null,null,null,{"$f":"IF('Berechnung Sparten'!G202=0,\"nein\",'Berechnung Sparten'!G202)","v":"nein"},null,{"$f":"'Berechnung Sparten'!U202","v":0}]
[{"$f":"VLOOKUP(ROW(),'Übersicht und Druck'!$I$7:$K$53,3,TRUE)","v":0},null,null,null,null,null,null,null,null,null,null,"Spartenprämie",null,null,{"$f":"'Berechnung Sparten'!U205","v":0}]
[{"$f":"VLOOKUP(ROW(),'Übersicht und Druck'!$I$7:$K$53,3,TRUE)","v":0}]
[{"$f":"VLOOKUP(ROW(),'Übersicht und Druck'!$I$7:$K$53,3,TRUE)","v":0}]
[{"$f":"VLOOKUP(ROW(),'Übersicht und Druck'!$I$7:$K$53,3,TRUE)","v":0},{"$f":"'Berechnung Sparten'!B210","v":"Leitungswasser: Sparte nicht gewählt"}]
[{"$f":"VLOOKUP(ROW(),'Übersicht und Druck'!$I$7:$K$53,3,TRUE)","v":0},"Schäden, die in Folge grober Fahrlässigkeit entstanden sind, sind im Rahmen der Gesamversicherungssumme (max. 1 Mio) gemäß besonderer Bedingung N034 mitversichert. "]
[{"$f":"VLOOKUP(ROW(),'Übersicht und Druck'!$I$7:$K$53,3,TRUE)","v":0},{"$f":"\"Variante \"&Sach!R170&\", Sprinkler: \"&Sach!U172","v":"Variante A, Sprinkler: keine Sprinkleranlage"}]
[{"$f":"VLOOKUP(ROW(),'Übersicht und Druck'!$I$7:$K$53,3,TRUE)","v":0},"Erweiterung auf 15 Meter Rohrersatz (nur bei Variante C und D) gem. L9927",null,null,null,null,null,null,null,null,null,null,null,null,{"$f":"IF(Sach!U174=0,\"nein\",\"ja\")","v":"nein"}]
[{"$f":"VLOOKUP(ROW(),'Übersicht und Druck'!$I$7:$K$53,3,TRUE)","v":0},"Rohrreinigungskostenübernahme bei Ableitungsrohren (nur bei Var. D)  gem. L9924",null,null,null,null,null,null,null,null,null,null,null,null,{"$f":"IF(Sach!U177=0,\"nein\",\"ja\")","v":"nein"}]
[{"$f":"VLOOKUP(ROW(),'Übersicht und Druck'!$I$7:$K$53,3,TRUE)","v":0},"Deckungsbausteine bzw. versichertes Risiko",null,null,null,null,null,null,null,null,null,null,"Deckung",null,"Prämie"]
[{"$f":"VLOOKUP(ROW(),'Übersicht und Druck'!$I$7:$K$53,3,TRUE)","v":0},{"$f":"'Berechnung Sparten'!B211&\" (\"&'Berechnung Sparten'!W211&\")\"","v":"Grunddeckung (Gebäude, KTE, Vorräte laut Risikoübersicht) (VS)"},null,null,null,null,null,null,null,null,null,null,{"$f":"IF('Berechnung Sparten'!G211=0,\"nein\",'Berechnung Sparten'!G211)","v":"nein"},null,{"$f":"'Berechnung Sparten'!U211","v":0}]
[{"$f":"VLOOKUP(ROW(),'Übersicht und Druck'!$I$7:$K$53,3,TRUE)","v":0},{"$f":"'Berechnung Sparten'!B212&\" (\"&'Berechnung Sparten'!W212&\")\"","v":"Technische und kaufmännische Betriebseinrichtung sowie Vorräte (im Eigentum des Versicherungsnehmers) ständig außerhalb des Versicherungsortes jedoch innerhalb Österreichs (NW/WBS)"},null,null,null,null,null,null,null,null,null,null,{"$f":"IF('Berechnung Sparten'!G212=0,\"nein\",'Berechnung Sparten'!G212)","v":"nein"},null,{"$f":"'Berechnung Sparten'!U212","v":0}]
[{"$f":"VLOOKUP(ROW(),'Übersicht und Druck'!$I$7:$K$53,3,TRUE)","v":0},{"$f":"'Berechnung Sparten'!B213&\" (\"&'Berechnung Sparten'!W213&\")\"","v":"Wiederherstellungskosten von Datenträgern (Geschäftsbücher, Akten, Pläne, elektronische Speichermedien, Typenscheine, kodierte KFZ-Schlüssel und dgl.) und den darauf befindlichen Daten (ER (5000 inkl.))"},null,null,null,null,null,null,null,null,null,null,{"$f":"IF('Berechnung Sparten'!G213=0,\"nein\",'Berechnung Sparten'!G213)","v":"nein"},null,{"$f":"'Berechnung Sparten'!U213","v":0}]
[{"$f":"VLOOKUP(ROW(),'Übersicht und Druck'!$I$7:$K$53,3,TRUE)","v":0},{"$f":"'Berechnung Sparten'!B214&\" (\"&'Berechnung Sparten'!W214&\")\"","v":"Sachen der Betriebsinhaber und Dienstnehmer (ausgenommen jedoch Bargeld, Edelmetall-, Gold-, Silber- und Schmucksachen, Kraftfahrzeuge sowie in Wohnungen befindlicher Hausrat) (NW (5000 inkl.))"},null,null,null,null,null,null,null,null,null,null,{"$f":"IF('Berechnung Sparten'!G214=0,\"nein\",'Berechnung Sparten'!G214)","v":"nein"},null,{"$f":"'Berechnung Sparten'!U214","v":0}]
[{"$f":"VLOOKUP(ROW(),'Übersicht und Druck'!$I$7:$K$53,3,TRUE)","v":0},{"$f":"'Berechnung Sparten'!B215&\" (\"&'Berechnung Sparten'!W215&\")\"","v":"Behebungskosten nach Rohrgebrechen in gemieteten Räumlichkeiten inkl. Korrosionsschäden gem. L3018 (ER)"},null,null,null,null,null,null,null,null,null,null,{"$f":"IF('Berechnung Sparten'!G215=0,\"nein\",'Berechnung Sparten'!G215)","v":"nein"},null,{"$f":"'Berechnung Sparten'!U215","v":0}]
[{"$f":"VLOOKUP(ROW(),'Übersicht und Druck'!$I$7:$K$53,3,TRUE)","v":0},{"$f":"'Berechnung Sparten'!B216&\" (\"&'Berechnung Sparten'!W216&\")\"","v":"Kosten für die Beseitigung von Verstopfungen der Ableitungsrohren der Gebäudeleitungs-wasserinstallation am Versicherungsort sowie der Wand- und Fußbodenheizung (ER)"},null,null,null,null,null,null,null,null,null,null,{"$f":"IF('Berechnung Sparten'!G216=0,\"nein\",'Berechnung Sparten'!G216)","v":"nein"},null,{"$f":"'Berechnung Sparten'!U216","v":0}]
[{"$f":"VLOOKUP(ROW(),'Übersicht und Druck'!$I$7:$K$53,3,TRUE)","v":0},{"$f":"IF(Sach!R172=0,\"[Deckungsbaustein nur bei LW-Deckung für Gebäude möglich, nicht bei reiner Inhalts-Deckung]\",'Berechnung Sparten'!B217)","v":"[Deckungsbaustein nur bei LW-Deckung für Gebäude möglich, nicht bei reiner Inhalts-Deckung]"}]
[{"$f":"VLOOKUP(ROW(),'Übersicht und Druck'!$I$7:$K$53,3,TRUE)","v":0},{"$f":"'Berechnung Sparten'!B218","v":"Schäden an versicherten Gebäuden durch Austritt von Wasser aus Schwimmbecken am Versicherungsgrundstück sowie Gebrechensbehebung an Rohren der Filteranlage bzw. von Zu- und Ableitungen des Schwimmbeckens L3013"},null,null,null,null,null,null,null,null,null,null,{"$f":"IF('Berechnung Sparten'!G218=0,\"nein\",'Berechnung Sparten'!G218)","v":"nein"},null,{"$f":"'Berechnung Sparten'!U218","v":0}]
[{"$f":"VLOOKUP(ROW(),'Übersicht und Druck'!$I$7:$K$53,3,TRUE)","v":0},{"$f":"IF(Sach!R172=0,\"[Deckungsbaustein nur bei LW-Deckung für Gebäude möglich, nicht bei reiner Inhalts-Deckung]\",'Berechnung Sparten'!B219)","v":"[Deckungsbaustein nur bei LW-Deckung für Gebäude möglich, nicht bei reiner Inhalts-Deckung]"}]
[{"$f":"VLOOKUP(ROW(),'Übersicht und Druck'!$I$7:$K$53,3,TRUE)","v":0},{"$f":"'Berechnung Sparten'!B220&\" (\"&'Berechnung Sparten'!W220&\")\"","v":"Schäden am Gebäude durch Austritt von Wasser aus innen liegenden Regenabflussrohren sowie Gebrechensbehebung an erdverlegten Regen-wasserkanälen am Versicherungsgrundstück (ER)"},null,null,null,null,null,null,null,null,null,null,{"$f":"IF('Berechnung Sparten'!G220=0,\"nein\",'Berechnung Sparten'!G220)","v":"nein"},null,{"$f":"'Berechnung Sparten'!U220","v":0}]
[{"$f":"VLOOKUP(ROW(),'Übersicht und Druck'!$I$7:$K$53,3,TRUE)","v":0},{"$f":"'Berechnung Sparten'!B221&\" (\"&'Berechnung Sparten'!W221&\")\"","v":"Folgeschäden am Gebäude bei Austritt aus im Gebäude befindlichen niederschlagswasserführenden Ableitungsssystemen (10.000 €) (ER)"},null,null,null,null,null,null,null,null,null,null,{"$f":"IF('Berechnung Sparten'!G221=0,\"nein\",'Berechnung Sparten'!G221)","v":"nein"},null,{"$f":"'Berechnung Sparten'!U221","v":0}]
[{"$f":"VLOOKUP(ROW(),'Übersicht und Druck'!$I$7:$K$53,3,TRUE)","v":0},{"$f":"'Berechnung Sparten'!B222&\" (\"&'Berechnung Sparten'!W222&\")\"","v":"Erdwärmerohre am Versicherungsgrundstück inkl. Grabarbeiten L0820 (ER)"},null,null,null,null,null,null,null,null,null,null,{"$f":"IF('Berechnung Sparten'!G222=0,\"nein\",'Berechnung Sparten'!G222)","v":"nein"},null,{"$f":"'Berechnung Sparten'!U222","v":0}]
[{"$f":"VLOOKUP(ROW(),'Übersicht und Druck'!$I$7:$K$53,3,TRUE)","v":0},{"$f":"'Berechnung Sparten'!B224","v":"Gasleitungen € 10.000 (Selbstbehalt 20%, max. € 500) gem. L9928"},null,null,null,null,null,null,null,null,null,null,{"$f":"IF('Berechnung Sparten'!G224=0,\"nein\",'Berechnung Sparten'!G224)","v":"nein"},null,{"$f":"'Berechnung Sparten'!U224","v":0}]
[{"$f":"VLOOKUP(ROW(),'Übersicht und Druck'!$I$7:$K$53,3,TRUE)","v":0},{"$f":"'Berechnung Sparten'!B223&\" (\"&'Berechnung Sparten'!W223&\")\"","v":"Wasserzu– und Ableitungsrohre außerhalb des Versicherungsgrundstückes (ER)"},null,null,null,null,null,null,null,null,null,null,{"$f":"IF('Berechnung Sparten'!G223=0,\"nein\",'Berechnung Sparten'!G223)","v":"nein"},null,{"$f":"'Berechnung Sparten'!U223","v":0}]
[{"$f":"VLOOKUP(ROW(),'Übersicht und Druck'!$I$7:$K$53,3,TRUE)","v":0},{"$f":"'Berechnung Sparten'!B225&\" (\"&'Berechnung Sparten'!W225&\")\"","v":"Geld und Geldeswerte, Sparbücher, Wertpapiere, Urkunden, Schmuck-, Gold- und Platinsachen, Edelsteine, Edelmetalle und echte Perlen sowie Münzen- und Briefmarkensammlungen,  Brief - und Stempelmarken, Vignetten, Kurzparkscheine, Lose und Telefonwertkarten unter festem Verschluss. (ER (5000 inkl.))"},null,null,null,null,null,null,null,null,null,null,{"$f":"IF('Berechnung Sparten'!G225=0,\"nein\",'Berechnung Sparten'!G225)","v":"nein"},null,{"$f":"'Berechnung Sparten'!U225","v":0}]
[{"$f":"VLOOKUP(ROW(),'Übersicht und Druck'!$I$7:$K$53,3,TRUE)","v":0},{"$f":"'Berechnung Sparten'!B226&\" (\"&'Berechnung Sparten'!W226&\")\"","v":"Groß- und/oder Kleintiere (WB)"},null,null,null,null,null,null,null,null,null,null,{"$f":"IF('Berechnung Sparten'!G226=0,\"nein\",'Berechnung Sparten'!G226)","v":"nein"},null,{"$f":"'Berechnung Sparten'!U226","v":0}]
[{"$f":"VLOOKUP(ROW(),'Übersicht und Druck'!$I$7:$K$53,3,TRUE)","v":0},{"$f":"'Berechnung Sparten'!B227","v":"Suchkosten bei gerechtfertigter Schadenvermutung  (€ 5.000 auf ER)"}]
[{"$f":"VLOOKUP(ROW(),'Übersicht und Druck'!$I$7:$K$53,3,TRUE)","v":0},{"$f":"'Berechnung Sparten'!B231&\" (\"&'Berechnung Sparten'!W231&\")\"","v":"Wasserverlust nach gedecktem Schadenereignis L3050 (ER (2000 inkl.))"},null,null,null,null,null,null,null,null,null,null,{"$f":"IF('Berechnung Sparten'!G231=0,\"nein\",'Berechnung Sparten'!G231)","v":"nein"},null,{"$f":"'Berechnung Sparten'!U231","v":0}]
[{"$f":"VLOOKUP(ROW(),'Übersicht und Druck'!$I$7:$K$53,3,TRUE)","v":0},{"$f":"'Berechnung Sparten'!B232&\" (\"&'Berechnung Sparten'!W232&\")\"","v":"Folgeschäden durch undichte Fugen L9929 (ER)"},null,null,null,null,null,null,null,null,null,null,{"$f":"IF('Berechnung Sparten'!G232=0,\"nein\",'Berechnung Sparten'!G232)","v":"nein"},null,{"$f":"'Berechnung Sparten'!U232","v":0}]
[{"$f":"VLOOKUP(ROW(),'Übersicht und Druck'!$I$7:$K$53,3,TRUE)","v":0},{"$f":"'Berechnung Sparten'!B228","v":"20 % Aufräumungs-, Abbruch-, De- und Remont- agekosten, Bewegungs- und Schutzkosten, Deponiekosten für nicht zu behandelnden Abfall. Im Rahmen dieser Versicherungssumme gelten Mehrkosten durch die Behandlung von gefährlichem Abfall und/oder kontaminiertem Erdreich bis 50 % der Versicherungssumme als mitversichert. A3024"}]
[{"$f":"VLOOKUP(ROW(),'Übersicht und Druck'!$I$7:$K$53,3,TRUE)","v":0},{"$f":"'Berechnung Sparten'!B229&\" (\"&'Berechnung Sparten'!W229&\")\"","v":"Mehrkosten durch die Behandlung von gefährlichem Abfall und/oder kontaminiertem Erdreich. A3024 (ER)"},null,null,null,null,null,null,null,null,null,null,{"$f":"IF('Berechnung Sparten'!G229=0,\"nein\",'Berechnung Sparten'!G229)","v":"nein"},null,{"$f":"'Berechnung Sparten'!U229","v":0}]
[{"$f":"VLOOKUP(ROW(),'Übersicht und Druck'!$I$7:$K$53,3,TRUE)","v":0},{"$f":"'Berechnung Sparten'!B230&\" (\"&'Berechnung Sparten'!W230&\")\"","v":"Sachverständigenkosten A4850 (ER)"},null,null,null,null,null,null,null,null,null,null,{"$f":"IF('Berechnung Sparten'!G230=0,\"nein\",'Berechnung Sparten'!G230)","v":"nein"},null,{"$f":"'Berechnung Sparten'!U230","v":0}]
[{"$f":"VLOOKUP(ROW(),'Übersicht und Druck'!$I$7:$K$53,3,TRUE)","v":0},{"$f":"'Berechnung Sparten'!B233","v":"Mehraufwand im Schadensfall (10 %  gem. BB 4817)"}]
[{"$f":"VLOOKUP(ROW(),'Übersicht und Druck'!$I$7:$K$53,3,TRUE)","v":0},{"$f":"'Berechnung Sparten'!B234","v":"Verteuerung im Schadensfall (15 % gem. BB 4907)"}]
[{"$f":"VLOOKUP(ROW(),'Übersicht und Druck'!$I$7:$K$53,3,TRUE)","v":0},{"$f":"'Berechnung Sparten'!B233","v":"Mehraufwand im Schadensfall (10 %  gem. BB 4817)"},null,null,null,null,null,null,null,null,null,null,{"$f":"IF('Berechnung Sparten'!G233=0,\"nein\",'Berechnung Sparten'!G233)","v":"nein"},null,{"$f":"'Berechnung Sparten'!U233","v":0}]
[{"$f":"VLOOKUP(ROW(),'Übersicht und Druck'!$I$7:$K$53,3,TRUE)","v":0},{"$f":"'Berechnung Sparten'!B236&\" (\"&'Berechnung Sparten'!W236&\")\"","v":"Sicherheitsgrad EN0 bzw. VSÖ IV (VS. 15.000) (ER)"},null,null,null,null,null,null,null,null,null,null,{"$f":"IF('Berechnung Sparten'!G236=0,\"nein\",'Berechnung Sparten'!G236)","v":"nein"},null,{"$f":"'Berechnung Sparten'!U236","v":0}]
[{"$f":"VLOOKUP(ROW(),'Übersicht und Druck'!$I$7:$K$53,3,TRUE)","v":0},{"$f":"'Berechnung Sparten'!B237&\" (\"&'Berechnung Sparten'!W237&\")\"","v":"Sicherheitsgrad EN1 bzw. VSÖ III/c 1-3 (VS 30.000) (ER)"},null,null,null,null,null,null,null,null,null,null,{"$f":"IF('Berechnung Sparten'!G237=0,\"nein\",'Berechnung Sparten'!G237)","v":"nein"},null,{"$f":"'Berechnung Sparten'!U237","v":0}]
[{"$f":"VLOOKUP(ROW(),'Übersicht und Druck'!$I$7:$K$53,3,TRUE)","v":0},{"$f":"'Berechnung Sparten'!B238&\" (\"&'Berechnung Sparten'!W238&\")\"","v":"Sicherheitsgrad VSÖ III/b (VS 45.000) (ER)"},null,null,null,null,null,null,null,null,null,null,{"$f":"IF('Berechnung Sparten'!G238=0,\"nein\",'Berechnung Sparten'!G238)","v":"nein"},null,{"$f":"'Berechnung Sparten'!U238","v":0}]
[{"$f":"VLOOKUP(ROW(),'Übersicht und Druck'!$I$7:$K$53,3,TRUE)","v":0},{"$f":"'Berechnung Sparten'!B239&\" (\"&'Berechnung Sparten'!W239&\")\"","v":"Sicherheitsgrad EN2 bzw. VSÖ II/d (VS 75.000) (ER)"},null,null,null,null,null,null,null,null,null,null,{"$f":"IF('Berechnung Sparten'!G239=0,\"nein\",'Berechnung Sparten'!G239)","v":"nein"},null,{"$f":"'Berechnung Sparten'!U239","v":0}]
[{"$f":"VLOOKUP(ROW(),'Übersicht und Druck'!$I$7:$K$53,3,TRUE)","v":0},{"$f":"'Berechnung Sparten'!B240&\" (\"&'Berechnung Sparten'!W240&\")\"","v":"Sicherheitsgrad EN3 bzw. VSÖ II/c (VS (100.000) (ER)"},null,null,null,null,null,null,null,null,null,null,{"$f":"IF('Berechnung Sparten'!G240=0,\"nein\",'Berechnung Sparten'!G240)","v":"nein"},null,{"$f":"'Berechnung Sparten'!U240","v":0}]
[{"$f":"VLOOKUP(ROW(),'Übersicht und Druck'!$I$7:$K$53,3,TRUE)","v":0},{"$f":"'Berechnung Sparten'!B241&\" (\"&'Berechnung Sparten'!W241&\")\"","v":"Sicherheitsgrad EN4 (VS 150.000) (ER)"},null,null,null,null,null,null,null,null,null,null,{"$f":"IF('Berechnung Sparten'!G241=0,\"nein\",'Berechnung Sparten'!G241)","v":"nein"},null,{"$f":"'Berechnung Sparten'!U241","v":0}]
[{"$f":"VLOOKUP(ROW(),'Übersicht und Druck'!$I$7:$K$53,3,TRUE)","v":0},null,null,null,null,null,null,null,null,null,null,"Spartenprämie",null,null,{"$f":"'Berechnung Sparten'!U245","v":0}]
[{"$f":"VLOOKUP(ROW(),'Übersicht und Druck'!$I$7:$K$53,3,TRUE)","v":0}]
[{"$f":"VLOOKUP(ROW(),'Übersicht und Druck'!$I$7:$K$53,3,TRUE)","v":0}]
[{"$f":"VLOOKUP(ROW(),'Übersicht und Druck'!$I$7:$K$53,3,TRUE)","v":0},{"$f":"'Berechnung Sparten'!B250","v":"Glasbruch: Sparte nicht gewählt"}]
[{"$f":"VLOOKUP(ROW(),'Übersicht und Druck'!$I$7:$K$53,3,TRUE)","v":0},"Deckungsbausteine bzw. versichertes Risiko",null,null,null,null,null,null,null,null,null,null,"Deckung",null,"Prämie"]
[{"$f":"VLOOKUP(ROW(),'Übersicht und Druck'!$I$7:$K$53,3,TRUE)","v":0},{"$f":"'Berechnung Sparten'!B251&\" (\"&'Berechnung Sparten'!W251&\")\"","v":"Grunddeckung: sämtliche zum Betrieb gehörenden Scheiben inkl. Mehrscheibenisolierverglasungen und Kunststoffverglasungen bis zu nachfolgender Einzelgröße einer Scheibe,  Lichtkuppeln und Scheiben in Solaranlagen aller Art inkl. Photovoltaikanlagen. Nicht versichert: Fassadenverkleidungen, Glasfliesen, Glas-/Gewächshäuser (m² Einzelscheibe)"},null,null,null,null,null,null,null,null,null,null,{"$f":"IF('Berechnung Sparten'!G251=0,\"nein\",'Berechnung Sparten'!G251)","v":"bis 6 m² Einzelgröße der Scheibe"},null,{"$f":"'Berechnung Sparten'!U251","v":0}]
[{"$f":"VLOOKUP(ROW(),'Übersicht und Druck'!$I$7:$K$53,3,TRUE)","v":0},{"$f":"'Berechnung Sparten'!B252&\" (\"&'Berechnung Sparten'!W252&\")\"","v":"Ausschluss von Glasschäden an Mieträumlichkeiten (ja/nein)"},null,null,null,null,null,null,null,null,null,null,{"$f":"IF('Berechnung Sparten'!G252=0,\"nein\",\"ja\")","v":"nein"},null,{"$f":"'Berechnung Sparten'!U252","v":0}]
[{"$f":"VLOOKUP(ROW(),'Übersicht und Druck'!$I$7:$K$53,3,TRUE)","v":0},{"$f":"'Berechnung Sparten'!B253&\" (\"&'Berechnung Sparten'!W253&\")\"","v":"Schäden durch Gewalttätigkeiten anlässlich einer öffentlichen Ansammlung oder Kundgebung GL005 (ja/nein)"},null,null,null,null,null,null,null,null,null,null,{"$f":"IF('Berechnung Sparten'!G253=0,\"nein\",\"ja\")","v":"nein"},null,{"$f":"'Berechnung Sparten'!U253","v":0}]
[{"$f":"VLOOKUP(ROW(),'Übersicht und Druck'!$I$7:$K$53,3,TRUE)","v":0},{"$f":"'Berechnung Sparten'!B254&\" (\"&'Berechnung Sparten'!W254&\")\"","v":"Firmenschilder, unabhängig von der Glasart (VW (1000 inkl.))"},null,null,null,null,null,null,null,null,null,null,{"$f":"IF('Berechnung Sparten'!G254=0,\"nein\",'Berechnung Sparten'!G254)","v":"nein"},null,{"$f":"'Berechnung Sparten'!U254","v":0}]
[{"$f":"VLOOKUP(ROW(),'Übersicht und Druck'!$I$7:$K$53,3,TRUE)","v":0},{"$f":"'Berechnung Sparten'!B255&\" (\"&'Berechnung Sparten'!W255&\")\"","v":"Blei-, Messing- und sonstige Kunstverglasungen, Folien oder Bemalungen (VW (1000 inkl.))"},null,null,null,null,null,null,null,null,null,null,{"$f":"IF('Berechnung Sparten'!G255=0,\"nein\",'Berechnung Sparten'!G255)","v":"nein"},null,{"$f":"'Berechnung Sparten'!U255","v":0}]
[{"$f":"VLOOKUP(ROW(),'Übersicht und Druck'!$I$7:$K$53,3,TRUE)","v":0},{"$f":"'Berechnung Sparten'!B256&\" (\"&'Berechnung Sparten'!W256&\")\"","v":"Neonröhren GL010 (VW)"},null,null,null,null,null,null,null,null,null,null,{"$f":"IF('Berechnung Sparten'!G256=0,\"nein\",'Berechnung Sparten'!G256)","v":"nein"},null,{"$f":"'Berechnung Sparten'!U256","v":0}]
[{"$f":"VLOOKUP(ROW(),'Übersicht und Druck'!$I$7:$K$53,3,TRUE)","v":0},{"$f":"'Berechnung Sparten'!B257&\" (\"&'Berechnung Sparten'!W257&\")\"","v":"Folgeschäden durch Glasbruch gem. GL924/GL925 (ER (5000 inkl.))"},null,null,null,null,null,null,null,null,null,null,{"$f":"IF('Berechnung Sparten'!G257=0,\"nein\",'Berechnung Sparten'!G257)","v":"nein"},null,{"$f":"'Berechnung Sparten'!U257","v":0}]
[{"$f":"VLOOKUP(ROW(),'Übersicht und Druck'!$I$7:$K$53,3,TRUE)","v":0},{"$f":"'Berechnung Sparten'!B258&\" (\"&'Berechnung Sparten'!W258&\")\"","v":"Notverschalungs- und Notverglasungskosten (prämienfrei)"}]
[{"$f":"VLOOKUP(ROW(),'Übersicht und Druck'!$I$7:$K$53,3,TRUE)","v":0},{"$f":"'Berechnung Sparten'!B259&\" (\"&'Berechnung Sparten'!W259&\")\"","v":"Kosten zur Beseitigung und Wiederanbringung von Hindernissen (prämienfrei)"}]
[{"$f":"VLOOKUP(ROW(),'Übersicht und Druck'!$I$7:$K$53,3,TRUE)","v":0},{"$f":"'Berechnung Sparten'!B260&\" (\"&'Berechnung Sparten'!W260&\")\"","v":"Kosten für Gerüste (prämienfrei)"}]
[{"$f":"VLOOKUP(ROW(),'Übersicht und Druck'!$I$7:$K$53,3,TRUE)","v":0},{"$f":"'Berechnung Sparten'!B261&\" (\"&'Berechnung Sparten'!W261&\")\"","v":"Überstundenkosten sowie Kosten für Nacht- und Wochenenddienste (prämienfrei)"}]
[{"$f":"VLOOKUP(ROW(),'Übersicht und Druck'!$I$7:$K$53,3,TRUE)","v":0},{"$f":"'Berechnung Sparten'!B262","v":"Gastgärten auf öffenlichem Grund bis zu jeweils 75 Sitzplätzen (Schanigärten)"}]
[{"$f":"VLOOKUP(ROW(),'Übersicht und Druck'!$I$7:$K$53,3,TRUE)","v":0},{"$f":"'Berechnung Sparten'!B263&\" (\"&'Berechnung Sparten'!W263&\")\"","v":"Entsorgungskosten bis 50 % des Wertes der vom Schaden betroffenen Verglasung GL923 (prämienfrei)"}]
[{"$f":"VLOOKUP(ROW(),'Übersicht und Druck'!$I$7:$K$53,3,TRUE)","v":0},"Kabinenverglasung einer selbstfahrenden Arbeitsmaschine und eines sonstigen Kfz (Selbstbehalt € 100)"]
[{"$f":"VLOOKUP(ROW(),'Übersicht und Druck'!$I$7:$K$53,3,TRUE)","v":0},{"$f":"'Berechnung Sparten'!C264&\": \"&'Berechnung Sparten'!W264","v":"Kfz 1: "},null,null,null,null,null,null,null,null,null,null,{"$f":"IF('Berechnung Sparten'!G264=0,\"nein\",'Berechnung Sparten'!G264)","v":"nein"},null,{"$f":"'Berechnung Sparten'!U264","v":0}]
[{"$f":"VLOOKUP(ROW(),'Übersicht und Druck'!$I$7:$K$53,3,TRUE)","v":0},{"$f":"'Berechnung Sparten'!C265&\": \"&'Berechnung Sparten'!W265","v":"Kfz 2: "},null,null,null,null,null,null,null,null,null,null,{"$f":"IF('Berechnung Sparten'!G265=0,\"nein\",'Berechnung Sparten'!G265)","v":"nein"},null,{"$f":"'Berechnung Sparten'!U265","v":0}]
[{"$f":"VLOOKUP(ROW(),'Übersicht und Druck'!$I$7:$K$53,3,TRUE)","v":0},{"$f":"'Berechnung Sparten'!C266&\": \"&'Berechnung Sparten'!W266","v":"Kfz 3: "},null,null,null,null,null,null,null,null,null,null,{"$f":"IF('Berechnung Sparten'!G266=0,\"nein\",'Berechnung Sparten'!G266)","v":"nein"},null,{"$f":"'Berechnung Sparten'!U266","v":0}]
[{"$f":"VLOOKUP(ROW(),'Übersicht und Druck'!$I$7:$K$53,3,TRUE)","v":0},{"$f":"'Berechnung Sparten'!C267&\": \"&'Berechnung Sparten'!W267","v":"Kfz 4: "},null,null,null,null,null,null,null,null,null,null,{"$f":"IF('Berechnung Sparten'!G267=0,\"nein\",'Berechnung Sparten'!G267)","v":"nein"},null,{"$f":"'Berechnung Sparten'!U267","v":0}]
[{"$f":"VLOOKUP(ROW(),'Übersicht und Druck'!$I$7:$K$53,3,TRUE)","v":0},{"$f":"'Berechnung Sparten'!C268&\": \"&'Berechnung Sparten'!W268","v":"Kfz 5: "},null,null,null,null,null,null,null,null,null,null,{"$f":"IF('Berechnung Sparten'!G268=0,\"nein\",'Berechnung Sparten'!G268)","v":"nein"},null,{"$f":"'Berechnung Sparten'!U268","v":0}]
[{"$f":"VLOOKUP(ROW(),'Übersicht und Druck'!$I$7:$K$53,3,TRUE)","v":0},null,null,null,null,null,null,null,null,null,null,"Spartenprämie",null,null,{"$f":"'Berechnung Sparten'!U271","v":0}]
[{"$f":"VLOOKUP(ROW(),'Übersicht und Druck'!$I$7:$K$53,3,TRUE)","v":0}]
[{"$f":"VLOOKUP(ROW(),'Übersicht und Druck'!$I$7:$K$53,3,TRUE)","v":0}]
[{"$f":"VLOOKUP(ROW(),'Übersicht und Druck'!$I$7:$K$53,3,TRUE)","v":0},{"$f":"'Berechnung Sparten'!B276","v":"Sturmversicherung: Sparte nicht gewählt"}]
[{"$f":"VLOOKUP(ROW(),'Übersicht und Druck'!$I$7:$K$53,3,TRUE)","v":0},"Schäden, die in Folge grober Fahrlässigkeit entstanden sind, sind im Rahmen der Gesamversicherungssumme (max. 10 Mio) gemäß besonderer Bedingung N033 mitversichert. "]
[{"$f":"VLOOKUP(ROW(),'Übersicht und Druck'!$I$7:$K$53,3,TRUE)","v":0},"Deckungsbausteine bzw. versichertes Risiko",null,null,null,null,null,null,null,null,null,null,"Deckung",null,"Prämie"]
[{"$f":"VLOOKUP(ROW(),'Übersicht und Druck'!$I$7:$K$53,3,TRUE)","v":0},{"$f":"'Berechnung Sparten'!B277&\" (\"&'Berechnung Sparten'!W277&\")\"","v":"Grunddeckung (Gebäude, KTE, Vorräte) (VS)"},null,null,null,null,null,null,null,null,null,null,{"$f":"IF('Berechnung Sparten'!G277=0,\"nein\",'Berechnung Sparten'!G277)","v":"nein"},null,{"$f":"'Berechnung Sparten'!U277","v":0}]
[{"$f":"VLOOKUP(ROW(),'Übersicht und Druck'!$I$7:$K$53,3,TRUE)","v":0},{"$f":"'Berechnung Sparten'!B278&\" (\"&'Berechnung Sparten'!W278&\")\"","v":"Technische und kaufmännische Betriebseinrichtung sowie Vorräte (im Eigentum des Versicherungsnehmers) ständig außerhalb des Versicherungsortes, jedoch innerhalb Österreichs, im massiv/harten Gebäude befindlich (dies gilt nicht versichert in Bauhütten, Bau und Lagercontainern) (ER)"},null,null,null,null,null,null,null,null,null,null,{"$f":"IF('Berechnung Sparten'!G278=0,\"nein\",'Berechnung Sparten'!G278)","v":"nein"},null,{"$f":"'Berechnung Sparten'!U278","v":0}]
[{"$f":"VLOOKUP(ROW(),'Übersicht und Druck'!$I$7:$K$53,3,TRUE)","v":0},{"$f":"'Berechnung Sparten'!B279&\" (\"&'Berechnung Sparten'!W279&\")\"","v":"Wiederherstellungskosten von Datenträgern (Geschäftsbücher, Akten, Pläne, elektronische Speichermedien, Typenscheine, kodierte KFZ-Schlüssel und dgl.) und den darauf befindlichen Daten  (ER (5000 inkl.))"},null,null,null,null,null,null,null,null,null,null,{"$f":"IF('Berechnung Sparten'!G279=0,\"nein\",'Berechnung Sparten'!G279)","v":"nein"},null,{"$f":"'Berechnung Sparten'!U279","v":0}]
[{"$f":"VLOOKUP(ROW(),'Übersicht und Druck'!$I$7:$K$53,3,TRUE)","v":0},{"$f":"'Berechnung Sparten'!B280&\" (\"&'Berechnung Sparten'!W280&\")\"","v":"Sachen der Betriebsinhaber und Dienstnehmer (ausgenommen jedoch Bargeld, Edelmetall-, Gold-, Silber- und Schmucksachen, Kraftfahrzeuge sowie in Wohnungen befindlicher Hausrat)  (NW (5000 inkl.))"},null,null,null,null,null,null,null,null,null,null,{"$f":"IF('Berechnung Sparten'!G280=0,\"nein\",'Berechnung Sparten'!G280)","v":"nein"},null,{"$f":"'Berechnung Sparten'!U280","v":0}]
[{"$f":"VLOOKUP(ROW(),'Übersicht und Druck'!$I$7:$K$53,3,TRUE)","v":0},{"$f":"'Berechnung Sparten'!B281&\" (\"&'Berechnung Sparten'!W281&\")\"","v":"Schäden an sämtlichen baulichen Außenanlagen (ausgenommen Gebäude) am Versicherungsgrundstück, die fix im Erdreich verankert sind. 5.000 prämienfrei inkludiert. ST303 (ER (5000 inkl.))"},null,null,null,null,null,null,null,null,null,null,{"$f":"IF('Berechnung Sparten'!G281=0,\"nein\",'Berechnung Sparten'!G281)","v":"nein"},null,{"$f":"'Berechnung Sparten'!U281","v":0}]
[{"$f":"VLOOKUP(ROW(),'Übersicht und Druck'!$I$7:$K$53,3,TRUE)","v":0},{"$f":"'Berechnung Sparten'!B282&\" (\"&'Berechnung Sparten'!W282&\")\"","v":"KFZ fahrend und ruhend am Versicherungsort, exkl. Hagel (ER)"},null,null,null,null,null,null,null,null,null,null,{"$f":"IF('Berechnung Sparten'!G282=0,\"nein\",'Berechnung Sparten'!G282)","v":"nein"},null,{"$f":"'Berechnung Sparten'!U282","v":0}]
[{"$f":"VLOOKUP(ROW(),'Übersicht und Druck'!$I$7:$K$53,3,TRUE)","v":0},{"$f":"'Berechnung Sparten'!B283&\" (\"&'Berechnung Sparten'!W283&\")\"","v":"KFZ fahrend und ruhend am Versicherungsort, inkl. Hagel (Selbstbehalt 10 % min. 350 pro Kfz) (ER)"},null,null,null,null,null,null,null,null,null,null,{"$f":"IF('Berechnung Sparten'!G283=0,\"nein\",'Berechnung Sparten'!G283)","v":"nein"},null,{"$f":"'Berechnung Sparten'!U283","v":0}]
[{"$f":"VLOOKUP(ROW(),'Übersicht und Druck'!$I$7:$K$53,3,TRUE)","v":0},{"$f":"'Berechnung Sparten'!B284&\" (\"&'Berechnung Sparten'!W284&\")\"","v":"KFZ und/oder Anhänger im Gebäude befindlich ST098 (ER)"},null,null,null,null,null,null,null,null,null,null,{"$f":"IF('Berechnung Sparten'!G284=0,\"nein\",'Berechnung Sparten'!G284)","v":"nein"},null,{"$f":"'Berechnung Sparten'!U284","v":0}]
[{"$f":"VLOOKUP(ROW(),'Übersicht und Druck'!$I$7:$K$53,3,TRUE)","v":0},{"$f":"'Berechnung Sparten'!B285&\" (\"&'Berechnung Sparten'!W285&\")\"","v":"Anhänger fahrend und ruhend am Versicherungsort, exkl. Hagel (ER)"},null,null,null,null,null,null,null,null,null,null,{"$f":"IF('Berechnung Sparten'!G285=0,\"nein\",'Berechnung Sparten'!G285)","v":"nein"},null,{"$f":"'Berechnung Sparten'!U285","v":0}]
[{"$f":"VLOOKUP(ROW(),'Übersicht und Druck'!$I$7:$K$53,3,TRUE)","v":0},{"$f":"'Berechnung Sparten'!B286&\" (\"&'Berechnung Sparten'!W286&\")\"","v":"Anhänger fahrend und ruhend am Versicherungsort, inkl. Hagel (Selbstbehalt 10 % min. 350 pro Kfz) (ER)"},null,null,null,null,null,null,null,null,null,null,{"$f":"IF('Berechnung Sparten'!G286=0,\"nein\",'Berechnung Sparten'!G286)","v":"nein"},null,{"$f":"'Berechnung Sparten'!U286","v":0}]
[{"$f":"VLOOKUP(ROW(),'Übersicht und Druck'!$I$7:$K$53,3,TRUE)","v":0},{"$f":"'Berechnung Sparten'!B287&\" (\"&'Berechnung Sparten'!W287&\")\"","v":"Schaukästen, Vitrinen und Automaten samt Inhalt außerhalb des Versicherungsortes (NW)"},null,null,null,null,null,null,null,null,null,null,{"$f":"IF('Berechnung Sparten'!G287=0,\"nein\",'Berechnung Sparten'!G287)","v":"nein"},null,{"$f":"'Berechnung Sparten'!U287","v":0}]
[{"$f":"VLOOKUP(ROW(),'Übersicht und Druck'!$I$7:$K$53,3,TRUE)","v":0},{"$f":"'Berechnung Sparten'!B288&\" (\"&'Berechnung Sparten'!W288&\")\"","v":"Tische, Stühle, Sonnenschirme und fix im Erdreich verankerte Spielplatzeinrichtungen im Freien (Schanigärten), Selbstbehalt je Schadensfall: 20 % (NW)"},null,null,null,null,null,null,null,null,null,null,{"$f":"IF('Berechnung Sparten'!G288=0,\"nein\",'Berechnung Sparten'!G288)","v":"nein"},null,{"$f":"'Berechnung Sparten'!U288","v":0}]
[{"$f":"VLOOKUP(ROW(),'Übersicht und Druck'!$I$7:$K$53,3,TRUE)","v":0},{"$f":"'Berechnung Sparten'!B289","v":"Antennen- und oder Solaranlagen aller Art inkl. Photovoltaikanlagen am Versicherungsort im Rahmen der Versicherungssumme"}]
[{"$f":"VLOOKUP(ROW(),'Übersicht und Druck'!$I$7:$K$53,3,TRUE)","v":0},{"$f":"'Berechnung Sparten'!B290&\" (\"&'Berechnung Sparten'!W290&\")\"","v":"Beleuchtungskörper, Fahnenstangen, Firmenschilder, Reklameanlagen, Markisen und sonstige mit dem Gebäude verbundene Beschattungssysteme (alles nur am Versicherungsort befindlich) (NW)"},null,null,null,null,null,null,null,null,null,null,{"$f":"IF('Berechnung Sparten'!G290=0,\"nein\",'Berechnung Sparten'!G290)","v":"nein"},null,{"$f":"'Berechnung Sparten'!U290","v":0}]
[{"$f":"VLOOKUP(ROW(),'Übersicht und Druck'!$I$7:$K$53,3,TRUE)","v":0},{"$f":"'Berechnung Sparten'!B291&\" (\"&'Berechnung Sparten'!W291&\")\"","v":"Schwimmbecken im Freien (gemauert, Polyester oder Stahlblech) ohne Abdeckungen (NW)"},null,null,null,null,null,null,null,null,null,null,{"$f":"IF('Berechnung Sparten'!G291=0,\"nein\",'Berechnung Sparten'!G291)","v":"nein"},null,{"$f":"'Berechnung Sparten'!U291","v":0}]
[{"$f":"VLOOKUP(ROW(),'Übersicht und Druck'!$I$7:$K$53,3,TRUE)","v":0},{"$f":"'Berechnung Sparten'!B292&\" (\"&'Berechnung Sparten'!W292&\")\"","v":"Fix am Beckenrand montierte (oder in solchen Schienen laufenden) Schwimmbadabdeckungen (keine Folien oder Planen) (NW)"},null,null,null,null,null,null,null,null,null,null,{"$f":"IF('Berechnung Sparten'!G292=0,\"nein\",'Berechnung Sparten'!G292)","v":"nein"},null,{"$f":"'Berechnung Sparten'!U292","v":0}]
[{"$f":"VLOOKUP(ROW(),'Übersicht und Druck'!$I$7:$K$53,3,TRUE)","v":0},{"$f":"'Berechnung Sparten'!B293&\" (\"&'Berechnung Sparten'!W293&\")\"","v":"Fix am Beckenrand montierte sonstige Schwimmbadabdeckungen (auch begehbare Folien oder Rollabdeckungen) (NW)"},null,null,null,null,null,null,null,null,null,null,{"$f":"IF('Berechnung Sparten'!G293=0,\"nein\",'Berechnung Sparten'!G293)","v":"nein"},null,{"$f":"'Berechnung Sparten'!U293","v":0}]
[{"$f":"VLOOKUP(ROW(),'Übersicht und Druck'!$I$7:$K$53,3,TRUE)","v":0},{"$f":"'Berechnung Sparten'!B294&\" (\"&'Berechnung Sparten'!W294&\")\"","v":"Groß- und/oder Kleintiere im Gebäude befindlich (WBK)"},null,null,null,null,null,null,null,null,null,null,{"$f":"IF('Berechnung Sparten'!G294=0,\"nein\",'Berechnung Sparten'!G294)","v":"nein"},null,{"$f":"'Berechnung Sparten'!U294","v":0}]
[{"$f":"VLOOKUP(ROW(),'Übersicht und Druck'!$I$7:$K$53,3,TRUE)","v":0},{"$f":"'Berechnung Sparten'!B295&\" (\"&'Berechnung Sparten'!W295&\")\"","v":"Geld und Geldeswerte, Sparbücher, Wertpapiere, Urkunden, Schmuck-, Gold- und Platinsachen, Edelsteine, Edelmetalle und echte Perlen sowie Münzen- und Briefmarkensammlungen,  Brief - und Stempelmarken, Vignetten, Kurzparkscheine, Lose und Telefonwertkarten unter festem Verschluss (ER (5000 inkl.))"},null,null,null,null,null,null,null,null,null,null,{"$f":"IF('Berechnung Sparten'!G295=0,\"nein\",'Berechnung Sparten'!G295)","v":"nein"},null,{"$f":"'Berechnung Sparten'!U295","v":0}]
[{"$f":"VLOOKUP(ROW(),'Übersicht und Druck'!$I$7:$K$53,3,TRUE)","v":0},{"$f":"'Berechnung Sparten'!B296&\" (\"&'Berechnung Sparten'!W296&\")\"","v":"Schäden durch Witterungsniederschläge an Gebäudeinnenteilen ST302 (ER)"},null,null,null,null,null,null,null,null,null,null,{"$f":"IF('Berechnung Sparten'!G296=0,\"nein\",'Berechnung Sparten'!G296)","v":"nein"},null,{"$f":"'Berechnung Sparten'!U296","v":0}]
[{"$f":"VLOOKUP(ROW(),'Übersicht und Druck'!$I$7:$K$53,3,TRUE)","v":0},{"$f":"'Berechnung Sparten'!B297&\" (\"&'Berechnung Sparten'!W297&\")\"","v":"Gebäudeschäden durch vom Dach abrutschende Schneemassen und Dachlawinen (ER)"},null,null,null,null,null,null,null,null,null,null,{"$f":"IF('Berechnung Sparten'!G297=0,\"nein\",'Berechnung Sparten'!G297)","v":"nein"},null,{"$f":"'Berechnung Sparten'!U297","v":0}]
[{"$f":"VLOOKUP(ROW(),'Übersicht und Druck'!$I$7:$K$53,3,TRUE)","v":0},{"$f":"'Berechnung Sparten'!B298","v":"20 % Aufräumungs-, Abbruch-, De- und Re-montagekosten, Bewegungs- und Schutzkosten, Deponiekosten für nicht zu behandelnden Abfall. Im Rahmen dieser Versicherungssumme gelten Mehrkosten durch die Behandlung von gefährlichem Abfall und/oder kontaminiertem Erdreich bis 50 % der Versicherungssumme als mitversichert. A3024"}]
[{"$f":"VLOOKUP(ROW(),'Übersicht und Druck'!$I$7:$K$53,3,TRUE)","v":0},{"$f":"'Berechnung Sparten'!B299&\" (\"&'Berechnung Sparten'!W299&\")\"","v":"Mehrkosten durch die Behandlung von gefährlichem Abfall und/oder kontaminiertem Erdreich. A3024 (ER)"},null,null,null,null,null,null,null,null,null,null,{"$f":"IF('Berechnung Sparten'!G299=0,\"nein\",'Berechnung Sparten'!G299)","v":"nein"},null,{"$f":"'Berechnung Sparten'!U299","v":0}]
[{"$f":"VLOOKUP(ROW(),'Übersicht und Druck'!$I$7:$K$53,3,TRUE)","v":0},{"$f":"'Berechnung Sparten'!B300&\" (\"&'Berechnung Sparten'!W300&\")\"","v":"Sachverständigenkosten  (ER)"},null,null,null,null,null,null,null,null,null,null,{"$f":"IF('Berechnung Sparten'!G300=0,\"nein\",'Berechnung Sparten'!G300)","v":"nein"},null,{"$f":"'Berechnung Sparten'!U300","v":0}]
[{"$f":"VLOOKUP(ROW(),'Übersicht und Druck'!$I$7:$K$53,3,TRUE)","v":0},{"$f":"'Berechnung Sparten'!B301","v":"Optische Schäden nach einem Sturmschaden am Gebäude, wenn Reparatur bzw. Austausch erfolgt (5.000 auf ER, Selbstbehalt 10 %)"}]
[{"$f":"VLOOKUP(ROW(),'Übersicht und Druck'!$I$7:$K$53,3,TRUE)","v":0},{"$f":"'Berechnung Sparten'!B302","v":"Kosten für das Sichern oder Entfernen von Bäumen und Masten auf dem Versicherungsgrundstück, die durch Sturm beschädigt wurden (5.000 auf ER)"},null,null,null,null,null,null,null,null,null,null,null,null,{"$f":"'Berechnung Sparten'!U302","v":0}]
[{"$f":"VLOOKUP(ROW(),'Übersicht und Druck'!$I$7:$K$53,3,TRUE)","v":0},{"$f":"'Berechnung Sparten'!B303","v":"Katastrophenschutz 5.000 gem. ST909"},null,null,null,null,null,null,null,null,null,null,null,null,{"$f":"'Berechnung Sparten'!U303","v":0}]
[{"$f":"VLOOKUP(ROW(),'Übersicht und Druck'!$I$7:$K$53,3,TRUE)","v":0},"Zusätzliche Leistung zur Katastrophendeckung für Vorsorge Naturgefahren nach Hochwasserschaden bis zu 20 % des versicherten Schadens (max. € 1.000 ) für Präventionsmaßnahmen, einmalig pro Polizze gem. NH002"]
[{"$f":"VLOOKUP(ROW(),'Übersicht und Druck'!$I$7:$K$53,3,TRUE)","v":0},{"$f":"'Berechnung Sparten'!B304","v":"Mehraufwand im Schadensfall (10 %  gem. BB 4817)"},null,null,null,null,null,null,null,null,null,null,null,null,{"$f":"'Berechnung Sparten'!U304","v":0}]
[{"$f":"VLOOKUP(ROW(),'Übersicht und Druck'!$I$7:$K$53,3,TRUE)","v":0},{"$f":"'Berechnung Sparten'!B305","v":"Verteurerung im Schadensfall (15 % gem. BB 4907)"},null,null,null,null,null,null,null,null,null,null,null,null,{"$f":"'Berechnung Sparten'!U305","v":0}]
[{"$f":"VLOOKUP(ROW(),'Übersicht und Druck'!$I$7:$K$53,3,TRUE)","v":0},{"$f":"'Berechnung Sparten'!B306","v":"Geld und Geldeswerte im Sicherheitsbehältnis"},null,null,null,null,null,null,null,null,null,null,{"$f":"IF('Berechnung Sparten'!G306=0,\"nein\",'Berechnung Sparten'!G306)","v":"nein"},null,{"$f":"'Berechnung Sparten'!U306","v":0}]
[{"$f":"VLOOKUP(ROW(),'Übersicht und Druck'!$I$7:$K$53,3,TRUE)","v":0},{"$f":"'Berechnung Sparten'!B307&\" (\"&'Berechnung Sparten'!W307&\")\"","v":"Sicherheitsgrad EN0 bzw. VSÖ IV (VS. 15.000) (ER)"},null,null,null,null,null,null,null,null,null,null,{"$f":"IF('Berechnung Sparten'!G307=0,\"nein\",'Berechnung Sparten'!G307)","v":"nein"},null,{"$f":"'Berechnung Sparten'!U307","v":0}]
[{"$f":"VLOOKUP(ROW(),'Übersicht und Druck'!$I$7:$K$53,3,TRUE)","v":0},{"$f":"'Berechnung Sparten'!B308&\" (\"&'Berechnung Sparten'!W308&\")\"","v":"Sicherheitsgrad EN1 bzw. VSÖ III/c 1-3 (VS 30.000) (ER)"},null,null,null,null,null,null,null,null,null,null,{"$f":"IF('Berechnung Sparten'!G308=0,\"nein\",'Berechnung Sparten'!G308)","v":"nein"},null,{"$f":"'Berechnung Sparten'!U308","v":0}]
[{"$f":"VLOOKUP(ROW(),'Übersicht und Druck'!$I$7:$K$53,3,TRUE)","v":0},{"$f":"'Berechnung Sparten'!B309&\" (\"&'Berechnung Sparten'!W309&\")\"","v":"Sicherheitsgrad VSÖ III/b (VS 45.000) (ER)"},null,null,null,null,null,null,null,null,null,null,{"$f":"IF('Berechnung Sparten'!G309=0,\"nein\",'Berechnung Sparten'!G309)","v":"nein"},null,{"$f":"'Berechnung Sparten'!U309","v":0}]
[{"$f":"VLOOKUP(ROW(),'Übersicht und Druck'!$I$7:$K$53,3,TRUE)","v":0},{"$f":"'Berechnung Sparten'!B310&\" (\"&'Berechnung Sparten'!W310&\")\"","v":"Sicherheitsgrad EN2 bzw. VSÖ II/d (VS 75.000) (ER)"},null,null,null,null,null,null,null,null,null,null,{"$f":"IF('Berechnung Sparten'!G310=0,\"nein\",'Berechnung Sparten'!G310)","v":"nein"},null,{"$f":"'Berechnung Sparten'!U310","v":0}]
[{"$f":"VLOOKUP(ROW(),'Übersicht und Druck'!$I$7:$K$53,3,TRUE)","v":0},{"$f":"'Berechnung Sparten'!B311&\" (\"&'Berechnung Sparten'!W311&\")\"","v":"Sicherheitsgrad EN3 bzw. VSÖ II/c (VS (100.000) (ER)"},null,null,null,null,null,null,null,null,null,null,{"$f":"IF('Berechnung Sparten'!G311=0,\"nein\",'Berechnung Sparten'!G311)","v":"nein"},null,{"$f":"'Berechnung Sparten'!U311","v":0}]
[{"$f":"VLOOKUP(ROW(),'Übersicht und Druck'!$I$7:$K$53,3,TRUE)","v":0},{"$f":"'Berechnung Sparten'!B312&\" (\"&'Berechnung Sparten'!W312&\")\"","v":"Sicherheitsgrad EN4 (VS 150.000) (ER)"},null,null,null,null,null,null,null,null,null,null,{"$f":"IF('Berechnung Sparten'!G312=0,\"nein\",'Berechnung Sparten'!G312)","v":"nein"},null,{"$f":"'Berechnung Sparten'!U312","v":0}]
[{"$f":"VLOOKUP(ROW(),'Übersicht und Druck'!$I$7:$K$53,3,TRUE)","v":0},{"$f":"'Berechnung Sparten'!B313&\" (\"&'Berechnung Sparten'!W313&\")\"","v":"Sicherheitsgrad EN5 bzw. VSÖ II/b (VS 250.000) (ER)"},null,null,null,null,null,null,null,null,null,null,{"$f":"IF('Berechnung Sparten'!G313=0,\"nein\",'Berechnung Sparten'!G313)","v":"nein"},null,{"$f":"'Berechnung Sparten'!U313","v":0}]
[{"$f":"VLOOKUP(ROW(),'Übersicht und Druck'!$I$7:$K$53,3,TRUE)","v":0},null,null,null,null,null,null,null,null,null,null,"Spartenprämie",null,null,{"$f":"'Berechnung Sparten'!U316","v":0}]
[{"$f":"VLOOKUP(ROW(),'Übersicht und Druck'!$I$7:$K$53,3,TRUE)","v":0}]
[{"$f":"VLOOKUP(ROW(),'Übersicht und Druck'!$I$7:$K$53,3,TRUE)","v":0}]
[{"$f":"VLOOKUP(ROW(),'Übersicht und Druck'!$I$7:$K$53,3,TRUE)","v":0},{"$f":"'Berechnung Sparten'!B322","v":"Naturkatastrophen: Sparte nicht gewählt"}]
[{"$f":"VLOOKUP(ROW(),'Übersicht und Druck'!$I$7:$K$53,3,TRUE)","v":0},"Deckungsbausteine bzw. versichertes Risiko",null,null,null,null,null,null,null,null,null,null,"Deckung",null,"Prämie"]
[{"$f":"VLOOKUP(ROW(),'Übersicht und Druck'!$I$7:$K$53,3,TRUE)","v":0},"Katastrophenschutz gem. Klausel KS003 (Hochwasser, Überschwemmung, Erdbeben, Muren, Lawinen, Witterungsbedingter Kanalrückstau). Karenzfrist 22 Tage, Selbstbehalt 10 % min. 500. ",null,null,null,null,null,null,null,null,null,null,{"$f":"IF('Berechnung Sparten'!G323=0,\"nein\",'Berechnung Sparten'!G323)","v":"nein"},null,{"$f":"'Berechnung Sparten'!U323","v":0},null,{"$f":"ROW()","v":555}]
[{"$f":"VLOOKUP(ROW(),'Übersicht und Druck'!$I$7:$K$53,3,TRUE)","v":0},null,null,null,null,null,null,null,null,null,null,"Spartenprämie",null,null,{"$f":"'Berechnung Sparten'!U326","v":0}]
[{"$f":"VLOOKUP(ROW(),'Übersicht und Druck'!$I$7:$K$53,3,TRUE)","v":0}]
[{"$f":"VLOOKUP(ROW(),'Übersicht und Druck'!$I$7:$K$53,3,TRUE)","v":0}]
[{"$f":"VLOOKUP(ROW(),'Übersicht und Druck'!$I$7:$K$53,3,TRUE)","v":0},{"$f":"'Berechnung Sparten'!B334","v":"Haftpflicht: Sparte nicht gewählt"}]
[{"$f":"VLOOKUP(ROW(),'Übersicht und Druck'!$I$7:$K$53,3,TRUE)","v":0},"Jahres Lohn- und Gehaltssumme",null,null,null,null,null,null,{"$f":"'Berechnung Sparten'!AG344","v":0},null,"Jahresumsatz",null,null,null,{"$f":"'Berechnung Sparten'!AG343","v":0}]
[{"$f":"VLOOKUP(ROW(),'Übersicht und Druck'!$I$7:$K$53,3,TRUE)","v":0},"Deckungsbausteine bzw. versichertes Risiko",null,null,null,null,null,null,null,null,null,null,"VS",null,"Prämie"]
[{"$f":"VLOOKUP(ROW(),'Übersicht und Druck'!$I$7:$K$53,3,TRUE)","v":0},{"$f":"'Berechnung Sparten'!B335&\" und allfälliger Mindestprämienzuschlag\"","v":"Grunddeckung und allfälliger Mindestprämienzuschlag"},null,null,null,null,null,null,null,null,null,null,{"$f":"'Berechnung Sparten'!E335","v":1500000},null,{"$f":"Hpfl!K19","v":0}]
[{"$f":"VLOOKUP(ROW(),'Übersicht und Druck'!$I$7:$K$53,3,TRUE)","v":0},"Prämienfreie Zusatzdeckungen",null,null,null,null,null,null,null,null,null,null,"VS",null,"Prämie"]
[{"$f":"VLOOKUP(ROW(),'Übersicht und Druck'!$I$7:$K$53,3,TRUE)","v":0},{"$f":"'Berechnung Sparten'!B337","v":"Auslandsdeckung für Länder der EU inkl. unbewusster Export gesamte Erde (ausgenommen USA, Kanada u. Australien) H3700"},null,null,null,null,null,null,null,null,null,null,{"$f":"'Berechnung Sparten'!E337","v":1500000}]
[{"$f":"VLOOKUP(ROW(),'Übersicht und Druck'!$I$7:$K$53,3,TRUE)","v":0},{"$f":"'Berechnung Sparten'!B338","v":"Reine Vermögensschäden H1016"},null,null,null,null,null,null,null,null,null,null,{"$f":"'Berechnung Sparten'!E338","v":750000}]
[{"$f":"VLOOKUP(ROW(),'Übersicht und Druck'!$I$7:$K$53,3,TRUE)","v":0},{"$f":"'Berechnung Sparten'!B339","v":"Arbeitnehmergarderoben H3718"},null,null,null,null,null,null,null,null,null,null,{"$f":"'Berechnung Sparten'!E339","v":1500000}]
[{"$f":"VLOOKUP(ROW(),'Übersicht und Druck'!$I$7:$K$53,3,TRUE)","v":0},{"$f":"'Berechnung Sparten'!B340","v":"genormte Vertragshaftungen H1002"},null,null,null,null,null,null,null,null,null,null,{"$f":"'Berechnung Sparten'!E340","v":1500000}]
[{"$f":"VLOOKUP(ROW(),'Übersicht und Druck'!$I$7:$K$53,3,TRUE)","v":0},{"$f":"'Berechnung Sparten'!B341","v":"Grundstücke, Gebäude od. Räumlichkeiten die Fremdzwecken dienen (vermietet) - ausgenommen Mietwohnhäuser  H1712"},null,null,null,null,null,null,null,null,null,null,{"$f":"'Berechnung Sparten'!E341","v":1500000}]
[{"$f":"VLOOKUP(ROW(),'Übersicht und Druck'!$I$7:$K$53,3,TRUE)","v":0},{"$f":"'Berechnung Sparten'!B342","v":"gewerbsmäßige Vermietung/Verleihung - ausgenommen reine Verleihbetriebe H3713"},null,null,null,null,null,null,null,null,null,null,{"$f":"'Berechnung Sparten'!E342","v":1500000}]
[{"$f":"VLOOKUP(ROW(),'Übersicht und Druck'!$I$7:$K$53,3,TRUE)","v":0},{"$f":"'Berechnung Sparten'!B343","v":"Bauherrnhaftpflicht - Bauvorhaben bis 1.000.000 H1746"},null,null,null,null,null,null,null,null,null,null,{"$f":"'Berechnung Sparten'!E343","v":1500000}]
[{"$f":"VLOOKUP(ROW(),'Übersicht und Druck'!$I$7:$K$53,3,TRUE)","v":0},{"$f":"'Berechnung Sparten'!B344","v":"Erweiterte Privathaftpflicht (subsidiär) für den Betriebsinhaber, bei Gesellschaften für den jeweiligen Geschäftsführer"},null,null,null,null,null,null,null,null,null,null,{"$f":"'Berechnung Sparten'!E344","v":1500000}]
[{"$f":"VLOOKUP(ROW(),'Übersicht und Druck'!$I$7:$K$53,3,TRUE)","v":0},{"$f":"'Berechnung Sparten'!B345","v":"Anschlussbahnen und gemietete bahneigene Lagerplätze H3751"},null,null,null,null,null,null,null,null,null,null,{"$f":"'Berechnung Sparten'!E345","v":1500000}]
[{"$f":"VLOOKUP(ROW(),'Übersicht und Druck'!$I$7:$K$53,3,TRUE)","v":0},{"$f":"'Berechnung Sparten'!B346","v":"Schadenersatzverpflichtungen nach dem Wasserrechtsgesetz H1017"},null,null,null,null,null,null,null,null,null,null,{"$f":"'Berechnung Sparten'!E346","v":1500000}]
[{"$f":"VLOOKUP(ROW(),'Übersicht und Druck'!$I$7:$K$53,3,TRUE)","v":0},{"$f":"'Berechnung Sparten'!B347","v":"Erweiterte Produktehaftpflicht (örtlicher Geltungsbereich EU) H1029"},null,null,null,null,null,null,null,null,null,null,{"$f":"'Berechnung Sparten'!E347","v":100000}]
[{"$f":"VLOOKUP(ROW(),'Übersicht und Druck'!$I$7:$K$53,3,TRUE)","v":0},{"$f":"'Berechnung Sparten'!B348","v":"Cross-Liability N031"},null,null,null,null,null,null,null,null,null,null,{"$f":"'Berechnung Sparten'!E348","v":1500000}]
[{"$f":"VLOOKUP(ROW(),'Übersicht und Druck'!$I$7:$K$53,3,TRUE)","v":0},{"$f":"'Berechnung Sparten'!B349","v":"Ansprüche der gesetzlichen Vertreter N013"},null,null,null,null,null,null,null,null,null,null,{"$f":"'Berechnung Sparten'!E349","v":1500000}]
[{"$f":"VLOOKUP(ROW(),'Übersicht und Druck'!$I$7:$K$53,3,TRUE)","v":0},{"$f":"'Berechnung Sparten'!B350","v":"Arbeitsunfälle unter gleichgestellten Mitarbeitern N014"},null,null,null,null,null,null,null,null,null,null,{"$f":"'Berechnung Sparten'!E350","v":1500000}]
[{"$f":"VLOOKUP(ROW(),'Übersicht und Druck'!$I$7:$K$53,3,TRUE)","v":0},{"$f":"'Berechnung Sparten'!B351","v":"Isotopenrisiko"},null,null,null,null,null,null,null,null,null,null,{"$f":"'Berechnung Sparten'!E351","v":1500000}]
[{"$f":"VLOOKUP(ROW(),'Übersicht und Druck'!$I$7:$K$53,3,TRUE)","v":0},{"$f":"'Berechnung Sparten'!B352","v":"Arbeitsmaschinen – Fahrtrisiko auf öffentlichen Verkehrsflächen N016"},null,null,null,null,null,null,null,null,null,null,{"$f":"'Berechnung Sparten'!E352","v":1500000}]
[{"$f":"VLOOKUP(ROW(),'Übersicht und Druck'!$I$7:$K$53,3,TRUE)","v":0},{"$f":"'Berechnung Sparten'!B353","v":"Pauschalreisegesetz H5793"},null,null,null,null,null,null,null,null,null,null,{"$f":"'Berechnung Sparten'!E353","v":375000}]
[{"$f":"VLOOKUP(ROW(),'Übersicht und Druck'!$I$7:$K$53,3,TRUE)","v":0},{"$f":"'Berechnung Sparten'!B354","v":"Hunde(e) H1771, H1695"},null,null,null,null,null,null,null,null,null,null,{"$f":"'Berechnung Sparten'!E354","v":1500000}]
[{"$f":"VLOOKUP(ROW(),'Übersicht und Druck'!$I$7:$K$53,3,TRUE)","v":0},"Prämienpflichtige Zusatzdeckungen"]
[{"$f":"VLOOKUP(ROW(),'Übersicht und Druck'!$I$7:$K$53,3,TRUE)","v":0},"Deckungsbausteine bzw. versichertes Risiko",null,null,null,null,null,null,null,null,null,null,"VS",null,"Prämie"]
[{"$f":"VLOOKUP(ROW(),'Übersicht und Druck'!$I$7:$K$53,3,TRUE)","v":0},{"$f":"'Berechnung Sparten'!B355","v":"Mietsachschäden (Feuer- oder Leitungswasserschaden) - Regresshaftung H1092"},null,null,null,null,null,null,null,null,null,null,{"$f":"IF(Hpfl!O40=FALSE,\"nein\",Hpfl!H40)","v":"nein"},null,{"$f":"Hpfl!K40","v":0}]
[{"$f":"VLOOKUP(ROW(),'Übersicht und Druck'!$I$7:$K$53,3,TRUE)","v":0},{"$f":"'Berechnung Sparten'!B356","v":"Tätigkeit an unbeweglichen Sachen H1015"},null,null,null,null,null,null,null,null,null,null,{"$f":"IF(Hpfl!O41=FALSE,\"nein\",Hpfl!H41)","v":"nein"},null,{"$f":"Hpfl!K41","v":0}]
[{"$f":"VLOOKUP(ROW(),'Übersicht und Druck'!$I$7:$K$53,3,TRUE)","v":0},{"$f":"'Berechnung Sparten'!B357","v":"Sachschäden durch Umweltstörung inkl. Umweltsanierungskosten (USK) H2630, H2830, H2802"},null,null,null,null,null,null,null,null,null,null,{"$f":"IF(O586=0,\"nein\",Hpfl!J42)","v":"nein"},null,{"$f":"Hpfl!K42","v":0}]
[{"$f":"VLOOKUP(ROW(),'Übersicht und Druck'!$I$7:$K$53,3,TRUE)","v":0},{"$f":"'Berechnung Sparten'!B358","v":"Subunternehmer H1404"},null,null,null,null,null,null,null,null,null,null,{"$f":"IF(Hpfl!O43=FALSE,\"nein\",Hpfl!H43)","v":"nein"},null,{"$f":"Hpfl!K43","v":0}]
[{"$f":"VLOOKUP(ROW(),'Übersicht und Druck'!$I$7:$K$53,3,TRUE)","v":0},{"$f":"'Berechnung Sparten'!B359","v":"Eingestellte Fahrzeuge von Arbeitnehmern und Besuchern H1019"},null,null,null,null,null,null,null,null,null,null,{"$f":"IF(Hpfl!O44=FALSE,\"nein\",Hpfl!H44)","v":"nein"},null,{"$f":"Hpfl!K44","v":0}]
[{"$f":"VLOOKUP(ROW(),'Übersicht und Druck'!$I$7:$K$53,3,TRUE)","v":0},{"$f":"'Berechnung Sparten'!B360","v":"Be- und Entladung von fremden Fahrzeugen sowie Containern H1011"},null,null,null,null,null,null,null,null,null,null,{"$f":"IF(Hpfl!O45=FALSE,\"nein\",Hpfl!H45)","v":"nein"},null,{"$f":"Hpfl!K45","v":0}]
[{"$f":"VLOOKUP(ROW(),'Übersicht und Druck'!$I$7:$K$53,3,TRUE)","v":0},{"$f":"'Berechnung Sparten'!B361","v":"Allmählichkeit H1096"},null,null,null,null,null,null,null,null,null,null,{"$f":"IF(Hpfl!O46=FALSE,\"nein\",Hpfl!H46)","v":"nein"},null,{"$f":"Hpfl!K46","v":0}]
[{"$f":"VLOOKUP(ROW(),'Übersicht und Druck'!$I$7:$K$53,3,TRUE)","v":0},{"$f":"'Berechnung Sparten'!B362","v":"Verwahrung von beweglichen Sachen H1014"},null,null,null,null,null,null,null,null,null,null,{"$f":"IF(Hpfl!O47=FALSE,\"nein\",Hpfl!H47)","v":"nein"},null,{"$f":"Hpfl!K47","v":0}]
[{"$f":"VLOOKUP(ROW(),'Übersicht und Druck'!$I$7:$K$53,3,TRUE)","v":0},{"$f":"'Berechnung Sparten'!B363","v":"Nachbesserungs-Begleitschäden H1091"},null,null,null,null,null,null,null,null,null,null,{"$f":"IF(Hpfl!O48=FALSE,\"nein\",Hpfl!H48)","v":"nein"},null,{"$f":"Hpfl!K48","v":0}]
[{"$f":"VLOOKUP(ROW(),'Übersicht und Druck'!$I$7:$K$53,3,TRUE)","v":0},{"$f":"'Berechnung Sparten'!B364","v":"Automatische Waschanlagen H1025"},null,null,null,null,null,null,null,null,null,null,{"$f":"IF(Hpfl!O49=FALSE,\"nein\",Hpfl!H49)","v":"nein"},null,{"$f":"Hpfl!K49","v":0}]
[{"$f":"VLOOKUP(ROW(),'Übersicht und Druck'!$I$7:$K$53,3,TRUE)","v":0},{"$f":"'Berechnung Sparten'!B365","v":"Abhol- und Zustelldienst von Fahrzeugen H1027"},null,null,null,null,null,null,null,null,null,null,{"$f":"IF(Hpfl!O50=FALSE,\"nein\",Hpfl!H50)","v":"nein"},null,{"$f":"Hpfl!K50","v":0}]
[{"$f":"VLOOKUP(ROW(),'Übersicht und Druck'!$I$7:$K$53,3,TRUE)","v":0},{"$f":"'Berechnung Sparten'!B366","v":"Hebebühne(n) H1098"},null,null,null,null,null,null,null,null,null,null,{"$f":"IF(Hpfl!O51=FALSE,\"nein\",Hpfl!H51)","v":"nein"},null,{"$f":"Hpfl!K51","v":0}]
[{"$f":"VLOOKUP(ROW(),'Übersicht und Druck'!$I$7:$K$53,3,TRUE)","v":0},{"$f":"'Berechnung Sparten'!B367","v":"Schäden an Kundenfahrzeugen außerhalb der Betriebsstätte H1023"},null,null,null,null,null,null,null,null,null,null,{"$f":"IF(Hpfl!O52=FALSE,\"nein\",Hpfl!H52)","v":"nein"},null,{"$f":"Hpfl!K52","v":0}]
[{"$f":"VLOOKUP(ROW(),'Übersicht und Druck'!$I$7:$K$53,3,TRUE)","v":0},{"$f":"'Berechnung Sparten'!B368","v":"Diebstahl oder Raub in Verwahrung genommener Fahrzeuge H1024"},null,null,null,null,null,null,null,null,null,null,{"$f":"IF(Hpfl!O53=FALSE,\"nein\",Hpfl!H53)","v":"nein"},null,{"$f":"Hpfl!K53","v":0}]
[{"$f":"VLOOKUP(ROW(),'Übersicht und Druck'!$I$7:$K$53,3,TRUE)","v":0},{"$f":"'Berechnung Sparten'!B369","v":"Verlust oder Abhandenkommen eingebrachter Sachen der Beherbergungsgäste (ausgenommen Kraft- u. Wasserfahrzeuge) H4735"},null,null,null,null,null,null,null,null,null,null,{"$f":"IF(Hpfl!O54=FALSE,\"nein\",Hpfl!H54)","v":"nein"},null,{"$f":"Hpfl!K54","v":0}]
[{"$f":"VLOOKUP(ROW(),'Übersicht und Druck'!$I$7:$K$53,3,TRUE)","v":0},{"$f":"'Berechnung Sparten'!B370","v":"Beschädigung, Vernichtung, Verlust oder Abhandenkommen von Kraftfahrzeugen, Anhängern u. Wasserfahrzeugen der Beherbergungsgäste H1036"},null,null,null,null,null,null,null,null,null,null,{"$f":"IF(Hpfl!O55=FALSE,\"nein\",Hpfl!H55)","v":"nein"},null,{"$f":"Hpfl!K55","v":0}]
[{"$f":"VLOOKUP(ROW(),'Übersicht und Druck'!$I$7:$K$53,3,TRUE)","v":0},{"$f":"'Berechnung Sparten'!B371","v":"Bewachte Garderoben H3763"},null,null,null,null,null,null,null,null,null,null,{"$f":"IF(Hpfl!O56=FALSE,\"nein\",Hpfl!H56)","v":"nein"},null,{"$f":"Hpfl!K56","v":0}]
[{"$f":"VLOOKUP(ROW(),'Übersicht und Druck'!$I$7:$K$53,3,TRUE)","v":0},{"$f":"'Berechnung Sparten'!B372","v":"Schäden an Kundenfahrzeugen - Servicestationen u. Garagen H1020"},null,null,null,null,null,null,null,null,null,null,{"$f":"IF(Hpfl!O57=FALSE,\"nein\",Hpfl!H57)","v":"nein"},null,{"$f":"Hpfl!K57","v":0}]
[{"$f":"VLOOKUP(ROW(),'Übersicht und Druck'!$I$7:$K$53,3,TRUE)","v":0},{"$f":"'Berechnung Sparten'!B373","v":"Schäden an Kundenfahrzeugen - Reifenhandel H1021"},null,null,null,null,null,null,null,null,null,null,{"$f":"IF(Hpfl!O58=FALSE,\"nein\",Hpfl!H58)","v":"nein"},null,{"$f":"Hpfl!K58","v":0}]
[{"$f":"VLOOKUP(ROW(),'Übersicht und Druck'!$I$7:$K$53,3,TRUE)","v":0},{"$f":"'Berechnung Sparten'!B374","v":"Schäden an Kundenfahrzeugen - Tankstellen ohne Servicetätigkeiten H1022"},null,null,null,null,null,null,null,null,null,null,{"$f":"IF(Hpfl!O59=FALSE,\"nein\",Hpfl!H59)","v":"nein"},null,{"$f":"Hpfl!K59","v":0}]
[{"$f":"VLOOKUP(ROW(),'Übersicht und Druck'!$I$7:$K$53,3,TRUE)","v":0},{"$f":"'Berechnung Sparten'!B375","v":"Schadenersatzverpflichtung wegen Schäden an Kfz bei Überprüfung nach § 57a KFG H1065"},null,null,null,null,null,null,null,null,null,null,{"$f":"IF(Hpfl!O60=FALSE,\"nein\",Hpfl!H60)","v":"nein"},null,{"$f":"Hpfl!K60","v":0}]
[{"$f":"VLOOKUP(ROW(),'Übersicht und Druck'!$I$7:$K$53,3,TRUE)","v":0},{"$f":"'Berechnung Sparten'!B376","v":"Tätigkeit an beweglichen Sachen H1030"},null,null,null,null,null,null,null,null,null,null,{"$f":"IF(Hpfl!O61=FALSE,\"nein\",Hpfl!H61)","v":"nein"},null,{"$f":"Hpfl!K61","v":0}]
[{"$f":"VLOOKUP(ROW(),'Übersicht und Druck'!$I$7:$K$53,3,TRUE)","v":0},{"$f":"'Berechnung Sparten'!B377","v":"Verlust, Abhandenkommen und Diebstahl von - zur Durchführung von Reinigungsarbeiten - in Verwahrung genommener Schlüssel.    "},null,null,null,null,null,null,null,null,null,null,{"$f":"IF(O606=0,\"nein\",Hpfl!J62)","v":"nein"},null,{"$f":"Hpfl!K62","v":0}]
[{"$f":"VLOOKUP(ROW(),'Übersicht und Druck'!$I$7:$K$53,3,TRUE)","v":0},{"$f":"'Berechnung Sparten'!B378","v":"Berge- und Abschleppschäden an fremden Kraftfahrzeugen H1052"},null,null,null,null,null,null,null,null,null,null,{"$f":"IF(Hpfl!O63=FALSE,\"nein\",\"ja\")","v":"nein"},null,{"$f":"Hpfl!K63","v":0}]
[{"$f":"VLOOKUP(ROW(),'Übersicht und Druck'!$I$7:$K$53,3,TRUE)","v":0},{"$f":"'Berechnung Sparten'!B379&IF(O608=0,\"\",\": \"&Hpfl!J64&\" Stück\")","v":"Reit- bzw. Fahrlehrer H1693"},null,null,null,null,null,null,null,null,null,null,{"$f":"IF(Hpfl!O64=FALSE,\"nein\",Hpfl!H64)","v":"nein"},null,{"$f":"Hpfl!K64","v":0}]
[{"$f":"VLOOKUP(ROW(),'Übersicht und Druck'!$I$7:$K$53,3,TRUE)","v":0},{"$f":"'Berechnung Sparten'!B380&\" (VS \"&'Berechnung Sparten'!E380&\")\"","v":"Gaststallung H1737 (VS wählbar)"},null,null,null,null,null,null,null,null,null,null,{"$f":"IF(O609=0,\"nein\",Hpfl!J65)","v":"nein"},null,{"$f":"Hpfl!K65","v":0}]
[{"$f":"VLOOKUP(ROW(),'Übersicht und Druck'!$I$7:$K$53,3,TRUE)","v":0},{"$f":"'Berechnung Sparten'!B381&IF(O610=0,\"\",\": \"&Hpfl!J66&\" Stück\")","v":"eigene(s) Pferd(e) inkl. Kutschenfahrten H1695"},null,null,null,null,null,null,null,null,null,null,{"$f":"IF(Hpfl!O66=FALSE,\"nein\",Hpfl!H66)","v":"nein"},null,{"$f":"Hpfl!K66","v":0}]
[{"$f":"VLOOKUP(ROW(),'Übersicht und Druck'!$I$7:$K$53,3,TRUE)","v":0},{"$f":"'Berechnung Sparten'!B382&IF(O611=0,\"\",\": \"&Hpfl!J67&\" Stück\")","v":"fremde(s) Pferd(e) inkl. Kutschenfahrten H1695"},null,null,null,null,null,null,null,null,null,null,{"$f":"IF(Hpfl!O67=FALSE,\"nein\",Hpfl!H67)","v":"nein"},null,{"$f":"Hpfl!K67","v":0}]
[{"$f":"VLOOKUP(ROW(),'Übersicht und Druck'!$I$7:$K$53,3,TRUE)","v":0},{"$f":"'Berechnung Sparten'!B383","v":"Auslandsdeckung für die gesamte Erde (ausgenommen USA, Kanada u. Australien) H3701"},null,null,null,null,null,null,null,null,null,null,{"$f":"IF(O612=0,\"nein\",Hpfl!U88)","v":"nein"},null,{"$f":"Hpfl!K68","v":0}]
[{"$f":"VLOOKUP(ROW(),'Übersicht und Druck'!$I$7:$K$53,3,TRUE)","v":0},{"$f":"'Berechnung Sparten'!B384","v":"Import aus allen Ländern der Erde H3750"},null,null,null,null,null,null,null,null,null,null,{"$f":"IF(O613=0,\"nein\",Hpfl!U88)","v":"nein"},null,{"$f":"Hpfl!K69","v":0}]
[{"$f":"VLOOKUP(ROW(),'Übersicht und Druck'!$I$7:$K$53,3,TRUE)","v":0},{"$f":"'Berechnung Sparten'!B385&\" (VS \"&'Berechnung Sparten'!E385&\")\"","v":"Erweiterte Produktehaftpflicht (örtlicher Geltungsbereich EU) - Höherversicherung (VS wählbar)"},null,null,null,null,null,null,null,null,null,null,{"$f":"IF(O614=0,\"nein\",Hpfl!J70)","v":"nein"},null,{"$f":"Hpfl!K70","v":0}]
[{"$f":"VLOOKUP(ROW(),'Übersicht und Druck'!$I$7:$K$53,3,TRUE)","v":0},{"$f":"'Berechnung Sparten'!B386","v":"Erweiterte Produktehaftpflicht - Bewusster Export - Auslandsdeckung für gesamte Erde (ausgenommen USA, Kanada, Australien)"},null,null,null,null,null,null,null,null,null,null,{"$f":"IF(Hpfl!P71=0,\"nein\",\"ja\")","v":"nein"},null,{"$f":"Hpfl!K71","v":0}]
[{"$f":"VLOOKUP(ROW(),'Übersicht und Druck'!$I$7:$K$53,3,TRUE)","v":0},{"$f":"'Berechnung Sparten'!B387","v":"Erweiterte Mietsachschäden H1192"},null,null,null,null,null,null,null,null,null,null,{"$f":"IF(Hpfl!O72=FALSE,\"nein\",Hpfl!H72)","v":"nein"},null,{"$f":"Hpfl!K72","v":0}]
[{"$f":"VLOOKUP(ROW(),'Übersicht und Druck'!$I$7:$K$53,3,TRUE)","v":0},null,null,null,null,null,null,null,null,null,null,"Spartenprämie",null,null,{"$f":"'Berechnung Sparten'!U390","v":0}]
[{"$f":"VLOOKUP(ROW(),'Übersicht und Druck'!$I$7:$K$53,3,TRUE)","v":0}]
[{"$f":"VLOOKUP(ROW(),'Übersicht und Druck'!$I$7:$K$53,3,TRUE)","v":0}]
[{"$f":"VLOOKUP(ROW(),'Übersicht und Druck'!$I$7:$K$53,3,TRUE)","v":0},{"$f":"'Berechnung Sparten'!B395","v":"Haftpflicht für Haus- und Grundbesitz: Sparte nicht gewählt"}]
[{"$f":"VLOOKUP(ROW(),'Übersicht und Druck'!$I$7:$K$53,3,TRUE)","v":0},"Deckungsbausteine bzw. versichertes Risiko",null,null,null,null,null,null,null,null,null,null,"Deckung",null,"Prämie"]
[{"$f":"VLOOKUP(ROW(),'Übersicht und Druck'!$I$7:$K$53,3,TRUE)","v":0},{"$f":"'Berechnung Sparten'!B396&\" (VS \"&'Berechnung Sparten'!E396&\")\"","v":"Haftpflicht für Haus- und Grundbesitz (VS 0)"},null,null,null,null,null,null,null,null,null,null,{"$f":"IF('Berechnung Sparten'!B394=1,\"ja\",\"nein\")","v":"nein"},null,{"$f":"'Berechnung Sparten'!U396","v":0}]
[{"$f":"VLOOKUP(ROW(),'Übersicht und Druck'!$I$7:$K$53,3,TRUE)","v":0},{"$f":"'Berechnung Sparten'!B397&\" (VS \"&'Berechnung Sparten'!G397&\")\"","v":"Sachschäden durch Umweltstörung inkl. Umweltsanierungskosten (USK) H4631, H2630 (VS 600000)"},null,null,null,null,null,null,null,null,null,null,{"$f":"IF('Berechnung Sparten'!H397=1,\"ja\",\"nein\")","v":"nein"},null,{"$f":"'Berechnung Sparten'!U397","v":0}]
[{"$f":"VLOOKUP(ROW(),'Übersicht und Druck'!$I$7:$K$53,3,TRUE)","v":0},null,null,null,null,null,null,null,null,null,null,"Spartenprämie",null,null,{"$f":"'Berechnung Sparten'!U400","v":0}]
[{"$f":"VLOOKUP(ROW(),'Übersicht und Druck'!$I$7:$K$53,3,TRUE)","v":0}]
[{"$f":"VLOOKUP(ROW(),'Übersicht und Druck'!$I$7:$K$53,3,TRUE)","v":0}]
[{"$f":"VLOOKUP(ROW(),'Übersicht und Druck'!$I$7:$K$53,3,TRUE)","v":0},{"$f":"'Berechnung Sparten'!B455","v":"Firmenrechtsschutz: Sparte nicht gewählt"}]
[{"$f":"VLOOKUP(ROW(),'Übersicht und Druck'!$I$7:$K$53,3,TRUE)","v":0},"Anzahl Beschäftigte",null,null,{"$f":"RS!E7","v":0},null,"Versicherungssumme",null,null,{"$f":"RS!K7","v":141000},null,"EU-Deckung (RV871)",null,null,{"$f":"IF(RS!R7=FALSE,\"nein\",\"ja\")","v":"nein"}]
[{"$f":"VLOOKUP(ROW(),'Übersicht und Druck'!$I$7:$K$53,3,TRUE)","v":0},"Deckungsbausteine bzw. versichertes Risiko",null,null,null,null,null,null,null,null,null,null,"Deckung",null,"Prämie"]
[{"$f":"VLOOKUP(ROW(),'Übersicht und Druck'!$I$7:$K$53,3,TRUE)","v":0},{"$f":"'Berechnung Sparten'!B456","v":"Grunddeckung für Betrieb, Dienstnehmer und Betriebsinhaber"},null,null,null,null,null,null,null,null,null,null,{"$f":"IF('Berechnung Sparten'!G456=0,\"nein\",'Berechnung Sparten'!G456)","v":"nein"},null,{"$f":"'Berechnung Sparten'!U456","v":0}]
[{"$f":"VLOOKUP(ROW(),'Übersicht und Druck'!$I$7:$K$53,3,TRUE)","v":0},{"$f":"'Berechnung Sparten'!B457","v":"LMG-Gegenprobenziehung gem. RV849"},null,null,null,null,null,null,null,null,null,null,{"$f":"IF('Berechnung Sparten'!G457=0,\"nein\",'Berechnung Sparten'!G457)","v":"nein"},null,{"$f":"'Berechnung Sparten'!U457","v":0}]
[{"$f":"VLOOKUP(ROW(),'Übersicht und Druck'!$I$7:$K$53,3,TRUE)","v":0},{"$f":"RS!AB38&\"mit Streitwertgrenze: \"","v":"Allgemeiner Vertrags-Rechtsschutz mit Streitwertgrenze: "},null,null,null,null,null,null,null,null,{"$f":"'RS Grunddeckung'!E18","v":0},null,{"$f":"IF('Berechnung Sparten'!G458=0,\"nein\",'Berechnung Sparten'!G458)","v":"nein"},null,{"$f":"'Berechnung Sparten'!U458","v":0}]
[{"$f":"VLOOKUP(ROW(),'Übersicht und Druck'!$I$7:$K$53,3,TRUE)","v":0},{"$f":"'Berechnung Sparten'!B459","v":"Streitigkeiten aus dem Bereich des Handelsvertreterrechts"},null,null,null,null,null,null,null,null,null,null,{"$f":"IF('Berechnung Sparten'!G459=0,\"nein\",'Berechnung Sparten'!G459)","v":"nein"},null,{"$f":"'Berechnung Sparten'!U459","v":0}]
[{"$f":"VLOOKUP(ROW(),'Übersicht und Druck'!$I$7:$K$53,3,TRUE)","v":0},"Deckungsübersicht Grunddeckung"]
[{"$f":"VLOOKUP(ROW(),'Übersicht und Druck'!$I$7:$K$53,3,TRUE)","v":0},"Für den Betrieb"]
[{"$f":"VLOOKUP(ROW(),'Übersicht und Druck'!$I$7:$K$53,3,TRUE)","v":0},null,"Schadenersatz- und Straf-Rechtsschutz (Artikel 19 Pkt. 1.3.)."]
[{"$f":"VLOOKUP(ROW(),'Übersicht und Druck'!$I$7:$K$53,3,TRUE)","v":0},null,"Arbeitsgerichts-Rechtsschutz (Artikel 20 Pkt. 1.2.)."]
[{"$f":"VLOOKUP(ROW(),'Übersicht und Druck'!$I$7:$K$53,3,TRUE)","v":0},null,"Sozialversicherungs-Rechtsschutz (Artikel 21 Pkt. 1.2.)."]
[{"$f":"VLOOKUP(ROW(),'Übersicht und Druck'!$I$7:$K$53,3,TRUE)","v":0},null,"Beratungs-Rechtsschutz (Artikel 22 Pkt. 1.2.)."]
[{"$f":"IF(OR(M632=\"nein\",RS!Z28=6),0,VLOOKUP(ROW(),'Übersicht und Druck'!$I$7:$K$53,3,TRUE))","v":0},null,"Gegen besondere Vereinbarung: Allgemeiner Vertrags - Rechtsschutz (Artikel 23 Pkt. 1.2.)."]
[{"$f":"VLOOKUP(ROW(),'Übersicht und Druck'!$I$7:$K$53,3,TRUE)","v":0},"Für die Dienstnehmer (im Zusammenhang mit der Tätigkeit für den versicherten Betrieb):"]
[{"$f":"VLOOKUP(ROW(),'Übersicht und Druck'!$I$7:$K$53,3,TRUE)","v":0},null,"Schadenersatz- und Straf-Rechtsschutz (Artikel 19 Pkt. 1.3.)."]
[{"$f":"VLOOKUP(ROW(),'Übersicht und Druck'!$I$7:$K$53,3,TRUE)","v":0},null,"Sozialversicherungs-Rechtsschutz (Artikel 21 Pkt. 1.2.)."]
[{"$f":"VLOOKUP(ROW(),'Übersicht und Druck'!$I$7:$K$53,3,TRUE)","v":0},"Für den Betriebsinhaber und seine Familie"]
[{"$f":"VLOOKUP(ROW(),'Übersicht und Druck'!$I$7:$K$53,3,TRUE)","v":0},{"$f":"RS!V41","v":"Der Privatbereich gilt für: "}]
[{"$f":"VLOOKUP(ROW(),'Übersicht und Druck'!$I$7:$K$53,3,TRUE)","v":0},"Mitversichert sind, sofern sie nicht oder unselbständig erwerbstätig sind, auch der mit dem Versicherungsnehmer in häuslicher Gemeinschaft lebende Ehegatte oder Lebensgefährte und deren minderjährige Kinder (auch Enkel-, Adoptiv-, Pflege- und Stiefkinder; Enkelkinder jedoch nur, wenn sie in häuslicher Gemeinschaft mit dem Versicherungsnehmer leben). Mitversichert gelten volljährige Kinder während des Präsenz- oder Zivildienstes. Darüber hinaus gelten unverheiratete Kinder bis zum vollendeten 27. Lebensjahr, solange sie sich noch in Schul- oder Berufsausbildung befinden und für diese Kinder Familienbeihilfe gewährt wird, als mitversichert. "]
[{"$f":"VLOOKUP(ROW(),'Übersicht und Druck'!$I$7:$K$53,3,TRUE)","v":0},null,"Schadenersatz- und Straf-Rechtsschutz für den Privat- und Berufsbereich (Artikel 19 Pkt. 1.1. und 1.2.)"]
[{"$f":"VLOOKUP(ROW(),'Übersicht und Druck'!$I$7:$K$53,3,TRUE)","v":0},null,"Arbeitsgerichts-Rechtsschutz (gemäß Artikel 20 Pkt. 1.1. und als Arbeitgeber von Hauspersonal im Sinne von Pkt. 1.2.)"]
[{"$f":"VLOOKUP(ROW(),'Übersicht und Druck'!$I$7:$K$53,3,TRUE)","v":0},null,"Sozialversicherungs-Rechtsschutz (gemäß Artikel 21 Pkt.1,1. und als Arbeitgeber von Hauspersonal im Sinne von Pkt. 1.2.)"]
[{"$f":"VLOOKUP(ROW(),'Übersicht und Druck'!$I$7:$K$53,3,TRUE)","v":0},null,"Beratungs-Rechtsschutz (Artikel 22 Pkt. 1.2.)."]
[{"$f":"VLOOKUP(ROW(),'Übersicht und Druck'!$I$7:$K$53,3,TRUE)","v":0},null,"Allgemeiner Vertrags-Rechtsschutz (Artikel 23 Pkt. 1.1.)"]
[{"$f":"VLOOKUP(ROW(),'Übersicht und Druck'!$I$7:$K$53,3,TRUE)","v":0},null,"Beratungs-Rechtsschutz (Artikel 22 Pkt. 1.2.)."]
[{"$f":"VLOOKUP(ROW(),'Übersicht und Druck'!$I$7:$K$53,3,TRUE)","v":0},"Selbstbeteiligung: Pro Versicherungsfall 20 % der Schadenleistung, mindestens aber € 250,00; die Selbstbeteiligung entfällt, wenn der Versicherungsnehmer einen vom Versicherer vorgeschlagenen Anwalt wählt, RV842"]
[{"$f":"IF(RS!$Z$28=6,VLOOKUP(ROW(),'Übersicht und Druck'!$I$7:$K$53,3,TRUE),0)","v":0},"Zusatzdeckungen für Kfz-Betriebe"]
[{"$f":"IF(RS!$Z$28=6,VLOOKUP(ROW(),'Übersicht und Druck'!$I$7:$K$53,3,TRUE),0)","v":0},"Für den Betrieb"]
[{"$f":"IF(RS!$Z$28=6,VLOOKUP(ROW(),'Übersicht und Druck'!$I$7:$K$53,3,TRUE),0)","v":0},null,"Fahrzeug-Rechtsschutz (Artikel 17 Pkt. 2.1. bis 2.3. sowie 2.5.); für alle auf den versicherten Betrieb zugelassenen oder in seinem Eigentum stehenden Fahrzeuge (ausgenommen vermietete oder verleaste Fahrzeuge), alle fremden Fahrzeuge, die der Betrieb in Gewahrsam hat, und alle Fahrzeuge, die ein Probefahrtkennzeichen des versicherten Betriebes tragen"]
[{"$f":"IF(RS!$Z$28=6,VLOOKUP(ROW(),'Übersicht und Druck'!$I$7:$K$53,3,TRUE),0)","v":0},null,"Arbeitsgerichts-Rechtsschutz (Artikel 20 Pkt. 1.2.)."]
[{"$f":"IF(RS!$Z$28=6,VLOOKUP(ROW(),'Übersicht und Druck'!$I$7:$K$53,3,TRUE),0)","v":0},null,"Sozialversicherungs-Rechtsschutz (Artikel 21 Pkt. 1.2.)."]
[{"$f":"IF(RS!$Z$28=6,VLOOKUP(ROW(),'Übersicht und Druck'!$I$7:$K$53,3,TRUE),0)","v":0},null,"Beratungs-Rechtsschutz (Artikel 22 Pkt. 1.2.)."]
[{"$f":"IF(AND(RS!$Z$28=6,RS!AB35=\"ja\"),VLOOKUP(ROW(),'Übersicht und Druck'!$I$7:$K$53,3,TRUE),0)","v":0},null,"Gegen besondere Vereinbarung: AVRS inkl. Kfz-Handel: Allgemeiner Vertrags-Rechtsschutz (Artikel 23 Pkt. 1.2.); abweichend von Artikel 23 Pkt. 3.1. der Allgemeinen Bedingungen für die Rechtsschutz-Versicherung erstreckt sich der Versicherungsschutz auch auf Ansprüche aus schuldrechtlichen Verträgen betreffend Motorfahrzeuge zu Lande, zu Wasser und in der Luft sowie Anhänger.  Ausgenommen sind davon Verträge über die Vermietung oder die Verleasung derartiger Fahrzeuge, RV856."]
[{"$f":"IF(AND(RS!$Z$28=6,RS!AB35=\"nein\"),VLOOKUP(ROW(),'Übersicht und Druck'!$I$7:$K$53,3,TRUE),0)","v":0},null,"Gegen besondere Vereinbarung: AVRS exkl. Kfz-Handel: Allgemeiner Vertrags-Rechtsschutz (Artikel 23 Pkt. 1.2.); abweichend von Artikel 23 Pkt. 3.1. der Allgemeinen Bedingungen für die Rechtsschutz-Versicherung erstreckt sich der Versicherungsschutz auch auf Ansprüche aus schuldrechtlichen Verträgen betreffend Motorfahrzeuge zu Lande, zu Wasser und in der Luft sowie Anhänger.  Ausgenommen sind davon Verträge über die Vermietung oder die Verleasung derartiger Fahrzeuge sowie Verträge betreffend den Handel mit Fahrzeugen, RV857"]
[{"$f":"IF(RS!$Z$28=6,VLOOKUP(ROW(),'Übersicht und Druck'!$I$7:$K$53,3,TRUE),0)","v":0},null,"Beratungs-Rechtsschutz (Artikel 22 Pkt. 1.2.)."]
[{"$f":"IF(RS!$Z$28=6,VLOOKUP(ROW(),'Übersicht und Druck'!$I$7:$K$53,3,TRUE),0)","v":0},"Für die Dienstnehmer (im Zusammenhang mit der Tätigkeit für den versicherten Betrieb):"]
[{"$f":"IF(RS!$Z$28=6,VLOOKUP(ROW(),'Übersicht und Druck'!$I$7:$K$53,3,TRUE),0)","v":0},null,"Lenker-Rechtsschutz (Artikel 18)."]
[{"$f":"IF(RS!$Z$28=6,VLOOKUP(ROW(),'Übersicht und Druck'!$I$7:$K$53,3,TRUE),0)","v":0},"Für den Betriebsinhaber und seine Familie"]
[{"$f":"IF(RS!$Z$28=6,VLOOKUP(ROW(),'Übersicht und Druck'!$I$7:$K$53,3,TRUE),0)","v":0},null,"Fahrzeug-Rechtsschutz (Artikel 17 Pkt. 2.1. bis 2.3. sowie 2.5.); für alle vom Betriebsinhaber und den mitversicherten Personen ohne gewerbliche Nutzung gehaltenen Motorfahrzeuge zu Lande, zu Wasser und in der Luft sowie Anhänger."]
[{"$f":"IF(RS!$Z$28=6,VLOOKUP(ROW(),'Übersicht und Druck'!$I$7:$K$53,3,TRUE),0)","v":0},null,"Lenker-Rechtsschutz (Artikel 18)."]
[{"$f":"VLOOKUP(ROW(),'Übersicht und Druck'!$I$7:$K$53,3,TRUE)","v":0},null,null,null,null,null,null,null,null,null,null,"Spartenprämie",null,null,{"$f":"'Berechnung Sparten'!U462","v":0}]
[{"$f":"VLOOKUP(ROW(),'Übersicht und Druck'!$I$7:$K$53,3,TRUE)","v":0}]
[{"$f":"VLOOKUP(ROW(),'Übersicht und Druck'!$I$7:$K$53,3,TRUE)","v":0}]
[{"$f":"VLOOKUP(ROW(),'Übersicht und Druck'!$I$7:$K$53,3,TRUE)","v":0},{"$f":"'Berechnung Sparten'!B490","v":"Grundstückseigentums- und Mietrechtsschutz: Sparte nicht gewählt"}]
[{"$f":"VLOOKUP(ROW(),'Übersicht und Druck'!$I$7:$K$53,3,TRUE)*IF(SUM($O$674:$P$678)=0,0,1)","v":0},{"$f":"RS!B42","v":"Selbstnutzung (Eigentümer, Mieter, Pächter, dinglich Nutzungsberechtigter)"}]
[{"$f":"VLOOKUP(ROW(),'Übersicht und Druck'!$I$7:$K$53,3,TRUE)*IF(SUM($O$674:$P$678)=0,0,1)","v":0},"Art",null,null,"Berechnungsgrundlage",null,null,null,"Adressen(n)",null,null,null,null,null,"Prämie"]
[{"$f":"VLOOKUP(ROW(),'Übersicht und Druck'!$I$7:$K$53,3,TRUE)*IF(O674=0,0,1)","v":0},{"$f":"'Berechnung Sparten'!B491","v":"Wohneinheit"},null,null,{"$f":"RS!F43","v":"Anzahl"},null,{"$f":"RS!S43","v":0},null,{"$f":"IF(RS!H43=\"\",\"\",RS!H43)","v":""},null,null,null,null,null,{"$f":"'Berechnung Sparten'!U491","v":0}]
[{"$f":"VLOOKUP(ROW(),'Übersicht und Druck'!$I$7:$K$53,3,TRUE)*IF(O675=0,0,1)","v":0},{"$f":"'Berechnung Sparten'!B492","v":"Einzelgarage oder Abstellplatz"},null,null,{"$f":"RS!F44","v":"Anzahl"},null,{"$f":"RS!S44","v":0},null,{"$f":"IF(RS!H44=\"\",\"\",RS!H44)","v":""},null,null,null,null,null,{"$f":"'Berechnung Sparten'!U492","v":0}]
[{"$f":"VLOOKUP(ROW(),'Übersicht und Druck'!$I$7:$K$53,3,TRUE)*IF(O676=0,0,1)","v":0},{"$f":"'Berechnung Sparten'!B493","v":"Unbebautes Grundstück"},null,null,{"$f":"RS!F45","v":"Fläche m²"},null,{"$f":"RS!S45","v":0},null,{"$f":"IF(RS!H45=\"\",\"\",RS!H45)","v":""},null,null,null,null,null,{"$f":"'Berechnung Sparten'!U493","v":0}]
[{"$f":"VLOOKUP(ROW(),'Übersicht und Druck'!$I$7:$K$53,3,TRUE)*IF(O677=0,0,1)","v":0},{"$f":"'Berechnung Sparten'!B494","v":"Gewerbliche Einheit als Mieter"},null,null,"Jahresbrutto-Miete",null,{"$f":"RS!S46","v":0},null,{"$f":"IF(RS!H46=\"\",\"\",RS!H46)","v":""},null,null,null,null,null,{"$f":"'Berechnung Sparten'!U494","v":0}]
[{"$f":"VLOOKUP(ROW(),'Übersicht und Druck'!$I$7:$K$53,3,TRUE)*IF(O678=0,0,1)","v":0},{"$f":"'Berechnung Sparten'!B495","v":"Gewerbliche Einheit als Eigentümer"},null,null,{"$f":"RS!F47","v":"überdachte Fläche m²"},null,{"$f":"RS!S47","v":0},null,{"$f":"IF(RS!H47=\"\",\"\",RS!H47)","v":""},null,null,null,null,null,{"$f":"'Berechnung Sparten'!U495","v":0}]
[{"$f":"VLOOKUP(ROW(),'Übersicht und Druck'!$I$7:$K$53,3,TRUE)*IF(SUM($O$681:$P$684)=0,0,1)","v":0},{"$f":"RS!B48","v":"Fremdnutzung (Vermieter, Verpächter)"}]
[{"$f":"VLOOKUP(ROW(),'Übersicht und Druck'!$I$7:$K$53,3,TRUE)*IF(SUM($O$681:$P$684)=0,0,1)","v":0},"Art",null,null,"Berechnungsgrundlage",null,null,null,"Adressen(n)",null,null,null,null,null,"Prämie"]
[{"$f":"VLOOKUP(ROW(),'Übersicht und Druck'!$I$7:$K$53,3,TRUE)*IF(O681=0,0,1)","v":0},{"$f":"'Berechnung Sparten'!B496","v":"Wohneinheit"},null,null,{"$f":"RS!F49","v":"Anzahl"},null,{"$f":"RS!S49","v":0},null,{"$f":"IF(RS!H49=\"\",\"\",RS!H49)","v":""},null,null,null,null,null,{"$f":"'Berechnung Sparten'!U496","v":0}]
[{"$f":"VLOOKUP(ROW(),'Übersicht und Druck'!$I$7:$K$53,3,TRUE)*IF(O682=0,0,1)","v":0},{"$f":"'Berechnung Sparten'!B497","v":"Einzelgarage oder Abstellplatz"},null,null,{"$f":"RS!F50","v":"Anzahl"},null,{"$f":"RS!S50","v":0},null,{"$f":"IF(RS!H50=\"\",\"\",RS!H50)","v":""},null,null,null,null,null,{"$f":"'Berechnung Sparten'!U497","v":0}]
[{"$f":"VLOOKUP(ROW(),'Übersicht und Druck'!$I$7:$K$53,3,TRUE)*IF(O683=0,0,1)","v":0},{"$f":"'Berechnung Sparten'!B498","v":"Unbebautes Grundstück (nicht landw. Genutzt)"},null,null,{"$f":"RS!F51","v":"Fläche m²"},null,{"$f":"RS!S51","v":0},null,{"$f":"IF(RS!H51=\"\",\"\",RS!H51)","v":""},null,null,null,null,null,{"$f":"'Berechnung Sparten'!U498","v":0}]
[{"$f":"VLOOKUP(ROW(),'Übersicht und Druck'!$I$7:$K$53,3,TRUE)*IF(O684=0,0,1)","v":0},{"$f":"'Berechnung Sparten'!B499","v":"Gewerbliche Einheit als Vermieter"},null,null,"Jahresbrutto-Miete",null,{"$f":"RS!S52","v":0},null,{"$f":"IF(RS!H52=\"\",\"\",RS!H52)","v":""},null,null,null,null,null,{"$f":"'Berechnung Sparten'!U499","v":0}]
[{"$f":"VLOOKUP(ROW(),'Übersicht und Druck'!$I$7:$K$53,3,TRUE)","v":0},null,null,null,null,null,null,null,null,null,null,"Spartenprämie",null,null,{"$f":"'Berechnung Sparten'!U502","v":0}]
[{"$f":"VLOOKUP(ROW(),'Übersicht und Druck'!$I$7:$K$53,3,TRUE)","v":0}]
[{"$f":"VLOOKUP(ROW(),'Übersicht und Druck'!$I$7:$K$53,3,TRUE)","v":0}]
[{"$f":"VLOOKUP(ROW(),'Übersicht und Druck'!$I$7:$K$53,3,TRUE)","v":0},{"$f":"'Berechnung Sparten'!B467","v":"Fahrzeug- und Lenkerrechtsschutz: Sparte nicht gewählt"}]
[{"$f":"VLOOKUP(ROW(),'Übersicht und Druck'!$I$7:$K$53,3,TRUE)","v":0},"Variante",null,null,null,null,null,{"$f":"RS!V47","v":"Kfz-Flotten-Rechtsschutz"}]
[{"$f":"VLOOKUP(ROW(),'Übersicht und Druck'!$I$7:$K$53,3,TRUE)","v":0},"Art des Fahrzeugs",null,null,null,"Anzahl",null,{"$f":"RS!W47","v":"alle Kennzeichen"},null,null,null,null,null,null,"Prämie"]
[{"$f":"IF(O691=0,0,VLOOKUP(ROW(),'Übersicht und Druck'!$I$7:$K$53,3,TRUE))","v":0},{"$f":"'Berechnung Sparten'!B468","v":"Motor(fahr)räder, vierrädrige Leichtfahrzeuge"},null,null,null,{"$f":"RS!G21","v":0},null,{"$f":"IF(RS!$V$47=RS!$V$45,\"bei Flottenrechtsschutz nicht erforderlich\",IF(RS!H21=\"\",\"\",RS!H21))","v":"bei Flottenrechtsschutz nicht erforderlich"},null,null,null,null,null,null,{"$f":"'Berechnung Sparten'!U468","v":0}]
[{"$f":"IF(O692=0,0,VLOOKUP(ROW(),'Übersicht und Druck'!$I$7:$K$53,3,TRUE))","v":0},{"$f":"'Berechnung Sparten'!B469","v":"Pkw/Kombi Normaltarif"},null,null,null,{"$f":"RS!G22","v":0},null,{"$f":"IF(RS!$V$47=RS!$V$45,\"bei Flottenrechtsschutz nicht erforderlich\",IF(RS!H22=\"\",\"\",RS!H22))","v":"bei Flottenrechtsschutz nicht erforderlich"},null,null,null,null,null,null,{"$f":"'Berechnung Sparten'!U469","v":0}]
[{"$f":"IF(O693=0,0,VLOOKUP(ROW(),'Übersicht und Druck'!$I$7:$K$53,3,TRUE))","v":0},{"$f":"'Berechnung Sparten'!B470","v":"Pkw/Kombi mit gewerbsmäßiger Selbstfahrvermietung"},null,null,null,{"$f":"RS!G23","v":0},null,{"$f":"IF(RS!$V$47=RS!$V$45,\"bei Flottenrechtsschutz nicht erforderlich\",IF(RS!H23=\"\",\"\",RS!H23))","v":"bei Flottenrechtsschutz nicht erforderlich"},null,null,null,null,null,null,{"$f":"'Berechnung Sparten'!U470","v":0}]
[{"$f":"IF(O694=0,0,VLOOKUP(ROW(),'Übersicht und Druck'!$I$7:$K$53,3,TRUE))","v":0},{"$f":"'Berechnung Sparten'!B471","v":"Pkw/Kombi: Taxi"},null,null,null,"Anfrage Versicherungstechnik erforderlich"]
[{"$f":"IF(O695=0,0,VLOOKUP(ROW(),'Übersicht und Druck'!$I$7:$K$53,3,TRUE))","v":0},{"$f":"'Berechnung Sparten'!B472","v":"Omnibusse"},null,null,null,{"$f":"RS!G25","v":0},null,{"$f":"IF(RS!$V$47=RS!$V$45,\"bei Flottenrechtsschutz nicht erforderlich\",IF(RS!H25=\"\",\"\",RS!H25))","v":"bei Flottenrechtsschutz nicht erforderlich"},null,null,null,null,null,null,{"$f":"'Berechnung Sparten'!U472","v":0}]
[{"$f":"IF(O696=0,0,VLOOKUP(ROW(),'Übersicht und Druck'!$I$7:$K$53,3,TRUE))","v":0},{"$f":"'Berechnung Sparten'!B473","v":"Lkw bis 1,5 to Nutzlast"},null,null,null,{"$f":"RS!G26","v":0},null,{"$f":"IF(RS!$V$47=RS!$V$45,\"bei Flottenrechtsschutz nicht erforderlich\",IF(RS!H26=\"\",\"\",RS!H26))","v":"bei Flottenrechtsschutz nicht erforderlich"},null,null,null,null,null,null,{"$f":"'Berechnung Sparten'!U473","v":0}]
[{"$f":"IF(O697=0,0,VLOOKUP(ROW(),'Übersicht und Druck'!$I$7:$K$53,3,TRUE))","v":0},{"$f":"'Berechnung Sparten'!B474","v":"Lkw über 1,5 to Nutzlast, Sattelzugfahrzeuge"},null,null,null,{"$f":"RS!G27","v":0},null,{"$f":"IF(RS!$V$47=RS!$V$45,\"bei Flottenrechtsschutz nicht erforderlich\",IF(RS!H27=\"\",\"\",RS!H27))","v":"bei Flottenrechtsschutz nicht erforderlich"},null,null,null,null,null,null,{"$f":"'Berechnung Sparten'!U474","v":0}]
[{"$f":"IF(O698=0,0,VLOOKUP(ROW(),'Übersicht und Druck'!$I$7:$K$53,3,TRUE))","v":0},{"$f":"'Berechnung Sparten'!B475","v":"Zugmaschinen"},null,null,null,{"$f":"RS!G28","v":0},null,{"$f":"IF(RS!$V$47=RS!$V$45,\"bei Flottenrechtsschutz nicht erforderlich\",IF(RS!H28=\"\",\"\",RS!H28))","v":"bei Flottenrechtsschutz nicht erforderlich"},null,null,null,null,null,null,{"$f":"'Berechnung Sparten'!U475","v":0}]
[{"$f":"IF(O699=0,0,VLOOKUP(ROW(),'Übersicht und Druck'!$I$7:$K$53,3,TRUE))","v":0},{"$f":"'Berechnung Sparten'!B476","v":"Anhänger für Pkw/Kombi (außer Wohnwagen)"},null,null,null,{"$f":"RS!G29","v":0},null,{"$f":"IF(RS!$V$47=RS!$V$45,\"bei Flottenrechtsschutz nicht erforderlich\",IF(RS!H29=\"\",\"\",RS!H29))","v":"bei Flottenrechtsschutz nicht erforderlich"},null,null,null,null,null,null,{"$f":"'Berechnung Sparten'!U476","v":0}]
[{"$f":"IF(O700=0,0,VLOOKUP(ROW(),'Übersicht und Druck'!$I$7:$K$53,3,TRUE))","v":0},{"$f":"'Berechnung Sparten'!B477","v":"Wohnwagenanhänger"},null,null,null,{"$f":"RS!G30","v":0},null,{"$f":"IF(RS!$V$47=RS!$V$45,\"bei Flottenrechtsschutz nicht erforderlich\",IF(RS!H30=\"\",\"\",RS!H30))","v":"bei Flottenrechtsschutz nicht erforderlich"},null,null,null,null,null,null,{"$f":"'Berechnung Sparten'!U477","v":0}]
[{"$f":"IF(O701=0,0,VLOOKUP(ROW(),'Übersicht und Druck'!$I$7:$K$53,3,TRUE))","v":0},{"$f":"'Berechnung Sparten'!B478","v":"Sonstige Anhänger (auch Sattelanhänger)"},null,null,null,{"$f":"RS!G31","v":0},null,{"$f":"IF(RS!$V$47=RS!$V$45,\"bei Flottenrechtsschutz nicht erforderlich\",IF(RS!H31=\"\",\"\",RS!H31))","v":"bei Flottenrechtsschutz nicht erforderlich"},null,null,null,null,null,null,{"$f":"'Berechnung Sparten'!U478","v":0}]
[{"$f":"IF(O702=0,0,VLOOKUP(ROW(),'Übersicht und Druck'!$I$7:$K$53,3,TRUE))","v":0},{"$f":"'Berechnung Sparten'!B479","v":"Motorkarren"},null,null,null,{"$f":"RS!G32","v":0},null,{"$f":"IF(RS!$V$47=RS!$V$45,\"bei Flottenrechtsschutz nicht erforderlich\",IF(RS!H32=\"\",\"\",RS!H32))","v":"bei Flottenrechtsschutz nicht erforderlich"},null,null,null,null,null,null,{"$f":"'Berechnung Sparten'!U479","v":0}]
[{"$f":"IF(O703=0,0,VLOOKUP(ROW(),'Übersicht und Druck'!$I$7:$K$53,3,TRUE))","v":0},{"$f":"'Berechnung Sparten'!B480","v":"Selbstfahrende Arbeitsmaschinen"},null,null,null,{"$f":"RS!G33","v":0},null,{"$f":"IF(RS!$V$47=RS!$V$45,\"bei Flottenrechtsschutz nicht erforderlich\",IF(RS!H33=\"\",\"\",RS!H33))","v":"bei Flottenrechtsschutz nicht erforderlich"},null,null,null,null,null,null,{"$f":"'Berechnung Sparten'!U480","v":0}]
[{"$f":"IF(O704=0,0,VLOOKUP(ROW(),'Übersicht und Druck'!$I$7:$K$53,3,TRUE))","v":0},{"$f":"'Berechnung Sparten'!B481","v":"Probefahrkennzeichen"},null,null,null,{"$f":"RS!G34","v":0},null,{"$f":"IF(RS!$V$47=RS!$V$45,\"bei Flottenrechtsschutz nicht erforderlich\",IF(RS!H34=\"\",\"\",RS!H34))","v":"bei Flottenrechtsschutz nicht erforderlich"},null,null,null,null,null,null,{"$f":"'Berechnung Sparten'!U481","v":0}]
[{"$f":"VLOOKUP(ROW(),'Übersicht und Druck'!$I$7:$K$53,3,TRUE)","v":0},{"$f":"'Berechnung Sparten'!B482","v":"Lenker-Rechtsschutz (fremde Fahrzeuge)"},null,null,null,null,null,null,null,null,null,null,{"$f":"IF(RS!R35=TRUE,\"ja\",\"nein\")","v":"nein"},null,{"$f":"'Berechnung Sparten'!U482","v":0}]
[{"$f":"VLOOKUP(ROW(),'Übersicht und Druck'!$I$7:$K$53,3,TRUE)","v":0},null,null,null,null,null,null,null,null,null,null,"Spartenprämie",null,null,{"$f":"'Berechnung Sparten'!U485","v":0}]
[{"$f":"VLOOKUP(ROW(),'Übersicht und Druck'!$I$7:$K$53,3,TRUE)","v":0}]
[{"$f":"VLOOKUP(ROW(),'Übersicht und Druck'!$I$7:$K$53,3,TRUE)","v":0}]
[{"$f":"VLOOKUP(ROW(),'Übersicht und Druck'!$I$7:$K$53,3,TRUE)","v":0},{"$f":"'Berechnung Sparten'!B404","v":"Technik Pauschal: Sparte nicht gewählt"}]
[{"$f":"VLOOKUP(ROW(),'Übersicht und Druck'!$I$7:$K$53,3,TRUE)","v":0},"Bedienungsfehler, Ungeschicklichkeit, Fahrlässigkeit, Böswilligkeit, indirekte Blitzschlagschäden, mechanisch einwirkende Gewalt, usw. gem. MB900, DV770, DV308"]
[{"$f":"VLOOKUP(ROW(),'Übersicht und Druck'!$I$7:$K$53,3,TRUE)","v":0},{"$f":"\"Erstrisikosumme \"&Sach!Q276*100&\" % des Vollwerts, Selbstbehalt \"&Sach!T277","v":"Erstrisikosumme 100 % des Vollwerts, Selbstbehalt 200"}]
[{"$f":"VLOOKUP(ROW(),'Übersicht und Druck'!$I$7:$K$53,3,TRUE)","v":0},"Deckungsbausteine bzw. versichertes Risiko",null,null,null,null,null,null,null,null,null,null,"Deckung",null,"Prämie"]
[{"$f":"VLOOKUP(ROW(),'Übersicht und Druck'!$I$7:$K$53,3,TRUE)","v":0},{"$f":"'Berechnung Sparten'!B405&\" (\"&'Berechnung Sparten'!W405&\")\"","v":"Grunddeckung (VS)"},null,null,null,null,null,null,null,null,null,null,{"$f":"IF('Berechnung Sparten'!G405=0,\"nein\",'Berechnung Sparten'!G405)","v":"nein"},null,{"$f":"'Berechnung Sparten'!U405","v":0}]
[{"$f":"VLOOKUP(ROW(),'Übersicht und Druck'!$I$7:$K$53,3,TRUE)","v":0},{"$f":"'Berechnung Sparten'!B406&\" (\"&'Berechnung Sparten'!W406&\")\"","v":"Erd- und Grabarbeiten sowie Wiederherstellung der Oberfläche gem. MB368 (ER)"},null,null,null,null,null,null,null,null,null,null,{"$f":"IF('Berechnung Sparten'!G406=0,\"nein\",'Berechnung Sparten'!G406)","v":"nein"},null,{"$f":"'Berechnung Sparten'!U406","v":0}]
[{"$f":"VLOOKUP(ROW(),'Übersicht und Druck'!$I$7:$K$53,3,TRUE)","v":0},null,null,null,null,null,null,null,null,null,null,"Spartenprämie",null,null,{"$f":"'Berechnung Sparten'!U409","v":0}]
[{"$f":"VLOOKUP(ROW(),'Übersicht und Druck'!$I$7:$K$53,3,TRUE)","v":0}]
[{"$f":"VLOOKUP(ROW(),'Übersicht und Druck'!$I$7:$K$53,3,TRUE)","v":0}]
[{"$f":"VLOOKUP(ROW(),'Übersicht und Druck'!$I$7:$K$53,3,TRUE)","v":0},{"$f":"'Berechnung Sparten'!B413","v":"Technik Indirekter Blitz: Sparte nicht gewählt"}]
[{"$f":"VLOOKUP(ROW(),'Übersicht und Druck'!$I$7:$K$53,3,TRUE)","v":0},"Deckungsbausteine bzw. versichertes Risiko",null,null,null,null,null,null,null,null,null,null,"Deckung",null,"Prämie"]
[{"$f":"VLOOKUP(ROW(),'Übersicht und Druck'!$I$7:$K$53,3,TRUE)","v":0},{"$f":"'Berechnung Sparten'!B414&\" (\"&'Berechnung Sparten'!W414&\")\"","v":"Indirekter Blitz an KTE gem. MB301 (Selbstbehalt 200) (ER)"},null,null,null,null,null,null,null,null,null,null,{"$f":"IF('Berechnung Sparten'!G414=0,\"nein\",'Berechnung Sparten'!G414)","v":"nein"},null,{"$f":"'Berechnung Sparten'!U414","v":0}]
[{"$f":"VLOOKUP(ROW(),'Übersicht und Druck'!$I$7:$K$53,3,TRUE)","v":0},{"$f":"'Berechnung Sparten'!B415&\" (\"&'Berechnung Sparten'!W415&\")\"","v":"Erd- und Grabarbeiten sowie Wiederherstellung der Oberfläche gem. MB368 (ER)"},null,null,null,null,null,null,null,null,null,null,{"$f":"IF('Berechnung Sparten'!G415=0,\"nein\",'Berechnung Sparten'!G415)","v":"nein"},null,{"$f":"'Berechnung Sparten'!U415","v":0}]
[{"$f":"VLOOKUP(ROW(),'Übersicht und Druck'!$I$7:$K$53,3,TRUE)","v":0},null,null,null,null,null,null,null,null,null,null,"Spartenprämie",null,null,{"$f":"'Berechnung Sparten'!U418","v":0}]
[{"$f":"VLOOKUP(ROW(),'Übersicht und Druck'!$I$7:$K$53,3,TRUE)","v":0}]
[{"$f":"VLOOKUP(ROW(),'Übersicht und Druck'!$I$7:$K$53,3,TRUE)","v":0}]
[{"$f":"VLOOKUP(ROW(),'Übersicht und Druck'!$I$7:$K$53,3,TRUE)","v":0},{"$f":"'Berechnung Sparten'!B423","v":"EDV-Geräte: Sparte nicht gewählt"}]
[{"$f":"VLOOKUP(ROW(),'Übersicht und Druck'!$I$7:$K$53,3,TRUE)","v":0},"Deckungsbausteine bzw. versichertes Risiko",null,null,null,null,null,null,null,null,null,null,"Deckung",null,"Prämie"]
[{"$f":"VLOOKUP(ROW(),'Übersicht und Druck'!$I$7:$K$53,3,TRUE)","v":0},{"$f":"'Berechnung Sparten'!B424&\" (\"&'Berechnung Sparten'!W424&\")\"","v":"Stationäre Geräte (Neuwert)"},null,null,null,null,null,null,null,null,null,null,{"$f":"IF('Berechnung Sparten'!G424=0,\"nein\",'Berechnung Sparten'!G424)","v":"nein"},null,{"$f":"'Berechnung Sparten'!U424","v":0}]
[{"$f":"VLOOKUP(ROW(),'Übersicht und Druck'!$I$7:$K$53,3,TRUE)","v":0},{"$f":"'Berechnung Sparten'!B425&\" (\"&'Berechnung Sparten'!W425&\")\"","v":"Tragbares Gerät 1 ()"},null,null,null,null,null,null,null,null,null,null,{"$f":"IF('Berechnung Sparten'!G425=0,\"nein\",'Berechnung Sparten'!G425)","v":"nein"},null,{"$f":"'Berechnung Sparten'!U425","v":0}]
[{"$f":"VLOOKUP(ROW(),'Übersicht und Druck'!$I$7:$K$53,3,TRUE)","v":0},{"$f":"'Berechnung Sparten'!B426&\" (\"&'Berechnung Sparten'!W426&\")\"","v":"Tragbares Gerät 2 ()"},null,null,null,null,null,null,null,null,null,null,{"$f":"IF('Berechnung Sparten'!G426=0,\"nein\",'Berechnung Sparten'!G426)","v":"nein"},null,{"$f":"'Berechnung Sparten'!U426","v":0}]
[{"$f":"VLOOKUP(ROW(),'Übersicht und Druck'!$I$7:$K$53,3,TRUE)","v":0},{"$f":"'Berechnung Sparten'!B427&\" (\"&'Berechnung Sparten'!W427&\")\"","v":"Tragbares Gerät 3 ()"},null,null,null,null,null,null,null,null,null,null,{"$f":"IF('Berechnung Sparten'!G427=0,\"nein\",'Berechnung Sparten'!G427)","v":"nein"},null,{"$f":"'Berechnung Sparten'!U427","v":0}]
[{"$f":"VLOOKUP(ROW(),'Übersicht und Druck'!$I$7:$K$53,3,TRUE)","v":0},{"$f":"'Berechnung Sparten'!B428&\" (\"&'Berechnung Sparten'!W428&\")\"","v":"Tragbares Gerät 4 ()"},null,null,null,null,null,null,null,null,null,null,{"$f":"IF('Berechnung Sparten'!G428=0,\"nein\",'Berechnung Sparten'!G428)","v":"nein"},null,{"$f":"'Berechnung Sparten'!U428","v":0}]
[{"$f":"VLOOKUP(ROW(),'Übersicht und Druck'!$I$7:$K$53,3,TRUE)","v":0},{"$f":"'Berechnung Sparten'!B429&\" (\"&'Berechnung Sparten'!W429&\")\"","v":"Tragbares Gerät 5 ()"},null,null,null,null,null,null,null,null,null,null,{"$f":"IF('Berechnung Sparten'!G429=0,\"nein\",'Berechnung Sparten'!G429)","v":"nein"},null,{"$f":"'Berechnung Sparten'!U429","v":0}]
[{"$f":"VLOOKUP(ROW(),'Übersicht und Druck'!$I$7:$K$53,3,TRUE)","v":0},{"$f":"'Berechnung Sparten'!B430&\" (\"&'Berechnung Sparten'!W430&\")\"","v":"Datenträger (Kosten)"},null,null,null,null,null,null,null,null,null,null,{"$f":"IF('Berechnung Sparten'!G430=0,\"nein\",'Berechnung Sparten'!G430)","v":"nein"},null,{"$f":"'Berechnung Sparten'!U430","v":0}]
[{"$f":"VLOOKUP(ROW(),'Übersicht und Druck'!$I$7:$K$53,3,TRUE)","v":0},{"$f":"'Berechnung Sparten'!B431&\": \"&'Berechnung Sparten'!W431&\"\"","v":"Mehrkosten Weiterführung: "},null,null,null,null,null,null,null,null,null,null,{"$f":"IF('Berechnung Sparten'!G431=0,\"nein\",'Berechnung Sparten'!G431)","v":"nein"},null,{"$f":"'Berechnung Sparten'!U431","v":0}]
[{"$f":"VLOOKUP(ROW(),'Übersicht und Druck'!$I$7:$K$53,3,TRUE)","v":0},null,null,null,null,null,null,null,null,null,null,"Spartenprämie",null,null,{"$f":"'Berechnung Sparten'!U434","v":0}]
[{"$f":"VLOOKUP(ROW(),'Übersicht und Druck'!$I$7:$K$53,3,TRUE)","v":0}]
[{"$f":"VLOOKUP(ROW(),'Übersicht und Druck'!$I$7:$K$53,3,TRUE)","v":0}]
[{"$f":"VLOOKUP(ROW(),'Übersicht und Druck'!$I$7:$K$53,3,TRUE)","v":0},{"$f":"'Berechnung Sparten'!B439","v":"Kühlgut: Sparte nicht gewählt"}]
[{"$f":"VLOOKUP(ROW(),'Übersicht und Druck'!$I$7:$K$53,3,TRUE)","v":0},"Deckungsbausteine bzw. versichertes Risiko",null,null,null,null,null,null,null,null,null,null,"Deckung",null,"Prämie"]
[{"$f":"VLOOKUP(ROW(),'Übersicht und Druck'!$I$7:$K$53,3,TRUE)","v":0},{"$f":"\"Verderb von Kühlgut in Kühlanlagen, \"&IF('Berechnung Sparten'!X442=0,\"ohne\",\"inklusive \")&\"Transportrisiko\"","v":"Verderb von Kühlgut in Kühlanlagen, ohneTransportrisiko"},null,null,null,null,null,null,null,null,null,null,{"$f":"IF('Berechnung Sparten'!G440=0,\"nein\",'Berechnung Sparten'!G440)","v":"nein"},null,{"$f":"'Berechnung Sparten'!U440","v":0}]
[{"$f":"VLOOKUP(ROW(),'Übersicht und Druck'!$I$7:$K$53,3,TRUE)","v":0},null,null,null,null,null,null,null,null,null,null,"Spartenprämie",null,null,{"$f":"'Berechnung Sparten'!U443","v":0}]
[{"$f":"VLOOKUP(ROW(),'Übersicht und Druck'!$I$7:$K$53,3,TRUE)","v":0}]
[{"$f":"VLOOKUP(ROW(),'Übersicht und Druck'!$I$7:$K$53,3,TRUE)","v":0}]
[{"$f":"VLOOKUP(ROW(),'Übersicht und Druck'!$I$7:$K$53,3,TRUE)","v":0},{"$f":"'Berechnung Sparten'!B448","v":"Transport: Sparte nicht gewählt"}]
[{"$f":"VLOOKUP(ROW(),'Übersicht und Druck'!$I$7:$K$53,3,TRUE)","v":0},"Verkaufswarenversicherung, kaufmännisch-technische Betriebseinrichtung sowie eigene Werkzeuge auf Erstes Risiko für die Gefahren Transportmittelunfall, Brand, Blitzschlag und Explosion, Raub,  innerhalb von Österreich und dessen Anrainerstaaten gem. TRG20. Selbstbehalt gem. Art. 3 (3) (Raub, Einbruchdiebstahl...) 10 %, Selbstbehalt gem. Art 3 (4) (Bruch, Verbiegen, Verbeulen) 500 €."]
[{"$f":"VLOOKUP(ROW(),'Übersicht und Druck'!$I$7:$K$53,3,TRUE)","v":0},{"$f":"\"Anzahl: \"&Sach!D306&\" Fahrzeuge, \"&Sach!G306&\" Anhänger\"","v":"Anzahl:  Fahrzeuge,  Anhänger"},null,null,null,null,null,null,null,null,"VS je Fahrzeug/Anhänger",null,null,null,{"$f":"Sach!R314","v":2500}]
[{"$f":"VLOOKUP(ROW(),'Übersicht und Druck'!$I$7:$K$53,3,TRUE)","v":0},null,null,null,null,null,null,null,null,null,null,"Spartenprämie",null,null,{"$f":"'Berechnung Sparten'!U452","v":0}]
[{"$f":"VLOOKUP(ROW(),'Übersicht und Druck'!$I$7:$K$53,3,TRUE)","v":0}]
[{"$f":"VLOOKUP(ROW(),'Übersicht und Druck'!$I$7:$K$53,3,TRUE)","v":0}]
[{"$f":"VLOOKUP(ROW(),'Übersicht und Druck'!$I$7:$K$53,3,TRUE)","v":0},{"$f":"'Berechnung Sparten'!B508","v":"Gewerbe-Soforthilfe: Sparte nicht gewählt"}]
[{"$f":"VLOOKUP(ROW(),'Übersicht und Druck'!$I$7:$K$53,3,TRUE)","v":0},"Technische und organisatorische 24-h-Hilfe (z.B. Handwerkerservice max. € 500, Bewachung nach Schaden € 1.000, Leckortung € 500 etc.). Maximalleistung € 3.000 pro Versicherungsjahr. Allgemeine Bedigungn GS000"]
[{"$f":"VLOOKUP(ROW(),'Übersicht und Druck'!$I$7:$K$53,3,TRUE)","v":0}]
[{"$f":"VLOOKUP(ROW(),'Übersicht und Druck'!$I$7:$K$53,3,TRUE)","v":0},null,null,null,null,null,null,null,null,null,null,"Spartenprämie",null,null,{"$f":"'Berechnung Sparten'!U509","v":0}]
[{"$f":"VLOOKUP(ROW(),'Übersicht und Druck'!$I$7:$K$53,3,TRUE)","v":0}]
[{"$f":"VLOOKUP(ROW(),'Übersicht und Druck'!$I$7:$K$53,3,TRUE)","v":0}]
[{"$f":"VLOOKUP(ROW(),'Übersicht und Druck'!$I$7:$K$53,3,TRUE)","v":0}]
[{"$f":"VLOOKUP(ROW(),'Übersicht und Druck'!$I$7:$K$53,3,TRUE)","v":0}]
[{"$f":"VLOOKUP(ROW(),'Übersicht und Druck'!$I$7:$K$53,3,TRUE)","v":0}]
[{"$f":"VLOOKUP(ROW(),'Übersicht und Druck'!$I$7:$K$53,3,TRUE)","v":0}]
[{"$f":"VLOOKUP(ROW(),'Übersicht und Druck'!$I$7:$K$53,3,TRUE)","v":0}]
[{"$f":"VLOOKUP(ROW(),'Übersicht und Druck'!$I$7:$K$53,3,TRUE)","v":0}]
[{"$f":"VLOOKUP(ROW(),'Übersicht und Druck'!$I$7:$K$53,3,TRUE)","v":0}]
[{"$f":"VLOOKUP(ROW(),'Übersicht und Druck'!$I$7:$K$53,3,TRUE)","v":0}]
[{"$f":"VLOOKUP(ROW(),'Übersicht und Druck'!$I$7:$K$53,3,TRUE)","v":0}]
[{"$f":"VLOOKUP(ROW(),'Übersicht und Druck'!$I$7:$K$53,3,TRUE)","v":0}]
[{"$f":"VLOOKUP(ROW(),'Übersicht und Druck'!$I$7:$K$53,3,TRUE)","v":0}]
[{"$f":"VLOOKUP(ROW(),'Übersicht und Druck'!$I$7:$K$53,3,TRUE)","v":0}]
[{"$f":"VLOOKUP(ROW(),'Übersicht und Druck'!$I$7:$K$53,3,TRUE)","v":0}]
[{"$f":"VLOOKUP(ROW(),'Übersicht und Druck'!$I$7:$K$53,3,TRUE)","v":0}]
[{"$f":"VLOOKUP(ROW(),'Übersicht und Druck'!$I$7:$K$53,3,TRUE)","v":0}]
[{"$f":"VLOOKUP(ROW(),'Übersicht und Druck'!$I$7:$K$53,3,TRUE)","v":0}]
[{"$f":"VLOOKUP(ROW(),'Übersicht und Druck'!$I$7:$K$53,3,TRUE)","v":0}]
[{"$f":"VLOOKUP(ROW(),'Übersicht und Druck'!$I$7:$K$53,3,TRUE)","v":0}]
[{"$f":"VLOOKUP(ROW(),'Übersicht und Druck'!$I$7:$K$53,3,TRUE)","v":0}]
[{"$f":"VLOOKUP(ROW(),'Übersicht und Druck'!$I$7:$K$53,3,TRUE)","v":0}]
[{"$f":"VLOOKUP(ROW(),'Übersicht und Druck'!$I$7:$K$53,3,TRUE)","v":0}]
[{"$f":"VLOOKUP(ROW(),'Übersicht und Druck'!$I$7:$K$53,3,TRUE)","v":0}]
[{"$f":"VLOOKUP(ROW(),'Übersicht und Druck'!$I$7:$K$53,3,TRUE)","v":0}]
[{"$f":"VLOOKUP(ROW(),'Übersicht und Druck'!$I$7:$K$53,3,TRUE)","v":0}]
[{"$f":"VLOOKUP(ROW(),'Übersicht und Druck'!$I$7:$K$53,3,TRUE)","v":0}]
[{"$f":"VLOOKUP(ROW(),'Übersicht und Druck'!$I$7:$K$53,3,TRUE)","v":0}]
[{"$f":"VLOOKUP(ROW(),'Übersicht und Druck'!$I$7:$K$53,3,TRUE)","v":0}]
[{"$f":"VLOOKUP(ROW(),'Übersicht und Druck'!$I$7:$K$53,3,TRUE)","v":0}]
[{"$f":"VLOOKUP(ROW(),'Übersicht und Druck'!$I$7:$K$53,3,TRUE)","v":0}]
[{"$f":"VLOOKUP(ROW(),'Übersicht und Druck'!$I$7:$K$53,3,TRUE)","v":0}]
[{"$f":"VLOOKUP(ROW(),'Übersicht und Druck'!$I$7:$K$53,3,TRUE)","v":0}]
[{"$f":"VLOOKUP(ROW(),'Übersicht und Druck'!$I$7:$K$53,3,TRUE)","v":0}]
[{"$f":"VLOOKUP(ROW(),'Übersicht und Druck'!$I$7:$K$53,3,TRUE)","v":0}]
[{"$f":"VLOOKUP(ROW(),'Übersicht und Druck'!$I$7:$K$53,3,TRUE)","v":0}]
[{"$f":"VLOOKUP(ROW(),'Übersicht und Druck'!$I$7:$K$53,3,TRUE)","v":0}]
[{"$f":"VLOOKUP(ROW(),'Übersicht und Druck'!$I$7:$K$53,3,TRUE)","v":0}]
[{"$f":"VLOOKUP(ROW(),'Übersicht und Druck'!$I$7:$K$53,3,TRUE)","v":0}]
[{"$f":"VLOOKUP(ROW(),'Übersicht und Druck'!$I$7:$K$53,3,TRUE)","v":0}]
[{"$f":"VLOOKUP(ROW(),'Übersicht und Druck'!$I$7:$K$53,3,TRUE)","v":0}]
[{"$f":"VLOOKUP(ROW(),'Übersicht und Druck'!$I$7:$K$53,3,TRUE)","v":0}]
[{"$f":"VLOOKUP(ROW(),'Übersicht und Druck'!$I$7:$K$53,3,TRUE)","v":0}]
[{"$f":"VLOOKUP(ROW(),'Übersicht und Druck'!$I$7:$K$53,3,TRUE)","v":0}]
[{"$f":"VLOOKUP(ROW(),'Übersicht und Druck'!$I$7:$K$53,3,TRUE)","v":0}]
[{"$f":"VLOOKUP(ROW(),'Übersicht und Druck'!$I$7:$K$53,3,TRUE)","v":0}]
[{"$f":"VLOOKUP(ROW(),'Übersicht und Druck'!$I$7:$K$53,3,TRUE)","v":0}]
[{"$f":"VLOOKUP(ROW(),'Übersicht und Druck'!$I$7:$K$53,3,TRUE)","v":0}]
[{"$f":"VLOOKUP(ROW(),'Übersicht und Druck'!$I$7:$K$53,3,TRUE)","v":0}]
[{"$f":"VLOOKUP(ROW(),'Übersicht und Druck'!$I$7:$K$53,3,TRUE)","v":0}]
[{"$f":"VLOOKUP(ROW(),'Übersicht und Druck'!$I$7:$K$53,3,TRUE)","v":0}]
[{"$f":"VLOOKUP(ROW(),'Übersicht und Druck'!$I$7:$K$53,3,TRUE)","v":0}]
[{"$f":"VLOOKUP(ROW(),'Übersicht und Druck'!$I$7:$K$53,3,TRUE)","v":0}]
[{"$f":"VLOOKUP(ROW(),'Übersicht und Druck'!$I$7:$K$53,3,TRUE)","v":0}]
[{"$f":"VLOOKUP(ROW(),'Übersicht und Druck'!$I$7:$K$53,3,TRUE)","v":0}]
[{"$f":"VLOOKUP(ROW(),'Übersicht und Druck'!$I$7:$K$53,3,TRUE)","v":0}]
[{"$f":"VLOOKUP(ROW(),'Übersicht und Druck'!$I$7:$K$53,3,TRUE)","v":0}]
[{"$f":"VLOOKUP(ROW(),'Übersicht und Druck'!$I$7:$K$53,3,TRUE)","v":0}]
[{"$f":"VLOOKUP(ROW(),'Übersicht und Druck'!$I$7:$K$53,3,TRUE)","v":0}]
[{"$f":"VLOOKUP(ROW(),'Übersicht und Druck'!$I$7:$K$53,3,TRUE)","v":0}]
[{"$f":"VLOOKUP(ROW(),'Übersicht und Druck'!$I$7:$K$53,3,TRUE)","v":0}]
[{"$f":"VLOOKUP(ROW(),'Übersicht und Druck'!$I$7:$K$53,3,TRUE)","v":{"$error":"#N/A"}}]
[{"$f":"VLOOKUP(ROW(),'Übersicht und Druck'!$I$7:$K$53,3,TRUE)","v":{"$error":"#N/A"}}]
[{"$f":"VLOOKUP(ROW(),'Übersicht und Druck'!$I$7:$K$53,3,TRUE)","v":{"$error":"#N/A"}}]
[{"$f":"VLOOKUP(ROW(),'Übersicht und Druck'!$I$7:$K$53,3,TRUE)","v":{"$error":"#N/A"}}]
[{"$f":"VLOOKUP(ROW(),'Übersicht und Druck'!$I$7:$K$53,3,TRUE)","v":{"$error":"#N/A"}}]
[{"$f":"VLOOKUP(ROW(),'Übersicht und Druck'!$I$7:$K$53,3,TRUE)","v":{"$error":"#N/A"}}]
[{"$f":"VLOOKUP(ROW(),'Übersicht und Druck'!$I$7:$K$53,3,TRUE)","v":{"$error":"#N/A"}}]
[{"$f":"VLOOKUP(ROW(),'Übersicht und Druck'!$I$7:$K$53,3,TRUE)","v":{"$error":"#N/A"}}]
[{"$f":"VLOOKUP(ROW(),'Übersicht und Druck'!$I$7:$K$53,3,TRUE)","v":{"$error":"#N/A"}}]
[{"$f":"VLOOKUP(ROW(),'Übersicht und Druck'!$I$7:$K$53,3,TRUE)","v":{"$error":"#N/A"}}]
[{"$f":"VLOOKUP(ROW(),'Übersicht und Druck'!$I$7:$K$53,3,TRUE)","v":{"$error":"#N/A"}}]
[{"$f":"VLOOKUP(ROW(),'Übersicht und Druck'!$I$7:$K$53,3,TRUE)","v":{"$error":"#N/A"}}]
[{"$f":"VLOOKUP(ROW(),'Übersicht und Druck'!$I$7:$K$53,3,TRUE)","v":{"$error":"#N/A"}}]
[{"$f":"VLOOKUP(ROW(),'Übersicht und Druck'!$I$7:$K$53,3,TRUE)","v":{"$error":"#N/A"}}]
[{"$f":"VLOOKUP(ROW(),'Übersicht und Druck'!$I$7:$K$53,3,TRUE)","v":{"$error":"#N/A"}}]
[{"$f":"VLOOKUP(ROW(),'Übersicht und Druck'!$I$7:$K$53,3,TRUE)","v":{"$error":"#N/A"}}]
[{"$f":"VLOOKUP(ROW(),'Übersicht und Druck'!$I$7:$K$53,3,TRUE)","v":{"$error":"#N/A"}}]
[{"$f":"VLOOKUP(ROW(),'Übersicht und Druck'!$I$7:$K$53,3,TRUE)","v":{"$error":"#N/A"}}]
[{"$f":"VLOOKUP(ROW(),'Übersicht und Druck'!$I$7:$K$53,3,TRUE)","v":{"$error":"#N/A"}}]
[{"$f":"VLOOKUP(ROW(),'Übersicht und Druck'!$I$7:$K$53,3,TRUE)","v":{"$error":"#N/A"}}]
[{"$f":"VLOOKUP(ROW(),'Übersicht und Druck'!$I$7:$K$53,3,TRUE)","v":{"$error":"#N/A"}}]
[{"$f":"VLOOKUP(ROW(),'Übersicht und Druck'!$I$7:$K$53,3,TRUE)","v":{"$error":"#N/A"}}]
[{"$f":"VLOOKUP(ROW(),'Übersicht und Druck'!$I$7:$K$53,3,TRUE)","v":{"$error":"#N/A"}}]
[{"$f":"VLOOKUP(ROW(),'Übersicht und Druck'!$I$7:$K$53,3,TRUE)","v":{"$error":"#N/A"}}]
[{"$f":"VLOOKUP(ROW(),'Übersicht und Druck'!$I$7:$K$53,3,TRUE)","v":{"$error":"#N/A"}}]
[{"$f":"VLOOKUP(ROW(),'Übersicht und Druck'!$I$7:$K$53,3,TRUE)","v":{"$error":"#N/A"}}]
[{"$f":"VLOOKUP(ROW(),'Übersicht und Druck'!$I$7:$K$53,3,TRUE)","v":{"$error":"#N/A"}}]
[{"$f":"VLOOKUP(ROW(),'Übersicht und Druck'!$I$7:$K$53,3,TRUE)","v":{"$error":"#N/A"}}]
[{"$f":"VLOOKUP(ROW(),'Übersicht und Druck'!$I$7:$K$53,3,TRUE)","v":{"$error":"#N/A"}}]
[{"$f":"VLOOKUP(ROW(),'Übersicht und Druck'!$I$7:$K$53,3,TRUE)","v":{"$error":"#N/A"}}]
[{"$f":"VLOOKUP(ROW(),'Übersicht und Druck'!$I$7:$K$53,3,TRUE)","v":{"$error":"#N/A"}}]
[{"$f":"VLOOKUP(ROW(),'Übersicht und Druck'!$I$7:$K$53,3,TRUE)","v":{"$error":"#N/A"}}]
[{"$f":"VLOOKUP(ROW(),'Übersicht und Druck'!$I$7:$K$53,3,TRUE)","v":{"$error":"#N/A"}}]
[{"$f":"VLOOKUP(ROW(),'Übersicht und Druck'!$I$7:$K$53,3,TRUE)","v":{"$error":"#N/A"}}]
[{"$f":"VLOOKUP(ROW(),'Übersicht und Druck'!$I$7:$K$53,3,TRUE)","v":{"$error":"#N/A"}}]
[{"$f":"VLOOKUP(ROW(),'Übersicht und Druck'!$I$7:$K$53,3,TRUE)","v":{"$error":"#N/A"}}]
[{"$f":"VLOOKUP(ROW(),'Übersicht und Druck'!$I$7:$K$53,3,TRUE)","v":{"$error":"#N/A"}}]
[{"$f":"VLOOKUP(ROW(),'Übersicht und Druck'!$I$7:$K$53,3,TRUE)","v":{"$error":"#N/A"}}]
[{"$f":"VLOOKUP(ROW(),'Übersicht und Druck'!$I$7:$K$53,3,TRUE)","v":{"$error":"#N/A"}}]
[{"$f":"VLOOKUP(ROW(),'Übersicht und Druck'!$I$7:$K$53,3,TRUE)","v":{"$error":"#N/A"}}]
[{"$f":"VLOOKUP(ROW(),'Übersicht und Druck'!$I$7:$K$53,3,TRUE)","v":{"$error":"#N/A"}}]
[{"$f":"VLOOKUP(ROW(),'Übersicht und Druck'!$I$7:$K$53,3,TRUE)","v":{"$error":"#N/A"}}]
[{"$f":"VLOOKUP(ROW(),'Übersicht und Druck'!$I$7:$K$53,3,TRUE)","v":{"$error":"#N/A"}}]
[{"$f":"VLOOKUP(ROW(),'Übersicht und Druck'!$I$7:$K$53,3,TRUE)","v":{"$error":"#N/A"}}]
[{"$f":"VLOOKUP(ROW(),'Übersicht und Druck'!$I$7:$K$53,3,TRUE)","v":{"$error":"#N/A"}}]
[{"$f":"VLOOKUP(ROW(),'Übersicht und Druck'!$I$7:$K$53,3,TRUE)","v":{"$error":"#N/A"}}]
[{"$f":"VLOOKUP(ROW(),'Übersicht und Druck'!$I$7:$K$53,3,TRUE)","v":{"$error":"#N/A"}}]
[{"$f":"VLOOKUP(ROW(),'Übersicht und Druck'!$I$7:$K$53,3,TRUE)","v":{"$error":"#N/A"}}]
[{"$f":"VLOOKUP(ROW(),'Übersicht und Druck'!$I$7:$K$53,3,TRUE)","v":{"$error":"#N/A"}}]
[{"$f":"VLOOKUP(ROW(),'Übersicht und Druck'!$I$7:$K$53,3,TRUE)","v":{"$error":"#N/A"}}]
[{"$f":"VLOOKUP(ROW(),'Übersicht und Druck'!$I$7:$K$53,3,TRUE)","v":{"$error":"#N/A"}}]
[{"$f":"VLOOKUP(ROW(),'Übersicht und Druck'!$I$7:$K$53,3,TRUE)","v":{"$error":"#N/A"}}]
[{"$f":"VLOOKUP(ROW(),'Übersicht und Druck'!$I$7:$K$53,3,TRUE)","v":{"$error":"#N/A"}}]
[{"$f":"VLOOKUP(ROW(),'Übersicht und Druck'!$I$7:$K$53,3,TRUE)","v":{"$error":"#N/A"}}]
[{"$f":"VLOOKUP(ROW(),'Übersicht und Druck'!$I$7:$K$53,3,TRUE)","v":{"$error":"#N/A"}}]
[{"$f":"VLOOKUP(ROW(),'Übersicht und Druck'!$I$7:$K$53,3,TRUE)","v":{"$error":"#N/A"}}]
[{"$f":"VLOOKUP(ROW(),'Übersicht und Druck'!$I$7:$K$53,3,TRUE)","v":{"$error":"#N/A"}}]
[{"$f":"VLOOKUP(ROW(),'Übersicht und Druck'!$I$7:$K$53,3,TRUE)","v":{"$error":"#N/A"}}]
[{"$f":"VLOOKUP(ROW(),'Übersicht und Druck'!$I$7:$K$53,3,TRUE)","v":{"$error":"#N/A"}}]
[{"$f":"VLOOKUP(ROW(),'Übersicht und Druck'!$I$7:$K$53,3,TRUE)","v":0}]
[{"$f":"VLOOKUP(ROW(),'Übersicht und Druck'!$I$7:$K$53,3,TRUE)","v":0}]
[{"$f":"VLOOKUP(ROW(),'Übersicht und Druck'!$I$7:$K$53,3,TRUE)","v":0}]
[{"$f":"VLOOKUP(ROW(),'Übersicht und Druck'!$I$7:$K$53,3,TRUE)","v":0}]
[{"$f":"VLOOKUP(ROW(),'Übersicht und Druck'!$I$7:$K$53,3,TRUE)","v":0}]
[{"$f":"VLOOKUP(ROW(),'Übersicht und Druck'!$I$7:$K$53,3,TRUE)","v":0}]
[{"$f":"VLOOKUP(ROW(),'Übersicht und Druck'!$I$7:$K$53,3,TRUE)","v":0}]
[{"$f":"VLOOKUP(ROW(),'Übersicht und Druck'!$I$7:$K$53,3,TRUE)","v":0}]
[{"$f":"VLOOKUP(ROW(),'Übersicht und Druck'!$I$7:$K$53,3,TRUE)","v":0}]
[{"$f":"VLOOKUP(ROW(),'Übersicht und Druck'!$I$7:$K$53,3,TRUE)","v":0}]
[{"$f":"VLOOKUP(ROW(),'Übersicht und Druck'!$I$7:$K$53,3,TRUE)","v":0}]
[{"$f":"VLOOKUP(ROW(),'Übersicht und Druck'!$I$7:$K$53,3,TRUE)","v":0}]
[{"$f":"VLOOKUP(ROW(),'Übersicht und Druck'!$I$7:$K$53,3,TRUE)","v":0}]
[{"$f":"VLOOKUP(ROW(),'Übersicht und Druck'!$I$7:$K$53,3,TRUE)","v":0}]
[{"$f":"VLOOKUP(ROW(),'Übersicht und Druck'!$I$7:$K$53,3,TRUE)","v":0}]
[{"$f":"VLOOKUP(ROW(),'Übersicht und Druck'!$I$7:$K$53,3,TRUE)","v":0}]
[{"$f":"VLOOKUP(ROW(),'Übersicht und Druck'!$I$7:$K$53,3,TRUE)","v":0}]
[{"$f":"VLOOKUP(ROW(),'Übersicht und Druck'!$I$7:$K$53,3,TRUE)","v":0}]
[{"$f":"VLOOKUP(ROW(),'Übersicht und Druck'!$I$7:$K$53,3,TRUE)","v":0}]
[{"$f":"VLOOKUP(ROW(),'Übersicht und Druck'!$I$7:$K$53,3,TRUE)","v":0}]
[{"$f":"VLOOKUP(ROW(),'Übersicht und Druck'!$I$7:$K$53,3,TRUE)","v":0}]
[{"$f":"VLOOKUP(ROW(),'Übersicht und Druck'!$I$7:$K$53,3,TRUE)","v":0}]
[{"$f":"VLOOKUP(ROW(),'Übersicht und Druck'!$I$7:$K$53,3,TRUE)","v":0}]
[{"$f":"VLOOKUP(ROW(),'Übersicht und Druck'!$I$7:$K$53,3,TRUE)","v":0}]
[{"$f":"VLOOKUP(ROW(),'Übersicht und Druck'!$I$7:$K$53,3,TRUE)","v":0}]
[{"$f":"VLOOKUP(ROW(),'Übersicht und Druck'!$I$7:$K$53,3,TRUE)","v":0}]
[{"$f":"VLOOKUP(ROW(),'Übersicht und Druck'!$I$7:$K$53,3,TRUE)","v":0}]
[{"$f":"VLOOKUP(ROW(),'Übersicht und Druck'!$I$7:$K$53,3,TRUE)","v":0}]
[{"$f":"VLOOKUP(ROW(),'Übersicht und Druck'!$I$7:$K$53,3,TRUE)","v":0}]
[{"$f":"VLOOKUP(ROW(),'Übersicht und Druck'!$I$7:$K$53,3,TRUE)","v":0}]
[{"$f":"VLOOKUP(ROW(),'Übersicht und Druck'!$I$7:$K$53,3,TRUE)","v":0}]
[{"$f":"VLOOKUP(ROW(),'Übersicht und Druck'!$I$7:$K$53,3,TRUE)","v":0}]
[{"$f":"VLOOKUP(ROW(),'Übersicht und Druck'!$I$7:$K$53,3,TRUE)","v":0}]
[{"$f":"VLOOKUP(ROW(),'Übersicht und Druck'!$I$7:$K$53,3,TRUE)","v":0}]
[{"$f":"VLOOKUP(ROW(),'Übersicht und Druck'!$I$7:$K$53,3,TRUE)","v":0}]
[{"$f":"VLOOKUP(ROW(),'Übersicht und Druck'!$I$7:$K$53,3,TRUE)","v":0}]
[{"$f":"VLOOKUP(ROW(),'Übersicht und Druck'!$I$7:$K$53,3,TRUE)","v":0}]
[{"$f":"VLOOKUP(ROW(),'Übersicht und Druck'!$I$7:$K$53,3,TRUE)","v":0}]
[{"$f":"VLOOKUP(ROW(),'Übersicht und Druck'!$I$7:$K$53,3,TRUE)","v":0}]
[{"$f":"VLOOKUP(ROW(),'Übersicht und Druck'!$I$7:$K$53,3,TRUE)","v":0}]
[{"$f":"VLOOKUP(ROW(),'Übersicht und Druck'!$I$7:$K$53,3,TRUE)","v":0}]
[{"$f":"VLOOKUP(ROW(),'Übersicht und Druck'!$I$7:$K$53,3,TRUE)","v":0}]
[{"$f":"VLOOKUP(ROW(),'Übersicht und Druck'!$I$7:$K$53,3,TRUE)","v":0}]
[{"$f":"VLOOKUP(ROW(),'Übersicht und Druck'!$I$7:$K$53,3,TRUE)","v":0}]
[{"$f":"VLOOKUP(ROW(),'Übersicht und Druck'!$I$7:$K$53,3,TRUE)","v":0}]
[{"$f":"VLOOKUP(ROW(),'Übersicht und Druck'!$I$7:$K$53,3,TRUE)","v":0}]
[{"$f":"VLOOKUP(ROW(),'Übersicht und Druck'!$I$7:$K$53,3,TRUE)","v":0}]
[{"$f":"VLOOKUP(ROW(),'Übersicht und Druck'!$I$7:$K$53,3,TRUE)","v":0}]
[{"$f":"VLOOKUP(ROW(),'Übersicht und Druck'!$I$7:$K$53,3,TRUE)","v":0}]
[{"$f":"VLOOKUP(ROW(),'Übersicht und Druck'!$I$7:$K$53,3,TRUE)","v":0}]
[{"$f":"VLOOKUP(ROW(),'Übersicht und Druck'!$I$7:$K$53,3,TRUE)","v":0}]
[{"$f":"VLOOKUP(ROW(),'Übersicht und Druck'!$I$7:$K$53,3,TRUE)","v":0}]
[{"$f":"VLOOKUP(ROW(),'Übersicht und Druck'!$I$7:$K$53,3,TRUE)","v":0}]
[{"$f":"VLOOKUP(ROW(),'Übersicht und Druck'!$I$7:$K$53,3,TRUE)","v":0}]
[{"$f":"VLOOKUP(ROW(),'Übersicht und Druck'!$I$7:$K$53,3,TRUE)","v":0}]
[{"$f":"VLOOKUP(ROW(),'Übersicht und Druck'!$I$7:$K$53,3,TRUE)","v":0}]
[{"$f":"VLOOKUP(ROW(),'Übersicht und Druck'!$I$7:$K$53,3,TRUE)","v":0}]
[{"$f":"VLOOKUP(ROW(),'Übersicht und Druck'!$I$7:$K$53,3,TRUE)","v":0}]
[{"$f":"VLOOKUP(ROW(),'Übersicht und Druck'!$I$7:$K$53,3,TRUE)","v":0}]
[{"$f":"VLOOKUP(ROW(),'Übersicht und Druck'!$I$7:$K$53,3,TRUE)","v":0}]
[{"$f":"VLOOKUP(ROW(),'Übersicht und Druck'!$I$7:$K$53,3,TRUE)","v":0}]
[{"$f":"VLOOKUP(ROW(),'Übersicht und Druck'!$I$7:$K$53,3,TRUE)","v":0}]
[{"$f":"VLOOKUP(ROW(),'Übersicht und Druck'!$I$7:$K$53,3,TRUE)","v":0}]
[{"$f":"VLOOKUP(ROW(),'Übersicht und Druck'!$I$7:$K$53,3,TRUE)","v":0}]
[{"$f":"VLOOKUP(ROW(),'Übersicht und Druck'!$I$7:$K$53,3,TRUE)","v":0}]
[{"$f":"VLOOKUP(ROW(),'Übersicht und Druck'!$I$7:$K$53,3,TRUE)","v":0}]
[{"$f":"VLOOKUP(ROW(),'Übersicht und Druck'!$I$7:$K$53,3,TRUE)","v":0}]
[{"$f":"VLOOKUP(ROW(),'Übersicht und Druck'!$I$7:$K$53,3,TRUE)","v":0}]
[{"$f":"VLOOKUP(ROW(),'Übersicht und Druck'!$I$7:$K$53,3,TRUE)","v":0}]
[{"$f":"VLOOKUP(ROW(),'Übersicht und Druck'!$I$7:$K$53,3,TRUE)","v":0}]
[{"$f":"VLOOKUP(ROW(),'Übersicht und Druck'!$I$7:$K$53,3,TRUE)","v":0}]
[{"$f":"VLOOKUP(ROW(),'Übersicht und Druck'!$I$7:$K$53,3,TRUE)","v":0}]
[{"$f":"VLOOKUP(ROW(),'Übersicht und Druck'!$I$7:$K$53,3,TRUE)","v":0}]
[{"$f":"VLOOKUP(ROW(),'Übersicht und Druck'!$I$7:$K$53,3,TRUE)","v":0}]
[{"$f":"VLOOKUP(ROW(),'Übersicht und Druck'!$I$7:$K$53,3,TRUE)","v":0}]
[{"$f":"VLOOKUP(ROW(),'Übersicht und Druck'!$I$7:$K$53,3,TRUE)","v":0}]
[{"$f":"VLOOKUP(ROW(),'Übersicht und Druck'!$I$7:$K$53,3,TRUE)","v":0}]
[{"$f":"VLOOKUP(ROW(),'Übersicht und Druck'!$I$7:$K$53,3,TRUE)","v":0}]
[{"$f":"VLOOKUP(ROW(),'Übersicht und Druck'!$I$7:$K$53,3,TRUE)","v":0}]
[{"$f":"VLOOKUP(ROW(),'Übersicht und Druck'!$I$7:$K$53,3,TRUE)","v":0}]
[{"$f":"VLOOKUP(ROW(),'Übersicht und Druck'!$I$7:$K$53,3,TRUE)","v":0}]
[{"$f":"VLOOKUP(ROW(),'Übersicht und Druck'!$I$7:$K$53,3,TRUE)","v":0}]
[{"$f":"VLOOKUP(ROW(),'Übersicht und Druck'!$I$7:$K$53,3,TRUE)","v":0}]
[{"$f":"VLOOKUP(ROW(),'Übersicht und Druck'!$I$7:$K$53,3,TRUE)","v":0}]
[{"$f":"VLOOKUP(ROW(),'Übersicht und Druck'!$I$7:$K$53,3,TRUE)","v":0}]
[{"$f":"VLOOKUP(ROW(),'Übersicht und Druck'!$I$7:$K$53,3,TRUE)","v":0}]
[{"$f":"VLOOKUP(ROW(),'Übersicht und Druck'!$I$7:$K$53,3,TRUE)","v":0}]
[{"$f":"VLOOKUP(ROW(),'Übersicht und Druck'!$I$7:$K$53,3,TRUE)","v":0}]
[{"$f":"VLOOKUP(ROW(),'Übersicht und Druck'!$I$7:$K$53,3,TRUE)","v":0}]
[{"$f":"VLOOKUP(ROW(),'Übersicht und Druck'!$I$7:$K$53,3,TRUE)","v":0}]
[{"$f":"VLOOKUP(ROW(),'Übersicht und Druck'!$I$7:$K$53,3,TRUE)","v":0}]
[{"$f":"VLOOKUP(ROW(),'Übersicht und Druck'!$I$7:$K$53,3,TRUE)","v":0}]
[{"$f":"VLOOKUP(ROW(),'Übersicht und Druck'!$I$7:$K$53,3,TRUE)","v":0}]
[{"$f":"VLOOKUP(ROW(),'Übersicht und Druck'!$I$7:$K$53,3,TRUE)","v":0}]
[{"$f":"VLOOKUP(ROW(),'Übersicht und Druck'!$I$7:$K$53,3,TRUE)","v":0}]
[{"$f":"VLOOKUP(ROW(),'Übersicht und Druck'!$I$7:$K$53,3,TRUE)","v":0}]
[{"$f":"VLOOKUP(ROW(),'Übersicht und Druck'!$I$7:$K$53,3,TRUE)","v":0}]
[{"$f":"VLOOKUP(ROW(),'Übersicht und Druck'!$I$7:$K$53,3,TRUE)","v":0}]
[{"$f":"VLOOKUP(ROW(),'Übersicht und Druck'!$I$7:$K$53,3,TRUE)","v":0}]
[{"$f":"VLOOKUP(ROW(),'Übersicht und Druck'!$I$7:$K$53,3,TRUE)","v":0}]
[{"$f":"VLOOKUP(ROW(),'Übersicht und Druck'!$I$7:$K$53,3,TRUE)","v":0}]
[{"$f":"VLOOKUP(ROW(),'Übersicht und Druck'!$I$7:$K$53,3,TRUE)","v":0}]
[{"$f":"VLOOKUP(ROW(),'Übersicht und Druck'!$I$7:$K$53,3,TRUE)","v":0}]
[{"$f":"VLOOKUP(ROW(),'Übersicht und Druck'!$I$7:$K$53,3,TRUE)","v":0}]
[{"$f":"VLOOKUP(ROW(),'Übersicht und Druck'!$I$7:$K$53,3,TRUE)","v":0}]
[{"$f":"VLOOKUP(ROW(),'Übersicht und Druck'!$I$7:$K$53,3,TRUE)","v":0}]
[{"$f":"VLOOKUP(ROW(),'Übersicht und Druck'!$I$7:$K$53,3,TRUE)","v":0}]
[{"$f":"VLOOKUP(ROW(),'Übersicht und Druck'!$I$7:$K$53,3,TRUE)","v":0}]
[{"$f":"VLOOKUP(ROW(),'Übersicht und Druck'!$I$7:$K$53,3,TRUE)","v":0}]
[{"$f":"VLOOKUP(ROW(),'Übersicht und Druck'!$I$7:$K$53,3,TRUE)","v":0}]
[{"$f":"VLOOKUP(ROW(),'Übersicht und Druck'!$I$7:$K$53,3,TRUE)","v":0}]
[{"$f":"VLOOKUP(ROW(),'Übersicht und Druck'!$I$7:$K$53,3,TRUE)","v":0}]
[{"$f":"VLOOKUP(ROW(),'Übersicht und Druck'!$I$7:$K$53,3,TRUE)","v":0}]
[{"$f":"VLOOKUP(ROW(),'Übersicht und Druck'!$I$7:$K$53,3,TRUE)","v":0}]
[{"$f":"VLOOKUP(ROW(),'Übersicht und Druck'!$I$7:$K$53,3,TRUE)","v":0}]
[{"$f":"VLOOKUP(ROW(),'Übersicht und Druck'!$I$7:$K$53,3,TRUE)","v":0}]
[{"$f":"VLOOKUP(ROW(),'Übersicht und Druck'!$I$7:$K$53,3,TRUE)","v":0}]
[{"$f":"VLOOKUP(ROW(),'Übersicht und Druck'!$I$7:$K$53,3,TRUE)","v":0}]
[{"$f":"VLOOKUP(ROW(),'Übersicht und Druck'!$I$7:$K$53,3,TRUE)","v":0}]
[{"$f":"VLOOKUP(ROW(),'Übersicht und Druck'!$I$7:$K$53,3,TRUE)","v":0}]
[{"$f":"VLOOKUP(ROW(),'Übersicht und Druck'!$I$7:$K$53,3,TRUE)","v":0}]
[{"$f":"VLOOKUP(ROW(),'Übersicht und Druck'!$I$7:$K$53,3,TRUE)","v":0}]
[{"$f":"VLOOKUP(ROW(),'Übersicht und Druck'!$I$7:$K$53,3,TRUE)","v":0}]
[{"$f":"VLOOKUP(ROW(),'Übersicht und Druck'!$I$7:$K$53,3,TRUE)","v":0}]
[{"$f":"VLOOKUP(ROW(),'Übersicht und Druck'!$I$7:$K$53,3,TRUE)","v":0}]
[{"$f":"VLOOKUP(ROW(),'Übersicht und Druck'!$I$7:$K$53,3,TRUE)","v":0}]
[{"$f":"VLOOKUP(ROW(),'Übersicht und Druck'!$I$7:$K$53,3,TRUE)","v":0}]
[{"$f":"VLOOKUP(ROW(),'Übersicht und Druck'!$I$7:$K$53,3,TRUE)","v":0}]
[{"$f":"VLOOKUP(ROW(),'Übersicht und Druck'!$I$7:$K$53,3,TRUE)","v":0}]
[{"$f":"VLOOKUP(ROW(),'Übersicht und Druck'!$I$7:$K$53,3,TRUE)","v":0}]
[{"$f":"VLOOKUP(ROW(),'Übersicht und Druck'!$I$7:$K$53,3,TRUE)","v":0}]
[{"$f":"VLOOKUP(ROW(),'Übersicht und Druck'!$I$7:$K$53,3,TRUE)","v":0}]
[{"$f":"VLOOKUP(ROW(),'Übersicht und Druck'!$I$7:$K$53,3,TRUE)","v":0}]
[{"$f":"VLOOKUP(ROW(),'Übersicht und Druck'!$I$7:$K$53,3,TRUE)","v":0}]
[{"$f":"VLOOKUP(ROW(),'Übersicht und Druck'!$I$7:$K$53,3,TRUE)","v":0}]
[{"$f":"VLOOKUP(ROW(),'Übersicht und Druck'!$I$7:$K$53,3,TRUE)","v":0}]
[{"$f":"VLOOKUP(ROW(),'Übersicht und Druck'!$I$7:$K$53,3,TRUE)","v":0}]
[{"$f":"VLOOKUP(ROW(),'Übersicht und Druck'!$I$7:$K$53,3,TRUE)","v":0}]
[{"$f":"VLOOKUP(ROW(),'Übersicht und Druck'!$I$7:$K$53,3,TRUE)","v":0}]
[{"$f":"VLOOKUP(ROW(),'Übersicht und Druck'!$I$7:$K$53,3,TRUE)","v":0}]
[{"$f":"VLOOKUP(ROW(),'Übersicht und Druck'!$I$7:$K$53,3,TRUE)","v":0}]
[{"$f":"VLOOKUP(ROW(),'Übersicht und Druck'!$I$7:$K$53,3,TRUE)","v":0}]
[{"$f":"VLOOKUP(ROW(),'Übersicht und Druck'!$I$7:$K$53,3,TRUE)","v":0}]
[{"$f":"VLOOKUP(ROW(),'Übersicht und Druck'!$I$7:$K$53,3,TRUE)","v":0}]
[{"$f":"VLOOKUP(ROW(),'Übersicht und Druck'!$I$7:$K$53,3,TRUE)","v":0}]
[{"$f":"VLOOKUP(ROW(),'Übersicht und Druck'!$I$7:$K$53,3,TRUE)","v":0}]
[{"$f":"VLOOKUP(ROW(),'Übersicht und Druck'!$I$7:$K$53,3,TRUE)","v":0}]
[{"$f":"VLOOKUP(ROW(),'Übersicht und Druck'!$I$7:$K$53,3,TRUE)","v":0}]
[{"$f":"VLOOKUP(ROW(),'Übersicht und Druck'!$I$7:$K$53,3,TRUE)","v":0}]
[{"$f":"VLOOKUP(ROW(),'Übersicht und Druck'!$I$7:$K$53,3,TRUE)","v":0}]
[{"$f":"VLOOKUP(ROW(),'Übersicht und Druck'!$I$7:$K$53,3,TRUE)","v":0}]
[{"$f":"VLOOKUP(ROW(),'Übersicht und Druck'!$I$7:$K$53,3,TRUE)","v":0}]
[{"$f":"VLOOKUP(ROW(),'Übersicht und Druck'!$I$7:$K$53,3,TRUE)","v":0}]
[{"$f":"VLOOKUP(ROW(),'Übersicht und Druck'!$I$7:$K$53,3,TRUE)","v":0}]
[{"$f":"VLOOKUP(ROW(),'Übersicht und Druck'!$I$7:$K$53,3,TRUE)","v":0}]
[{"$f":"VLOOKUP(ROW(),'Übersicht und Druck'!$I$7:$K$53,3,TRUE)","v":0}]
[{"$f":"VLOOKUP(ROW(),'Übersicht und Druck'!$I$7:$K$53,3,TRUE)","v":0}]
[{"$f":"VLOOKUP(ROW(),'Übersicht und Druck'!$I$7:$K$53,3,TRUE)","v":0}]
[{"$f":"VLOOKUP(ROW(),'Übersicht und Druck'!$I$7:$K$53,3,TRUE)","v":0}]
[{"$f":"VLOOKUP(ROW(),'Übersicht und Druck'!$I$7:$K$53,3,TRUE)","v":0}]
[{"$f":"VLOOKUP(ROW(),'Übersicht und Druck'!$I$7:$K$53,3,TRUE)","v":0}]
[{"$f":"VLOOKUP(ROW(),'Übersicht und Druck'!$I$7:$K$53,3,TRUE)","v":0}]
[{"$f":"VLOOKUP(ROW(),'Übersicht und Druck'!$I$7:$K$53,3,TRUE)","v":0}]
[{"$f":"VLOOKUP(ROW(),'Übersicht und Druck'!$I$7:$K$53,3,TRUE)","v":0}]
[{"$f":"VLOOKUP(ROW(),'Übersicht und Druck'!$I$7:$K$53,3,TRUE)","v":0}]
[{"$f":"VLOOKUP(ROW(),'Übersicht und Druck'!$I$7:$K$53,3,TRUE)","v":0}]
[{"$f":"VLOOKUP(ROW(),'Übersicht und Druck'!$I$7:$K$53,3,TRUE)","v":0}]
[{"$f":"VLOOKUP(ROW(),'Übersicht und Druck'!$I$7:$K$53,3,TRUE)","v":0}]
[{"$f":"VLOOKUP(ROW(),'Übersicht und Druck'!$I$7:$K$53,3,TRUE)","v":0}]
[{"$f":"VLOOKUP(ROW(),'Übersicht und Druck'!$I$7:$K$53,3,TRUE)","v":0}]
[{"$f":"VLOOKUP(ROW(),'Übersicht und Druck'!$I$7:$K$53,3,TRUE)","v":0}]
[{"$f":"VLOOKUP(ROW(),'Übersicht und Druck'!$I$7:$K$53,3,TRUE)","v":0}]
[{"$f":"VLOOKUP(ROW(),'Übersicht und Druck'!$I$7:$K$53,3,TRUE)","v":0}]
[{"$f":"VLOOKUP(ROW(),'Übersicht und Druck'!$I$7:$K$53,3,TRUE)","v":0}]
[{"$f":"VLOOKUP(ROW(),'Übersicht und Druck'!$I$7:$K$53,3,TRUE)","v":0}]
[{"$f":"VLOOKUP(ROW(),'Übersicht und Druck'!$I$7:$K$53,3,TRUE)","v":0}]
[{"$f":"VLOOKUP(ROW(),'Übersicht und Druck'!$I$7:$K$53,3,TRUE)","v":0}]
[{"$f":"VLOOKUP(ROW(),'Übersicht und Druck'!$I$7:$K$53,3,TRUE)","v":0}]
[{"$f":"VLOOKUP(ROW(),'Übersicht und Druck'!$I$7:$K$53,3,TRUE)","v":0}]
[{"$f":"VLOOKUP(ROW(),'Übersicht und Druck'!$I$7:$K$53,3,TRUE)","v":0}]
[{"$f":"VLOOKUP(ROW(),'Übersicht und Druck'!$I$7:$K$53,3,TRUE)","v":0}]
[{"$f":"VLOOKUP(ROW(),'Übersicht und Druck'!$I$7:$K$53,3,TRUE)","v":0}]
[{"$f":"VLOOKUP(ROW(),'Übersicht und Druck'!$I$7:$K$53,3,TRUE)","v":0}]
[{"$f":"VLOOKUP(ROW(),'Übersicht und Druck'!$I$7:$K$53,3,TRUE)","v":0}]
[{"$f":"VLOOKUP(ROW(),'Übersicht und Druck'!$I$7:$K$53,3,TRUE)","v":0}]
[{"$f":"VLOOKUP(ROW(),'Übersicht und Druck'!$I$7:$K$53,3,TRUE)","v":0}]
[{"$f":"VLOOKUP(ROW(),'Übersicht und Druck'!$I$7:$K$53,3,TRUE)","v":0}]
[{"$f":"VLOOKUP(ROW(),'Übersicht und Druck'!$I$7:$K$53,3,TRUE)","v":0}]
[{"$f":"VLOOKUP(ROW(),'Übersicht und Druck'!$I$7:$K$53,3,TRUE)","v":0}]
[{"$f":"VLOOKUP(ROW(),'Übersicht und Druck'!$I$7:$K$53,3,TRUE)","v":0}]
[{"$f":"VLOOKUP(ROW(),'Übersicht und Druck'!$I$7:$K$53,3,TRUE)","v":0}]
[{"$f":"VLOOKUP(ROW(),'Übersicht und Druck'!$I$7:$K$53,3,TRUE)","v":0}]
[{"$f":"VLOOKUP(ROW(),'Übersicht und Druck'!$I$7:$K$53,3,TRUE)","v":0}]
[{"$f":"VLOOKUP(ROW(),'Übersicht und Druck'!$I$7:$K$53,3,TRUE)","v":0}]
[{"$f":"VLOOKUP(ROW(),'Übersicht und Druck'!$I$7:$K$53,3,TRUE)","v":0}]
[{"$f":"VLOOKUP(ROW(),'Übersicht und Druck'!$I$7:$K$53,3,TRUE)","v":0}]
[{"$f":"VLOOKUP(ROW(),'Übersicht und Druck'!$I$7:$K$53,3,TRUE)","v":0}]
[{"$f":"VLOOKUP(ROW(),'Übersicht und Druck'!$I$7:$K$53,3,TRUE)","v":0}]
[{"$f":"VLOOKUP(ROW(),'Übersicht und Druck'!$I$7:$K$53,3,TRUE)","v":0}]
[{"$f":"VLOOKUP(ROW(),'Übersicht und Druck'!$I$7:$K$53,3,TRUE)","v":0}]
[{"$f":"VLOOKUP(ROW(),'Übersicht und Druck'!$I$7:$K$53,3,TRUE)","v":0}]
[{"$f":"VLOOKUP(ROW(),'Übersicht und Druck'!$I$7:$K$53,3,TRUE)","v":0}]
[{"$f":"VLOOKUP(ROW(),'Übersicht und Druck'!$I$7:$K$53,3,TRUE)","v":0}]
[{"$f":"VLOOKUP(ROW(),'Übersicht und Druck'!$I$7:$K$53,3,TRUE)","v":0}]
[{"$f":"VLOOKUP(ROW(),'Übersicht und Druck'!$I$7:$K$53,3,TRUE)","v":0}]
[{"$f":"VLOOKUP(ROW(),'Übersicht und Druck'!$I$7:$K$53,3,TRUE)","v":0}]
[{"$f":"VLOOKUP(ROW(),'Übersicht und Druck'!$I$7:$K$53,3,TRUE)","v":0}]
[{"$f":"VLOOKUP(ROW(),'Übersicht und Druck'!$I$7:$K$53,3,TRUE)","v":0}]
[{"$f":"VLOOKUP(ROW(),'Übersicht und Druck'!$I$7:$K$53,3,TRUE)","v":0}]
[{"$f":"VLOOKUP(ROW(),'Übersicht und Druck'!$I$7:$K$53,3,TRUE)","v":0}]
[{"$f":"VLOOKUP(ROW(),'Übersicht und Druck'!$I$7:$K$53,3,TRUE)","v":0}]
[{"$f":"VLOOKUP(ROW(),'Übersicht und Druck'!$I$7:$K$53,3,TRUE)","v":0}]
[{"$f":"VLOOKUP(ROW(),'Übersicht und Druck'!$I$7:$K$53,3,TRUE)","v":0}]
[{"$f":"VLOOKUP(ROW(),'Übersicht und Druck'!$I$7:$K$53,3,TRUE)","v":0}]
[{"$f":"VLOOKUP(ROW(),'Übersicht und Druck'!$I$7:$K$53,3,TRUE)","v":0}]
[{"$f":"VLOOKUP(ROW(),'Übersicht und Druck'!$I$7:$K$53,3,TRUE)","v":0}]
[{"$f":"VLOOKUP(ROW(),'Übersicht und Druck'!$I$7:$K$53,3,TRUE)","v":0}]
[{"$f":"VLOOKUP(ROW(),'Übersicht und Druck'!$I$7:$K$53,3,TRUE)","v":0}]
[{"$f":"VLOOKUP(ROW(),'Übersicht und Druck'!$I$7:$K$53,3,TRUE)","v":0}]
[{"$f":"VLOOKUP(ROW(),'Übersicht und Druck'!$I$7:$K$53,3,TRUE)","v":0}]
[{"$f":"VLOOKUP(ROW(),'Übersicht und Druck'!$I$7:$K$53,3,TRUE)","v":0}]
[{"$f":"VLOOKUP(ROW(),'Übersicht und Druck'!$I$7:$K$53,3,TRUE)","v":0}]
[{"$f":"VLOOKUP(ROW(),'Übersicht und Druck'!$I$7:$K$53,3,TRUE)","v":0}]
[{"$f":"VLOOKUP(ROW(),'Übersicht und Druck'!$I$7:$K$53,3,TRUE)","v":0}]
[{"$f":"VLOOKUP(ROW(),'Übersicht und Druck'!$I$7:$K$53,3,TRUE)","v":0}]
[{"$f":"VLOOKUP(ROW(),'Übersicht und Druck'!$I$7:$K$53,3,TRUE)","v":0}]
[{"$f":"VLOOKUP(ROW(),'Übersicht und Druck'!$I$7:$K$53,3,TRUE)","v":0}]
[{"$f":"VLOOKUP(ROW(),'Übersicht und Druck'!$I$7:$K$53,3,TRUE)","v":0}]
[{"$f":"VLOOKUP(ROW(),'Übersicht und Druck'!$I$7:$K$53,3,TRUE)","v":0}]
[{"$f":"VLOOKUP(ROW(),'Übersicht und Druck'!$I$7:$K$53,3,TRUE)","v":0}]
[{"$f":"VLOOKUP(ROW(),'Übersicht und Druck'!$I$7:$K$53,3,TRUE)","v":0}]
[{"$f":"VLOOKUP(ROW(),'Übersicht und Druck'!$I$7:$K$53,3,TRUE)","v":0}]
[{"$f":"VLOOKUP(ROW(),'Übersicht und Druck'!$I$7:$K$53,3,TRUE)","v":0}]
[{"$f":"VLOOKUP(ROW(),'Übersicht und Druck'!$I$7:$K$53,3,TRUE)","v":0}]
[{"$f":"VLOOKUP(ROW(),'Übersicht und Druck'!$I$7:$K$53,3,TRUE)","v":0}]
[{"$f":"VLOOKUP(ROW(),'Übersicht und Druck'!$I$7:$K$53,3,TRUE)","v":0}]
[{"$f":"VLOOKUP(ROW(),'Übersicht und Druck'!$I$7:$K$53,3,TRUE)","v":0}]
[{"$f":"VLOOKUP(ROW(),'Übersicht und Druck'!$I$7:$K$53,3,TRUE)","v":0}]
[{"$f":"VLOOKUP(ROW(),'Übersicht und Druck'!$I$7:$K$53,3,TRUE)","v":0}]
[{"$f":"VLOOKUP(ROW(),'Übersicht und Druck'!$I$7:$K$53,3,TRUE)","v":0}]
[{"$f":"VLOOKUP(ROW(),'Übersicht und Druck'!$I$7:$K$53,3,TRUE)","v":0}]
[{"$f":"VLOOKUP(ROW(),'Übersicht und Druck'!$I$7:$K$53,3,TRUE)","v":0}]
[{"$f":"VLOOKUP(ROW(),'Übersicht und Druck'!$I$7:$K$53,3,TRUE)","v":0}]
[{"$f":"VLOOKUP(ROW(),'Übersicht und Druck'!$I$7:$K$53,3,TRUE)","v":0}]
[{"$f":"VLOOKUP(ROW(),'Übersicht und Druck'!$I$7:$K$53,3,TRUE)","v":0}]
[{"$f":"VLOOKUP(ROW(),'Übersicht und Druck'!$I$7:$K$53,3,TRUE)","v":0}]
[{"$f":"VLOOKUP(ROW(),'Übersicht und Druck'!$I$7:$K$53,3,TRUE)","v":0}]
[{"$f":"VLOOKUP(ROW(),'Übersicht und Druck'!$I$7:$K$53,3,TRUE)","v":0}]
[{"$f":"VLOOKUP(ROW(),'Übersicht und Druck'!$I$7:$K$53,3,TRUE)","v":0}]
[{"$f":"VLOOKUP(ROW(),'Übersicht und Druck'!$I$7:$K$53,3,TRUE)","v":0}]
[{"$f":"VLOOKUP(ROW(),'Übersicht und Druck'!$I$7:$K$53,3,TRUE)","v":0}]
[{"$f":"VLOOKUP(ROW(),'Übersicht und Druck'!$I$7:$K$53,3,TRUE)","v":0}]
[{"$f":"VLOOKUP(ROW(),'Übersicht und Druck'!$I$7:$K$53,3,TRUE)","v":0}]
[{"$f":"VLOOKUP(ROW(),'Übersicht und Druck'!$I$7:$K$53,3,TRUE)","v":0}]
[{"$f":"VLOOKUP(ROW(),'Übersicht und Druck'!$I$7:$K$53,3,TRUE)","v":0}]
[{"$f":"VLOOKUP(ROW(),'Übersicht und Druck'!$I$7:$K$53,3,TRUE)","v":0}]
[{"$f":"VLOOKUP(ROW(),'Übersicht und Druck'!$I$7:$K$53,3,TRUE)","v":0}]
[{"$f":"VLOOKUP(ROW(),'Übersicht und Druck'!$I$7:$K$53,3,TRUE)","v":0}]
[{"$f":"VLOOKUP(ROW(),'Übersicht und Druck'!$I$7:$K$53,3,TRUE)","v":0}]
[{"$f":"VLOOKUP(ROW(),'Übersicht und Druck'!$I$7:$K$53,3,TRUE)","v":0}]
[{"$f":"VLOOKUP(ROW(),'Übersicht und Druck'!$I$7:$K$53,3,TRUE)","v":0}]
[{"$f":"VLOOKUP(ROW(),'Übersicht und Druck'!$I$7:$K$53,3,TRUE)","v":0}]
[{"$f":"VLOOKUP(ROW(),'Übersicht und Druck'!$I$7:$K$53,3,TRUE)","v":0}]
[{"$f":"VLOOKUP(ROW(),'Übersicht und Druck'!$I$7:$K$53,3,TRUE)","v":0}]
[{"$f":"VLOOKUP(ROW(),'Übersicht und Druck'!$I$7:$K$53,3,TRUE)","v":0}]
[{"$f":"VLOOKUP(ROW(),'Übersicht und Druck'!$I$7:$K$53,3,TRUE)","v":0}]
[{"$f":"VLOOKUP(ROW(),'Übersicht und Druck'!$I$7:$K$53,3,TRUE)","v":0}]
[{"$f":"VLOOKUP(ROW(),'Übersicht und Druck'!$I$7:$K$53,3,TRUE)","v":0}]
[{"$f":"VLOOKUP(ROW(),'Übersicht und Druck'!$I$7:$K$53,3,TRUE)","v":0}]
[{"$f":"VLOOKUP(ROW(),'Übersicht und Druck'!$I$7:$K$53,3,TRUE)","v":0}]
[{"$f":"VLOOKUP(ROW(),'Übersicht und Druck'!$I$7:$K$53,3,TRUE)","v":0}]
[{"$f":"VLOOKUP(ROW(),'Übersicht und Druck'!$I$7:$K$53,3,TRUE)","v":0}]
[{"$f":"VLOOKUP(ROW(),'Übersicht und Druck'!$I$7:$K$53,3,TRUE)","v":0}]
[{"$f":"VLOOKUP(ROW(),'Übersicht und Druck'!$I$7:$K$53,3,TRUE)","v":0}]
[{"$f":"VLOOKUP(ROW(),'Übersicht und Druck'!$I$7:$K$53,3,TRUE)","v":0}]
[{"$f":"VLOOKUP(ROW(),'Übersicht und Druck'!$I$7:$K$53,3,TRUE)","v":0}]
[{"$f":"VLOOKUP(ROW(),'Übersicht und Druck'!$I$7:$K$53,3,TRUE)","v":0}]
[{"$f":"VLOOKUP(ROW(),'Übersicht und Druck'!$I$7:$K$53,3,TRUE)","v":0}]
[{"$f":"VLOOKUP(ROW(),'Übersicht und Druck'!$I$7:$K$53,3,TRUE)","v":0}]
[{"$f":"VLOOKUP(ROW(),'Übersicht und Druck'!$I$7:$K$53,3,TRUE)","v":0}]
[{"$f":"VLOOKUP(ROW(),'Übersicht und Druck'!$I$7:$K$53,3,TRUE)","v":0}]
[{"$f":"VLOOKUP(ROW(),'Übersicht und Druck'!$I$7:$K$53,3,TRUE)","v":0}]
[{"$f":"VLOOKUP(ROW(),'Übersicht und Druck'!$I$7:$K$53,3,TRUE)","v":0}]
[{"$f":"VLOOKUP(ROW(),'Übersicht und Druck'!$I$7:$K$53,3,TRUE)","v":0}]
[{"$f":"VLOOKUP(ROW(),'Übersicht und Druck'!$I$7:$K$53,3,TRUE)","v":0}]
[{"$f":"VLOOKUP(ROW(),'Übersicht und Druck'!$I$7:$K$53,3,TRUE)","v":0}]
[{"$f":"VLOOKUP(ROW(),'Übersicht und Druck'!$I$7:$K$53,3,TRUE)","v":0}]
[{"$f":"VLOOKUP(ROW(),'Übersicht und Druck'!$I$7:$K$53,3,TRUE)","v":0}]
[{"$f":"VLOOKUP(ROW(),'Übersicht und Druck'!$I$7:$K$53,3,TRUE)","v":0}]
[{"$f":"VLOOKUP(ROW(),'Übersicht und Druck'!$I$7:$K$53,3,TRUE)","v":0}]
[{"$f":"VLOOKUP(ROW(),'Übersicht und Druck'!$I$7:$K$53,3,TRUE)","v":0}]
[{"$f":"VLOOKUP(ROW(),'Übersicht und Druck'!$I$7:$K$53,3,TRUE)","v":0}]
[{"$f":"VLOOKUP(ROW(),'Übersicht und Druck'!$I$7:$K$53,3,TRUE)","v":0}]
[{"$f":"VLOOKUP(ROW(),'Übersicht und Druck'!$I$7:$K$53,3,TRUE)","v":0}]
[{"$f":"VLOOKUP(ROW(),'Übersicht und Druck'!$I$7:$K$53,3,TRUE)","v":0}]
[{"$f":"VLOOKUP(ROW(),'Übersicht und Druck'!$I$7:$K$53,3,TRUE)","v":0}]
[{"$f":"VLOOKUP(ROW(),'Übersicht und Druck'!$I$7:$K$53,3,TRUE)","v":0}]
[{"$f":"VLOOKUP(ROW(),'Übersicht und Druck'!$I$7:$K$53,3,TRUE)","v":0}]
[{"$f":"VLOOKUP(ROW(),'Übersicht und Druck'!$I$7:$K$53,3,TRUE)","v":0}]
[{"$f":"VLOOKUP(ROW(),'Übersicht und Druck'!$I$7:$K$53,3,TRUE)","v":0}]
[{"$f":"VLOOKUP(ROW(),'Übersicht und Druck'!$I$7:$K$53,3,TRUE)","v":0}]
[{"$f":"VLOOKUP(ROW(),'Übersicht und Druck'!$I$7:$K$53,3,TRUE)","v":0}]
[{"$f":"VLOOKUP(ROW(),'Übersicht und Druck'!$I$7:$K$53,3,TRUE)","v":0}]
[{"$f":"VLOOKUP(ROW(),'Übersicht und Druck'!$I$7:$K$53,3,TRUE)","v":0}]
[{"$f":"VLOOKUP(ROW(),'Übersicht und Druck'!$I$7:$K$53,3,TRUE)","v":0}]
[{"$f":"VLOOKUP(ROW(),'Übersicht und Druck'!$I$7:$K$53,3,TRUE)","v":0}]
[{"$f":"VLOOKUP(ROW(),'Übersicht und Druck'!$I$7:$K$53,3,TRUE)","v":0}]
[{"$f":"VLOOKUP(ROW(),'Übersicht und Druck'!$I$7:$K$53,3,TRUE)","v":0}]
[{"$f":"VLOOKUP(ROW(),'Übersicht und Druck'!$I$7:$K$53,3,TRUE)","v":0}]
[{"$f":"VLOOKUP(ROW(),'Übersicht und Druck'!$I$7:$K$53,3,TRUE)","v":0}]
[{"$f":"VLOOKUP(ROW(),'Übersicht und Druck'!$I$7:$K$53,3,TRUE)","v":0}]
[{"$f":"VLOOKUP(ROW(),'Übersicht und Druck'!$I$7:$K$53,3,TRUE)","v":0}]
[{"$f":"VLOOKUP(ROW(),'Übersicht und Druck'!$I$7:$K$53,3,TRUE)","v":0}]
[{"$f":"VLOOKUP(ROW(),'Übersicht und Druck'!$I$7:$K$53,3,TRUE)","v":0}]
[{"$f":"VLOOKUP(ROW(),'Übersicht und Druck'!$I$7:$K$53,3,TRUE)","v":0}]
[{"$f":"VLOOKUP(ROW(),'Übersicht und Druck'!$I$7:$K$53,3,TRUE)","v":0}]
[{"$f":"VLOOKUP(ROW(),'Übersicht und Druck'!$I$7:$K$53,3,TRUE)","v":0}]
[{"$f":"VLOOKUP(ROW(),'Übersicht und Druck'!$I$7:$K$53,3,TRUE)","v":0}]
[{"$f":"VLOOKUP(ROW(),'Übersicht und Druck'!$I$7:$K$53,3,TRUE)","v":0}]
[{"$f":"VLOOKUP(ROW(),'Übersicht und Druck'!$I$7:$K$53,3,TRUE)","v":0}]
[{"$f":"VLOOKUP(ROW(),'Übersicht und Druck'!$I$7:$K$53,3,TRUE)","v":0}]
[{"$f":"VLOOKUP(ROW(),'Übersicht und Druck'!$I$7:$K$53,3,TRUE)","v":0}]
[{"$f":"VLOOKUP(ROW(),'Übersicht und Druck'!$I$7:$K$53,3,TRUE)","v":0}]
[{"$f":"VLOOKUP(ROW(),'Übersicht und Druck'!$I$7:$K$53,3,TRUE)","v":0}]
[{"$f":"VLOOKUP(ROW(),'Übersicht und Druck'!$I$7:$K$53,3,TRUE)","v":0}]
[{"$f":"VLOOKUP(ROW(),'Übersicht und Druck'!$I$7:$K$53,3,TRUE)","v":0}]
[{"$f":"VLOOKUP(ROW(),'Übersicht und Druck'!$I$7:$K$53,3,TRUE)","v":0}]
[{"$f":"VLOOKUP(ROW(),'Übersicht und Druck'!$I$7:$K$53,3,TRUE)","v":0}]
[{"$f":"VLOOKUP(ROW(),'Übersicht und Druck'!$I$7:$K$53,3,TRUE)","v":0}]
[{"$f":"VLOOKUP(ROW(),'Übersicht und Druck'!$I$7:$K$53,3,TRUE)","v":0}]
[{"$f":"VLOOKUP(ROW(),'Übersicht und Druck'!$I$7:$K$53,3,TRUE)","v":0}]
[{"$f":"VLOOKUP(ROW(),'Übersicht und Druck'!$I$7:$K$53,3,TRUE)","v":0}]
[{"$f":"VLOOKUP(ROW(),'Übersicht und Druck'!$I$7:$K$53,3,TRUE)","v":0}]
[{"$f":"VLOOKUP(ROW(),'Übersicht und Druck'!$I$7:$K$53,3,TRUE)","v":0}]
[{"$f":"VLOOKUP(ROW(),'Übersicht und Druck'!$I$7:$K$53,3,TRUE)","v":0}]
[{"$f":"VLOOKUP(ROW(),'Übersicht und Druck'!$I$7:$K$53,3,TRUE)","v":0}]
[{"$f":"VLOOKUP(ROW(),'Übersicht und Druck'!$I$7:$K$53,3,TRUE)","v":0}]
[{"$f":"VLOOKUP(ROW(),'Übersicht und Druck'!$I$7:$K$53,3,TRUE)","v":0}]
[{"$f":"VLOOKUP(ROW(),'Übersicht und Druck'!$I$7:$K$53,3,TRUE)","v":0}]
[{"$f":"VLOOKUP(ROW(),'Übersicht und Druck'!$I$7:$K$53,3,TRUE)","v":0}]
[{"$f":"VLOOKUP(ROW(),'Übersicht und Druck'!$I$7:$K$53,3,TRUE)","v":0}]
[{"$f":"VLOOKUP(ROW(),'Übersicht und Druck'!$I$7:$K$53,3,TRUE)","v":0}]
[{"$f":"VLOOKUP(ROW(),'Übersicht und Druck'!$I$7:$K$53,3,TRUE)","v":0}]
[{"$f":"VLOOKUP(ROW(),'Übersicht und Druck'!$I$7:$K$53,3,TRUE)","v":0}]
[{"$f":"VLOOKUP(ROW(),'Übersicht und Druck'!$I$7:$K$53,3,TRUE)","v":0}]
[{"$f":"VLOOKUP(ROW(),'Übersicht und Druck'!$I$7:$K$53,3,TRUE)","v":0}]
[{"$f":"VLOOKUP(ROW(),'Übersicht und Druck'!$I$7:$K$53,3,TRUE)","v":0}]
[{"$f":"VLOOKUP(ROW(),'Übersicht und Druck'!$I$7:$K$53,3,TRUE)","v":0}]
[{"$f":"VLOOKUP(ROW(),'Übersicht und Druck'!$I$7:$K$53,3,TRUE)","v":0}]
[{"$f":"VLOOKUP(ROW(),'Übersicht und Druck'!$I$7:$K$53,3,TRUE)","v":0}]
[{"$f":"VLOOKUP(ROW(),'Übersicht und Druck'!$I$7:$K$53,3,TRUE)","v":0}]
[{"$f":"VLOOKUP(ROW(),'Übersicht und Druck'!$I$7:$K$53,3,TRUE)","v":0}]
[{"$f":"VLOOKUP(ROW(),'Übersicht und Druck'!$I$7:$K$53,3,TRUE)","v":0}]
[{"$f":"VLOOKUP(ROW(),'Übersicht und Druck'!$I$7:$K$53,3,TRUE)","v":0}]
[{"$f":"VLOOKUP(ROW(),'Übersicht und Druck'!$I$7:$K$53,3,TRUE)","v":0}]
[{"$f":"VLOOKUP(ROW(),'Übersicht und Druck'!$I$7:$K$53,3,TRUE)","v":0}]
[{"$f":"VLOOKUP(ROW(),'Übersicht und Druck'!$I$7:$K$53,3,TRUE)","v":0}]
[{"$f":"VLOOKUP(ROW(),'Übersicht und Druck'!$I$7:$K$53,3,TRUE)","v":0}]
[{"$f":"VLOOKUP(ROW(),'Übersicht und Druck'!$I$7:$K$53,3,TRUE)","v":0}]
[{"$f":"VLOOKUP(ROW(),'Übersicht und Druck'!$I$7:$K$53,3,TRUE)","v":0}]
[{"$f":"VLOOKUP(ROW(),'Übersicht und Druck'!$I$7:$K$53,3,TRUE)","v":0}]
[{"$f":"VLOOKUP(ROW(),'Übersicht und Druck'!$I$7:$K$53,3,TRUE)","v":0}]
[{"$f":"VLOOKUP(ROW(),'Übersicht und Druck'!$I$7:$K$53,3,TRUE)","v":0}]
[{"$f":"VLOOKUP(ROW(),'Übersicht und Druck'!$I$7:$K$53,3,TRUE)","v":0}]
[{"$f":"VLOOKUP(ROW(),'Übersicht und Druck'!$I$7:$K$53,3,TRUE)","v":0}]
[{"$f":"VLOOKUP(ROW(),'Übersicht und Druck'!$I$7:$K$53,3,TRUE)","v":0}]
[{"$f":"VLOOKUP(ROW(),'Übersicht und Druck'!$I$7:$K$53,3,TRUE)","v":0}]
[{"$f":"VLOOKUP(ROW(),'Übersicht und Druck'!$I$7:$K$53,3,TRUE)","v":0}]
[{"$f":"VLOOKUP(ROW(),'Übersicht und Druck'!$I$7:$K$53,3,TRUE)","v":0}]
[{"$f":"VLOOKUP(ROW(),'Übersicht und Druck'!$I$7:$K$53,3,TRUE)","v":0}]
[{"$f":"VLOOKUP(ROW(),'Übersicht und Druck'!$I$7:$K$53,3,TRUE)","v":0}]
[{"$f":"VLOOKUP(ROW(),'Übersicht und Druck'!$I$7:$K$53,3,TRUE)","v":0}]
[{"$f":"VLOOKUP(ROW(),'Übersicht und Druck'!$I$7:$K$53,3,TRUE)","v":0}]
[{"$f":"VLOOKUP(ROW(),'Übersicht und Druck'!$I$7:$K$53,3,TRUE)","v":0}]
[{"$f":"VLOOKUP(ROW(),'Übersicht und Druck'!$I$7:$K$53,3,TRUE)","v":0}]
[{"$f":"VLOOKUP(ROW(),'Übersicht und Druck'!$I$7:$K$53,3,TRUE)","v":0}]
[{"$f":"VLOOKUP(ROW(),'Übersicht und Druck'!$I$7:$K$53,3,TRUE)","v":0}]
[{"$f":"VLOOKUP(ROW(),'Übersicht und Druck'!$I$7:$K$53,3,TRUE)","v":0}]
[{"$f":"VLOOKUP(ROW(),'Übersicht und Druck'!$I$7:$K$53,3,TRUE)","v":0}]
[{"$f":"VLOOKUP(ROW(),'Übersicht und Druck'!$I$7:$K$53,3,TRUE)","v":0}]
[{"$f":"VLOOKUP(ROW(),'Übersicht und Druck'!$I$7:$K$53,3,TRUE)","v":0}]
[{"$f":"VLOOKUP(ROW(),'Übersicht und Druck'!$I$7:$K$53,3,TRUE)","v":0}]
[{"$f":"VLOOKUP(ROW(),'Übersicht und Druck'!$I$7:$K$53,3,TRUE)","v":0}]
[{"$f":"VLOOKUP(ROW(),'Übersicht und Druck'!$I$7:$K$53,3,TRUE)","v":0}]
[{"$f":"VLOOKUP(ROW(),'Übersicht und Druck'!$I$7:$K$53,3,TRUE)","v":0}]
[{"$f":"VLOOKUP(ROW(),'Übersicht und Druck'!$I$7:$K$53,3,TRUE)","v":0}]
[{"$f":"VLOOKUP(ROW(),'Übersicht und Druck'!$I$7:$K$53,3,TRUE)","v":0}]
[{"$f":"VLOOKUP(ROW(),'Übersicht und Druck'!$I$7:$K$53,3,TRUE)","v":0}]
[{"$f":"VLOOKUP(ROW(),'Übersicht und Druck'!$I$7:$K$53,3,TRUE)","v":0}]
[{"$f":"VLOOKUP(ROW(),'Übersicht und Druck'!$I$7:$K$53,3,TRUE)","v":0}]
[{"$f":"VLOOKUP(ROW(),'Übersicht und Druck'!$I$7:$K$53,3,TRUE)","v":0}]
[{"$f":"VLOOKUP(ROW(),'Übersicht und Druck'!$I$7:$K$53,3,TRUE)","v":0}]
[{"$f":"VLOOKUP(ROW(),'Übersicht und Druck'!$I$7:$K$53,3,TRUE)","v":0}]
[{"$f":"VLOOKUP(ROW(),'Übersicht und Druck'!$I$7:$K$53,3,TRUE)","v":0}]
[{"$f":"VLOOKUP(ROW(),'Übersicht und Druck'!$I$7:$K$53,3,TRUE)","v":0}]
[{"$f":"VLOOKUP(ROW(),'Übersicht und Druck'!$I$7:$K$53,3,TRUE)","v":0}]
[{"$f":"VLOOKUP(ROW(),'Übersicht und Druck'!$I$7:$K$53,3,TRUE)","v":0}]
[{"$f":"VLOOKUP(ROW(),'Übersicht und Druck'!$I$7:$K$53,3,TRUE)","v":0}]
[{"$f":"VLOOKUP(ROW(),'Übersicht und Druck'!$I$7:$K$53,3,TRUE)","v":0}]
[{"$f":"VLOOKUP(ROW(),'Übersicht und Druck'!$I$7:$K$53,3,TRUE)","v":0}]
[{"$f":"VLOOKUP(ROW(),'Übersicht und Druck'!$I$7:$K$53,3,TRUE)","v":0}]
[{"$f":"VLOOKUP(ROW(),'Übersicht und Druck'!$I$7:$K$53,3,TRUE)","v":0}]
[{"$f":"VLOOKUP(ROW(),'Übersicht und Druck'!$I$7:$K$53,3,TRUE)","v":0}]
[{"$f":"VLOOKUP(ROW(),'Übersicht und Druck'!$I$7:$K$53,3,TRUE)","v":0}]
[{"$f":"VLOOKUP(ROW(),'Übersicht und Druck'!$I$7:$K$53,3,TRUE)","v":0}]
[{"$f":"VLOOKUP(ROW(),'Übersicht und Druck'!$I$7:$K$53,3,TRUE)","v":0}]
[{"$f":"VLOOKUP(ROW(),'Übersicht und Druck'!$I$7:$K$53,3,TRUE)","v":0}]
[{"$f":"VLOOKUP(ROW(),'Übersicht und Druck'!$I$7:$K$53,3,TRUE)","v":0}]
[{"$f":"VLOOKUP(ROW(),'Übersicht und Druck'!$I$7:$K$53,3,TRUE)","v":0}]
[{"$f":"VLOOKUP(ROW(),'Übersicht und Druck'!$I$7:$K$53,3,TRUE)","v":0}]
[{"$f":"VLOOKUP(ROW(),'Übersicht und Druck'!$I$7:$K$53,3,TRUE)","v":0}]
[{"$f":"VLOOKUP(ROW(),'Übersicht und Druck'!$I$7:$K$53,3,TRUE)","v":0}]
[{"$f":"VLOOKUP(ROW(),'Übersicht und Druck'!$I$7:$K$53,3,TRUE)","v":0}]
[{"$f":"VLOOKUP(ROW(),'Übersicht und Druck'!$I$7:$K$53,3,TRUE)","v":0}]
[{"$f":"VLOOKUP(ROW(),'Übersicht und Druck'!$I$7:$K$53,3,TRUE)","v":0}]
[{"$f":"VLOOKUP(ROW(),'Übersicht und Druck'!$I$7:$K$53,3,TRUE)","v":0}]
[{"$f":"VLOOKUP(ROW(),'Übersicht und Druck'!$I$7:$K$53,3,TRUE)","v":0}]
[{"$f":"VLOOKUP(ROW(),'Übersicht und Druck'!$I$7:$K$53,3,TRUE)","v":0}]
[{"$f":"VLOOKUP(ROW(),'Übersicht und Druck'!$I$7:$K$53,3,TRUE)","v":0}]
[{"$f":"VLOOKUP(ROW(),'Übersicht und Druck'!$I$7:$K$53,3,TRUE)","v":0}]
[{"$f":"VLOOKUP(ROW(),'Übersicht und Druck'!$I$7:$K$53,3,TRUE)","v":0}]
[{"$f":"VLOOKUP(ROW(),'Übersicht und Druck'!$I$7:$K$53,3,TRUE)","v":0}]
[{"$f":"VLOOKUP(ROW(),'Übersicht und Druck'!$I$7:$K$53,3,TRUE)","v":0}]
[{"$f":"VLOOKUP(ROW(),'Übersicht und Druck'!$I$7:$K$53,3,TRUE)","v":0}]
[{"$f":"VLOOKUP(ROW(),'Übersicht und Druck'!$I$7:$K$53,3,TRUE)","v":0}]
[{"$f":"VLOOKUP(ROW(),'Übersicht und Druck'!$I$7:$K$53,3,TRUE)","v":0}]
[{"$f":"VLOOKUP(ROW(),'Übersicht und Druck'!$I$7:$K$53,3,TRUE)","v":0}]
[{"$f":"VLOOKUP(ROW(),'Übersicht und Druck'!$I$7:$K$53,3,TRUE)","v":0}]
[{"$f":"VLOOKUP(ROW(),'Übersicht und Druck'!$I$7:$K$53,3,TRUE)","v":0}]
[{"$f":"VLOOKUP(ROW(),'Übersicht und Druck'!$I$7:$K$53,3,TRUE)","v":0}]
[{"$f":"VLOOKUP(ROW(),'Übersicht und Druck'!$I$7:$K$53,3,TRUE)","v":0}]
[{"$f":"VLOOKUP(ROW(),'Übersicht und Druck'!$I$7:$K$53,3,TRUE)","v":0}]
[{"$f":"VLOOKUP(ROW(),'Übersicht und Druck'!$I$7:$K$53,3,TRUE)","v":0}]
[{"$f":"VLOOKUP(ROW(),'Übersicht und Druck'!$I$7:$K$53,3,TRUE)","v":0}]
[{"$f":"VLOOKUP(ROW(),'Übersicht und Druck'!$I$7:$K$53,3,TRUE)","v":0}]
[{"$f":"VLOOKUP(ROW(),'Übersicht und Druck'!$I$7:$K$53,3,TRUE)","v":0}]
[{"$f":"VLOOKUP(ROW(),'Übersicht und Druck'!$I$7:$K$53,3,TRUE)","v":0}]
[{"$f":"VLOOKUP(ROW(),'Übersicht und Druck'!$I$7:$K$53,3,TRUE)","v":0}]
[{"$f":"VLOOKUP(ROW(),'Übersicht und Druck'!$I$7:$K$53,3,TRUE)","v":0}]
[{"$f":"VLOOKUP(ROW(),'Übersicht und Druck'!$I$7:$K$53,3,TRUE)","v":0}]
[{"$f":"VLOOKUP(ROW(),'Übersicht und Druck'!$I$7:$K$53,3,TRUE)","v":0}]
[{"$f":"VLOOKUP(ROW(),'Übersicht und Druck'!$I$7:$K$53,3,TRUE)","v":0}]
[{"$f":"VLOOKUP(ROW(),'Übersicht und Druck'!$I$7:$K$53,3,TRUE)","v":0}]
[{"$f":"VLOOKUP(ROW(),'Übersicht und Druck'!$I$7:$K$53,3,TRUE)","v":0}]
[{"$f":"VLOOKUP(ROW(),'Übersicht und Druck'!$I$7:$K$53,3,TRUE)","v":0}]
[{"$f":"VLOOKUP(ROW(),'Übersicht und Druck'!$I$7:$K$53,3,TRUE)","v":0}]
[{"$f":"VLOOKUP(ROW(),'Übersicht und Druck'!$I$7:$K$53,3,TRUE)","v":0}]
[{"$f":"VLOOKUP(ROW(),'Übersicht und Druck'!$I$7:$K$53,3,TRUE)","v":0}]
[{"$f":"VLOOKUP(ROW(),'Übersicht und Druck'!$I$7:$K$53,3,TRUE)","v":0}]
[{"$f":"VLOOKUP(ROW(),'Übersicht und Druck'!$I$7:$K$53,3,TRUE)","v":0}]
[{"$f":"VLOOKUP(ROW(),'Übersicht und Druck'!$I$7:$K$53,3,TRUE)","v":0}]
[{"$f":"VLOOKUP(ROW(),'Übersicht und Druck'!$I$7:$K$53,3,TRUE)","v":0}]
[{"$f":"VLOOKUP(ROW(),'Übersicht und Druck'!$I$7:$K$53,3,TRUE)","v":0}]
[{"$f":"VLOOKUP(ROW(),'Übersicht und Druck'!$I$7:$K$53,3,TRUE)","v":0}]
[{"$f":"VLOOKUP(ROW(),'Übersicht und Druck'!$I$7:$K$53,3,TRUE)","v":0}]
[{"$f":"VLOOKUP(ROW(),'Übersicht und Druck'!$I$7:$K$53,3,TRUE)","v":0}]
[{"$f":"VLOOKUP(ROW(),'Übersicht und Druck'!$I$7:$K$53,3,TRUE)","v":0}]
[{"$f":"VLOOKUP(ROW(),'Übersicht und Druck'!$I$7:$K$53,3,TRUE)","v":0}]
[{"$f":"VLOOKUP(ROW(),'Übersicht und Druck'!$I$7:$K$53,3,TRUE)","v":0}]
[{"$f":"VLOOKUP(ROW(),'Übersicht und Druck'!$I$7:$K$53,3,TRUE)","v":0}]
[{"$f":"VLOOKUP(ROW(),'Übersicht und Druck'!$I$7:$K$53,3,TRUE)","v":0}]
[{"$f":"VLOOKUP(ROW(),'Übersicht und Druck'!$I$7:$K$53,3,TRUE)","v":0}]
[{"$f":"VLOOKUP(ROW(),'Übersicht und Druck'!$I$7:$K$53,3,TRUE)","v":0}]
[{"$f":"VLOOKUP(ROW(),'Übersicht und Druck'!$I$7:$K$53,3,TRUE)","v":0}]
[{"$f":"VLOOKUP(ROW(),'Übersicht und Druck'!$I$7:$K$53,3,TRUE)","v":0}]
[{"$f":"VLOOKUP(ROW(),'Übersicht und Druck'!$I$7:$K$53,3,TRUE)","v":0}]
[{"$f":"VLOOKUP(ROW(),'Übersicht und Druck'!$I$7:$K$53,3,TRUE)","v":0}]
[{"$f":"VLOOKUP(ROW(),'Übersicht und Druck'!$I$7:$K$53,3,TRUE)","v":0}]
[{"$f":"VLOOKUP(ROW(),'Übersicht und Druck'!$I$7:$K$53,3,TRUE)","v":0}]
[{"$f":"VLOOKUP(ROW(),'Übersicht und Druck'!$I$7:$K$53,3,TRUE)","v":0}]
[{"$f":"VLOOKUP(ROW(),'Übersicht und Druck'!$I$7:$K$53,3,TRUE)","v":0}]
[{"$f":"VLOOKUP(ROW(),'Übersicht und Druck'!$I$7:$K$53,3,TRUE)","v":0}]
[{"$f":"VLOOKUP(ROW(),'Übersicht und Druck'!$I$7:$K$53,3,TRUE)","v":0}]
[{"$f":"VLOOKUP(ROW(),'Übersicht und Druck'!$I$7:$K$53,3,TRUE)","v":0}]
[{"$f":"VLOOKUP(ROW(),'Übersicht und Druck'!$I$7:$K$53,3,TRUE)","v":0}]
[{"$f":"VLOOKUP(ROW(),'Übersicht und Druck'!$I$7:$K$53,3,TRUE)","v":0}]
[{"$f":"VLOOKUP(ROW(),'Übersicht und Druck'!$I$7:$K$53,3,TRUE)","v":0}]
[{"$f":"VLOOKUP(ROW(),'Übersicht und Druck'!$I$7:$K$53,3,TRUE)","v":0}]
[{"$f":"VLOOKUP(ROW(),'Übersicht und Druck'!$I$7:$K$53,3,TRUE)","v":0}]
[{"$f":"VLOOKUP(ROW(),'Übersicht und Druck'!$I$7:$K$53,3,TRUE)","v":0}]
[{"$f":"VLOOKUP(ROW(),'Übersicht und Druck'!$I$7:$K$53,3,TRUE)","v":0}]
[{"$f":"VLOOKUP(ROW(),'Übersicht und Druck'!$I$7:$K$53,3,TRUE)","v":0}]
[{"$f":"VLOOKUP(ROW(),'Übersicht und Druck'!$I$7:$K$53,3,TRUE)","v":0}]
[{"$f":"VLOOKUP(ROW(),'Übersicht und Druck'!$I$7:$K$53,3,TRUE)","v":0}]
[{"$f":"VLOOKUP(ROW(),'Übersicht und Druck'!$I$7:$K$53,3,TRUE)","v":0}]
[{"$f":"VLOOKUP(ROW(),'Übersicht und Druck'!$I$7:$K$53,3,TRUE)","v":0}]
[{"$f":"VLOOKUP(ROW(),'Übersicht und Druck'!$I$7:$K$53,3,TRUE)","v":0}]
[{"$f":"VLOOKUP(ROW(),'Übersicht und Druck'!$I$7:$K$53,3,TRUE)","v":0}]
[{"$f":"VLOOKUP(ROW(),'Übersicht und Druck'!$I$7:$K$53,3,TRUE)","v":0}]
[{"$f":"VLOOKUP(ROW(),'Übersicht und Druck'!$I$7:$K$53,3,TRUE)","v":0}]
[{"$f":"VLOOKUP(ROW(),'Übersicht und Druck'!$I$7:$K$53,3,TRUE)","v":0}]
[{"$f":"VLOOKUP(ROW(),'Übersicht und Druck'!$I$7:$K$53,3,TRUE)","v":0}]
[{"$f":"VLOOKUP(ROW(),'Übersicht und Druck'!$I$7:$K$53,3,TRUE)","v":0}]
[{"$f":"VLOOKUP(ROW(),'Übersicht und Druck'!$I$7:$K$53,3,TRUE)","v":0}]
[{"$f":"VLOOKUP(ROW(),'Übersicht und Druck'!$I$7:$K$53,3,TRUE)","v":0}]
[{"$f":"VLOOKUP(ROW(),'Übersicht und Druck'!$I$7:$K$53,3,TRUE)","v":0}]
[{"$f":"VLOOKUP(ROW(),'Übersicht und Druck'!$I$7:$K$53,3,TRUE)","v":0}]
[{"$f":"VLOOKUP(ROW(),'Übersicht und Druck'!$I$7:$K$53,3,TRUE)","v":0}]
[{"$f":"VLOOKUP(ROW(),'Übersicht und Druck'!$I$7:$K$53,3,TRUE)","v":0}]
[{"$f":"VLOOKUP(ROW(),'Übersicht und Druck'!$I$7:$K$53,3,TRUE)","v":0}]
[{"$f":"VLOOKUP(ROW(),'Übersicht und Druck'!$I$7:$K$53,3,TRUE)","v":0}]
[{"$f":"VLOOKUP(ROW(),'Übersicht und Druck'!$I$7:$K$53,3,TRUE)","v":0}]
[{"$f":"VLOOKUP(ROW(),'Übersicht und Druck'!$I$7:$K$53,3,TRUE)","v":0}]
[{"$f":"VLOOKUP(ROW(),'Übersicht und Druck'!$I$7:$K$53,3,TRUE)","v":0}]
[{"$f":"VLOOKUP(ROW(),'Übersicht und Druck'!$I$7:$K$53,3,TRUE)","v":0}]
[{"$f":"VLOOKUP(ROW(),'Übersicht und Druck'!$I$7:$K$53,3,TRUE)","v":0}]
[{"$f":"VLOOKUP(ROW(),'Übersicht und Druck'!$I$7:$K$53,3,TRUE)","v":0}]
[{"$f":"VLOOKUP(ROW(),'Übersicht und Druck'!$I$7:$K$53,3,TRUE)","v":0}]
[{"$f":"VLOOKUP(ROW(),'Übersicht und Druck'!$I$7:$K$53,3,TRUE)","v":0}]
[{"$f":"VLOOKUP(ROW(),'Übersicht und Druck'!$I$7:$K$53,3,TRUE)","v":0}]
[{"$f":"VLOOKUP(ROW(),'Übersicht und Druck'!$I$7:$K$53,3,TRUE)","v":0}]
[{"$f":"VLOOKUP(ROW(),'Übersicht und Druck'!$I$7:$K$53,3,TRUE)","v":0}]
[{"$f":"VLOOKUP(ROW(),'Übersicht und Druck'!$I$7:$K$53,3,TRUE)","v":0}]
[{"$f":"VLOOKUP(ROW(),'Übersicht und Druck'!$I$7:$K$53,3,TRUE)","v":0}]
[{"$f":"VLOOKUP(ROW(),'Übersicht und Druck'!$I$7:$K$53,3,TRUE)","v":0}]
[{"$f":"VLOOKUP(ROW(),'Übersicht und Druck'!$I$7:$K$53,3,TRUE)","v":0}]
[{"$f":"VLOOKUP(ROW(),'Übersicht und Druck'!$I$7:$K$53,3,TRUE)","v":0}]
[{"$f":"VLOOKUP(ROW(),'Übersicht und Druck'!$I$7:$K$53,3,TRUE)","v":0}]
[{"$f":"VLOOKUP(ROW(),'Übersicht und Druck'!$I$7:$K$53,3,TRUE)","v":0}]
[{"$f":"VLOOKUP(ROW(),'Übersicht und Druck'!$I$7:$K$53,3,TRUE)","v":0}]
[{"$f":"VLOOKUP(ROW(),'Übersicht und Druck'!$I$7:$K$53,3,TRUE)","v":0}]
[{"$f":"VLOOKUP(ROW(),'Übersicht und Druck'!$I$7:$K$53,3,TRUE)","v":0}]
[{"$f":"VLOOKUP(ROW(),'Übersicht und Druck'!$I$7:$K$53,3,TRUE)","v":0}]
[{"$f":"VLOOKUP(ROW(),'Übersicht und Druck'!$I$7:$K$53,3,TRUE)","v":0}]
[{"$f":"VLOOKUP(ROW(),'Übersicht und Druck'!$I$7:$K$53,3,TRUE)","v":0}]
[{"$f":"VLOOKUP(ROW(),'Übersicht und Druck'!$I$7:$K$53,3,TRUE)","v":0}]
[{"$f":"VLOOKUP(ROW(),'Übersicht und Druck'!$I$7:$K$53,3,TRUE)","v":0}]
[{"$f":"VLOOKUP(ROW(),'Übersicht und Druck'!$I$7:$K$53,3,TRUE)","v":0}]
[{"$f":"VLOOKUP(ROW(),'Übersicht und Druck'!$I$7:$K$53,3,TRUE)","v":0}]
[{"$f":"VLOOKUP(ROW(),'Übersicht und Druck'!$I$7:$K$53,3,TRUE)","v":0}]
[{"$f":"VLOOKUP(ROW(),'Übersicht und Druck'!$I$7:$K$53,3,TRUE)","v":0}]
[{"$f":"VLOOKUP(ROW(),'Übersicht und Druck'!$I$7:$K$53,3,TRUE)","v":0}]
[{"$f":"VLOOKUP(ROW(),'Übersicht und Druck'!$I$7:$K$53,3,TRUE)","v":0}]
[{"$f":"VLOOKUP(ROW(),'Übersicht und Druck'!$I$7:$K$53,3,TRUE)","v":0}]
[{"$f":"VLOOKUP(ROW(),'Übersicht und Druck'!$I$7:$K$53,3,TRUE)","v":0}]
[{"$f":"VLOOKUP(ROW(),'Übersicht und Druck'!$I$7:$K$53,3,TRUE)","v":0}]
[{"$f":"VLOOKUP(ROW(),'Übersicht und Druck'!$I$7:$K$53,3,TRUE)","v":0}]
[{"$f":"VLOOKUP(ROW(),'Übersicht und Druck'!$I$7:$K$53,3,TRUE)","v":0}]
[{"$f":"VLOOKUP(ROW(),'Übersicht und Druck'!$I$7:$K$53,3,TRUE)","v":0}]
[{"$f":"VLOOKUP(ROW(),'Übersicht und Druck'!$I$7:$K$53,3,TRUE)","v":0}]
[{"$f":"VLOOKUP(ROW(),'Übersicht und Druck'!$I$7:$K$53,3,TRUE)","v":0}]
[{"$f":"VLOOKUP(ROW(),'Übersicht und Druck'!$I$7:$K$53,3,TRUE)","v":0}]
[{"$f":"VLOOKUP(ROW(),'Übersicht und Druck'!$I$7:$K$53,3,TRUE)","v":0}]
[{"$f":"VLOOKUP(ROW(),'Übersicht und Druck'!$I$7:$K$53,3,TRUE)","v":0}]
[{"$f":"VLOOKUP(ROW(),'Übersicht und Druck'!$I$7:$K$53,3,TRUE)","v":0}]
[{"$f":"VLOOKUP(ROW(),'Übersicht und Druck'!$I$7:$K$53,3,TRUE)","v":0}]
[{"$f":"VLOOKUP(ROW(),'Übersicht und Druck'!$I$7:$K$53,3,TRUE)","v":0}]
[{"$f":"VLOOKUP(ROW(),'Übersicht und Druck'!$I$7:$K$53,3,TRUE)","v":0}]
[{"$f":"VLOOKUP(ROW(),'Übersicht und Druck'!$I$7:$K$53,3,TRUE)","v":0}]
[{"$f":"VLOOKUP(ROW(),'Übersicht und Druck'!$I$7:$K$53,3,TRUE)","v":0}]
[{"$f":"VLOOKUP(ROW(),'Übersicht und Druck'!$I$7:$K$53,3,TRUE)","v":0}]
[{"$f":"VLOOKUP(ROW(),'Übersicht und Druck'!$I$7:$K$53,3,TRUE)","v":0}]
[{"$f":"VLOOKUP(ROW(),'Übersicht und Druck'!$I$7:$K$53,3,TRUE)","v":0}]
[{"$f":"VLOOKUP(ROW(),'Übersicht und Druck'!$I$7:$K$53,3,TRUE)","v":0}]
[{"$f":"VLOOKUP(ROW(),'Übersicht und Druck'!$I$7:$K$53,3,TRUE)","v":0}]
[{"$f":"VLOOKUP(ROW(),'Übersicht und Druck'!$I$7:$K$53,3,TRUE)","v":0}]
[{"$f":"VLOOKUP(ROW(),'Übersicht und Druck'!$I$7:$K$53,3,TRUE)","v":0}]
[{"$f":"VLOOKUP(ROW(),'Übersicht und Druck'!$I$7:$K$53,3,TRUE)","v":0}]
[{"$f":"VLOOKUP(ROW(),'Übersicht und Druck'!$I$7:$K$53,3,TRUE)","v":0}]
[{"$f":"VLOOKUP(ROW(),'Übersicht und Druck'!$I$7:$K$53,3,TRUE)","v":0}]
[{"$f":"VLOOKUP(ROW(),'Übersicht und Druck'!$I$7:$K$53,3,TRUE)","v":0}]
[{"$f":"VLOOKUP(ROW(),'Übersicht und Druck'!$I$7:$K$53,3,TRUE)","v":0}]
[{"$f":"VLOOKUP(ROW(),'Übersicht und Druck'!$I$7:$K$53,3,TRUE)","v":0}]
[{"$f":"VLOOKUP(ROW(),'Übersicht und Druck'!$I$7:$K$53,3,TRUE)","v":0}]
[{"$f":"VLOOKUP(ROW(),'Übersicht und Druck'!$I$7:$K$53,3,TRUE)","v":0}]
[{"$f":"VLOOKUP(ROW(),'Übersicht und Druck'!$I$7:$K$53,3,TRUE)","v":0}]
[{"$f":"VLOOKUP(ROW(),'Übersicht und Druck'!$I$7:$K$53,3,TRUE)","v":0}]
[{"$f":"VLOOKUP(ROW(),'Übersicht und Druck'!$I$7:$K$53,3,TRUE)","v":0}]
[{"$f":"VLOOKUP(ROW(),'Übersicht und Druck'!$I$7:$K$53,3,TRUE)","v":0}]
[{"$f":"VLOOKUP(ROW(),'Übersicht und Druck'!$I$7:$K$53,3,TRUE)","v":0}]
[{"$f":"VLOOKUP(ROW(),'Übersicht und Druck'!$I$7:$K$53,3,TRUE)","v":0}]
[{"$f":"VLOOKUP(ROW(),'Übersicht und Druck'!$I$7:$K$53,3,TRUE)","v":0}]
[{"$f":"VLOOKUP(ROW(),'Übersicht und Druck'!$I$7:$K$53,3,TRUE)","v":0}]
[{"$f":"VLOOKUP(ROW(),'Übersicht und Druck'!$I$7:$K$53,3,TRUE)","v":0}]
[{"$f":"VLOOKUP(ROW(),'Übersicht und Druck'!$I$7:$K$53,3,TRUE)","v":0}]
[{"$f":"VLOOKUP(ROW(),'Übersicht und Druck'!$I$7:$K$53,3,TRUE)","v":0}]
[{"$f":"VLOOKUP(ROW(),'Übersicht und Druck'!$I$7:$K$53,3,TRUE)","v":0}]
[{"$f":"VLOOKUP(ROW(),'Übersicht und Druck'!$I$7:$K$53,3,TRUE)","v":0}]
[{"$f":"VLOOKUP(ROW(),'Übersicht und Druck'!$I$7:$K$53,3,TRUE)","v":0}]
[{"$f":"VLOOKUP(ROW(),'Übersicht und Druck'!$I$7:$K$53,3,TRUE)","v":0}]
[{"$f":"VLOOKUP(ROW(),'Übersicht und Druck'!$I$7:$K$53,3,TRUE)","v":0}]
[{"$f":"VLOOKUP(ROW(),'Übersicht und Druck'!$I$7:$K$53,3,TRUE)","v":0}]
[{"$f":"VLOOKUP(ROW(),'Übersicht und Druck'!$I$7:$K$53,3,TRUE)","v":0}]
[{"$f":"VLOOKUP(ROW(),'Übersicht und Druck'!$I$7:$K$53,3,TRUE)","v":0}]
[{"$f":"VLOOKUP(ROW(),'Übersicht und Druck'!$I$7:$K$53,3,TRUE)","v":0}]
[{"$f":"VLOOKUP(ROW(),'Übersicht und Druck'!$I$7:$K$53,3,TRUE)","v":0}]
[{"$f":"VLOOKUP(ROW(),'Übersicht und Druck'!$I$7:$K$53,3,TRUE)","v":0}]
[{"$f":"VLOOKUP(ROW(),'Übersicht und Druck'!$I$7:$K$53,3,TRUE)","v":0}]
[{"$f":"VLOOKUP(ROW(),'Übersicht und Druck'!$I$7:$K$53,3,TRUE)","v":0}]
[{"$f":"VLOOKUP(ROW(),'Übersicht und Druck'!$I$7:$K$53,3,TRUE)","v":0}]
[{"$f":"VLOOKUP(ROW(),'Übersicht und Druck'!$I$7:$K$53,3,TRUE)","v":0}]
[{"$f":"VLOOKUP(ROW(),'Übersicht und Druck'!$I$7:$K$53,3,TRUE)","v":0}]
[{"$f":"VLOOKUP(ROW(),'Übersicht und Druck'!$I$7:$K$53,3,TRUE)","v":0}]
[{"$f":"VLOOKUP(ROW(),'Übersicht und Druck'!$I$7:$K$53,3,TRUE)","v":0}]
[{"$f":"VLOOKUP(ROW(),'Übersicht und Druck'!$I$7:$K$53,3,TRUE)","v":0}]
[{"$f":"VLOOKUP(ROW(),'Übersicht und Druck'!$I$7:$K$53,3,TRUE)","v":0}]
[{"$f":"VLOOKUP(ROW(),'Übersicht und Druck'!$I$7:$K$53,3,TRUE)","v":0}]
[{"$f":"VLOOKUP(ROW(),'Übersicht und Druck'!$I$7:$K$53,3,TRUE)","v":0}]
[{"$f":"VLOOKUP(ROW(),'Übersicht und Druck'!$I$7:$K$53,3,TRUE)","v":0}]
[{"$f":"VLOOKUP(ROW(),'Übersicht und Druck'!$I$7:$K$53,3,TRUE)","v":0}]
[{"$f":"VLOOKUP(ROW(),'Übersicht und Druck'!$I$7:$K$53,3,TRUE)","v":0}]
[{"$f":"VLOOKUP(ROW(),'Übersicht und Druck'!$I$7:$K$53,3,TRUE)","v":0}]
[{"$f":"VLOOKUP(ROW(),'Übersicht und Druck'!$I$7:$K$53,3,TRUE)","v":0}]
[{"$f":"VLOOKUP(ROW(),'Übersicht und Druck'!$I$7:$K$53,3,TRUE)","v":0}]
[{"$f":"VLOOKUP(ROW(),'Übersicht und Druck'!$I$7:$K$53,3,TRUE)","v":0}]
[{"$f":"VLOOKUP(ROW(),'Übersicht und Druck'!$I$7:$K$53,3,TRUE)","v":0}]
[{"$f":"VLOOKUP(ROW(),'Übersicht und Druck'!$I$7:$K$53,3,TRUE)","v":0}]
[{"$f":"VLOOKUP(ROW(),'Übersicht und Druck'!$I$7:$K$53,3,TRUE)","v":0}]
[{"$f":"VLOOKUP(ROW(),'Übersicht und Druck'!$I$7:$K$53,3,TRUE)","v":0}]
[{"$f":"VLOOKUP(ROW(),'Übersicht und Druck'!$I$7:$K$53,3,TRUE)","v":0}]
[{"$f":"VLOOKUP(ROW(),'Übersicht und Druck'!$I$7:$K$53,3,TRUE)","v":0}]
[{"$f":"VLOOKUP(ROW(),'Übersicht und Druck'!$I$7:$K$53,3,TRUE)","v":0}]
[{"$f":"VLOOKUP(ROW(),'Übersicht und Druck'!$I$7:$K$53,3,TRUE)","v":0}]
[{"$f":"VLOOKUP(ROW(),'Übersicht und Druck'!$I$7:$K$53,3,TRUE)","v":0}]
[{"$f":"VLOOKUP(ROW(),'Übersicht und Druck'!$I$7:$K$53,3,TRUE)","v":0}]
[{"$f":"VLOOKUP(ROW(),'Übersicht und Druck'!$I$7:$K$53,3,TRUE)","v":0}]
[{"$f":"VLOOKUP(ROW(),'Übersicht und Druck'!$I$7:$K$53,3,TRUE)","v":0}]
[{"$f":"VLOOKUP(ROW(),'Übersicht und Druck'!$I$7:$K$53,3,TRUE)","v":0}]
[{"$f":"VLOOKUP(ROW(),'Übersicht und Druck'!$I$7:$K$53,3,TRUE)","v":0}]
[{"$f":"VLOOKUP(ROW(),'Übersicht und Druck'!$I$7:$K$53,3,TRUE)","v":0}]
[{"$f":"VLOOKUP(ROW(),'Übersicht und Druck'!$I$7:$K$53,3,TRUE)","v":0}]
[{"$f":"VLOOKUP(ROW(),'Übersicht und Druck'!$I$7:$K$53,3,TRUE)","v":0}]
[{"$f":"VLOOKUP(ROW(),'Übersicht und Druck'!$I$7:$K$53,3,TRUE)","v":0}]
[{"$f":"VLOOKUP(ROW(),'Übersicht und Druck'!$I$7:$K$53,3,TRUE)","v":0}]
[{"$f":"VLOOKUP(ROW(),'Übersicht und Druck'!$I$7:$K$53,3,TRUE)","v":0}]
[{"$f":"VLOOKUP(ROW(),'Übersicht und Druck'!$I$7:$K$53,3,TRUE)","v":0}]
[{"$f":"VLOOKUP(ROW(),'Übersicht und Druck'!$I$7:$K$53,3,TRUE)","v":0}]
[{"$f":"VLOOKUP(ROW(),'Übersicht und Druck'!$I$7:$K$53,3,TRUE)","v":0}]
[{"$f":"VLOOKUP(ROW(),'Übersicht und Druck'!$I$7:$K$53,3,TRUE)","v":0}]
[{"$f":"VLOOKUP(ROW(),'Übersicht und Druck'!$I$7:$K$53,3,TRUE)","v":0}]
[{"$f":"VLOOKUP(ROW(),'Übersicht und Druck'!$I$7:$K$53,3,TRUE)","v":0}]
[{"$f":"VLOOKUP(ROW(),'Übersicht und Druck'!$I$7:$K$53,3,TRUE)","v":0}]
[{"$f":"VLOOKUP(ROW(),'Übersicht und Druck'!$I$7:$K$53,3,TRUE)","v":0}]
[{"$f":"VLOOKUP(ROW(),'Übersicht und Druck'!$I$7:$K$53,3,TRUE)","v":0}]
[{"$f":"VLOOKUP(ROW(),'Übersicht und Druck'!$I$7:$K$53,3,TRUE)","v":0}]
[{"$f":"VLOOKUP(ROW(),'Übersicht und Druck'!$I$7:$K$53,3,TRUE)","v":0}]
[{"$f":"VLOOKUP(ROW(),'Übersicht und Druck'!$I$7:$K$53,3,TRUE)","v":0}]
[{"$f":"VLOOKUP(ROW(),'Übersicht und Druck'!$I$7:$K$53,3,TRUE)","v":0}]
[{"$f":"VLOOKUP(ROW(),'Übersicht und Druck'!$I$7:$K$53,3,TRUE)","v":0}]
[{"$f":"VLOOKUP(ROW(),'Übersicht und Druck'!$I$7:$K$53,3,TRUE)","v":0}]
[{"$f":"VLOOKUP(ROW(),'Übersicht und Druck'!$I$7:$K$53,3,TRUE)","v":0}]
[{"$f":"VLOOKUP(ROW(),'Übersicht und Druck'!$I$7:$K$53,3,TRUE)","v":0}]
[{"$f":"VLOOKUP(ROW(),'Übersicht und Druck'!$I$7:$K$53,3,TRUE)","v":0}]
[{"$f":"VLOOKUP(ROW(),'Übersicht und Druck'!$I$7:$K$53,3,TRUE)","v":0}]
[{"$f":"VLOOKUP(ROW(),'Übersicht und Druck'!$I$7:$K$53,3,TRUE)","v":0}]
[{"$f":"VLOOKUP(ROW(),'Übersicht und Druck'!$I$7:$K$53,3,TRUE)","v":0}]
[{"$f":"VLOOKUP(ROW(),'Übersicht und Druck'!$I$7:$K$53,3,TRUE)","v":0}]
[{"$f":"VLOOKUP(ROW(),'Übersicht und Druck'!$I$7:$K$53,3,TRUE)","v":0}]
[{"$f":"VLOOKUP(ROW(),'Übersicht und Druck'!$I$7:$K$53,3,TRUE)","v":0}]
[{"$f":"VLOOKUP(ROW(),'Übersicht und Druck'!$I$7:$K$53,3,TRUE)","v":0}]
[{"$f":"VLOOKUP(ROW(),'Übersicht und Druck'!$I$7:$K$53,3,TRUE)","v":0}]
[{"$f":"VLOOKUP(ROW(),'Übersicht und Druck'!$I$7:$K$53,3,TRUE)","v":0}]
[{"$f":"VLOOKUP(ROW(),'Übersicht und Druck'!$I$7:$K$53,3,TRUE)","v":0}]
[{"$f":"VLOOKUP(ROW(),'Übersicht und Druck'!$I$7:$K$53,3,TRUE)","v":0}]
[{"$f":"VLOOKUP(ROW(),'Übersicht und Druck'!$I$7:$K$53,3,TRUE)","v":0}]
[{"$f":"VLOOKUP(ROW(),'Übersicht und Druck'!$I$7:$K$53,3,TRUE)","v":0}]
[{"$f":"VLOOKUP(ROW(),'Übersicht und Druck'!$I$7:$K$53,3,TRUE)","v":0}]
[{"$f":"VLOOKUP(ROW(),'Übersicht und Druck'!$I$7:$K$53,3,TRUE)","v":0}]
[{"$f":"VLOOKUP(ROW(),'Übersicht und Druck'!$I$7:$K$53,3,TRUE)","v":0}]
[{"$f":"VLOOKUP(ROW(),'Übersicht und Druck'!$I$7:$K$53,3,TRUE)","v":0}]
[{"$f":"VLOOKUP(ROW(),'Übersicht und Druck'!$I$7:$K$53,3,TRUE)","v":0}]
[{"$f":"VLOOKUP(ROW(),'Übersicht und Druck'!$I$7:$K$53,3,TRUE)","v":0}]
[{"$f":"VLOOKUP(ROW(),'Übersicht und Druck'!$I$7:$K$53,3,TRUE)","v":0}]
[{"$f":"VLOOKUP(ROW(),'Übersicht und Druck'!$I$7:$K$53,3,TRUE)","v":0}]
[{"$f":"VLOOKUP(ROW(),'Übersicht und Druck'!$I$7:$K$53,3,TRUE)","v":0}]
[{"$f":"VLOOKUP(ROW(),'Übersicht und Druck'!$I$7:$K$53,3,TRUE)","v":0}]
[{"$f":"VLOOKUP(ROW(),'Übersicht und Druck'!$I$7:$K$53,3,TRUE)","v":0}]
[{"$f":"VLOOKUP(ROW(),'Übersicht und Druck'!$I$7:$K$53,3,TRUE)","v":0}]
[{"$f":"VLOOKUP(ROW(),'Übersicht und Druck'!$I$7:$K$53,3,TRUE)","v":0}]
[{"$f":"VLOOKUP(ROW(),'Übersicht und Druck'!$I$7:$K$53,3,TRUE)","v":0}]
[{"$f":"VLOOKUP(ROW(),'Übersicht und Druck'!$I$7:$K$53,3,TRUE)","v":0}]
[{"$f":"VLOOKUP(ROW(),'Übersicht und Druck'!$I$7:$K$53,3,TRUE)","v":0}]
[{"$f":"VLOOKUP(ROW(),'Übersicht und Druck'!$I$7:$K$53,3,TRUE)","v":0}]
[{"$f":"VLOOKUP(ROW(),'Übersicht und Druck'!$I$7:$K$53,3,TRUE)","v":0}]
[{"$f":"VLOOKUP(ROW(),'Übersicht und Druck'!$I$7:$K$53,3,TRUE)","v":0}]
[{"$f":"VLOOKUP(ROW(),'Übersicht und Druck'!$I$7:$K$53,3,TRUE)","v":0}]
[{"$f":"VLOOKUP(ROW(),'Übersicht und Druck'!$I$7:$K$53,3,TRUE)","v":0}]
[{"$f":"VLOOKUP(ROW(),'Übersicht und Druck'!$I$7:$K$53,3,TRUE)","v":0}]
[{"$f":"VLOOKUP(ROW(),'Übersicht und Druck'!$I$7:$K$53,3,TRUE)","v":0}]
[{"$f":"VLOOKUP(ROW(),'Übersicht und Druck'!$I$7:$K$53,3,TRUE)","v":0}]
[{"$f":"VLOOKUP(ROW(),'Übersicht und Druck'!$I$7:$K$53,3,TRUE)","v":0}]
[{"$f":"VLOOKUP(ROW(),'Übersicht und Druck'!$I$7:$K$53,3,TRUE)","v":0}]
[{"$f":"VLOOKUP(ROW(),'Übersicht und Druck'!$I$7:$K$53,3,TRUE)","v":0}]
[{"$f":"VLOOKUP(ROW(),'Übersicht und Druck'!$I$7:$K$53,3,TRUE)","v":0}]
[{"$f":"VLOOKUP(ROW(),'Übersicht und Druck'!$I$7:$K$53,3,TRUE)","v":0}]
[{"$f":"VLOOKUP(ROW(),'Übersicht und Druck'!$I$7:$K$53,3,TRUE)","v":0}]
[{"$f":"VLOOKUP(ROW(),'Übersicht und Druck'!$I$7:$K$53,3,TRUE)","v":0}]
[{"$f":"VLOOKUP(ROW(),'Übersicht und Druck'!$I$7:$K$53,3,TRUE)","v":0}]
[{"$f":"VLOOKUP(ROW(),'Übersicht und Druck'!$I$7:$K$53,3,TRUE)","v":0}]
[{"$f":"VLOOKUP(ROW(),'Übersicht und Druck'!$I$7:$K$53,3,TRUE)","v":0}]
[{"$f":"VLOOKUP(ROW(),'Übersicht und Druck'!$I$7:$K$53,3,TRUE)","v":0}]
[{"$f":"VLOOKUP(ROW(),'Übersicht und Druck'!$I$7:$K$53,3,TRUE)","v":0}]
[{"$f":"VLOOKUP(ROW(),'Übersicht und Druck'!$I$7:$K$53,3,TRUE)","v":0}]
[{"$f":"VLOOKUP(ROW(),'Übersicht und Druck'!$I$7:$K$53,3,TRUE)","v":0}]
[{"$f":"VLOOKUP(ROW(),'Übersicht und Druck'!$I$7:$K$53,3,TRUE)","v":0}]
[{"$f":"VLOOKUP(ROW(),'Übersicht und Druck'!$I$7:$K$53,3,TRUE)","v":0}]
[{"$f":"VLOOKUP(ROW(),'Übersicht und Druck'!$I$7:$K$53,3,TRUE)","v":0}]
[{"$f":"VLOOKUP(ROW(),'Übersicht und Druck'!$I$7:$K$53,3,TRUE)","v":0}]
[{"$f":"VLOOKUP(ROW(),'Übersicht und Druck'!$I$7:$K$53,3,TRUE)","v":0}]
[{"$f":"VLOOKUP(ROW(),'Übersicht und Druck'!$I$7:$K$53,3,TRUE)","v":0}]
[{"$f":"VLOOKUP(ROW(),'Übersicht und Druck'!$I$7:$K$53,3,TRUE)","v":0}]
[{"$f":"VLOOKUP(ROW(),'Übersicht und Druck'!$I$7:$K$53,3,TRUE)","v":0}]
[{"$f":"VLOOKUP(ROW(),'Übersicht und Druck'!$I$7:$K$53,3,TRUE)","v":0}]
[{"$f":"VLOOKUP(ROW(),'Übersicht und Druck'!$I$7:$K$53,3,TRUE)","v":0}]
[{"$f":"VLOOKUP(ROW(),'Übersicht und Druck'!$I$7:$K$53,3,TRUE)","v":0}]
[{"$f":"VLOOKUP(ROW(),'Übersicht und Druck'!$I$7:$K$53,3,TRUE)","v":0}]
[{"$f":"VLOOKUP(ROW(),'Übersicht und Druck'!$I$7:$K$53,3,TRUE)","v":0}]
[{"$f":"VLOOKUP(ROW(),'Übersicht und Druck'!$I$7:$K$53,3,TRUE)","v":0}]
[{"$f":"VLOOKUP(ROW(),'Übersicht und Druck'!$I$7:$K$53,3,TRUE)","v":0}]
[{"$f":"VLOOKUP(ROW(),'Übersicht und Druck'!$I$7:$K$53,3,TRUE)","v":0}]
[{"$f":"VLOOKUP(ROW(),'Übersicht und Druck'!$I$7:$K$53,3,TRUE)","v":0}]
[{"$f":"VLOOKUP(ROW(),'Übersicht und Druck'!$I$7:$K$53,3,TRUE)","v":0}]
[{"$f":"VLOOKUP(ROW(),'Übersicht und Druck'!$I$7:$K$53,3,TRUE)","v":0}]
[{"$f":"VLOOKUP(ROW(),'Übersicht und Druck'!$I$7:$K$53,3,TRUE)","v":0}]
[{"$f":"VLOOKUP(ROW(),'Übersicht und Druck'!$I$7:$K$53,3,TRUE)","v":0}]
[{"$f":"VLOOKUP(ROW(),'Übersicht und Druck'!$I$7:$K$53,3,TRUE)","v":0}]
[{"$f":"VLOOKUP(ROW(),'Übersicht und Druck'!$I$7:$K$53,3,TRUE)","v":0}]
[{"$f":"VLOOKUP(ROW(),'Übersicht und Druck'!$I$7:$K$53,3,TRUE)","v":0}]
[{"$f":"VLOOKUP(ROW(),'Übersicht und Druck'!$I$7:$K$53,3,TRUE)","v":0}]
[{"$f":"VLOOKUP(ROW(),'Übersicht und Druck'!$I$7:$K$53,3,TRUE)","v":0}]
[{"$f":"VLOOKUP(ROW(),'Übersicht und Druck'!$I$7:$K$53,3,TRUE)","v":0}]
[{"$f":"VLOOKUP(ROW(),'Übersicht und Druck'!$I$7:$K$53,3,TRUE)","v":0}]
[{"$f":"VLOOKUP(ROW(),'Übersicht und Druck'!$I$7:$K$53,3,TRUE)","v":0}]
[{"$f":"VLOOKUP(ROW(),'Übersicht und Druck'!$I$7:$K$53,3,TRUE)","v":0}]
[{"$f":"VLOOKUP(ROW(),'Übersicht und Druck'!$I$7:$K$53,3,TRUE)","v":0}]
[{"$f":"VLOOKUP(ROW(),'Übersicht und Druck'!$I$7:$K$53,3,TRUE)","v":0}]
[{"$f":"VLOOKUP(ROW(),'Übersicht und Druck'!$I$7:$K$53,3,TRUE)","v":0}]
[{"$f":"VLOOKUP(ROW(),'Übersicht und Druck'!$I$7:$K$53,3,TRUE)","v":0}]
[{"$f":"VLOOKUP(ROW(),'Übersicht und Druck'!$I$7:$K$53,3,TRUE)","v":0}]
[{"$f":"VLOOKUP(ROW(),'Übersicht und Druck'!$I$7:$K$53,3,TRUE)","v":0}]
[{"$f":"VLOOKUP(ROW(),'Übersicht und Druck'!$I$7:$K$53,3,TRUE)","v":0}]
[{"$f":"VLOOKUP(ROW(),'Übersicht und Druck'!$I$7:$K$53,3,TRUE)","v":0}]
[{"$f":"VLOOKUP(ROW(),'Übersicht und Druck'!$I$7:$K$53,3,TRUE)","v":0}]
[{"$f":"VLOOKUP(ROW(),'Übersicht und Druck'!$I$7:$K$53,3,TRUE)","v":0}]
[{"$f":"VLOOKUP(ROW(),'Übersicht und Druck'!$I$7:$K$53,3,TRUE)","v":0}]
[{"$f":"VLOOKUP(ROW(),'Übersicht und Druck'!$I$7:$K$53,3,TRUE)","v":0}]
[{"$f":"VLOOKUP(ROW(),'Übersicht und Druck'!$I$7:$K$53,3,TRUE)","v":0}]
[{"$f":"VLOOKUP(ROW(),'Übersicht und Druck'!$I$7:$K$53,3,TRUE)","v":0}]
[{"$f":"VLOOKUP(ROW(),'Übersicht und Druck'!$I$7:$K$53,3,TRUE)","v":0}]
[{"$f":"VLOOKUP(ROW(),'Übersicht und Druck'!$I$7:$K$53,3,TRUE)","v":0}]
[{"$f":"VLOOKUP(ROW(),'Übersicht und Druck'!$I$7:$K$53,3,TRUE)","v":0}]
[{"$f":"VLOOKUP(ROW(),'Übersicht und Druck'!$I$7:$K$53,3,TRUE)","v":0}]
[{"$f":"VLOOKUP(ROW(),'Übersicht und Druck'!$I$7:$K$53,3,TRUE)","v":0}]
[{"$f":"VLOOKUP(ROW(),'Übersicht und Druck'!$I$7:$K$53,3,TRUE)","v":0}]
[{"$f":"VLOOKUP(ROW(),'Übersicht und Druck'!$I$7:$K$53,3,TRUE)","v":0}]
[{"$f":"VLOOKUP(ROW(),'Übersicht und Druck'!$I$7:$K$53,3,TRUE)","v":0}]
[{"$f":"VLOOKUP(ROW(),'Übersicht und Druck'!$I$7:$K$53,3,TRUE)","v":0}]
[{"$f":"VLOOKUP(ROW(),'Übersicht und Druck'!$I$7:$K$53,3,TRUE)","v":0}]
[{"$f":"VLOOKUP(ROW(),'Übersicht und Druck'!$I$7:$K$53,3,TRUE)","v":0}]
[{"$f":"VLOOKUP(ROW(),'Übersicht und Druck'!$I$7:$K$53,3,TRUE)","v":0}]
[{"$f":"VLOOKUP(ROW(),'Übersicht und Druck'!$I$7:$K$53,3,TRUE)","v":0}]
[{"$f":"VLOOKUP(ROW(),'Übersicht und Druck'!$I$7:$K$53,3,TRUE)","v":0}]
[{"$f":"VLOOKUP(ROW(),'Übersicht und Druck'!$I$7:$K$53,3,TRUE)","v":0}]
[{"$f":"VLOOKUP(ROW(),'Übersicht und Druck'!$I$7:$K$53,3,TRUE)","v":0}]
[{"$f":"VLOOKUP(ROW(),'Übersicht und Druck'!$I$7:$K$53,3,TRUE)","v":0}]
[{"$f":"VLOOKUP(ROW(),'Übersicht und Druck'!$I$7:$K$53,3,TRUE)","v":0}]
[{"$f":"VLOOKUP(ROW(),'Übersicht und Druck'!$I$7:$K$53,3,TRUE)","v":0}]
[{"$f":"VLOOKUP(ROW(),'Übersicht und Druck'!$I$7:$K$53,3,TRUE)","v":0}]
[{"$f":"VLOOKUP(ROW(),'Übersicht und Druck'!$I$7:$K$53,3,TRUE)","v":0}]
[{"$f":"VLOOKUP(ROW(),'Übersicht und Druck'!$I$7:$K$53,3,TRUE)","v":0}]
[{"$f":"VLOOKUP(ROW(),'Übersicht und Druck'!$I$7:$K$53,3,TRUE)","v":0}]
[{"$f":"VLOOKUP(ROW(),'Übersicht und Druck'!$I$7:$K$53,3,TRUE)","v":0}]
[{"$f":"VLOOKUP(ROW(),'Übersicht und Druck'!$I$7:$K$53,3,TRUE)","v":0}]
[{"$f":"VLOOKUP(ROW(),'Übersicht und Druck'!$I$7:$K$53,3,TRUE)","v":0}]
[{"$f":"VLOOKUP(ROW(),'Übersicht und Druck'!$I$7:$K$53,3,TRUE)","v":0}]
[{"$f":"VLOOKUP(ROW(),'Übersicht und Druck'!$I$7:$K$53,3,TRUE)","v":0}]
[{"$f":"VLOOKUP(ROW(),'Übersicht und Druck'!$I$7:$K$53,3,TRUE)","v":0}]
[{"$f":"VLOOKUP(ROW(),'Übersicht und Druck'!$I$7:$K$53,3,TRUE)","v":0}]
[{"$f":"VLOOKUP(ROW(),'Übersicht und Druck'!$I$7:$K$53,3,TRUE)","v":0}]
[{"$f":"VLOOKUP(ROW(),'Übersicht und Druck'!$I$7:$K$53,3,TRUE)","v":0}]
[{"$f":"VLOOKUP(ROW(),'Übersicht und Druck'!$I$7:$K$53,3,TRUE)","v":0}]
[{"$f":"VLOOKUP(ROW(),'Übersicht und Druck'!$I$7:$K$53,3,TRUE)","v":0}]
[{"$f":"VLOOKUP(ROW(),'Übersicht und Druck'!$I$7:$K$53,3,TRUE)","v":0}]
[{"$f":"VLOOKUP(ROW(),'Übersicht und Druck'!$I$7:$K$53,3,TRUE)","v":0}]
[{"$f":"VLOOKUP(ROW(),'Übersicht und Druck'!$I$7:$K$53,3,TRUE)","v":0}]
[{"$f":"VLOOKUP(ROW(),'Übersicht und Druck'!$I$7:$K$53,3,TRUE)","v":0}]
[{"$f":"VLOOKUP(ROW(),'Übersicht und Druck'!$I$7:$K$53,3,TRUE)","v":0}]
[{"$f":"VLOOKUP(ROW(),'Übersicht und Druck'!$I$7:$K$53,3,TRUE)","v":0}]
[{"$f":"VLOOKUP(ROW(),'Übersicht und Druck'!$I$7:$K$53,3,TRUE)","v":0}]
[{"$f":"VLOOKUP(ROW(),'Übersicht und Druck'!$I$7:$K$53,3,TRUE)","v":0}]
[{"$f":"VLOOKUP(ROW(),'Übersicht und Druck'!$I$7:$K$53,3,TRUE)","v":0}]
[{"$f":"VLOOKUP(ROW(),'Übersicht und Druck'!$I$7:$K$53,3,TRUE)","v":0}]
[{"$f":"VLOOKUP(ROW(),'Übersicht und Druck'!$I$7:$K$53,3,TRUE)","v":0}]
[{"$f":"VLOOKUP(ROW(),'Übersicht und Druck'!$I$7:$K$53,3,TRUE)","v":0}]
[{"$f":"VLOOKUP(ROW(),'Übersicht und Druck'!$I$7:$K$53,3,TRUE)","v":0}]
[{"$f":"VLOOKUP(ROW(),'Übersicht und Druck'!$I$7:$K$53,3,TRUE)","v":0}]
[{"$f":"VLOOKUP(ROW(),'Übersicht und Druck'!$I$7:$K$53,3,TRUE)","v":0}]
[{"$f":"VLOOKUP(ROW(),'Übersicht und Druck'!$I$7:$K$53,3,TRUE)","v":0}]
[{"$f":"VLOOKUP(ROW(),'Übersicht und Druck'!$I$7:$K$53,3,TRUE)","v":0}]
[{"$f":"VLOOKUP(ROW(),'Übersicht und Druck'!$I$7:$K$53,3,TRUE)","v":0}]
[{"$f":"VLOOKUP(ROW(),'Übersicht und Druck'!$I$7:$K$53,3,TRUE)","v":0}]
[{"$f":"VLOOKUP(ROW(),'Übersicht und Druck'!$I$7:$K$53,3,TRUE)","v":0}]
[{"$f":"VLOOKUP(ROW(),'Übersicht und Druck'!$I$7:$K$53,3,TRUE)","v":0}]
[{"$f":"VLOOKUP(ROW(),'Übersicht und Druck'!$I$7:$K$53,3,TRUE)","v":0}]
[{"$f":"VLOOKUP(ROW(),'Übersicht und Druck'!$I$7:$K$53,3,TRUE)","v":0}]
[{"$f":"VLOOKUP(ROW(),'Übersicht und Druck'!$I$7:$K$53,3,TRUE)","v":0}]
[{"$f":"VLOOKUP(ROW(),'Übersicht und Druck'!$I$7:$K$53,3,TRUE)","v":0}]
[{"$f":"VLOOKUP(ROW(),'Übersicht und Druck'!$I$7:$K$53,3,TRUE)","v":0}]
[{"$f":"VLOOKUP(ROW(),'Übersicht und Druck'!$I$7:$K$53,3,TRUE)","v":0}]
[{"$f":"VLOOKUP(ROW(),'Übersicht und Druck'!$I$7:$K$53,3,TRUE)","v":0}]
[{"$f":"VLOOKUP(ROW(),'Übersicht und Druck'!$I$7:$K$53,3,TRUE)","v":0}]
[{"$f":"VLOOKUP(ROW(),'Übersicht und Druck'!$I$7:$K$53,3,TRUE)","v":0}]
[{"$f":"VLOOKUP(ROW(),'Übersicht und Druck'!$I$7:$K$53,3,TRUE)","v":0}]
[{"$f":"VLOOKUP(ROW(),'Übersicht und Druck'!$I$7:$K$53,3,TRUE)","v":0}]
[{"$f":"VLOOKUP(ROW(),'Übersicht und Druck'!$I$7:$K$53,3,TRUE)","v":0}]
[{"$f":"VLOOKUP(ROW(),'Übersicht und Druck'!$I$7:$K$53,3,TRUE)","v":0}]
[{"$f":"VLOOKUP(ROW(),'Übersicht und Druck'!$I$7:$K$53,3,TRUE)","v":0}]
[{"$f":"VLOOKUP(ROW(),'Übersicht und Druck'!$I$7:$K$53,3,TRUE)","v":0}]
[{"$f":"VLOOKUP(ROW(),'Übersicht und Druck'!$I$7:$K$53,3,TRUE)","v":0}]
[{"$f":"VLOOKUP(ROW(),'Übersicht und Druck'!$I$7:$K$53,3,TRUE)","v":0}]
[{"$f":"VLOOKUP(ROW(),'Übersicht und Druck'!$I$7:$K$53,3,TRUE)","v":0}]
[{"$f":"VLOOKUP(ROW(),'Übersicht und Druck'!$I$7:$K$53,3,TRUE)","v":0}]
[{"$f":"VLOOKUP(ROW(),'Übersicht und Druck'!$I$7:$K$53,3,TRUE)","v":0}]
[{"$f":"VLOOKUP(ROW(),'Übersicht und Druck'!$I$7:$K$53,3,TRUE)","v":0}]
[{"$f":"VLOOKUP(ROW(),'Übersicht und Druck'!$I$7:$K$53,3,TRUE)","v":0}]
[{"$f":"VLOOKUP(ROW(),'Übersicht und Druck'!$I$7:$K$53,3,TRUE)","v":0}]
[{"$f":"VLOOKUP(ROW(),'Übersicht und Druck'!$I$7:$K$53,3,TRUE)","v":0}]
[{"$f":"VLOOKUP(ROW(),'Übersicht und Druck'!$I$7:$K$53,3,TRUE)","v":0}]
[{"$f":"VLOOKUP(ROW(),'Übersicht und Druck'!$I$7:$K$53,3,TRUE)","v":0}]
[{"$f":"VLOOKUP(ROW(),'Übersicht und Druck'!$I$7:$K$53,3,TRUE)","v":0}]
[{"$f":"VLOOKUP(ROW(),'Übersicht und Druck'!$I$7:$K$53,3,TRUE)","v":0}]
[{"$f":"VLOOKUP(ROW(),'Übersicht und Druck'!$I$7:$K$53,3,TRUE)","v":0}]
[{"$f":"VLOOKUP(ROW(),'Übersicht und Druck'!$I$7:$K$53,3,TRUE)","v":0}]
[{"$f":"VLOOKUP(ROW(),'Übersicht und Druck'!$I$7:$K$53,3,TRUE)","v":0}]
[{"$f":"VLOOKUP(ROW(),'Übersicht und Druck'!$I$7:$K$53,3,TRUE)","v":0}]
[{"$f":"VLOOKUP(ROW(),'Übersicht und Druck'!$I$7:$K$53,3,TRUE)","v":0}]
[{"$f":"VLOOKUP(ROW(),'Übersicht und Druck'!$I$7:$K$53,3,TRUE)","v":0}]
[{"$f":"VLOOKUP(ROW(),'Übersicht und Druck'!$I$7:$K$53,3,TRUE)","v":0}]
[{"$f":"VLOOKUP(ROW(),'Übersicht und Druck'!$I$7:$K$53,3,TRUE)","v":0}]
[{"$f":"VLOOKUP(ROW(),'Übersicht und Druck'!$I$7:$K$53,3,TRUE)","v":0}]
[{"$f":"VLOOKUP(ROW(),'Übersicht und Druck'!$I$7:$K$53,3,TRUE)","v":0}]
[{"$f":"VLOOKUP(ROW(),'Übersicht und Druck'!$I$7:$K$53,3,TRUE)","v":0}]
[{"$f":"VLOOKUP(ROW(),'Übersicht und Druck'!$I$7:$K$53,3,TRUE)","v":0}]
[{"$f":"VLOOKUP(ROW(),'Übersicht und Druck'!$I$7:$K$53,3,TRUE)","v":0}]
[{"$f":"VLOOKUP(ROW(),'Übersicht und Druck'!$I$7:$K$53,3,TRUE)","v":0}]
[{"$f":"VLOOKUP(ROW(),'Übersicht und Druck'!$I$7:$K$53,3,TRUE)","v":0}]
[{"$f":"VLOOKUP(ROW(),'Übersicht und Druck'!$I$7:$K$53,3,TRUE)","v":0}]
[{"$f":"VLOOKUP(ROW(),'Übersicht und Druck'!$I$7:$K$53,3,TRUE)","v":0}]
[{"$f":"VLOOKUP(ROW(),'Übersicht und Druck'!$I$7:$K$53,3,TRUE)","v":0}]
[{"$f":"VLOOKUP(ROW(),'Übersicht und Druck'!$I$7:$K$53,3,TRUE)","v":0}]
[{"$f":"VLOOKUP(ROW(),'Übersicht und Druck'!$I$7:$K$53,3,TRUE)","v":0}]
[{"$f":"VLOOKUP(ROW(),'Übersicht und Druck'!$I$7:$K$53,3,TRUE)","v":0}]
[{"$f":"VLOOKUP(ROW(),'Übersicht und Druck'!$I$7:$K$53,3,TRUE)","v":0}]
[{"$f":"VLOOKUP(ROW(),'Übersicht und Druck'!$I$7:$K$53,3,TRUE)","v":0}]
[{"$f":"VLOOKUP(ROW(),'Übersicht und Druck'!$I$7:$K$53,3,TRUE)","v":0}]
[{"$f":"VLOOKUP(ROW(),'Übersicht und Druck'!$I$7:$K$53,3,TRUE)","v":0}]
[{"$f":"VLOOKUP(ROW(),'Übersicht und Druck'!$I$7:$K$53,3,TRUE)","v":0}]
[{"$f":"VLOOKUP(ROW(),'Übersicht und Druck'!$I$7:$K$53,3,TRUE)","v":0}]
[{"$f":"VLOOKUP(ROW(),'Übersicht und Druck'!$I$7:$K$53,3,TRUE)","v":0}]
[{"$f":"VLOOKUP(ROW(),'Übersicht und Druck'!$I$7:$K$53,3,TRUE)","v":0}]
[{"$f":"VLOOKUP(ROW(),'Übersicht und Druck'!$I$7:$K$53,3,TRUE)","v":0}]
[{"$f":"VLOOKUP(ROW(),'Übersicht und Druck'!$I$7:$K$53,3,TRUE)","v":0}]
[{"$f":"VLOOKUP(ROW(),'Übersicht und Druck'!$I$7:$K$53,3,TRUE)","v":0}]
[{"$f":"VLOOKUP(ROW(),'Übersicht und Druck'!$I$7:$K$53,3,TRUE)","v":0}]
[{"$f":"VLOOKUP(ROW(),'Übersicht und Druck'!$I$7:$K$53,3,TRUE)","v":0}]
[{"$f":"VLOOKUP(ROW(),'Übersicht und Druck'!$I$7:$K$53,3,TRUE)","v":0}]
[{"$f":"VLOOKUP(ROW(),'Übersicht und Druck'!$I$7:$K$53,3,TRUE)","v":0}]
[{"$f":"VLOOKUP(ROW(),'Übersicht und Druck'!$I$7:$K$53,3,TRUE)","v":0}]
[{"$f":"VLOOKUP(ROW(),'Übersicht und Druck'!$I$7:$K$53,3,TRUE)","v":0}]
[{"$f":"VLOOKUP(ROW(),'Übersicht und Druck'!$I$7:$K$53,3,TRUE)","v":0}]
[{"$f":"VLOOKUP(ROW(),'Übersicht und Druck'!$I$7:$K$53,3,TRUE)","v":0}]
[{"$f":"VLOOKUP(ROW(),'Übersicht und Druck'!$I$7:$K$53,3,TRUE)","v":0}]
[{"$f":"VLOOKUP(ROW(),'Übersicht und Druck'!$I$7:$K$53,3,TRUE)","v":0}]
[{"$f":"VLOOKUP(ROW(),'Übersicht und Druck'!$I$7:$K$53,3,TRUE)","v":0}]
[{"$f":"VLOOKUP(ROW(),'Übersicht und Druck'!$I$7:$K$53,3,TRUE)","v":0}]
[{"$f":"VLOOKUP(ROW(),'Übersicht und Druck'!$I$7:$K$53,3,TRUE)","v":0}]
[{"$f":"VLOOKUP(ROW(),'Übersicht und Druck'!$I$7:$K$53,3,TRUE)","v":0}]
[{"$f":"VLOOKUP(ROW(),'Übersicht und Druck'!$I$7:$K$53,3,TRUE)","v":0}]
[{"$f":"VLOOKUP(ROW(),'Übersicht und Druck'!$I$7:$K$53,3,TRUE)","v":0}]
[{"$f":"VLOOKUP(ROW(),'Übersicht und Druck'!$I$7:$K$53,3,TRUE)","v":0}]
[{"$f":"VLOOKUP(ROW(),'Übersicht und Druck'!$I$7:$K$53,3,TRUE)","v":0}]
[{"$f":"VLOOKUP(ROW(),'Übersicht und Druck'!$I$7:$K$53,3,TRUE)","v":0}]
[{"$f":"VLOOKUP(ROW(),'Übersicht und Druck'!$I$7:$K$53,3,TRUE)","v":0}]
[{"$f":"VLOOKUP(ROW(),'Übersicht und Druck'!$I$7:$K$53,3,TRUE)","v":0}]
[{"$f":"VLOOKUP(ROW(),'Übersicht und Druck'!$I$7:$K$53,3,TRUE)","v":0}]
[{"$f":"VLOOKUP(ROW(),'Übersicht und Druck'!$I$7:$K$53,3,TRUE)","v":0}]
[{"$f":"VLOOKUP(ROW(),'Übersicht und Druck'!$I$7:$K$53,3,TRUE)","v":0}]
[{"$f":"VLOOKUP(ROW(),'Übersicht und Druck'!$I$7:$K$53,3,TRUE)","v":0}]
[{"$f":"VLOOKUP(ROW(),'Übersicht und Druck'!$I$7:$K$53,3,TRUE)","v":0}]
[{"$f":"VLOOKUP(ROW(),'Übersicht und Druck'!$I$7:$K$53,3,TRUE)","v":0}]
[{"$f":"VLOOKUP(ROW(),'Übersicht und Druck'!$I$7:$K$53,3,TRUE)","v":0}]
[{"$f":"VLOOKUP(ROW(),'Übersicht und Druck'!$I$7:$K$53,3,TRUE)","v":0}]
[{"$f":"VLOOKUP(ROW(),'Übersicht und Druck'!$I$7:$K$53,3,TRUE)","v":0}]
[{"$f":"VLOOKUP(ROW(),'Übersicht und Druck'!$I$7:$K$53,3,TRUE)","v":0}]
[{"$f":"VLOOKUP(ROW(),'Übersicht und Druck'!$I$7:$K$53,3,TRUE)","v":0}]
[{"$f":"VLOOKUP(ROW(),'Übersicht und Druck'!$I$7:$K$53,3,TRUE)","v":0}]
[{"$f":"VLOOKUP(ROW(),'Übersicht und Druck'!$I$7:$K$53,3,TRUE)","v":0}]
[{"$f":"VLOOKUP(ROW(),'Übersicht und Druck'!$I$7:$K$53,3,TRUE)","v":0}]
[{"$f":"VLOOKUP(ROW(),'Übersicht und Druck'!$I$7:$K$53,3,TRUE)","v":0}]
[{"$f":"VLOOKUP(ROW(),'Übersicht und Druck'!$I$7:$K$53,3,TRUE)","v":0}]
[{"$f":"VLOOKUP(ROW(),'Übersicht und Druck'!$I$7:$K$53,3,TRUE)","v":0}]
[{"$f":"VLOOKUP(ROW(),'Übersicht und Druck'!$I$7:$K$53,3,TRUE)","v":0}]
[{"$f":"VLOOKUP(ROW(),'Übersicht und Druck'!$I$7:$K$53,3,TRUE)","v":0}]
[{"$f":"VLOOKUP(ROW(),'Übersicht und Druck'!$I$7:$K$53,3,TRUE)","v":0}]
[{"$f":"VLOOKUP(ROW(),'Übersicht und Druck'!$I$7:$K$53,3,TRUE)","v":0}]
[{"$f":"VLOOKUP(ROW(),'Übersicht und Druck'!$I$7:$K$53,3,TRUE)","v":0}]
[{"$f":"VLOOKUP(ROW(),'Übersicht und Druck'!$I$7:$K$53,3,TRUE)","v":0}]
[{"$f":"VLOOKUP(ROW(),'Übersicht und Druck'!$I$7:$K$53,3,TRUE)","v":0}]
[{"$f":"VLOOKUP(ROW(),'Übersicht und Druck'!$I$7:$K$53,3,TRUE)","v":0}]
[{"$f":"VLOOKUP(ROW(),'Übersicht und Druck'!$I$7:$K$53,3,TRUE)","v":0}]
[{"$f":"VLOOKUP(ROW(),'Übersicht und Druck'!$I$7:$K$53,3,TRUE)","v":0}]
[{"$f":"VLOOKUP(ROW(),'Übersicht und Druck'!$I$7:$K$53,3,TRUE)","v":0}]
[{"$f":"VLOOKUP(ROW(),'Übersicht und Druck'!$I$7:$K$53,3,TRUE)","v":0}]
[{"$f":"VLOOKUP(ROW(),'Übersicht und Druck'!$I$7:$K$53,3,TRUE)","v":0}]
[{"$f":"VLOOKUP(ROW(),'Übersicht und Druck'!$I$7:$K$53,3,TRUE)","v":0}]
[{"$f":"VLOOKUP(ROW(),'Übersicht und Druck'!$I$7:$K$53,3,TRUE)","v":0}]
[{"$f":"VLOOKUP(ROW(),'Übersicht und Druck'!$I$7:$K$53,3,TRUE)","v":0}]
[{"$f":"VLOOKUP(ROW(),'Übersicht und Druck'!$I$7:$K$53,3,TRUE)","v":0}]
[{"$f":"VLOOKUP(ROW(),'Übersicht und Druck'!$I$7:$K$53,3,TRUE)","v":0}]
[{"$f":"VLOOKUP(ROW(),'Übersicht und Druck'!$I$7:$K$53,3,TRUE)","v":0}]
[{"$f":"VLOOKUP(ROW(),'Übersicht und Druck'!$I$7:$K$53,3,TRUE)","v":0}]
[{"$f":"VLOOKUP(ROW(),'Übersicht und Druck'!$I$7:$K$53,3,TRUE)","v":0}]
[{"$f":"VLOOKUP(ROW(),'Übersicht und Druck'!$I$7:$K$53,3,TRUE)","v":0}]
[{"$f":"VLOOKUP(ROW(),'Übersicht und Druck'!$I$7:$K$53,3,TRUE)","v":0}]
[{"$f":"VLOOKUP(ROW(),'Übersicht und Druck'!$I$7:$K$53,3,TRUE)","v":0}]
[{"$f":"VLOOKUP(ROW(),'Übersicht und Druck'!$I$7:$K$53,3,TRUE)","v":0}]
[{"$f":"VLOOKUP(ROW(),'Übersicht und Druck'!$I$7:$K$53,3,TRUE)","v":0}]
[{"$f":"VLOOKUP(ROW(),'Übersicht und Druck'!$I$7:$K$53,3,TRUE)","v":0}]
[{"$f":"VLOOKUP(ROW(),'Übersicht und Druck'!$I$7:$K$53,3,TRUE)","v":0}]
[{"$f":"VLOOKUP(ROW(),'Übersicht und Druck'!$I$7:$K$53,3,TRUE)","v":0}]
[{"$f":"VLOOKUP(ROW(),'Übersicht und Druck'!$I$7:$K$53,3,TRUE)","v":0}]
[{"$f":"VLOOKUP(ROW(),'Übersicht und Druck'!$I$7:$K$53,3,TRUE)","v":0}]
[{"$f":"VLOOKUP(ROW(),'Übersicht und Druck'!$I$7:$K$53,3,TRUE)","v":0}]
[{"$f":"VLOOKUP(ROW(),'Übersicht und Druck'!$I$7:$K$53,3,TRUE)","v":0}]
[{"$f":"VLOOKUP(ROW(),'Übersicht und Druck'!$I$7:$K$53,3,TRUE)","v":0}]
[{"$f":"VLOOKUP(ROW(),'Übersicht und Druck'!$I$7:$K$53,3,TRUE)","v":0}]
[{"$f":"VLOOKUP(ROW(),'Übersicht und Druck'!$I$7:$K$53,3,TRUE)","v":0}]
[{"$f":"VLOOKUP(ROW(),'Übersicht und Druck'!$I$7:$K$53,3,TRUE)","v":0}]
[{"$f":"VLOOKUP(ROW(),'Übersicht und Druck'!$I$7:$K$53,3,TRUE)","v":0}]
[{"$f":"VLOOKUP(ROW(),'Übersicht und Druck'!$I$7:$K$53,3,TRUE)","v":0}]
[{"$f":"VLOOKUP(ROW(),'Übersicht und Druck'!$I$7:$K$53,3,TRUE)","v":0}]
[{"$f":"VLOOKUP(ROW(),'Übersicht und Druck'!$I$7:$K$53,3,TRUE)","v":0}]
[{"$f":"VLOOKUP(ROW(),'Übersicht und Druck'!$I$7:$K$53,3,TRUE)","v":0}]
[{"$f":"VLOOKUP(ROW(),'Übersicht und Druck'!$I$7:$K$53,3,TRUE)","v":0}]
[{"$f":"VLOOKUP(ROW(),'Übersicht und Druck'!$I$7:$K$53,3,TRUE)","v":0}]
[{"$f":"VLOOKUP(ROW(),'Übersicht und Druck'!$I$7:$K$53,3,TRUE)","v":0}]
[{"$f":"VLOOKUP(ROW(),'Übersicht und Druck'!$I$7:$K$53,3,TRUE)","v":0}]
[{"$f":"VLOOKUP(ROW(),'Übersicht und Druck'!$I$7:$K$53,3,TRUE)","v":0}]
[{"$f":"VLOOKUP(ROW(),'Übersicht und Druck'!$I$7:$K$53,3,TRUE)","v":0}]
[{"$f":"VLOOKUP(ROW(),'Übersicht und Druck'!$I$7:$K$53,3,TRUE)","v":0}]
[{"$f":"VLOOKUP(ROW(),'Übersicht und Druck'!$I$7:$K$53,3,TRUE)","v":0}]
[{"$f":"VLOOKUP(ROW(),'Übersicht und Druck'!$I$7:$K$53,3,TRUE)","v":0}]
[{"$f":"VLOOKUP(ROW(),'Übersicht und Druck'!$I$7:$K$53,3,TRUE)","v":0}]
[{"$f":"VLOOKUP(ROW(),'Übersicht und Druck'!$I$7:$K$53,3,TRUE)","v":0}]
[{"$f":"VLOOKUP(ROW(),'Übersicht und Druck'!$I$7:$K$53,3,TRUE)","v":0}]
[{"$f":"VLOOKUP(ROW(),'Übersicht und Druck'!$I$7:$K$53,3,TRUE)","v":0}]
[{"$f":"VLOOKUP(ROW(),'Übersicht und Druck'!$I$7:$K$53,3,TRUE)","v":0}]
[{"$f":"VLOOKUP(ROW(),'Übersicht und Druck'!$I$7:$K$53,3,TRUE)","v":0}]
[{"$f":"VLOOKUP(ROW(),'Übersicht und Druck'!$I$7:$K$53,3,TRUE)","v":0}]
[{"$f":"VLOOKUP(ROW(),'Übersicht und Druck'!$I$7:$K$53,3,TRUE)","v":0}]
[{"$f":"VLOOKUP(ROW(),'Übersicht und Druck'!$I$7:$K$53,3,TRUE)","v":0}]
[{"$f":"VLOOKUP(ROW(),'Übersicht und Druck'!$I$7:$K$53,3,TRUE)","v":0}]
[{"$f":"VLOOKUP(ROW(),'Übersicht und Druck'!$I$7:$K$53,3,TRUE)","v":0}]
[{"$f":"VLOOKUP(ROW(),'Übersicht und Druck'!$I$7:$K$53,3,TRUE)","v":0}]
[{"$f":"VLOOKUP(ROW(),'Übersicht und Druck'!$I$7:$K$53,3,TRUE)","v":0}]
[{"$f":"VLOOKUP(ROW(),'Übersicht und Druck'!$I$7:$K$53,3,TRUE)","v":0}]
[{"$f":"VLOOKUP(ROW(),'Übersicht und Druck'!$I$7:$K$53,3,TRUE)","v":0}]
[{"$f":"VLOOKUP(ROW(),'Übersicht und Druck'!$I$7:$K$53,3,TRUE)","v":0}]
[{"$f":"VLOOKUP(ROW(),'Übersicht und Druck'!$I$7:$K$53,3,TRUE)","v":0}]
[{"$f":"VLOOKUP(ROW(),'Übersicht und Druck'!$I$7:$K$53,3,TRUE)","v":0}]
[{"$f":"VLOOKUP(ROW(),'Übersicht und Druck'!$I$7:$K$53,3,TRUE)","v":0}]
[{"$f":"VLOOKUP(ROW(),'Übersicht und Druck'!$I$7:$K$53,3,TRUE)","v":0}]
[{"$f":"VLOOKUP(ROW(),'Übersicht und Druck'!$I$7:$K$53,3,TRUE)","v":0}]
[{"$f":"VLOOKUP(ROW(),'Übersicht und Druck'!$I$7:$K$53,3,TRUE)","v":0}]
[{"$f":"VLOOKUP(ROW(),'Übersicht und Druck'!$I$7:$K$53,3,TRUE)","v":0}]
[{"$f":"VLOOKUP(ROW(),'Übersicht und Druck'!$I$7:$K$53,3,TRUE)","v":0}]
[{"$f":"VLOOKUP(ROW(),'Übersicht und Druck'!$I$7:$K$53,3,TRUE)","v":0}]
[{"$f":"VLOOKUP(ROW(),'Übersicht und Druck'!$I$7:$K$53,3,TRUE)","v":0}]
[{"$f":"VLOOKUP(ROW(),'Übersicht und Druck'!$I$7:$K$53,3,TRUE)","v":0}]
[{"$f":"VLOOKUP(ROW(),'Übersicht und Druck'!$I$7:$K$53,3,TRUE)","v":0}]
[{"$f":"VLOOKUP(ROW(),'Übersicht und Druck'!$I$7:$K$53,3,TRUE)","v":0}]
[{"$f":"VLOOKUP(ROW(),'Übersicht und Druck'!$I$7:$K$53,3,TRUE)","v":0}]
[{"$f":"VLOOKUP(ROW(),'Übersicht und Druck'!$I$7:$K$53,3,TRUE)","v":0}]
[{"$f":"VLOOKUP(ROW(),'Übersicht und Druck'!$I$7:$K$53,3,TRUE)","v":0}]
[{"$f":"VLOOKUP(ROW(),'Übersicht und Druck'!$I$7:$K$53,3,TRUE)","v":0}]
[{"$f":"VLOOKUP(ROW(),'Übersicht und Druck'!$I$7:$K$53,3,TRUE)","v":0}]
[{"$f":"VLOOKUP(ROW(),'Übersicht und Druck'!$I$7:$K$53,3,TRUE)","v":0}]
[{"$f":"VLOOKUP(ROW(),'Übersicht und Druck'!$I$7:$K$53,3,TRUE)","v":0}]
[{"$f":"VLOOKUP(ROW(),'Übersicht und Druck'!$I$7:$K$53,3,TRUE)","v":0}]
[{"$f":"VLOOKUP(ROW(),'Übersicht und Druck'!$I$7:$K$53,3,TRUE)","v":0}]
[{"$f":"VLOOKUP(ROW(),'Übersicht und Druck'!$I$7:$K$53,3,TRUE)","v":0}]
[{"$f":"VLOOKUP(ROW(),'Übersicht und Druck'!$I$7:$K$53,3,TRUE)","v":0}]
[{"$f":"VLOOKUP(ROW(),'Übersicht und Druck'!$I$7:$K$53,3,TRUE)","v":0}]
[{"$f":"VLOOKUP(ROW(),'Übersicht und Druck'!$I$7:$K$53,3,TRUE)","v":0}]
[{"$f":"VLOOKUP(ROW(),'Übersicht und Druck'!$I$7:$K$53,3,TRUE)","v":0}]
[{"$f":"VLOOKUP(ROW(),'Übersicht und Druck'!$I$7:$K$53,3,TRUE)","v":0}]
[{"$f":"VLOOKUP(ROW(),'Übersicht und Druck'!$I$7:$K$53,3,TRUE)","v":0}]
[{"$f":"VLOOKUP(ROW(),'Übersicht und Druck'!$I$7:$K$53,3,TRUE)","v":0}]
[{"$f":"VLOOKUP(ROW(),'Übersicht und Druck'!$I$7:$K$53,3,TRUE)","v":0}]
[{"$f":"VLOOKUP(ROW(),'Übersicht und Druck'!$I$7:$K$53,3,TRUE)","v":0}]
[{"$f":"VLOOKUP(ROW(),'Übersicht und Druck'!$I$7:$K$53,3,TRUE)","v":0}]
[{"$f":"VLOOKUP(ROW(),'Übersicht und Druck'!$I$7:$K$53,3,TRUE)","v":0}]
[{"$f":"VLOOKUP(ROW(),'Übersicht und Druck'!$I$7:$K$53,3,TRUE)","v":0}]
[{"$f":"VLOOKUP(ROW(),'Übersicht und Druck'!$I$7:$K$53,3,TRUE)","v":0}]
[{"$f":"VLOOKUP(ROW(),'Übersicht und Druck'!$I$7:$K$53,3,TRUE)","v":0}]
[{"$f":"VLOOKUP(ROW(),'Übersicht und Druck'!$I$7:$K$53,3,TRUE)","v":0}]
[{"$f":"VLOOKUP(ROW(),'Übersicht und Druck'!$I$7:$K$53,3,TRUE)","v":0}]
[{"$f":"VLOOKUP(ROW(),'Übersicht und Druck'!$I$7:$K$53,3,TRUE)","v":0}]

{"sheet":"RS Grunddeckung","index":15,"n_rows":185,"n_cols":14,"rows_kept":185,"cut":false,"hidden":true,"merged":[[182,1,183,1],[182,4,182,5],[183,4,183,5],[171,2,171,3],[171,4,171,5],[180,4,180,5],[177,2,178,2],[177,4,178,5],[172,2,172,4],[173,2,173,3],[177,1,180,1],[174,2,174,3],[174,4,174,5],[19,1,21,1],[169,4,169,5],[170,2,170,3],[170,4,170,5],[173,4,173,5],[166,1,166,3],[168,2,168,4],[169,1,171,1],[169,2,169,3],[19,5,19,13],[166,4,166,5],[167,2,167,3],[167,4,167,5],[39,5,39,13],[59,5,59,13],[184,2,184,3],[184,4,184,5],[175,2,175,3],[175,4,175,5],[176,2,176,5],[181,2,181,5],[179,4,179,5]]}
[]
[null,"Gruppe","Grundprämie","AVRS"]
[null,{"$f":"A20","v":"Gruppe 1"},{"$f":"VLOOKUP($C$18,C23:N38,3,TRUE)","v":2.83},{"$f":"IF(E18=0,0,VLOOKUP($C$18,C23:N38,HLOOKUP($E$18,F21:N22,2,FALSE),TRUE))","v":0}]
[null,{"$f":"A40","v":"Gruppe 2"},{"$f":"VLOOKUP($C$18,C43:N58,3,TRUE)","v":5.65},{"$f":"IF(E18=0,0,VLOOKUP($C$18,C43:N58,HLOOKUP($E$18,F41:N42,2,FALSE),TRUE))","v":0}]
[null,{"$f":"A60","v":"Gruppe 3"},{"$f":"VLOOKUP($C$18,C63:N78,3,TRUE)","v":7.71},{"$f":"IF(E18=0,0,VLOOKUP($C$18,C63:N78,HLOOKUP($E$18,F61:N62,2,FALSE),TRUE))","v":0}]
[null,{"$f":"A80","v":"Gruppe 4"},{"$f":"VLOOKUP($C$18,C83:M98,3,TRUE)","v":5.01},{"$f":"IF(E18=0,0,VLOOKUP($C$18,C83:M98,HLOOKUP($E$18,F81:M82,2,FALSE),TRUE))","v":0}]
[null,{"$f":"A100","v":"Gruppe 5"},{"$f":"VLOOKUP($C$18,C103:M118,3,TRUE)","v":2.83},{"$f":"IF(E18=0,0,VLOOKUP($C$18,C103:M118,HLOOKUP($E$18,F101:M102,2,FALSE),TRUE))","v":0}]
[null,{"$f":"A120","v":"Gruppe 6 mit Kfz-Handel"},{"$f":"VLOOKUP($C$18,C123:M139,3,TRUE)","v":6.67},{"$f":"IF(E18=0,0,VLOOKUP($C$18,C123:M139,HLOOKUP($E$18,F121:M122,2,FALSE),TRUE))","v":0}]
[null,{"$f":"A141","v":"Gruppe 6 ohne Kfz-Handel"},{"$f":"VLOOKUP($C$18,C144:M160,3,TRUE)","v":6.67},{"$f":"IF(E18=0,0,VLOOKUP($C$18,C144:M160,HLOOKUP($E$18,F142:M143,2,FALSE),TRUE))","v":0},"Differenz"]
[null,"Gewählt",{"$f":"VLOOKUP(B15,B3:D9,2,FALSE)","v":{"$error":"#N/A"}},{"$f":"VLOOKUP(B15,B3:D9,3,FALSE)","v":{"$error":"#N/A"}},{"$f":"IF(D10=0,0,D10-C10)","v":{"$error":"#N/A"}}]
[]
[]
[null,null,null,"Kfz-Handel"]
[null,"Gruppe gewählt",{"$f":"'Berechnung Sparten'!R5","v":0},{"$f":"RS!AB35","v":"ja"}]
[null,{"$f":"IF(AND(C14=6,D14=\"ja\"),B8,IF(C14=6,B9,\"Gruppe \"&C14))","v":"Gruppe 0"}]
[]
["RS"]
[null,"MA-Anzahl",{"$f":"RS!E7","v":0},"Streitwert",{"$f":"IF(RS!Y41=RS!Y30,0,RS!Y41)","v":0}]
[]
["Gruppe 1","Beschäftigte",null,null,"Grundprämie","FI inkl. AVRS, Streitwert in € bis zu"]
[null,null,null,null," ohne AVRS",5000,10000,15000,20000,30000,40000,50000,75000,100000]
[null,null,"von","bis","in ‰",4,5,6,7,8,9,10,11,12]
[null,"0 - 5",{"$f":"LEFT(B23,SEARCH(\"-\",B23)-1)*1","v":0},{"$f":"RIGHT(B23,SEARCH(\"-\",B23)-1)*1","v":5},2.83,12.53,15.44,21.21,27,32.79,38.57,42.43,45.82,49.03]
[null,"6 - 8",{"$f":"LEFT(B24,SEARCH(\"-\",B24)-1)*1","v":6},8,3.93,17.440000000000001,21.47,29.51,37.57,45.61,53.65,59.02,63.74,68.2]
[null,"9 - 11",9,11,4.91,21.69,26.72,36.67,46.68,56.71,66.67,73.34,79.2,84.75]
[null,"12 - 14",12,14,6.12,27.04,33.32,45.71,58.13,70.67,83.11,91.42,98.73,105.65]
[null,"15 - 17",15,17,7.53,33.29,41.01,56.25,71.55,86.99,102.28,112.51,121.51,130.01]
[null,"18 - 20",18,20,8.9499999999999993,39.53,48.71,66.8,84.97,103.28,121.47,133.62,144.31,154.41]
[null,"21 - 25",21,25,10,45.67,56.33,77.45,95.05,119.71,136.44,150.08000000000001,162.09,173.44]
[null,"26 - 30",26,30,11.84,48.96,60.2,84.04,105.44,132.05000000000001,152.80000000000001,168.08,181.53,194.23]
[null,"31 - 35",31,35,12.85,52.16,64.069999999999993,90.53,115.81,144.38999999999999,169.17,186.09,200.97,215.04]
[null,"36 - 40",36,40,14.15,54.91,67.930000000000007,97.07,126.2,156.72999999999999,185.52,204.07,220.4,235.83]
[null,"41 - 45",41,45,16,58.56,71.8,103.61,136.59,169.08,201.91,222.1,239.87,256.66000000000003]
[null,"46 - 50",46,50,16.95,61.24,74.47,109.73,144.38999999999999,178.92,213.61,234.97,253.77,271.52999999999997]
[null,"51 - 60",51,60,19.88,70.75,85.79,127.59,167.61,207.93,248.2,273.02,294.86,315.5]
[null,"61 - 70",61,70,22.39,80.44,98.81,144.24,190.25,235.35,280.79000000000002,308.87,333.58,356.93]
[null,"71 - 80",71,{"$f":"RIGHT(B37,SEARCH(\"-\",B37)-1)*1","v":80},25.68,90.52,111.19,162.32,213.99,264.75,315.97000000000003,347.57,375.37,401.65]
[null,"81 - 100",81,{"$f":"RIGHT(B38,SEARCH(\"-\",B38)-1)*1","v":100},29.92,101.25,124.47,180.99,240.21,297,353.87,389.26,420.4,449.83]
[]
["Gruppe 2","Beschäftigte",null,null,"Grundprämie","FI inkl. AVRS, Streitwert in € bis zu"]
[null,null,null,null," ohne AVRS",5000,10000,15000,20000,30000,40000,50000,75000,100000]
[null,null,"von","bis","in ‰",4,5,6,7,8,9,10,11,12]
[null,"0 - 5",{"$f":"LEFT(B43,SEARCH(\"-\",B43)-1)*1","v":0},{"$f":"RIGHT(B43,SEARCH(\"-\",B43)-1)*1","v":5},5.65,15.44,18.32,24.11,29.91,35.68,41.47,45.62,49.27,52.72]
[null,"6 - 8",{"$f":"LEFT(B44,SEARCH(\"-\",B44)-1)*1","v":6},8,7.87,21.47,25.51,33.53,41.6,49.64,57.67,63.44,68.510000000000005,73.31]
[null,"9 - 11",9,11,9.81,26.72,31.73,41.68,51.71,61.71,71.69,78.86,85.17,91.13]
[null,"12 - 14",12,14,12.4,33.32,39.590000000000003,51.97,64.400000000000006,76.930000000000007,89.37,98.31,106.17,113.6]
[null,"15 - 17",15,17,15.08,41.01,48.72,63.97,79.28,94.69,109.99,120.99,130.66999999999999,139.81]
[null,"18 - 20",18,20,17.91,48.68,57.85,75.95,94.13,112.44,130.63,143.69,155.19,166.05]
[null,"21 - 25",21,25,20,56,66.55,87.68,105.28,129.91999999999999,146.68,161.35,174.26,186.45]
[null,"26 - 30",26,30,23.69,61.08,72.319999999999993,96.11,117.55,144.16,164.92,181.41,195.92,209.64]
[null,"31 - 35",31,35,25.72,65.319999999999993,77.209999999999994,103.68,128.97,157.53,182.32,200.55,216.6,231.76]
[null,"36 - 40",36,40,28.28,69.39,82.39,111.53,140.66999999999999,171.2,200,220,237.6,254.23]
[null,"41 - 45",41,45,32,74.930000000000007,88.17,119.97,152.94999999999999,185.44,218.25,240.08,259.27999999999997,277.43]
[null,"46 - 50",46,50,33.880000000000003,78.59,91.79,127.04,161.72,196.25,230.95,254.05,274.37,293.57]
[null,"51 - 60",51,60,39.75,91.07,106.12,147.91999999999999,187.93,228.27,268.52999999999997,295.38,319.01,341.34]
[null,"61 - 70",61,70,44.77,103.33,121.72,167.13,213.08,258.25,303.68,334.05,360.77,386.03]
[null,"71 - 80",71,{"$f":"RIGHT(B57,SEARCH(\"-\",B57)-1)*1","v":80},51.37,116.79,137.44999999999999,188.59,240.25,291.02999999999997,342.24,376.46,406.58,435.04]
[null,"81 - 100",81,{"$f":"RIGHT(B58,SEARCH(\"-\",B58)-1)*1","v":100},59.83,131.85,155.05000000000001,211.59,270.81,327.60000000000002,384.47,422.92,456.75,488.72]
[]
["Gruppe 3","Beschäftigte",null,null,"Grundprämie","FI inkl. AVRS, Streitwert in € bis zu"]
[null,null,null,null," ohne AVRS",5000,10000,15000,20000,30000,40000,50000,75000,100000]
[null,null,"von","bis","in ‰",4,5,6,7,8,9,10,11,12]
[null,"0 - 5",{"$f":"LEFT(B63,SEARCH(\"-\",B63)-1)*1","v":0},{"$f":"RIGHT(B63,SEARCH(\"-\",B63)-1)*1","v":5},7.71,18.32,21.21,27,32.770000000000003,38.57,44.35,48.79,52.69,56.38]
[null,"6 - 8",{"$f":"LEFT(B64,SEARCH(\"-\",B64)-1)*1","v":6},8,10.73,25.51,29.52,37.549999999999997,45.68,53.67,61.68,67.849999999999994,73.28,78.41]
[null,"9 - 11",9,11,13.37,31.73,36.75,46.71,56.72,66.73,76.709999999999994,84.38,91.13,97.51]
[null,"12 - 14",12,14,16.72,39.590000000000003,45.85,58.27,70.67,83.2,95.64,105.2,113.62,121.57]
[null,"15 - 17",15,17,20.56,48.72,56.44,71.680000000000007,86.99,102.4,117.71,129.47999999999999,139.84,149.63]
[null,"18 - 20",18,20,24.41,57.85,67.010000000000005,85.12,103.28,121.6,139.77000000000001,153.75,166.05,177.67]
[null,"21 - 25",21,25,27.27,66.209999999999994,74.12,97.91,115.52,140.15,156.91,172.6,186.41,199.46]
[null,"26 - 30",26,30,32.31,73.2,84.41,108.21,129.66999999999999,156.27000000000001,177.04,194.74,210.32,225.05]
[null,"31 - 35",31,35,35.07,78.47,90.37,116.84,142.12,170.68,195.47,215.05,232.22,248.47]
[null,"36 - 40",36,40,38.57,83.85,96.85,126,155.12,185.65,214.45,235.9,254.77,272.60000000000002]
[null,"41 - 45",41,45,43.64,91.31,104.53,136.35,169.31,201.8,234.61,258.07,278.72000000000003,298.23]
[null,"46 - 50",46,50,46.21,95.87,109.12,144.37,179.05,213.59,248.27,273.10000000000002,294.94,315.58999999999997]
[null,"51 - 60",51,60,54.21,111.4,126.44,168.24,208.27,248.6,288.85000000000002,317.74,343.15,367.17]
[null,"61 - 70",61,70,60.8,126.24,144.61000000000001,190.04,235.97,281.14999999999998,326.58999999999997,359.25,387.99,415.15]
[null,"71 - 80",71,{"$f":"RIGHT(B77,SEARCH(\"-\",B77)-1)*1","v":80},70.05,143.05000000000001,163.72,214.87,266.52,317.27999999999997,368.45,405.3,437.72,468.36]
[null,"81 - 100",81,{"$f":"RIGHT(B78,SEARCH(\"-\",B78)-1)*1","v":100},81.59,162.44,185.65,242.19,301.41000000000003,358.2,415.07,456.58,493.1,527.62]
[]
["Gruppe 4","Beschäftigte",null,null,"Grundprämie","FI inkl. AVRS, Streitwert in € bis zu"]
[null,null,null,null," ohne AVRS",10000,15000,20000,30000,40000,50000,75000,100000]
[null,null,"von","bis","in ‰",4,5,6,7,8,9,10,11]
[null,"0 - 5",{"$f":"LEFT(B83,SEARCH(\"-\",B83)-1)*1","v":0},{"$f":"RIGHT(B83,SEARCH(\"-\",B83)-1)*1","v":5},5.01,18.52,25.45,32.4,39.35,46.28,50.91,54.98,58.83]
[null,"6 - 8",{"$f":"LEFT(B84,SEARCH(\"-\",B84)-1)*1","v":6},8,6.97,25.76,35.4,45.09,54.73,64.37,70.81,76.47,81.819999999999993]
[null,"9 - 11",9,11,8.69,32.049999999999997,44,56.01,68.040000000000006,80.010000000000005,88.01,95.05,101.71]
[null,"12 - 14",12,14,10.87,39.99,54.84,69.77,84.8,99.73,109.7,118.48,126.77]
[null,"15 - 17",15,17,13.36,49.21,67.510000000000005,85.87,104.37,122.73,135,145.80000000000001,156.01]
[null,"18 - 20",18,20,15.88,58.44,80.16,101.97,123.95,145.75,160.33000000000001,173.15,185.27]
[null,"21 - 25",21,25,17.73,67.599999999999994,92.95,114.07,143.63999999999999,163.72999999999999,180.1,194.51,208.13]
[null,"26 - 30",26,30,21,72.23,100.79,126.4,158.44,183.37,201.71,217.84,233.09]
[null,"31 - 35",31,35,22.8,76.88,108.64,138.97,173.27,203,223.3,241.16,258.05]
[null,"36 - 40",36,40,25.07,81.52,116.48,151.44,188.08,222.63,244.89,264.48,283]
[null,"41 - 45",41,45,28.37,86.16,124.33,163.89,202.89,242.27,266.5,287.82,307.95999999999998]
[null,"46 - 50",46,50,30.04,89.35,131.65,173.27,214.71,256.33,281.95999999999998,304.52,325.83999999999997]
[null,"51 - 60",51,60,35.24,102.84,153.09,201,249.52,297.83999999999997,327.62,353.83,378.6]
[null,"61 - 70",61,70,39.69,118.57,173.09,228.2,282.43,336.93,370.62,400.27,428.29]
[null,"71 - 80",71,{"$f":"RIGHT(B97,SEARCH(\"-\",B97)-1)*1","v":80},45.53,133.43,194.79,256.79000000000002,317.70999999999998,379.16,417.08,450.44,481.97]
[null,"81 - 100",81,{"$f":"RIGHT(B98,SEARCH(\"-\",B98)-1)*1","v":100},53.04,149.35,217.17,288.25,356.4,424.65,467.12,504.48,539.79999999999995]
[]
["Gruppe 5","Beschäftigte",null,null,"Grundprämie","FI inkl. AVRS, Streitwert in € bis zu"]
[null,null,null,null," ohne AVRS",10000,15000,20000,30000,40000,50000,75000,100000]
[null,null,"von","bis","in ‰",4,5,6,7,8,9,10,11]
[null,"0 - 5",{"$f":"LEFT(B103,SEARCH(\"-\",B103)-1)*1","v":0},{"$f":"RIGHT(B103,SEARCH(\"-\",B103)-1)*1","v":5},2.83,24.69,33.950000000000003,43.2,52.47,61.69,67.86,73.290000000000006,78.42]
[null,"6 - 8",{"$f":"LEFT(B104,SEARCH(\"-\",B104)-1)*1","v":6},8,3.93,34.35,47.2,60.11,72.97,85.83,94.41,101.97,109.1]
[null,"9 - 11",9,11,4.91,42.75,58.67,74.680000000000007,90.72,106.68,117.35,126.74,135.61000000000001]
[null,"12 - 14",12,14,6.12,53.31,73.13,93.03,113.08,132.97,146.27000000000001,157.97,169.03]
[null,"15 - 17",15,17,7.53,65.61,90.01,114.49,139.16999999999999,163.65,180.02,194.42,208.03]
[null,"18 - 20",18,20,8.9499999999999993,77.92,106.88,135.96,165.25,194.33,213.76,230.86,247.02]
[null,"21 - 25",21,25,10,90.13,123.93,152.09,191.51,218.4,240.24,259.45999999999998,277.62]
[null,"26 - 30",26,30,11.84,96.32,134.38999999999999,168.68,211.27,244.49,268.94,290.45,310.79000000000002]
[null,"31 - 35",31,35,12.85,102.51,144.84,185.31,231.01,270.67,297.74,321.56,344.06]
[null,"36 - 40",36,40,14.15,108.69,155.32,201.92,250.77,296.83999999999997,326.52,352.65,377.33]
[null,"41 - 45",41,45,16,114.85,165.79,218.53,270.52,323.01,355.31,383.74,410.6]
[null,"46 - 50",46,50,16.95,119.13,175.53,231.03,286.27999999999997,341.79,375.97,406.05,434.47]
[null,"51 - 60",51,60,19.88,137.24,204.12,268.17,332.69,397.11,436.82,471.77,504.79]
[null,"61 - 70",61,70,22.39,158.09,230.79,304.27,376.56,449.25,494.18,533.71,571.07000000000005]
[null,"71 - 80",71,{"$f":"RIGHT(B117,SEARCH(\"-\",B117)-1)*1","v":80},25.68,177.89,259.70999999999998,342.37,423.6,505.55,556.11,600.59,642.63]
[null,"81 - 100",81,{"$f":"RIGHT(B118,SEARCH(\"-\",B118)-1)*1","v":100},29.92,199.13,289.57,384.35,475.2,566.20000000000005,622.82000000000005,672.65,719.73]
[]
["Gruppe 6 mit Kfz-Handel","Beschäftigte",null,null,"Grundprämie","FI inkl. AVRS, Streitwert in € bis zu"]
[null,null,null,null," ohne AVRS",10000,15000,20000,30000,40000,50000,75000,100000]
[null,null,"von","bis","in ‰",4,5,6,7,8,9,10,11]
[null,"0 - 3",{"$f":"LEFT(B123,SEARCH(\"-\",B123)-1)*1","v":0},{"$f":"RIGHT(B123,SEARCH(\"-\",B123)-1)*1","v":3},6.67,29.96,34.950000000000003,39.950000000000003,44.93,49.88,54.87,59.26,63.41]
[null,"4 - 6",{"$f":"LEFT(B124,SEARCH(\"-\",B124)-1)*1","v":4},6,7.64,34.39,40.119999999999997,45.85,51.59,57.32,63.05,68.099999999999994,72.86]
[null,"7 - 9",7,9,9.1199999999999992,41.03,47.87,54.69,61.53,68.37,75.209999999999994,81.22,86.91]
[null,"10 - 12",10,12,10.59,47.67,55.6,63.55,71.489999999999995,79.430000000000007,87.37,94.36,100.97]
[null,"13 - 15",13,15,12.07,54.29,63.35,72.39,81.44,90.49,99.54,107.5,115.03]
[null,"16 - 18",16,18,13.55,60.95,71.11,81.27,91.43,101.59,111.75,120.69,129.13999999999999]
[null,"19 - 21",19,21,15.01,67.59,78.849999999999994,90.11,101.23,112.64,123.9,133.82,143.18]
[null,"22 - 25",22,25,16.75,75.36,87.91,100.48,113.03,125.59,138.15,149.19999999999999,159.63999999999999]
[null,"26 - 30",26,30,18.95,85.28,99.51,113.71,127.93,142.13,156.34,168.85,180.67]
[null,"31 - 35",31,35,21.41,96.35,112.41,128.47,144.52000000000001,160.57,176.63,190.76,204.11]
[null,"36 - 40",36,40,23.87,107.41,125.32,143.22999999999999,161.12,179.03,196.93,212.69,227.58]
[null,"41 - 45",41,45,26.32,118.48,138.22999999999999,157.97,177.72,197.47,217.22,234.59,251.02]
[null,"46 - 50",46,50,28.79,129.55000000000001,151.13,172.73,194.32,215.91,237.5,256.5,274.45999999999998]
[null,"51 - 60",51,60,32.479999999999997,146.15,170.51,194.85,219.21,243.57,267.93,289.36,309.62]
[null,"61 - 70",61,{"$f":"RIGHT(B137,SEARCH(\"-\",B137)-1)*1","v":70},37.4,168.27,196.32,224.36,252.41,280.45,308.5,333.17,356.5]
[null,"71 - 80",71,{"$f":"RIGHT(B138,SEARCH(\"-\",B138)-1)*1","v":80},42.31,190.4,221.33,253.87,285.61,317.35000000000002,349.09,377.01,403.4]
[null,"81 - 100",81,{"$f":"RIGHT(B139,SEARCH(\"-\",B139)-1)*1","v":100},52.2,234.67,273.77,312.89,352,391.11,430.22,464.64,497.16]
[]
["Gruppe 6 ohne Kfz-Handel","Beschäftigte",null,null,"Grundprämie","FI inkl. AVRS, Streitwert in € bis zu"]
[null,null,null,null," ohne AVRS",10000,15000,20000,30000,40000,50000,75000,100000]
[null,null,"von","bis","in ‰",4,5,6,7,8,9,10,11]
[null,"0 - 3",{"$f":"LEFT(B144,SEARCH(\"-\",B144)-1)*1","v":0},{"$f":"RIGHT(B144,SEARCH(\"-\",B144)-1)*1","v":3},6.67,19.97,22.47,24.96,27.47,29.96,32.96,35.590000000000003,38.08]
[null,"4 - 6",{"$f":"LEFT(B145,SEARCH(\"-\",B145)-1)*1","v":4},6,7.64,22.92,25.79,28.65,31.52,34.39,37.83,40.86,43.72]
[null,"7 - 9",7,9,9.1199999999999992,27.35,30.77,34.19,37.61,41.03,45.13,48.74,52.16]
[null,"10 - 12",10,12,10.59,31.77,35.75,39.72,43.68,47.67,52.44,56.63,60.6]
[null,"13 - 15",13,15,12.07,36.200000000000003,40.729999999999997,45.25,49.77,54.29,59.72,64.5,69.010000000000005]
[null,"16 - 18",16,18,13.55,40.630000000000003,45.72,50.79,55.87,60.95,67.05,72.41,77.48]
[null,"19 - 21",19,21,15.01,45.07,50.68,56.32,61.96,67.59,74.349999999999994,80.3,85.92]
[null,"22 - 25",22,25,16.75,50.23,56.52,62.8,69.08,75.36,82.9,89.53,95.79]
[null,"26 - 30",26,30,18.95,56.85,63.96,71.069999999999993,78.19,85.28,93.81,101.31,108.4]
[null,"31 - 35",31,35,21.41,64.23,72.27,80.290000000000006,88.32,96.35,105.99,114.46,122.48]
[null,"36 - 40",36,40,23.87,71.599999999999994,80.56,89.51,98.47,107.41,118.15,127.6,136.54]
[null,"41 - 45",41,45,26.32,78.989999999999995,88.87,98.73,108.61,118.48,130.33000000000001,140.75,150.61000000000001]
[null,"46 - 50",46,50,28.79,86.36,97.16,107.96,118.75,129.55000000000001,142.51,153.91,164.68]
[null,"51 - 60",51,60,32.479999999999997,97.43,109.61,121.79,133.96,146.15,160.77000000000001,173.63,185.78]
[null,"61 - 70",61,{"$f":"RIGHT(B158,SEARCH(\"-\",B158)-1)*1","v":70},37.4,112.19,126.2,140.22999999999999,154.25,168.27,185.1,199.9,213.9]
[null,"71 - 80",71,{"$f":"RIGHT(B159,SEARCH(\"-\",B159)-1)*1","v":80},42.31,126.93,142.80000000000001,158.66999999999999,174.55,190.4,209.44,226.2,242.03]
[null,"81 - 100",81,{"$f":"RIGHT(B160,SEARCH(\"-\",B160)-1)*1","v":100},52.2,156.44,176,195.56,215.11,234.67,258.14,278.79000000000002,298.3]
[]
[]
[]
[]
[]
[]
[null,"Versichertes Risiko",null,null,"Prämie in  ‰"]
[null,1,"Motorräder, Motorfahrräder, Krafträder (auch mit Beiwagen), Kabinenroller, Invalidenkrafträder und vierrädrige Leichtfahrzeuge",null,0.67,null,null,null,"Motor(fahr)räder, vierrädrige Leichtfahrzeuge",null,{"$f":"E168","v":0.67}]
[null,2,"Personen- und Kombinationskraftwagen",null,null,null,null,null,"Pkw/Kombi Normaltarif",null,{"$f":"E170","v":1.33}]
[null,null,"a) Normaltarif",null,1.33,null,null,null,"Pkw/Kombi mit gewerbsmäßiger Selbstfahrvermietung",null,{"$f":"K169*2.5","v":3.3250000000000002}]
[null,null,"b) bei gewerbsmäßiger Vermietung an Selbstfahrer",null,"+150 %",null,null,null,"Pkw/Kombi: Taxi"]
[null,null,"c) Taxi",null,"Anfrage VT",null,null,null,"Omnibusse",null,{"$f":"F173","v":3.33}]
[null,3,"Omnibusse",null,null,3.33,null,null,"Lkw bis 1,5 to Nutzlast",null,{"$f":"E174","v":1.42}]
[null,4,"Lastkraftwagen bis 1,5 Tonne Nutzlast",null,1.42,null,null,null,"Lkw über 1,5 to Nutzlast, Sattelzugfahrzeuge",null,{"$f":"E175","v":1.81}]
[null,5,"Lastkraftwagen über 1,5 Tonne Nutzlast und Sattelzugfahrzeuge",null,1.81,null,null,null,"Zugmaschinen",null,{"$f":"E176","v":1.33}]
[null,6,"Zugmaschinen",null,1.33,null,null,null,"Anhänger für Pkw/Kombi (außer Wohnwagen)",null,{"$f":"E178","v":0.27}]
[null,7,"Anhänger:",null,null,null,null,null,"Wohnwagenanhänger",null,{"$f":"E180","v":0.67}]
[null,null,"a)","für Personen- und Kombinationskraftwagen",0.27,null,null,null,"Sonstige Anhänger (auch Sattelanhänger)",null,{"$f":"E181","v":0.47}]
[null,null,null,"(außer Wohnwagenanhänger)",null,null,null,null,"Motorkarren",null,{"$f":"E183","v":0.47}]
[null,null,"b)","Wohnwagenanhänger",0.67,null,null,null,"Selbstfahrende Arbeitsmaschinen",null,{"$f":"E184","v":1.47}]
[null,null,"c)","sonstige Anhänger (auch Sattelanhänger)",0.47,null,null,null,"Probefahrkennzeichen",null,{"$f":"E185","v":1.81}]
[null,8,"Sonderfahrzeuge:"]
[null,null,"a)","Motorkarren",0.47]
[null,null,"b)","Selbstfahrende Arbeitsmaschinen, Abschleppfahrzeuge",1.47]
[null,9,"Probefahrtkennzeichen",null,1.81]

{"sheet":"Tabelle2","index":16,"n_rows":22,"n_cols":13,"rows_kept":22,"cut":false,"hidden":true,"merged":[[3,0,5,0],[3,4,3,12]]}
[]
[]
[]
["Beschäftigte",null,null,"Grundprämie","FI inkl. AVRS, Streitwert in € bis zu"]
[null,null,null," ohne AVRS",5000,10000,15000,20000,30000,40000,50000,75000,100000]
[null,"von","bis","in ‰",4,5,6,7,8,9,10,11,12]
["0 - 5",{"$f":"LEFT(A7,SEARCH(\"-\",A7)-1)*1","v":0},{"$f":"RIGHT(A7,SEARCH(\"-\",A7)-1)*1","v":5},2.83,12.53,15.44,21.21,27,32.79,38.57,42.43,45.82,49.03]
["6 - 8",{"$f":"LEFT(A8,SEARCH(\"-\",A8)-1)*1","v":6},8,3.93,17.440000000000001,21.47,29.51,37.57,45.61,53.65,59.02,63.74,68.2]
["9 - 11",9,11,4.91,21.69,26.72,36.67,46.68,56.71,66.67,73.34,79.2,84.75]
["12 - 14",12,14,6.12,27.04,33.32,45.71,58.13,70.67,83.11,91.42,98.73,105.65]
["15 - 17",15,17,7.53,33.29,41.01,56.25,71.55,86.99,102.28,112.51,121.51,130.01]
["18 - 20",18,20,8.9499999999999993,39.53,48.71,66.8,84.97,103.28,121.47,133.62,144.31,154.41]
["21 - 25",21,25,10,45.67,56.33,77.45,95.05,119.71,136.44,150.08000000000001,162.09,173.44]
["26 - 30",26,30,11.84,48.96,60.2,84.04,105.44,132.05000000000001,152.80000000000001,168.08,181.53,194.23]
["31 - 35",31,35,12.85,52.16,64.069999999999993,90.53,115.81,144.38999999999999,169.17,186.09,200.97,215.04]
["36 - 40",36,40,14.15,54.91,67.930000000000007,97.07,126.2,156.72999999999999,185.52,204.07,220.4,235.83]
["41 - 45",41,45,16,58.56,71.8,103.61,136.59,169.08,201.91,222.1,239.87,256.66000000000003]
["46 - 50",46,50,16.95,61.24,74.47,109.73,144.38999999999999,178.92,213.61,234.97,253.77,271.52999999999997]
["51 - 60",51,60,19.88,70.75,85.79,127.59,167.61,207.93,248.2,273.02,294.86,315.5]
["61 - 70",61,70,22.39,80.44,98.81,144.24,190.25,235.35,280.79000000000002,308.87,333.58,356.93]
["71 - 80",71,{"$f":"RIGHT(A21,SEARCH(\"-\",A21)-1)*1","v":80},25.68,90.52,111.19,162.32,213.99,264.75,315.97000000000003,347.57,375.37,401.65]
["81 - 100",81,{"$f":"RIGHT(A22,SEARCH(\"-\",A22)-1)*1","v":100},29.92,101.25,124.47,180.99,240.21,297,353.87,389.26,420.4,449.83]

{"sheet":"Branchenverzeichnis","index":17,"n_rows":623,"n_cols":19,"rows_kept":623,"cut":false,"hidden":true,"merged":[[0,0,1,0],[0,1,1,1],[0,2,1,2],[0,3,0,4],[0,5,0,6],[0,17,1,17],[0,7,1,7],[0,8,1,8],[0,9,1,9],[0,10,0,14],[0,15,1,15],[0,16,1,16]]}
["Branchen-verzeichnis","HHS","F","BU",null,"ED",null,"LW","G","ST","Haftpflicht",null,null,null,null,"TP","RS","TR"]
[null,null,null,"F-BU","T-BU","ED","SI",null,null,null,"LS","MP","UP","UW","Erw. P.",null,null,null,"Gewerbeaktion 2021"]
["Abbruchunternehmen",0,0.5,0.625,1.2350000000000001,0.8,null,0.25,1,0.33,34.4,1475,null,613,0.9,null,4," ü","nein"]
["Abdichtunternehmen",2,0.5,0.625,1.2350000000000001,0.8,null,0.25,1.5,0.33,34.4,1475,null,208,2,null,4," ü ","nein"]
["Abfallsortieranlage",0,3.13,3.9125000000000001,4.5724999999999998,0.8,null,0.35,0.625,0.33,11.8,480,0.56000000000000005,600,null,8.9,1,"VT","nein"]
["Abwasserreinigung, Kläranlage",0,0.63,0.78749999999999998,1.3374999999999999,0.65,null,0.25,0.625,0.33,"VT","VT","VT","VT","VT","VT",1," ü ","nein"]
["Akkumulatorenerzeugung",0,1.1299999999999999,1.4125000000000001,2.0724999999999998,0.8,null,0.35,0.625,0.33,11.8,480,0.56000000000000005,600,0.4,3.3,1," ü ","OK"]
["Aktenlogistik",1,0.88,1.1000000000000001,1.875,0.9,null,0.5,1.25,0.33,2.6,110,0.13,98,0.1,null,1,null,"OK"]
["Alarmanlagenhandel mit Montage",2,1.25,1.5625,2.2625000000000002,0.9,null,0.35,0.625,0.33,11.8,480,0.75,405,0.8,null,4," ü ","nein"]
["Alarmanlagenhandel ohne Montage",3,1.25,1.5625,2.2625000000000002,0.9," ",0.35,0.625,0.33,3.8,180,0.38,102,0.7,null,1," ü ","ok"]
["Alkoholfreie Getränke Erzeugung",2,0.75,0.9375,1.6375,0.9,null,0.35,0.625,0.33,8.4,350,0.38,396,0.2,3.9,3," ü ","OK"]
["Alt- u. Schwereisenhandel",1,1.25,1.5625,2.2974999999999999,0.8,null,0.5,1.25,0.33,5.6,230,0.25,568,0.3,null,1," ü ","OK"]
["Alternative Heilpraxis",3,0.88,1.1000000000000001,1.875,0.9,null,0.5,2.5,0.33,5.6,230,null,98,1.4,null,1," ü ","ok"]
["Altstoffsammelzentrum-Müllumladestation",0,1.1299999999999999,1.4125000000000001,2.1124999999999998,0.9,null,0.35,0.625,0.33,11.8,480,0.56000000000000005,600,null,null,1,null,"nein"]
["Altwarenhandel (nicht Antiquitäten)",1,2.5,3.125,3.9,0.9,null,0.5,2.5,0.33,5.6,230,0.25,102,0.2,null,1,"VT","OK"]
["Alu-Gießerei",0,1.5,1.875,2.5350000000000001,0.8,null,0.35,0.625,0.33,11.8,480,0.56000000000000005,600,0.4,6.7,1," ü ","nein"]
["Andenkenartikelhandel",3,1.88,2.35,3.125,0.9,null,0.5,1.5,0.33,2.6,110,0.13,102,0.2,null,1,null,"OK"]
["Angler- und Fischereiartikelhandel",3,1.1299999999999999,1.4125000000000001,2.1875,0.9,null,0.5,1.25,0.33,3.8,180,0.25,136,0.2,null,1,"ü  ","ok"]
["Animateur",4,0.5,0.625,1.2350000000000001,0.8,null,0.25,1.25,0.33,2.6,110,null,98,0.1,null,1,"ü ","OK"]
["Ankündigungsgewerbe",4,2.5,3.125,3.7349999999999999,0.8,null,0.25,1.25,0.33,11.8,480,null,360,0.1,null,1,"ü ","OK"]
["Antiquitäten- u. Kunsthandlung",0,1.88,2.35,3.4849999999999999,1.8,"JT",0.5,2.5,0.33,2.6,110,0.13,102,0.2,null,1,null,"OK"]
["Apotheke",5,1,1.25,2.0249999999999999,0.9,null,0.5,1.25,0.33,8.4,350,0.38,193,1.4,null,1,null,"OK"]
["Appartements (ohne Bewirtung)",2,0.63,0.78749999999999998,1.5625,0.9,null,0.5,0.625,0.33,5.6,230,0.25,106,0.1,5.6,1," ü ","OK"]
["Armaturenerzeugung",0,1,1.25,1.91,0.8,null,0.35,0.625,0.33,8.4,350,0.38,396,0.7,5.6,1,"ü ","OK"]
["Arzneimittelerzeugung",0,2.5,3.125,3.8250000000000002,0.9,null,0.35,0.625,0.33,"VT","VT","VT","VT","VT",3.9,"VT",null,"nein"]
["Ärztl. Ordination",4,0.63,0.78749999999999998,1.5625,0.9,null,0.5,1,0.33,"VT","VT","VT","VT","VT",3.9,1,"ü ","ohne Haft"]
["Ärztl. Ordination, Ärzte ausschließlich in Laboratorien",4,0.63,0.78749999999999998,1.5625,0.9,null,0.5,1,0.33,"VT","VT","VT","VT","VT",3.9,1,"ü ","ohne Haft"]
["Ärztl. Ordination, Facharzt für Allgemeinmedizin (Praktischer Arzt)",4,0.63,0.78749999999999998,1.5625,0.9,null,0.5,1,0.33,"VT","VT","VT","VT","VT",4.0999999999999996,1,"ü ","ohne Haft"]
["Ärztl. Ordination, Facharzt für Allgemeinmedizin und Lipolyse",4,0.63,0.78749999999999998,1.5625,0.9,null,0.5,1,0.33,"VT","VT","VT","VT","VT",3.9,1,"ü ","ohne Haft"]
["Ärztl. Ordination, Facharzt für Anästesiologie",4,0.63,0.78749999999999998,1.5625,0.9,null,0.5,1,0.33,"VT","VT","VT","VT","VT",3.9,1,"ü ","ohne Haft"]
["Ärztl. Ordination, Facharzt für Augenheilkunde",4,0.63,0.78749999999999998,1.5625,0.9,null,0.5,1,0.33,"VT","VT","VT","VT","VT",3.9,1,"ü ","ohne Haft"]
["Ärztl. Ordination, Facharzt für Chirurgie",4,0.63,0.78749999999999998,1.5625,0.9,null,0.5,1,0.33,"VT","VT","VT","VT","VT",3.9,1,"ü ","ohne Haft"]
["Ärztl. Ordination, Facharzt für Dermatologie",4,0.63,0.78749999999999998,1.5625,0.9,null,0.5,1,0.33,"VT","VT","VT","VT","VT",3.9,1,"ü ","ohne Haft"]
["Ärztl. Ordination, Facharzt für Gastroenterologie und Hepatologie",4,0.63,0.78749999999999998,1.5625,0.9,null,0.5,1,0.33,"VT","VT","VT","VT","VT",3.9,1,"ü ","ohne Haft"]
["Ärztl. Ordination, Facharzt für Gynäkologie",4,0.63,0.78749999999999998,1.5625,0.9,null,0.5,1,0.33,"VT","VT","VT","VT","VT",3.9,1,"ü ","ohne Haft"]
["Ärztl. Ordination, Facharzt für Hals, Nasen und Ohren",4,0.63,0.78749999999999998,1.5625,0.9,null,0.5,1,0.33,"VT","VT","VT","VT","VT",3.9,1,"ü ","ohne Haft"]
["Ärztl. Ordination, Facharzt für Haut- und Geschlechtskrankheiten",4,0.63,0.78749999999999998,1.5625,0.9,null,0.5,1,0.33,"VT","VT","VT","VT","VT",3.9,1,"ü ","ohne Haft"]
["Ärztl. Ordination, Facharzt für Innere Medizin",4,0.63,0.78749999999999998,1.5625,0.9,null,0.5,1,0.33,"VT","VT","VT","VT","VT",3.9,1,"ü ","ohne Haft"]
["Ärztl. Ordination, Facharzt für Intensivmedizin",4,0.63,0.78749999999999998,1.5625,0.9,null,0.5,1,0.33,"VT","VT","VT","VT","VT",3.9,1,"ü ","ohne Haft"]
["Ärztl. Ordination, Facharzt für Kardiologie",4,0.63,0.78749999999999998,1.5625,0.9,null,0.5,1,0.33,"VT","VT","VT","VT","VT",3.9,1,"ü ","ohne Haft"]
["Ärztl. Ordination, Facharzt für Lungenkrankheiten",4,0.63,0.78749999999999998,1.5625,0.9,null,0.5,1,0.33,"VT","VT","VT","VT","VT",3.9,1,"ü ","ohne Haft"]
["Ärztl. Ordination, Facharzt für Neurologie",4,0.63,0.78749999999999998,1.5625,0.9,null,0.5,1,0.33,"VT","VT","VT","VT","VT",3.9,1,"ü ","ohne Haft"]
["Ärztl. Ordination, Facharzt für Orthopädie u orthop. Chirurgie",4,0.63,0.78749999999999998,1.5625,0.9,null,0.5,1,0.33,"VT","VT","VT","VT","VT",3.9,1,"ü ","ohne Haft"]
["Ärztl. Ordination, Facharzt für Pädiatrie",4,0.63,0.78749999999999998,1.5625,0.9,null,0.5,1,0.33,"VT","VT","VT","VT","VT",3.9,1,"ü ","ohne Haft"]
["Ärztl. Ordination, Facharzt für Phatologie",4,0.63,0.78749999999999998,1.5625,0.9,null,0.5,1,0.33,"VT","VT","VT","VT","VT",3.9,1,"ü ","ohne Haft"]
["Ärztl. Ordination, Facharzt für physikalische Medizin",4,0.63,0.78749999999999998,1.5625,0.9,null,0.5,1,0.33,"VT","VT","VT","VT","VT",3.9,1,"ü ","ohne Haft"]
["Ärztl. Ordination, Facharzt für Psychiatrie, Psychologie",4,0.63,0.78749999999999998,1.5625,0.9,null,0.5,1,0.33,"VT","VT","VT","VT","VT",3.9,1,"ü ","ohne Haft"]
["Ärztl. Ordination, Facharzt für Radiologie und Röntgenologie",4,0.63,0.78749999999999998,1.5625,0.9,null,0.5,1,0.33,"VT","VT","VT","VT","VT",3.9,1,"ü ","ohne Haft"]
["Ärztl. Ordination, Facharzt für Urologie",4,0.63,0.78749999999999998,1.5625,0.9,null,0.5,1,0.33,"VT","VT","VT","VT","VT",3.9,1,"ü ","ohne Haft"]
["Ärztl. Ordination, Facharzt für Veterinär",4,0.63,0.78749999999999998,1.5625,0.9,null,0.5,1,0.33,"VT","VT","VT","VT","VT",3.9,1,"ü ","ohne Haft"]
["Ärztl. Ordination, Facharzt für Zahnheilkunde",4,0.63,0.78749999999999998,1.5625,0.9,null,0.5,1,0.33,"VT","VT","VT","VT","VT",4.0999999999999996,1,"ü ","ohne Haft"]
["Arztzubehörhandel",3,2.13,2.6625000000000001,3.4375,0.9,null,0.5,1.25,0.33,6.9,275,0.38,193,0.8,null,1,"ü ","OK"]
["Asbestwarenerzeugung",0,0.75,0.9375,1.5974999999999999,0.8,null,0.35,0.625,0.33,"VT","VT","VT","VT","VT",5.6,1,null,"nein"]
["Asphalt u. Teerspliterzeugung",0,3.13,3.9125000000000001,4.5724999999999998,0.8,null,0.35,0.625,0.33,6.9,275,0.38,300,2,16.7,1,null,"OK"]
["Asphaltierer",0,3.13,3.9125000000000001,4.5225,0.8,null,0.25,1,0.33,34.4,1475,null,405,2,null,4,null,"OK"]
["Atelier",0,0.88,1.1000000000000001,1.835,0.8,null,0.5,1.25,0.33,2.6,110,0.13,102,0.1,null,1,null,"OK"]
["Ätherische Öle – Erzeugung",0,2.5,3.125,3.7850000000000001,0.8,null,0.35,0.625,0.33,8.4,350,0.38,396,1.4,null,1,"ü ","nein"]
["Ätherische Öle – Handel",3,0.88,1.1000000000000001,1.8,0.9,null,0.35,1.5,0.33,11.8,480,0.63,193,1.4,null,1,"ü ","ok"]
["Ätherische Öle- und Essenzenerzeugung",0,2.5,3.125,3.7850000000000001,0.8,null,0.35,0.625,0.33,8.4,350,0.38,396,1.4,null,1,"ü ","nein"]
["Ätherische Öle- und Essenzenhandel",3,0.88,1.1000000000000001,1.8,0.9,null,0.35,1.5,0.33,11.8,480,0.63,193,1.4,null,1,"ü ","ok"]
["Aufzüge u. Rolltreppen",2,1.25,1.5625,2.2225000000000001,0.8,null,0.35,0.625,0.33,8.4,350,0.38,204,0.3,null,1,"ü ","OK"]
["Aufzugerzeugung",2,1.25,1.5625,2.2225000000000001,0.8,null,0.35,0.625,0.33,8.4,350,0.38,204,0.3,null,1,"ü ","ok"]
["Aufzugsmonteur",2,0.88,1.1000000000000001,1.8,0.9,null,0.35,1.25,0.33,11.8,480,0.56000000000000005,204,0.1,null,1,"ü  ","OK"]
["Auktionshaus",0,1.25,1.5625,2.6974999999999998,1.8,"S",0.5,2.5,0.33,3.8,180,0.38,98,0.1,null,"VT",null,"nein"]
["Autobus- und Taxiunternehmen",2,0.5,0.625,1.2350000000000001,0.8,null,0.25,1.25,0.33,2.6,110,null,273,null,null,1,null,"OK"]
["Automaten – Service, Reparatur",2,1.25,1.5625,2.2625000000000002,0.9,null,0.35,0.625,0.33,11.8,480,0.75,396,0.7,3.3,1,"ü ","nein"]
["Automatenbuffet",2,0.63,0.78749999999999998,1.7224999999999999,1.3,null,0.5,1.25,0.33,4.4000000000000004,180,null,106,0.2,7.2,2,"ü ","ok"]
["Autoreifenhandel inkl. Montage",2,1.1299999999999999,1.4125000000000001,2.1875,0.9,null,0.5,1.25,0.33,8.4,350,0.38,216,null,null,1,"ü ","OK"]
["Autoreifenhandel ohne Montage und ohne Vulkanisierung",1,1.1299999999999999,1.4125000000000001,2.3475000000000001,1.3,null,0.5,1.5,0.33,5.6,230,0.25,114,null,null,1,"ü ","ok"]
["Autowaschstraße",2,1.5,1.875,2.9750000000000001,1.9,null,0.35,1.25,0.33,5.6,230,0.25,852,null,null,1,"VT","nein"]
["Back- u. Konditorwarenhandel",5,0.88,1.1000000000000001,1.835,0.8,null,0.5,1.25,0.33,3.8,180,0.25,102,0.2,null,2,"ü ","OK"]
["Bäckerei, Konditorei",2,1.25,1.5625,2.2974999999999999,0.8,null,0.5,1.25,0.33,6.3,275,0.38,201,0.2,4.4000000000000004,2,"ü ","OK"]
["Baggerunternehmer",0,0.5,0.625,1.2350000000000001,0.8,null,0.25,1.875,0.33,34.4,1475,null,208,0.1,null,4,null,"nein"]
["Bandagist ohne Heilbehandlung",4,1.25,1.5625,2.3374999999999999,0.9,null,0.5,1.25,0.33,4.4000000000000004,180,0.25,98,0.1,null,1," ü ","OK"]
["Bastlerbedarfshandel",3,2.13,2.6625000000000001,3.4375,0.9,null,0.5,1.25,0.33,8.4,350,0.38,193,0.2,null,1," ü ","OK"]
["Bauchtanzschule",3,0.5,0.625,1.2350000000000001,0.8,null,0.25,1.25,0.33,2.6,100,null,98,0.1,null,1,null,"ok"]
["Baumarkt",3,1.5,1.875,2.81,1.3,"S",0.5,0.625,0.33,8.4,350,0.38,193,2,null,1,"ü ","OK"]
["Baumeister, Bauunternehmung *****)",2,0.5,0.625,1.2350000000000001,0.8,null,0.25,1.25,0.33,34.4,1475,null,613,2,null,4,"ü ","nein"]
["Baumschnitt",0,0.88,1.1000000000000001,1.71,0.8,null,0.25,1.25,0.33,10,410,0.56000000000000005,204,0.1,null,1,"ü ","OK"]
["Baumschulen",0,0.75,0.9375,1.5475000000000001,0.8,null,0.25,1.25,0.33,3.8,180,0.25,204,0.1,null,1,"ü ","OK"]
["Baustofferzeugung",0,1.1299999999999999,1.4125000000000001,2.0724999999999998,0.8,null,0.35,0.625,0.33,8.4,350,0.38,600,2,6.7,1,"ü ","ok"]
["Baustoffhandel",3,1.88,2.35,3.125,0.9,null,0.5,1.25,0.33,8.4,350,0.38,193,2,null,1,"ü ","OK"]
["Beleuchtungskörper-Erzeugung",0,1.1299999999999999,1.4125000000000001,2.1875,0.9,null,0.5,0.625,0.33,8.4,350,0.38,396,0.4,null,1,"VT","ok"]
["Beleuchtungskörperhandel",3,1.1299999999999999,1.4125000000000001,2.1875,0.9,null,0.5,1.25,0.33,4.4000000000000004,180,0.25,102,0.4,null,1,"ü ","OK"]
["Beleuchtungskörperhandel mit Montage",0,1.1299999999999999,1.4125000000000001,2.1875,0.9,null,0.5,0.625,0.33,8.4,350,0.38,396,0.4,null,1,"ü ","ok"]
["Besamungstechniker",0,0.5,0.625,1.2350000000000001,0.8,null,0.25,1.25,0.33,8.4,180,null,108,0.1,null,1,"ü ","nein"]
["Besen-, Bürsten- und  Pinselerzeugung",2,1.5,1.875,2.5350000000000001,0.8,null,0.35,0.625,0.33,5.6,230,0.25,204,0.2,3.9,1,"ü ","ok"]
["Besenhandel",3,1.25,1.5625,2.3374999999999999,0.9,null,0.5,1.25,0.33,3.8,180,0.25,102,0.2,null,1,"ü ","ok"]
["Beton- und Betonwarenerzeugung",0,0.63,0.78749999999999998,1.4475,0.8,null,0.35,0.625,0.33,8.4,350,0.38,396,2,6.7,1,null,"OK"]
["Bettdecken u. Bettwarenerzeugung",0,1.1299999999999999,1.4125000000000001,2.1475,0.8,null,0.5,0.625,0.33,5.6,230,0.25,204,0.5,6.1,1,"ü ","OK"]
["Bettdeckenhandel",3,1.1299999999999999,1.4125000000000001,2.1875,0.9,null,0.5,1.5,0.33,2.6,110,0.13,102,0.5,null,1,"ü ","ok"]
["Bettfedernreinigung",2,1.88,2.35,3.085,0.8,null,0.5,1.25,0.33,5.6,230,0.25,396,0.5,8.9,1,"ü ","ok"]
["Bettwarenhandel",3,1.1299999999999999,1.4125000000000001,2.1875,0.9,null,0.5,1.5,0.33,2.6,110,0.13,102,0.5,null,1,"ü ","ok"]
["Bienenzucht",0,0.63,0.78749999999999998,1.3975,0.8,null,0.25,1.5,0.33,3.8,180,0.25,144,0.2,null,3,null,"ok"]
["Bijouteriewarenhandel",3,1.25,1.5625,2.3374999999999999,0.9,null,0.5,1.5,0.33,2.6,110,0.13,102,0.2,null,1,null,"OK"]
["Bilderrahmenerzeugung",2,3.13,3.9125000000000001,4.6124999999999998,0.9,null,0.35,1.25,0.33,10,410,0.56000000000000005,204,0.2,4.4000000000000004,1,"ü  ","ok"]
["Bildhauer",2,0.88,1.1000000000000001,1.8,0.9,null,0.35,1.25,0.33,11.8,480,0.56000000000000005,204,0.1,5.6,1,"VT","OK"]
["Binderwarenhandel",2,2.13,2.6625000000000001,3.3975,0.8,null,0.5,0.625,0.33,5.6,230,0.25,204,0.2,null,1,"ü ","ok"]
["Biocremen- und Ölehandel",3,2.13,2.6625000000000001,3.4375,0.9,null,0.5,1.25,0.33,6.9,275,0.38,193,1.4,null,1,"ü ","OK"]
["Biodieselerzeugung",0,3.13,3.9125000000000001,4.5724999999999998,0.8,null,0.35,0.625,0.33,11.8,480,0.56000000000000005,600,null,"VT",1,null,"nein"]
["Biogasanlage",0,1.75,2.1875,2.8475000000000001,0.8,null,0.35,0.625,0.33,11.8,450,0.7,600,0.1,"VT",1,"ü ","nein"]
["Biologische Seifen, Reinigungsmittelerzeugung",0,1.5,1.875,2.5350000000000001,0.8,null,0.35,0.625,0.33,13.1,590,0.63,396,0.7,null,1,"ü ","ok"]
["Biotopbau, Gartengestaltung",2,0.88,1.1000000000000001,1.71,0.8,null,0.25,1.5,0.33,10,410,0.56000000000000005,208,0.2,null,1,"ü ","OK"]
["Bleistifterzeugung",0,2.5,3.125,3.7850000000000001,0.8,null,0.35,0.625,0.33,5.6,230,0.25,396,0.2,4.4000000000000004,1,"ü ","ok"]
["Blitzschutzanlagenerzeugung und Montage",2,1.1299999999999999,1.4125000000000001,2.1124999999999998,0.9,null,0.35,0.625,0.33,8.4,350,0.38,405,0.8,null,1,"ü ","nein"]
["Blumenhandlung ",3,0.88,1.1000000000000001,1.76,0.8,null,0.35,1.25,0.33,2.6,110,0.13,102,0.1,null,1,null,"ok"]
["Boden- u. Wandbelag – Handel",3,2.13,2.6625000000000001,3.4375,0.9,null,0.5,1.25,0.33,2.6,110,0.13,102,0.7,null,1,"ü ","ok"]
["Boden- u. Wandbelag – mit Verlegung",2,2.13,2.6625000000000001,3.4375,0.9,null,0.5,1.25,0.33,8.4,350,0.38,110,0.7,null,4,"ü ","ok"]
["Bodenbelägeerzeugung",2,2.13,2.6625000000000001,3.4375,0.9,null,0.5,1.25,0.33,8.4,350,0.38,110,0.7,null,4,"ü ","ok"]
["Bodenleger, eingeschränkt auf Estrichleger",2,0.5,0.625,1.2749999999999999,0.9,null,0.25,1.25,0.33,20.6,910,0.75,208,0.7,null,4,"ü ","ok"]
["Bonbonerzeugung",0,2.13,2.6625000000000001,3.3224999999999998,0.8,null,0.35,0.625,0.33,5.6,230,0.25,396,0.2,6.1,3,"ü ","ok"]
["Bootsbau",0,3.38,4.2249999999999996,4.8849999999999998,0.8,null,0.35,0.625,0.33,11.8,480,0.63,396,null,5,1,null,"nein"]
["Bootshandel inkl. Zubehör",3,2.13,2.6625000000000001,3.4375,0.9,null,0.5,1.25,0.33,2.6,110,0.13,102,null,null,1,null,"nein"]
["Botendienst",4,0.5,0.625,1.2350000000000001,0.8,null,0.25,1.25,0.33,5.6,230,null,98,0.1,null,1,null,"OK"]
["Boutique",3,1.1299999999999999,1.4125000000000001,2.1875,0.9,null,0.5,1.5,0.33,2.6,110,0.13,102,0.5,null,1,"ü ","ok"]
["Brandschutzbeauftragter",4,0.5,0.625,1.2350000000000001,0.8,null,0.25,1.25,0.33,2.6,90,null,98,0.1,null,1,"ü ","OK"]
["Brandschutztechnik, Handel und Montage",2,1.1299999999999999,1.4125000000000001,2.1124999999999998,0.9,null,0.35,0.625,0.33,8.4,350,0.38,405,0.8,null,1,"ü ","nein"]
["Branntweinschenke",2,0.63,0.78749999999999998,1.7224999999999999,1.3,null,0.5,1.25,0.33,4.4000000000000004,180,null,106,0.2,7.2,2,"ü ","ok"]
["Brauerei",0,0.75,0.9375,1.5475000000000001,0.8,null,0.25,0.625,0.33,8.4,350,0.38,396,0.2,3.9,3,"ü ","OK"]
["Brennholzzerkleinerung",0,1.5,1.875,2.5350000000000001,0.8,null,0.35,1.25,0.33,8.4,350,null,396,0.3,null,1,null,"ok"]
["Brennmaterialienhandel",3,1.5,1.875,2.65,0.9,null,0.5,1.25,0.33,8.4,350,0.38,681,0.3,null,1,null,"OK"]
["Briefmarken- u. Münzhandel",3,1.88,2.35,3.4849999999999999,1.8,"S",0.5,1.5,0.33,2.6,110,null,102,0.2,null,1,null,"nein"]
["Brunnenbau *****)",2,0.5,0.625,1.2350000000000001,0.8,null,0.25,1.5,0.33,34.4,1475,null,208,0.2,null,4,"ü ","nein"]
["Brüterei",0,0.88,1.1000000000000001,1.8,0.9,null,0.35,1.25,0.33,8.4,350,0.38,204,0.2,null,1,"ü ","nein"]
["Buch- und Musikalienhandel",3,0.88,1.1000000000000001,1.835,0.8,null,0.5,1.25,0.33,2.6,110,null,102,0.2,null,1,"ü ","OK"]
["Buchbinderei",2,1.25,1.5625,2.2625000000000002,0.9,null,0.35,0.625,0.33,5.6,230,0.25,204,0.2,3.3,1,null,"OK"]
["Büchsenmacher",2,1.1299999999999999,1.4125000000000001,2.1124999999999998,0.9,null,0.35,0.625,0.33,8.4,350,0.38,204,0.4,4.4000000000000004,1,"VT","OK"]
["Bühnenbauer",2,1.5,1.875,2.65,0.9,null,0.5,1.5,0.33,10,410,0.56000000000000005,300,0.3,null,1,"ü ","OK"]
["Bühnendekorateur",2,2.13,2.6625000000000001,3.4375,0.9,null,0.5,1.25,0.33,8.4,350,0.38,108,0.1,null,1,"ü ","OK"]
["Buntmetallgießerei",0,2.5,3.125,3.7850000000000001,0.8,null,0.35,0.625,0.33,11.8,480,0.56000000000000005,600,0.4,6.7,1,null,"nein"]
["Bürobedarfshandel",3,0.88,1.1000000000000001,1.8,0.9,null,0.35,1.25,0.33,2.6,110,0.13,102,0.2,null,1,"ü ","OK"]
["Bürobetrieb",4,0.5,0.625,1.2749999999999999,0.9,null,0.25,1.25,0.33,2.6,110,null,98,0.1,null,1,"ü ","OK"]
["Büromaschinen- u. EDV-Anlagenerzeugung",0,0.88,1.1000000000000001,1.8,0.9,null,0.35,0.625,0.33,8.4,350,0.38,396,0.8,3.3,1,"ü ","ok"]
["Büromaschinen- u. EDV-Anlagenhandel",3,0.88,1.1000000000000001,1.8,0.9,null,0.35,1.25,0.33,5.6,230,0.25,102,0.8,null,1,"ü ","ok"]
["Buschenschank",2,0.63,0.78749999999999998,1.7224999999999999,1.3,null,0.5,1.25,0.33,4.4000000000000004,180,null,106,0.2,7.2,2,"ü ","ok"]
["Campingplatz",0,0.63,0.78749999999999998,1.5625,0.9,null,0.5,1.25,0.33,5.6,230,0.4,98,0.1,null,1,"VT","nein"]
["Chemische Produktehandel",3,2.13,2.6625000000000001,3.4375,0.9,null,0.5,1.25,0.33,"VT","VT","VT","VT","VT",null,1,null,"nein"]
["Chemische Putzerei  **)",2,1.38,1.7250000000000001,2.5,0.9,null,0.5,1.25,0.33,8.4,350,null,600,1.4,13.3,1,null,"ok"]
["Christbaumschmuck u. Faschingsartikelerz. Ohne Feuerwerkskörper",0,3.13,3.9125000000000001,4.6475,0.8,null,0.5,0.625,0.33,5.6,230,0.25,396,0.5,3.9,1," ü ","ok"]
["Computerhandel und Reparatur",3,1.25,1.5625,2.6974999999999998,1.8,"S",0.5,1.5,0.33,8.4,180,0.38,102,0.7,null,1,null,"nein"]
["Computer-Reparaturwerkstätte",3,1.25,1.5625,2.6974999999999998,1.8,"S",0.5,1.5,0.33,8.4,180,0.38,102,0.7,null,1,"VT","nein"]
["Dachdecker",2,1.88,2.35,2.96,0.8,null,0.25,1.5,0.33,34.4,1475,null,208,0.2,null,4,"ü ","nein"]
["Dachpappeerzeugung",0,4.88,6.1,6.76,0.8,null,0.35,0.625,0.33,8.4,350,0.38,396,1.2,6.7,1,"ü ","nein"]
["Deichgräber",0,0.5,0.625,1.2350000000000001,0.8,null,0.25,1.875,0.33,34.4,1475,null,208,0.1,null,4,"ü ","nein"]
["Dentalwarenhandel",3,1.1299999999999999,1.4125000000000001,2.1875,0.9,null,0.5,1.25,0.33,2.6,110,0.13,102,0.8,null,1,"ü ","ok"]
["Detektivbüro",4,0.5,0.625,1.2350000000000001,0.8,null,0.25,1.25,0.33,2.6,110,null,98,0.1,null,1,"ü ","OK"]
["Diätberater",4,0.5,0.625,1.2350000000000001,0.8,null,0.25,1.25,0.33,2.6,90,null,98,0.1,null,1,"ü ","OK"]
["Dienstleistung im Agrarbereich",0,1.5,1.875,2.5350000000000001,0.8,null,0.35,1.25,0.33,8.4,350,null,396,0.3,null,1,"ü ","ok"]
["Dienstleistungen in der automatischen Datenverarbeitung und Informationstechnik",4,0.88,1.1000000000000001,1.8,0.9,null,0.35,1.25,0.33,5.6,230,0.25,98,0.1,null,"VT","VT","ok"]
["Drähte u. Kabelerz. – nicht isoliert",0,1,1.25,1.91,0.8,null,0.35,0.625,0.33,8.4,350,0.38,204,0.5,11.1,1,"ü ","ok"]
["Drähte u. Kabelerzeugung – isoliert",0,1.38,1.7250000000000001,2.3849999999999998,0.8,null,0.35,0.625,0.33,8.4,350,0.38,396,0.5,8.9,1,"ü ","ok"]
["Drechslerei – mit  Holzbearbeitung",2,2.75,3.4375,4.1725000000000003,0.8,null,0.5,0.625,0.33,8.4,350,0.38,204,0.3,4.4000000000000004,1,"ü ","nein"]
["Drechslerei – ohne Holzbearbeitung",2,1.88,2.35,3.01,0.8,null,0.35,0.625,0.33,8.4,350,0.38,204,0.3,4.4000000000000004,1,"ü ","nein"]
["Drogerie",5,2.13,2.6625000000000001,3.4375,0.9,null,0.5,1.25,0.33,6.9,275,0.38,193,1.4,null,1,"ü ","OK"]
["Druck- und Gussbehälterhandel",1,1.25,1.5625,2.3374999999999999,0.9,null,0.5,1.25,0.33,3.8,180,0.25,102,0.8,null,1,"VT","ok"]
["Druckerei",0,0.88,1.1000000000000001,1.875,0.9,null,0.5,0.625,0.33,5.6,230,0.25,600,0.3,5.6,1," ü ","OK"]
["Druckservice",2,0.88,1.1000000000000001,1.75,0.9,null,0.25,1.25,0.33,2.6,110,null,108,0.3,5.6,1,null,"OK"]
["Druschunternehmen",0,1.5,1.875,2.4849999999999999,0.8,null,0.25,1.5,0.33,3.8,275,null,108,0.2,null,1,null,"OK"]
["EDV Schule",3,0.75,0.9375,1.5475000000000001,0.8,null,0.25,1.25,0.33,3.8,180,0.25,185,0.1,null,1,null,"OK"]
["Einkaufszentrum",5,1.5,1.875,2.65,0.9,null,0.5,1.25,0.33,5.6,230,0.25,193,0.2,null,2,"VT","nein"]
["Eisen- und Blechwarenerzeugung",2,1.1299999999999999,1.4125000000000001,2.0724999999999998,0.8,null,0.35,0.625,0.33,8.4,350,0.38,396,0.3,5.6,1,null,"OK"]
["Eisengießereien",0,2.5,3.125,3.7850000000000001,0.8,null,0.35,0.625,0.33,11.8,480,0.56000000000000005,600,0.4,8.9,1,null,"OK"]
["Elektrizitätswerk",0,1,1.25,1.91,0.8,null,0.35,0.625,0.33,11.8,480,0.56000000000000005,396,0.1,null,1,null,"OK"]
["Elektrogeräteerzeugung",2,1.25,1.5625,2.2625000000000002,0.9,null,0.35,0.625,0.33,8.4,350,0.38,600,0.7,4.4000000000000004,1,null,"OK"]
["Elektrogerätehandel",3,1.25,1.5625,2.6974999999999998,1.8,"S",0.5,1.5,0.33,3.8,180,0.38,102,0.7,null,1,null,"OK"]
["Elektrogerätehandel mit Reparatur",3,1.25,1.5625,2.6974999999999998,1.8,"S",0.5,1.5,0.33,8.4,180,0.38,102,0.7,null,1,"ü  ","nein"]
["Elektronische Mess- ,Kontroll- u.  Regelgeräteerzeugung",2,1.25,1.5625,2.2625000000000002,0.9,null,0.35,0.625,0.33,11.8,480,0.75,396,0.7,3.3,1,"ü ","ok"]
["Energetiker",4,0.5,0.625,1.2350000000000001,0.8,null,0.25,1.25,0.33,2.6,90,null,98,0.1,null,1,"ü ","OK"]
["Entrümpelung",2,1.88,2.35,2.96,0.8,null,0.25,1.5,0.33,8.4,350,null,396,0.2,null,1,null,"OK"]
["Erdbewegungsarbeiten",0,0.88,1.1000000000000001,1.71,0.8,null,0.25,1.5,0.33,10,410,0.56000000000000005,208,0.1,null,4,"ü ","OK"]
["Esoterische Artikelhandel",3,0.88,1.1000000000000001,1.8,0.9,null,0.35,1.5,0.33,11.8,480,0.63,102,0.5,null,1,"ü ","OK"]
["Fahrrad- u. -zubehörhandel inkl. Service",3,1.1299999999999999,1.4125000000000001,2.1875,0.9,null,0.5,1.5,0.33,5.6,230,0.25,108,0.8,null,1,"ü ","ok"]
["Fahrschule",3,0.5,0.625,1.2350000000000001,0.8,null,0.25,1.25,0.33,2.6,110,null,273,0.1,null,"VT","ü ","OK"]
["Fahrtechnikinstruktor",4,0.5,0.625,1.2350000000000001,0.8,null,0.25,1.25,0.33,2.6,100,null,98,0.1,null,1,"ü ","ok"]
["Fallschirmerzeugung und Reparatur",0,1.1299999999999999,1.4125000000000001,2.0724999999999998,0.8,null,0.35,0.625,0.33,8.4,350,0.38,204,0.5,null,1,"ü ","ok"]
["Farben- u. Lackehandel",3,2.13,2.6625000000000001,3.4375,0.9,null,0.5,1.25,0.33,5.6,230,0.25,568,1.2,null,1,"ü ","OK"]
["Farben- u. Lackerzeugung",0,2.5,3.125,3.7850000000000001,0.8,null,0.35,0.625,0.33,"VT","VT","VT","VT","VT",3.9,1,"ü ","OK"]
["Färberei, Bleicherei",0,1.38,1.7250000000000001,2.3849999999999998,0.8,null,0.35,0.625,0.33,8.4,350,0.38,719,1.4,3.9,1,"ü ","OK"]
["Fassbinder, Fasswarenerzeugung",2,3.13,3.9125000000000001,4.6124999999999998,0.9,null,0.35,1.25,0.33,10,410,0.56000000000000005,204,0.5,4.4000000000000004,1,"ü ","OK"]
["Feng Shui-Berater",4,0.88,1.1000000000000001,1.835,0.8,null,0.5,1.25,0.33,2.6,110,null,98,0.1,null,1,"ü ","ok"]
["Fenster u. Türenhandel",3,2.13,2.6625000000000001,3.4375,0.9,null,0.5,1.5,0.33,2.6,110,0.13,102,0.3,null,1,"VT","OK"]
["Fenster u. Türenhandeln inkl. Montage",2,1.5,1.875,2.65,0.9,null,0.5,1.5,0.33,10,410,0.56000000000000005,307,0.3,null,1,"VT","nein"]
["Fernheizwerk",0,0.75,0.9375,1.5475000000000001,0.8,null,0.25,0.625,0.33,11.8,410,0.56000000000000005,396,0.1,7.2,1,"ü ","OK"]
["Fernsehgerätehandel mit Reparatur",3,1.25,1.5625,2.6974999999999998,1.8,"S",0.5,1.5,0.33,8.4,180,0.38,102,0.7,null,1,"ü ","nein"]
["Feuerlöschgeräteerzeugung",0,1.25,1.5625,2.2625000000000002,0.9,null,0.35,0.625,0.33,16.899999999999999,725,0.75,396,0.5,4.4000000000000004,1,"ü ","OK"]
["Feuerwehrutensilienhandel",3,1.25,1.5625,2.3374999999999999,0.9,null,0.5,1.25,0.33,5.6,230,0.25,102,0.5,null,1,"ü ","OK"]
["Feuerzeugerzeugung",0,1.25,1.5625,2.2625000000000002,0.9,null,0.35,0.625,0.33,16.899999999999999,725,0.75,396,0.5,null,1,null,"nein"]
["Fiaker",0,0.88,1.1000000000000001,1.8,0.9,null,0.35,1.25,0.33,8.4,350,0.38,185,0.1,null,1,null,"OK"]
["Filzwarenerzeugung",0,2.5,3.125,3.86,0.8,null,0.5,0.625,0.33,5.6,230,0.25,204,0.5,3.9,1,"ü ","OK"]
["Fischereibedarfshandel",3,1.1299999999999999,1.4125000000000001,2.1875,0.9,null,0.5,1.25,0.33,3.8,180,0.25,136,0.2,null,1,"ü ","OK"]
["Fischzucht",0,0.63,0.78749999999999998,1.3975,0.8,null,0.25,1.5,0.33,3.8,180,0.25,144,0.2,null,3,"ü ","OK"]
["Fitnesszentrum",3,0.88,1.1000000000000001,1.9550000000000001,1.1000000000000001,null,0.5,1.875,0.33,6.9,275,null,98,0.1,null,1,"ü ","OK"]
["Flaschenreinigung",0,0.75,0.9375,1.6375,0.9,null,0.35,0.625,0.33,8.4,350,0.38,396,0.2,3.9,1,null,"OK"]
["Fleischhauerei u. Wurstwarenerzeugung",2,1.25,1.5625,2.2625000000000002,0.9,null,0.35,1.25,0.33,10,480,0.56000000000000005,396,0.2,5,3,"ü ","ok"]
["Fliesenhandel",3,0.88,1.1000000000000001,1.875,0.9,null,0.5,1.25,0.33,3.8,180,0.25,193,0.9,null,1,"ü ","OK"]
["Fliesenleger inkl. Handel",2,0.88,1.1000000000000001,1.875,0.9,null,0.5,1.25,0.33,11.8,480,0.56000000000000005,208,0.9,null,4,"ü ","OK"]
["Folienleger",2,1.25,1.5625,2.3374999999999999,0.9,null,0.5,1.25,0.33,6.3,275,0.38,208,1.4,null,1,"ü ","OK"]
["Foto- u. Filmateliers",3,1.88,2.35,3.125,0.9,null,0.5,1.25,0.33,5.6,230,0.25,300,0.3,null,1,null,"OK"]
["Foto-, Film- u. Videohandel",3,1.5,1.875,3.01,1.8,"S ",0.5,1.5,0.33,2.6,110,0.13,102,0.3,null,1,null,"OK"]
["Frei- und Hallenbad",0,0.63,0.78749999999999998,1.5625,0.9,null,0.5,0.625,0.33,5.6,230,0.25,106,0.1,5.6,2,"VT","nein"]
["Friseure",3,1.25,1.5625,2.2974999999999999,0.8,null,0.5,1.25,0.33,8.4,350,0.38,108,0.1,null,1,"ü  ","OK"]
["Frühstückspension",2,0.63,0.78749999999999998,1.5225,0.8,null,0.5,0.625,0.33,4.4000000000000004,180,0.25,106,0.2,5.6,2,"VT","ok"]
["Funknetzbetreiber",0,1.25,1.5625,2.2625000000000002,0.9,null,0.35,0.625,0.33,11.8,480,0.75,360,0.1,3.3,1,"VT","OK"]
["Fußpflegesalon",3,0.88,1.1000000000000001,1.76,0.8,null,0.35,1.25,0.33,5.6,230,0.25,98,0.1,null,1,"VT","ok"]
["Futtermittelerzeugung",0,1.5,1.875,2.4849999999999999,0.8,null,0.25,0.625,0.33,16.899999999999999,725,0.75,396,2.1,5.6,1,"ü ","OK"]
["Futtermittelhandel",3,1.5,1.875,2.4849999999999999,0.8,null,0.25,1.25,0.33,5.6,230,0.25,193,2.1,null,1,"ü ","OK"]
["Galerie",0,0.88,1.1000000000000001,1.835,0.8,null,0.5,1.25,0.33,2.6,110,0.13,102,0.1,null,1,null,"OK"]
["Galvanisierung",0,1.1299999999999999,1.4125000000000001,2.0225,0.8,null,0.25,0.625,0.33,8.4,350,0.38,803,null,6.7,1,"VT","OK"]
["Garagen u. Parkhäuser",0,1.25,1.5625,2.1724999999999999,0.8,null,0.25,1.25,0.33,6.9,275,null,360,0.1,null,1,"VT","OK"]
["Gartengestaltung ",2,0.88,1.1000000000000001,1.71,0.8,null,0.25,1.5,0.33,10,410,0.56000000000000005,204,0.3,null,1,"ü ","ok"]
["Gartenthemen Lehrtätigkeit",3,0.5,0.625,1.2350000000000001,0.8,null,0.25,1.25,0.33,2.6,90,null,98,0.3,null,1,"ü ","OK"]
["Gärtnerei – mit Gartengestaltung",2,0.88,1.1000000000000001,1.71,0.8,null,0.25,1.5,0.33,10,410,0.56000000000000005,204,0.3,null,1,"ü ","ok"]
["Gärtnerei ohne Gartengestaltung",2,0.88,1.1000000000000001,1.71,0.8,null,0.25,1.5,0.33,5.6,230,0.25,204,0.3,null,1,"ü ","OK"]
["Gasthof, Hotel, Pension",2,0.63,0.78749999999999998,1.5225,0.8,null,0.5,0.625,0.33,4.4000000000000004,180,0.25,106,0.2,5.6,2,"ü ","OK"]
["Gastronomiehandel inkl. Montage",3,1.25,1.5625,2.2625000000000002,0.9,null,0.35,0.625,0.33,11.8,480,0.38,204,0.7,null,1,"ü ","OK"]
["Gaststätte, Restaurant, Catering, Kaffeehaus, Espresso, Eissalon u. dgl.",2,0.63,0.78749999999999998,1.7224999999999999,1.3,null,0.5,1.25,0.33,4.4000000000000004,180,null,106,0.2,7.2,2,"ü ","ok"]
["Geflügelfarm",0,0.88,1.1000000000000001,1.8,0.9,null,0.35,1.25,0.33,8.4,350,0.38,204,0.2,null,1,null,"OK"]
["Gemischtwarenhandel",5,1.25,1.5625,2.4175,1.1000000000000001,null,0.5,1.25,0.33,5.6,230,0.25,102,0.2,null,2,"VT","OK"]
["Gerüstleihanstalt inkl. Aufstellen von Gerüsten",2,1.5,1.875,2.5249999999999999,0.9,null,0.25,1.5,0.33,34.4,1475,1.5,110,0.1,null,4,"VT","nein"]
["Geschirr, Haushalts- u. Küchengerätehandel",3,1.25,1.5625,2.3374999999999999,0.9,null,0.5,1.25,0.33,3.8,180,0.25,102,0.7,null,1," ü ","ok"]
["Geschirrreinigung",0,1.25,1.5625,2.3374999999999999,0.9,null,0.5,1.25,0.33,3.8,180,0.25,108,0.7,null,1,"VT","ok"]
["Getränkehandel",3,1,1.25,2.0249999999999999,0.9,null,0.5,1.25,0.33,5.6,230,0.25,193,0.2,null,2," ü ","OK"]
["Gipswarenerzeugung",0,1.1299999999999999,1.4125000000000001,2.0724999999999998,0.8,null,0.35,0.625,0.33,5.6,230,0.25,396,0.6,5.6,1,"VT","ok"]
["Glas-, Glaswolle- u. Glasfasererzeugung",0,2.5,3.125,3.7850000000000001,0.8,null,0.35,0.625,0.33,8.4,350,0.38,600,0.5,null,1,null,"ok"]
["Glaserei",3,1.25,1.5625,2.3374999999999999,0.9,null,0.5,1.25,0.33,6.3,275,0.38,204,0.5,null,1,null,"OK"]
["Glaswarenerzeugung – ohne Erwärmung",0,1.25,1.5625,2.2625000000000002,0.9,null,0.35,0.625,0.33,5.6,230,0.25,600,0.5,13.3,1,null,"ok"]
["Glaswarenerzeugung mit Erwärmung",0,2.5,3.125,3.8250000000000002,0.9,null,0.35,0.625,0.33,8.4,350,0.38,600,0.5,7.2,1,null,"OK"]
["Glaswarenhandel",3,1.1299999999999999,1.4125000000000001,2.1875,0.9,null,0.5,1.5,0.33,2.6,110,0.13,102,0.2,null,1,null,"ok"]
["Glockengießereien",0,2.5,3.125,3.7850000000000001,0.8,null,0.35,0.625,0.33,8.4,350,0.38,396,0.4,7.2,1,"VT","nein"]
["Gold- und Silberschmied",2,1.1299999999999999,1.4125000000000001,2.4725000000000001,1.8,"JT",0.35,1.25,0.33,5.6,230,0.25,108,0.3,null,1,null,"nein"]
["Golfclub",2,0.63,0.78749999999999998,1.5625,0.9,null,0.5,1.25,0.33,5.6,230,null,98,0.1,8.3000000000000007,1,"ü ","nein"]
["Golflehrer",4,0.5,0.625,1.2350000000000001,0.8,null,0.25,1.25,0.33,2.6,100,null,98,0.1,null,1,"ü ","ok"]
["Grabsteinhandel",3,0.63,0.78749999999999998,1.3975,0.8,null,0.25,0.625,0.33,5.6,230,0.25,102,0.6,null,1,null,"ok"]
["Graphischer Betrieb",2,0.88,1.1000000000000001,1.75,0.9,null,0.25,1.25,0.33,2.6,110,null,108,0.6,5.6,1," ü ","OK"]
["Graveur sowie Handel mit Glas, Metall und Steinwarenhandel",3,1.88,2.35,3.125,0.9,null,0.5,1.5,0.33,2.6,110,0.13,102,0.6,null,1,null,"ok"]
["Gummiwarenerzeugung",0,3.13,3.9125000000000001,4.6124999999999998,0.9,null,0.35,0.625,0.33,8.4,350,0.38,204,0.7,6.7,1,"ü  ","ok"]
["Hackschnitzelerzeugung",0,1.5,1.875,2.5350000000000001,0.8,null,0.35,1.25,0.33,8.4,350,null,396,0.5,null,1,null,"nein"]
["Hackstockerzeugung",2,3.13,3.9125000000000001,4.6124999999999998,0.9,null,0.35,1.25,0.33,10,410,0.56000000000000005,204,0.2,4.4000000000000004,1,"ü ","OK"]
["Hafner   *)",2,0.88,1.1000000000000001,1.76,0.8,null,0.35,0.625,0.33,11.8,480,0.56000000000000005,208,0.9,null,4,"ü ","ok"]
["Hallenbad",0,0.63,0.78749999999999998,1.5625,0.9,null,0.5,0.625,0.33,5.6,230,0.25,106,0.1,5.6,2,"VT","nein"]
["Hallenhandel",1,1.1299999999999999,1.4125000000000001,2.1875,0.9,null,0.5,1.5,0.33,5.6,230,0.25,102,1.4,null,1,"ü ","OK"]
["Hand- u. Fußpflege",3,0.88,1.1000000000000001,1.76,0.8,null,0.35,1.25,0.33,5.6,230,0.25,98,0.1,null,1,"ü ","OK"]
["Hausmeister",4,1.88,2.35,2.96,0.8,null,0.25,1.25,0.33,16.899999999999999,725,null,396,0.1,null,1,"ü ","OK"]
["Hausservice",4,0.88,1.1000000000000001,1.875,0.9,null,0.5,1.25,0.33,11.8,480,0.56000000000000005,204,0.1,null,1,"ü ","OK"]
["Hebamme",4,0.5,0.625,1.2350000000000001,0.8,null,0.25,1.25,0.33,2.6,150,null,98,0.1,null,1,"ü ","OK"]
["Heizungsanlagenerzeugung",2,1.25,1.5625,2.2625000000000002,0.9,null,0.35,0.625,0.33,8.4,350,0.38,600,0.7,4.4000000000000004,1,"ü ","ok"]
["Heizungsanlagenhandel",3,1.25,1.5625,2.6974999999999998,1.8," ",0.5,1.5,0.33,3.8,180,0.38,102,0.7,null,1,"ü ","ok"]
["Holzbringung",0,2.75,3.4375,4.0475000000000003,0.8,null,0.25,0.625,0.33,16.899999999999999,725,0.75,108,0.3,null,1,null,"OK"]
["Holzentrindung",0,2.13,2.6625000000000001,3.4375,0.9,null,0.5,0.625,0.33,8.4,350,0.38,108,0.3,null,1,null,"OK"]
["Holzfällerei",0,2.75,3.4375,4.0475000000000003,0.8,null,0.25,0.625,0.33,16.899999999999999,725,0.75,108,0.3,null,1," ü ","OK"]
["Holzhacken",0,1.5,1.875,2.5350000000000001,0.8,null,0.35,1.25,0.33,8.4,350,null,396,0.3,null,1,null,"OK"]
["Holzhandlung mit Zuschnitt",3,2.13,2.6625000000000001,3.4375,0.9,null,0.5,0.625,0.33,8.4,350,0.38,102,0.3,null,1,null,"nein"]
["Holzkohlenerzeugung",3,1.5,1.875,2.65,0.9,null,0.5,1.25,0.33,8.4,350,0.38,681,0.3,null,1,"VT","nein"]
["Holzleisten und -rahmenerzeugung",2,4.25,5.3125,5.9725000000000001,0.8,null,0.35,0.625,0.33,11.8,480,0.56000000000000005,300,0.3,5,1,"ü ","nein"]
["Holzschnitzer",2,2.5,3.125,3.8250000000000002,0.9,null,0.35,0.625,0.33,3.8,180,null,108,0.3,null,1,"ü ","nein"]
["Holzwarenhandel",3,2.13,2.6625000000000001,3.4375,0.9,null,0.5,0.625,0.33,8.4,350,0.38,102,0.3,null,1,"ü ","OK"]
["Hundesalon",3,0.88,1.1000000000000001,1.8,0.9,null,0.35,1.5,0.33,11.8,480,0.63,98,0.1,null,1,"ü ","OK"]
["Hundeschule",3,0.75,0.9375,1.5475000000000001,0.8,null,0.25,1.25,0.33,3.8,180,0.25,185,0.1,null,1,"ü ","OK"]
["Hundetrainer",4,0.5,0.625,1.2350000000000001,0.8,null,0.25,1.25,0.33,2.6,100,null,98,0.1,null,1,"ü ","OK"]
["Hygiene-und Kosmetikartikelerzeugung",5,2.13,2.6625000000000001,3.4375,0.9,null,0.5,1.25,0.33,6.9,275,0.38,193,1.4,null,1,"ü ","ok"]
["Hygiene-und Kosmetikartikelhandel",3,0.88,1.1000000000000001,1.8,0.9,null,0.35,1.5,0.33,11.8,480,0.63,102,1.4,null,1,"ü ","ok"]
["Imkerei",2,0.63,0.78749999999999998,1.3975,0.8,null,0.25,1.25,0.33,5.6,230,0.25,204,0.2,null,3,"ü ","ok"]
["Imprägnieranstalt  **)",2,1.38,1.7250000000000001,2.5,0.9,null,0.5,1.25,0.33,8.4,350,null,600,1.4,13.3,1,"ü ","ok"]
["Indoor Kinderpark",3,0.88,1.1000000000000001,1.8,0.9,null,0.35,1.25,0.33,6.9,275,null,98,0.1,null,1,"ü ","OK"]
["Installateur (Elektro, Gas, Wasser)",2,1.25,1.5625,2.2625000000000002,0.9,null,0.35,1.25,0.33,34.4,1475,1.5,208,0.8,null,4,"ü ","nein"]
["Installation von Blitzschutzanlagen",2,1.25,1.5625,2.2625000000000002,0.9,null,0.35,0.625,0.33,11.8,480,0.75,405,0.8,null,4,"ü ","nein"]
["Installation von EDV-Anlagen und Telefonanlagen",2,1.25,1.5625,2.2625000000000002,0.9,null,0.35,0.625,0.33,11.8,480,0.75,405,0.8,null,4,"VT","nein"]
["Installationsmaterialienhandel",3,0.88,1.1000000000000001,1.8,0.9,null,0.35,1.25,0.33,8.4,350,0.38,102,0.8,null,1,"ü  ","ok"]
["Instrumente u. Apparateerzeugung (medizin. U. wissenschaftl.)",2,1.1299999999999999,1.4125000000000001,2.1124999999999998,0.9,null,0.35,0.625,0.33,8.4,350,0.38,204,0.8,3.3,1,"ü ","ok"]
["Instrumente u. Apparatehandel (medizin. U. wissenschaftl.)",3,0.88,1.1000000000000001,1.8,0.9,null,0.35,1.25,0.33,8.4,350,0.38,102,0.8,null,1,"ü ","ok"]
["Isolierunternehmen",2,2.13,2.6625000000000001,3.3224999999999998,0.8,null,0.35,0.625,0.33,34.4,1475,null,405,2,null,4,"ü ","nein"]
["Jalousienerzeugung",0,1.1299999999999999,1.4125000000000001,2.0724999999999998,0.8,null,0.35,0.625,0.33,5.6,230,0.25,204,0.5,6.1,1,"ü ","ok"]
["Jalousienhandel mit Montage",2,1.5,1.875,2.65,0.9,null,0.5,1.5,0.33,10,410,0.56000000000000005,307,0.3,null,1,"ü ","ok"]
["Jalousienhandel ohne Montage",2,1.5,1.875,2.65,0.9,null,0.5,1.5,0.33,5.6,230,0.25,307,0.3,null,1,"ü ","ok"]
["Juwelier",3,1.1299999999999999,1.4125000000000001,2.3475000000000001,1.3,"JT",0.5,2.5,0.33,3.8,180,0.25,102,0.6,null,1,null,"nein"]
["Kabarett",3,2.13,2.6625000000000001,3.4375,0.9,null,0.5,1.25,0.33,"VT","VT","VT","VT","VT",null,1,"VT","ok"]
["Kaffeerösterei",0,1.5,1.875,2.5350000000000001,0.8,null,0.35,0.625,0.33,6.3,275,0.38,300,0.2,6.1,3," ü ","nein"]
["Kaminausschleiferei ",4,0.38,0.47499999999999998,1.085,0.8,null,0.25,1.5,0.33,16.899999999999999,725,null,396,0.1,null,1,"ü  ","ok"]
["Kammerzeugung",0,2.5,3.125,3.7850000000000001,0.8,null,0.35,0.625,0.33,8.4,350,0.38,396,0.4,4.4000000000000004,1,"VT","ok"]
["Kanal- u. Senkgrubenräumung",0,1.25,1.5625,2.1724999999999999,0.8,null,0.25,1.25,0.33,11.8,480,null,396,0.2,null,1,"ü ","nein"]
["Karosseriebau u. -reparatur",2,1.25,1.5625,2.2625000000000002,0.9,null,0.35,0.625,0.33,8.4,350,0.38,420,null,null,6,"ü ","OK"]
["Kartbahn",2,1.88,2.35,3.05,0.9,null,0.35,1.25,0.33,"VT","VT","VT","VT","VT",null,1,"ü ","OK"]
["Kartographische Anstalt",2,0.75,0.9375,1.6375,0.9,null,0.35,1.25,0.33,5.6,230,0.25,300,0.3,6.1,1,"ü ","OK"]
["Kartonagewarenerzeugung",0,1.1299999999999999,1.4125000000000001,2.0724999999999998,0.8,null,0.35,0.625,0.33,8.4,350,0.38,396,0.3,5,1,"ü ","nein"]
["Käserei",2,0.63,0.78749999999999998,1.4475,0.8,null,0.35,0.625,0.33,5.6,230,0.25,300,0.3,4.4000000000000004,3,"ü ","OK"]
["Kegelbahnbau",2,1.1299999999999999,1.4125000000000001,2.1124999999999998,0.9,null,0.35,1.25,0.33,8.4,350,0.38,307,0.7,null,1,"ü ","ok"]
["Keramikerzeugung",2,1.25,1.5625,2.2124999999999999,0.9,null,0.25,0.625,0.33,6.3,275,0.38,600,0.5,9.4,1,null,"OK"]
["Kerzenerzeugung",2,2.13,2.6625000000000001,3.2725,0.8,null,0.25,1.25,0.33,5.6,230,0.25,204,0.7,7.2,1,"ü  ","OK"]
["Kerzenhandel",0,1.88,2.35,3.01,0.8,null,0.35,1.25,0.33,5.6,230,0.25,204,0.7,7.2,1,"ü ","ok"]
["Kesselreinigungsunternehmen",0,1.88,2.35,2.96,0.8,null,0.25,0.625,0.33,11.8,480,null,600,1.4,null,1,"ü ","ok"]
["Kiesgewinnung",0,1.25,1.5625,2.1724999999999999,0.8,null,0.25,0.625,0.33,21.3,910,0.75,405,0.6,null,4,null,"ok"]
["Kindergärtner",3,0.5,0.625,1.2350000000000001,0.8,null,0.25,1.25,0.33,2.6,150,null,98,0.1,null,1,"ü ","ok"]
["Kinderwagenerzeugung",3,1.1299999999999999,1.4125000000000001,2.1875,0.9,null,0.5,1.5,0.33,5.6,230,0.25,102,0.2,null,1,"ü ","ok"]
["Kinderwagenhandel",3,1.1299999999999999,1.4125000000000001,2.1875,0.9,null,0.5,1.5,0.33,5.6,230,0.25,102,0.2,null,1,"ü ","ok"]
["Kinesiologe",4,0.5,0.625,1.2350000000000001,0.8,null,0.25,1.25,0.33,2.6,90,null,98,0.1,null,1,"ü ","OK"]
["Kirchengeräteerzeugung",2,1.25,1.5625,2.2625000000000002,0.9,null,0.35,0.625,0.33,8.4,350,0.38,600,0.7,4.4000000000000004,1,"ü ","ok"]
["Kistenerzeugung mit Holzbearbeitung",2,4.25,5.3125,5.9725000000000001,0.8,null,0.35,0.625,0.33,11.8,480,0.56000000000000005,300,0.3,5,1,"ü ","nein"]
["Klauenpfleger ****)",0,0.88,1.1000000000000001,1.8,0.9,null,0.35,1.25,0.33,11.8,480,0.63,204,0.1,null,1,"ü ","ok"]
["Klavierstrimmer und Klavierrestaurator",2,1.88,2.35,3.05,0.9,null,0.35,0.625,0.33,5.6,230,0.25,300,0.1,null,1,"VT","ok"]
["Kleber- u. Leimerzeugung",0,1.88,2.35,3.01,0.8,null,0.35,0.625,0.33,"VT","VT","VT","VT","VT",7.2,1," ü ","ok"]
["Kleiderleihanstalt",3,2.5,3.125,3.9,0.9,null,0.5,1.5,0.33,3.8,180,0.25,98,0.5,null,1,"VT","ok"]
["Klima- und Lüftungsanlageninstallation",2,1.25,1.5625,2.2625000000000002,0.9,null,0.35,1.25,0.33,34.4,1475,1.5,208,0.8,null,4,"ü  ","nein"]
["Klimaanlagen- und Lüftungsbau",2,1.25,1.5625,2.2625000000000002,0.9,null,0.35,1.25,0.33,34.4,1475,1.5,208,0.8,null,4," ü ","nein"]
["Knabberfisch-Behandlung",4,0.88,1.1000000000000001,1.8,0.9,null,0.35,1.25,0.33,11.8,480,0.63,98,0.1,null,1,null,"ok"]
["Knopferzeugung",0,2.25,2.8125,3.4725000000000001,0.8,null,0.35,0.625,0.33,8.4,350,0.38,204,0.5,3.9,1,"ü ","OK"]
["Koch",2,0.5,0.625,1.2350000000000001,0.8,null,0.25,1.25,0.33,5.6,150,null,106,0.1,null,3,"ü ","OK"]
["Komposterzeugung",0,0.88,1.1000000000000001,1.71,0.8,null,0.25,1.25,0.33,5.6,230,0.25,204,0.5,null,1,"ü ","OK"]
["Konditorei",2,1.25,1.5625,2.3374999999999999,0.9,null,0.5,1.25,0.33,8.4,350,0.38,106,0.2,4.4000000000000004,2,"ü ","OK"]
["Konservenerzeugung",2,0.63,0.78749999999999998,1.3975,0.8,null,0.25,1.25,0.33,5.6,230,0.25,204,0.2,null,3,"ü ","ok"]
["Konservenhandel",5,1.1299999999999999,1.4125000000000001,2.1924999999999999,1.1000000000000001,null,0.35,1.875,0.33,5.6,230,0.25,102,0.2,null,2,"ü ","ok"]
["Kopieranstalten",2,0.88,1.1000000000000001,1.8,0.9,null,0.35,1.25,0.33,5.6,230,0.25,204,0.3,null,1,"ü ","OK"]
["Korbwaren, Korbflechtereien",2,2.13,2.6625000000000001,3.3975,0.8,null,0.5,0.625,0.33,5.6,230,0.25,204,0.2,null,1,"ü ","ok"]
["Kosmetikhandel",3,0.88,1.1000000000000001,1.8,0.9,null,0.35,1.5,0.33,11.8,480,0.63,102,1.4,null,1,"ü ","OK"]
["Kosmetiksalons",3,0.88,1.1000000000000001,1.8,0.9,null,0.35,1.5,0.33,11.8,480,0.63,98,1.4,null,1,"ü ","OK"]
["Kostümverleih",3,2.5,3.125,3.9,0.9,null,0.5,1.5,0.33,3.8,180,0.25,98,0.5,null,1,"VT","ok"]
["Kraftfahrzeuge   - nur Handel",1,0.88,1.1000000000000001,1.96,1.3,null,0.35,1.875,0.33,5.6,230,0.25,216,null,null,6,null,"OK"]
["Kraftfahrzeug-Servicestationen, -Waschanlagen",2,1.5,1.875,2.9750000000000001,1.9,null,0.35,1.25,0.33,5.6,230,0.25,852,null,null,1,null,"nein"]
["Kraftfahrzeugwerkstätte",2,1.88,2.35,3.21,1.3,null,0.35,1.25,0.33,8.4,350,0.38,420,null,null,6,null,"OK"]
["Kraftfahrzeugzubehörhandel",1,1.1299999999999999,1.4125000000000001,2.3475000000000001,1.3,null,0.5,1.5,0.33,5.6,230,0.25,114,null,null,1,"ü ","OK"]
["Krankenschwester, -pfleger diplom.",4,0.5,0.625,1.2350000000000001,0.8,null,0.25,1.25,0.33,8.4,150,null,98,0.1,null,1,"ü ","nein"]
["Krankentransportunternehmung (Rettungsfahrten)",2,0.5,0.625,1.2350000000000001,0.8,null,0.25,1.5,0.33,2.6,110,null,185,0.1,null,1,null,"ok"]
["Kräuter- u. Samenhandel",3,1.88,2.35,3.125,0.9,null,0.5,1.5,0.33,2.6,110,0.13,102,0.2,null,2,"ü ","OK"]
["Kunstblumenerzeugung",2,2.5,3.125,3.7850000000000001,0.8,null,0.35,0.625,0.33,5.6,230,0.25,204,1.3,null,1,"ü ","ok"]
["Kunstdüngererzeugung",0,1.88,2.35,3.01,0.8,null,0.35,0.625,0.33,11.8,480,0.56000000000000005,600,null,6.1,1,"ü ","OK"]
["Kunstgewerbehandel",0,1.88,2.35,3.125,0.9,null,0.5,2.5,0.33,2.6,110,0.13,102,0.2,null,1,null,"OK"]
["Künstler, Bildermaler",0,0.88,1.1000000000000001,1.875,0.9,null,0.5,1.5,0.33,3.8,230,0.25,108,0.1,5.6,1,null,"OK"]
["Kunstseideerzeugung",0,1.5,1.875,2.5350000000000001,0.8,null,0.35,0.625,0.33,5.6,230,0.25,204,1.3,6.1,1,"ü  ","ok"]
["Kunststoffbeckenhandel inkl. Montage",2,1.25,1.5625,2.2225000000000001,0.8,null,0.35,1.25,0.33,11.8,480,0.56000000000000005,307,1.3,null,1,"VT","ok"]
["Kunststofferzeugung",0,2.5,3.125,3.7850000000000001,0.8,null,0.35,0.625,0.33,8.4,350,0.38,396,1.3,11.1,1,"ü ","nein"]
["Kunststoffverarbeitung",0,3.13,3.9125000000000001,4.6124999999999998,0.9,null,0.35,0.625,0.33,8.4,350,0.38,396,1.3,6.7,1,"ü ","nein"]
["Kuranstalt, Sanatorium ",0,0.63,0.78749999999999998,1.5625,0.9,null,0.5,1.5,0.33,"VT","VT","VT","VT","VT",6.7,2,"ü ","nein"]
["Kürschner",2,1.5,1.875,3.01,1.8,"S",0.5,2.5,0.33,3.8,180,0.25,108,0.5,null,1,"ü ","nein"]
["Labor – chemisch",0,1.88,2.35,3.05,0.9,null,0.35,1.25,0.33,11.8,480,0.56000000000000005,600,1.4,null,1,null,"ok"]
["Labor – fotographisch",0,1.5,1.875,2.5750000000000002,0.9,null,0.35,1.5,0.33,5.6,230,0.25,396,0.1,null,1,null,"ok"]
["Labor – medizinisch",0,0.63,0.78749999999999998,1.4875,0.9,null,0.35,1.5,0.33,8.4,350,0.38,396,0.5,null,1,null,"ok"]
["Lackhandel",3,2.13,2.6625000000000001,3.4375,0.9,null,0.5,1.25,0.33,5.6,230,0.25,568,1.2,null,1,"VT","ok"]
["Lackierereien",2,2.5,3.125,3.8250000000000002,0.9,null,0.35,0.625,0.33,11.8,480,0.63,396,null,null,1," ü ","OK"]
["Landesprodukteerzeugung",2,0.75,0.9375,1.6375,0.9,null,0.35,0.625,0.33,8.4,350,0.38,396,0.2,5.8,3,"ü ","ok"]
["Landesproduktenhandel",1,2.5,3.125,3.9,0.9,null,0.5,1.5,0.33,8.4,350,0.38,284,0.2,null,2,"ü ","OK"]
["Landmaschinenhandel",1,0.88,1.1000000000000001,1.8,0.9,null,0.35,1.25,0.33,6.3,275,0.38,216,null,null,6,null,"OK"]
["Landmaschinenreparaturwerkstätte",2,1.88,2.35,3.21,1.3,null,0.35,1.25,0.33,8.4,350,0.38,420,null,null,6,"ü ","ok"]
["Lebens- und Sozialberatung",4,0.75,0.9375,1.5475000000000001,0.8,null,0.25,1.25,0.33,3.8,180,0.25,185,0.1,null,1,"ü ","OK"]
["Lebensmittelhandel",5,1.1299999999999999,1.4125000000000001,2.1924999999999999,1.1000000000000001,null,0.35,1.875,0.33,5.6,230,0.25,102,0.2,null,2,"ü ","OK"]
["Leder- u. Lederwarenerzeugung, Gerberei",0,1.88,2.35,3.05,0.9,null,0.35,0.625,0.33,8.4,350,0.38,719,0.5,6.1,1,"ü ","ok"]
["Lederbekleidung, Taschen- u. Gürtelwarenhandel",3,1.5,1.875,2.65,0.9,null,0.5,1.5,0.33,2.6,110,0.13,102,0.5,8.9,1,"ü ","ok"]
["Leichenbestatter mit Holzsargerzeugung",3,1.5,1.875,2.4849999999999999,0.8,null,0.25,1.25,0.33,8.4,350,null,98,0.3,null,1,null,"ok"]
["Leichenbestattungsunternehmen",3,1.5,1.875,2.4849999999999999,0.8,null,0.25,1.25,0.33,8.4,350,null,98,0.3,null,1,null,"OK"]
["Leihbibliotheken",3,0.88,1.1000000000000001,1.875,0.9,null,0.5,1.5,0.33,2.6,110,0.13,98,0.1,null,1,null,"ok"]
["Leonische Waren",3,1.1299999999999999,1.4125000000000001,2.0225,0.8,null,0.25,1.5,0.33,5.6,230,0.25,284,0.3,null,1,null,"ok"]
["Leuchtreklameerzeugung inkl. Montage",0,1.1299999999999999,1.4125000000000001,2.1124999999999998,0.9,null,0.35,0.625,0.33,8.4,350,0.38,396,0.4,null,1,"ü ","ok"]
["Licht- und Tontechnik samt Aufbau",0,1.1299999999999999,1.4125000000000001,2.1124999999999998,0.9,null,0.35,0.625,0.33,8.4,350,0.38,396,0.8,null,1,"ü ","OK"]
["Likörerzeugung",2,1.25,1.5625,2.2625000000000002,0.9,null,0.35,0.625,0.33,8.4,350,0.38,396,0.2,4.4000000000000004,3,"ü ","OK"]
["Lithographische Anstalt",2,0.88,1.1000000000000001,1.875,0.9,null,0.5,1.5,0.33,3.8,180,0.25,108,0.3,5.6,1,"ü ","ok"]
["Logopäde",4,0.5,0.625,1.2350000000000001,0.8,null,0.25,1.25,0.33,2.6,90,null,98,0.1,null,1,"ü ","ok"]
["Magnetfelddecken- u. homöopathische Artikelhandel",3,1.25,1.5625,2.3374999999999999,0.9,null,0.5,1.25,0.33,3.8,180,0.25,102,0.5,null,1,"ü ","ok"]
["Magnetfeldmattenhandel",3,1.25,1.5625,2.3374999999999999,0.9,null,0.5,1.25,0.33,3.8,180,0.25,102,0.5,null,1,"ü ","ok"]
["Maistrocknungsanlage",0,4.25,5.3125,5.9725000000000001,0.8,null,0.35,0.625,0.33,11.8,480,0.56000000000000005,300,0.2,null,1,"ü ","OK"]
["Maler u. Anstreicher",2,2.5,3.125,3.7349999999999999,0.8,null,0.25,1.25,0.33,11.8,480,null,405,1.2,null,1,"ü ","OK"]
["Manikürsalon",3,0.88,1.1000000000000001,1.76,0.8,null,0.35,1.25,0.33,5.6,230,0.25,98,0.1,null,1,"ü ","ok"]
["Marktfahrer inkl. Spielgeräte",0,3.13,3.9125000000000001,4.6124999999999998,0.9,null,0.35,0.625,0.33,8.4,350,0.38,193,0.3,null,1,"VT","OK"]
["Marmeladeerzeugung",2,1,1.25,1.91,0.8,null,0.35,0.625,0.33,8.4,350,0.38,204,0.2,3.9,3,"ü ","OK"]
["Marmeladehandel",5,1.1299999999999999,1.4125000000000001,2.1924999999999999,1.1000000000000001,null,0.35,1.875,0.33,5.6,230,0.25,102,0.2,null,2,"ü ","ok"]
["Marmorwarenerzeugung",0,0.63,0.78749999999999998,1.4375,0.9,null,0.25,0.625,0.33,10,410,0.56000000000000005,204,0.6,10,1,null,"ok"]
["Maschinenerzeugung",2,1.25,1.5625,2.2625000000000002,0.9,null,0.35,0.625,0.33,8.4,350,0.38,396,0.5,6.1,1,"ü ","OK"]
["Maschinenhandel",1,1.1299999999999999,1.4125000000000001,2.1875,0.9,null,0.5,1.25,0.33,5.6,230,0.25,102,0.5,null,1,"ü ","OK"]
["Masken- u. Kostümverleih",3,2.5,3.125,3.9,0.9,null,0.5,1.5,0.33,3.8,180,0.25,98,0.5,null,1,"ü ","ok"]
["Massagesalon",3,0.88,1.1000000000000001,1.875,0.9,null,0.5,2.5,0.33,5.6,230,null,98,0.1,null,1,"ü ","OK"]
["Matratzenerzeugung",0,2.5,3.125,3.8250000000000002,0.9,null,0.35,0.625,0.33,6.9,275,0.38,204,0.3,7.8,1,"ü ","ok"]
["Matratzenhandel",0,2.5,3.125,3.8250000000000002,0.9,null,0.35,0.625,0.33,6.9,275,0.38,204,0.3,7.8,1,"ü ","ok"]
["Mattenerzeugung",0,2.5,3.125,3.8250000000000002,0.9,null,0.35,0.625,0.33,6.9,275,0.38,204,0.3,7.8,1,"ü ","ok"]
["Mauertrockenlegung inkl. Erzeugung von Dichtmittel",2,0.88,1.1000000000000001,1.875,0.9,null,0.5,1.25,0.33,11.8,480,0.56000000000000005,208,2,null,4,"ü ","nein"]
["Mechanische Werkstätte",2,1.1299999999999999,1.4125000000000001,2.1124999999999998,0.9,null,0.35,1.25,0.33,8.4,350,0.38,300,0.5,5.6,1,"ü ","OK"]
["Mechatroniker",2,1.1299999999999999,1.4125000000000001,2.1124999999999998,0.9,null,0.35,1.25,0.33,8.4,350,0.38,300,0.5,5.6,1,"ü ","OK"]
["Metallbearbeitung – Oberflächentechnik",2,1.1299999999999999,1.4125000000000001,2.1124999999999998,0.9,null,0.35,1.25,0.33,8.4,350,0.38,300,0.3,5.6,1,"VT","ok"]
["Metalldreherei, -druckerei, -prägerei, -presserei, -schleiferei ",2,1.1299999999999999,1.4125000000000001,2.1124999999999998,0.9,null,0.35,0.625,0.33,8.4,350,0.38,396,0.3,6.1,1,"ü ","ok"]
["Metallwarenerzeugung, soweit nicht speziell angeführt",2,1.1299999999999999,1.4125000000000001,2.1124999999999998,0.9,null,0.35,0.625,0.33,8.4,350,0.38,396,0.3,5.6,1,"ü ","ok"]
["Metallwarenhandlung",1,1.1299999999999999,1.4125000000000001,2.1875,0.9,null,0.5,1.5,0.33,5.6,230,0.25,102,0.3,null,1,"ü ","OK"]
["Mineralfarbenerzeugung",0,2.5,3.125,3.7850000000000001,0.8,null,0.35,0.625,0.33,"VT","VT","VT","VT","VT",3.9,1,"ü ","ok"]
["Mineralfarbenhandel",3,2.13,2.6625000000000001,3.4375,0.9,null,0.5,1.25,0.33,5.6,230,0.25,568,1.2,null,1,"ü ","ok"]
["Mineralwassererzeugung",2,0.75,0.9375,1.6375,0.9,null,0.35,0.625,0.33,8.4,350,0.38,396,0.2,3.9,3,"ü ","ok"]
["Mineralwasserhandel",3,1,1.25,2.0249999999999999,0.9,null,0.5,1.25,0.33,5.6,230,0.25,193,0.2,null,2,"ü ","ok"]
["Möbelhandel",1,1.88,2.35,3.125,0.9,null,0.5,1.5,0.33,8.4,350,0.38,102,0.3,null,1,"ü ","OK"]
["Molkerei, Molkereiprodukte",0,0.63,0.78749999999999998,1.4875,0.9,null,0.35,0.625,0.33,5.6,230,0.25,300,0.3,4.4000000000000004,3,"ü ","OK"]
["Mühle",0,3.13,3.9125000000000001,4.6475,0.8,null,0.5,0.625,0.33,8.4,350,0.38,396,0.3,16.7,3,"ü ","OK"]
["Mühlenbau *****)",2,0.5,0.625,1.2350000000000001,0.8,null,0.25,1.25,0.33,34.4,1475,null,613,2,null,4,"ü ","nein"]
["Müllabfuhr",0,0.88,1.1000000000000001,1.71,0.8,null,0.25,1.25,0.33,11.8,480,null,396,null,null,1,null,"nein"]
["Müllsammelstelle – Müllumladestation",0,3.13,3.9125000000000001,4.5724999999999998,0.8,null,0.35,0.625,0.33,11.8,480,0.56000000000000005,600,null,8.9,1,null,"nein"]
["Münzhandlung",3,1.88,2.35,3.4849999999999999,1.8,"S",0.5,1.5,0.33,2.6,110,null,102,0.2,null,1,null,"nein"]
["Museum",0,1.88,2.35,3.125,0.9,null,0.5,1.25,0.33,2.6,110,0.13,98,0.1,null,1,null,"OK"]
["Musikband",0,1.88,2.35,3.05,0.9,null,0.35,0.625,0.33,5.6,230,0.25,273,0.1,null,1,"ü ","OK"]
["Musikinstrumentenerzeugung",2,1.88,2.35,3.05,0.9,null,0.35,0.625,0.33,5.6,230,0.25,300,0.3,null,1,"ü ","OK"]
["Musikinstrumentenhandel",3,1.88,2.35,3.05,0.9,null,0.35,1.25,0.33,2.6,110,0.13,102,0.3,null,1,"ü ","OK"]
["Nagelstudio",3,0.88,1.1000000000000001,1.76,0.8,null,0.35,1.25,0.33,5.6,230,0.25,98,0.1,null,1,"ü ","ok"]
["Näherei",2,1.1299999999999999,1.4125000000000001,2.1875,0.9,null,0.5,1.5,0.33,5.6,230,0.25,108,0.5,6.1,1,"ü ","OK"]
["Nähmaschinenhandel mit Reparatur",3,1.25,1.5625,2.6974999999999998,1.8,"S",0.5,1.5,0.33,8.4,180,0.38,102,0.7,null,1,"ü ","ok"]
["Nationalpark",3,0.5,0.625,1.2350000000000001,0.8,null,0.25,1.25,0.33,8.4,350,0.38,185,0.1,null,1,"ü ","nein"]
["Netzwarenerzeuger",0,2.5,3.125,3.7850000000000001,0.8,null,0.35,0.625,0.33,8.4,350,0.38,396,0.5,11.1,1,"ü ","ok"]
["Obst- u. Gemüsehandel",5,1.25,1.5625,2.3374999999999999,0.9,null,0.5,1.5,0.33,2.6,110,0.13,102,0.2,null,2,"ü ","OK"]
["Obstbrennerei",2,2.5,3.125,3.7850000000000001,0.8,null,0.35,0.625,0.33,8.4,350,0.38,396,0.2,8.3000000000000007,3,"ü ","ok"]
["Ofen u. Herderzeugung",2,1.25,1.5625,2.2225000000000001,0.8,null,0.35,0.625,0.33,8.4,350,0.38,396,0.4,6.1,1,"ü ","ok"]
["Ofengrosshandel",1,0.88,1.1000000000000001,1.875,0.9,null,0.5,1.25,0.33,3.8,180,0.25,193,0.4,null,1,"ü ","OK"]
["Ofengrosshandel inkl. Montage",1,1.25,1.5625,2.2625000000000002,0.9,null,0.35,0.625,0.33,11.8,480,0.75,396,0.4,null,1,"ü ","ok"]
["Ölpresserei",0,2.5,3.125,3.7850000000000001,0.8,null,0.35,0.625,0.33,8.4,350,0.38,396,0.2,13.3,3,"ü ","OK"]
["Optiker",3,1.1299999999999999,1.4125000000000001,2.5474999999999999,1.8,"S",0.5,1.5,0.33,5.6,230,0.25,102,0.4,null,1,"ü ","OK"]
["Optometrist",4,1.1299999999999999,1.4125000000000001,2.3475000000000001,1.3,null,0.5,1.25,0.33,5.6,230,0.25,98,0.1,null,1,"ü ","ok"]
["Orgelbau",2,3.75,4.6875,5.3475000000000001,0.8,null,0.35,0.625,0.33,8.4,350,0.38,300,0.3,null,1," ü ","ok"]
["Orientteppich- und Gobelinhandel ",0,2.13,2.6625000000000001,3.7974999999999999,1.8,"S ",0.5,2.5,0.33,2.6,110,0.13,102,0.5,null,1,null,"ok"]
["Orthopädische Artikelerzeugung ",2,1.88,2.35,3.05,0.9,null,0.35,0.625,0.33,8.4,350,0.38,204,0.8,6.1,1,"ü ","ok"]
["Orthopädische Artikelhandel ",3,1.88,2.35,3.05,0.9,null,0.35,1.25,0.33,4.4000000000000004,180,0.25,102,0.8,null,1,"ü ","OK"]
["Outdoortrainer",4,0.5,0.625,1.2350000000000001,0.8,null,0.25,1.25,0.33,2.6,100,null,98,0.1,null,1,"ü ","OK"]
["Paintballanlage",3,0.88,1.1000000000000001,1.8,0.9,null,0.35,1.25,0.33,6.9,275,null,98,0.1,null,1,"ü ","OK"]
["Papier- u. Pappewarenerzeugung",0,1.5,1.875,2.5350000000000001,0.8,null,0.35,0.625,0.33,5.6,230,0.25,396,0.6,5,1,"ü ","OK"]
["Papier- u. Pappewarenhandel",3,1.1299999999999999,1.4125000000000001,2.1875,0.9,null,0.5,1.5,0.33,2.6,110,0.13,102,0.6,null,1,"ü ","OK"]
["Parfümerie",3,2.13,2.6625000000000001,3.4375,0.9,null,0.5,1.5,0.33,3.8,180,0.25,102,1.4,null,1,"ü ","OK"]
["Parkettbodenschleifer",2,1.5,1.875,2.5350000000000001,0.8,null,0.35,1.5,0.33,8.4,350,null,405,0.3,null,1,"ü ","OK"]
["Partnervermittler",4,0.5,0.625,1.2350000000000001,0.8,null,0.25,1.25,0.33,2.6,110,null,98,0.1,null,null,"ü ","ok"]
["Personalleasing",4,0.75,0.9375,1.5475000000000001,0.8,null,0.25,1.25,0.33,3.8,180,0.25,185,0.1,null,null,"ü ","OK"]
["Personaltraining – Sport und Entspannung",3,0.88,1.1000000000000001,1.835,0.8,null,0.5,1.25,0.33,2.6,110,null,98,0.1,null,1,"ü ","ok"]
["Perückenstudio",3,1.25,1.5625,2.2974999999999999,0.8,null,0.5,1.25,0.33,8.4,350,0.38,108,0.1,null,1,"ü ","ok"]
["Pfandleihanstalt",3,1.88,2.35,3.4849999999999999,1.8,"S",0.5,2.5,0.33,2.6,110,null,102,0.1,null,"VT",null,"nein"]
["Pflasterer",2,0.88,1.1000000000000001,1.875,0.9,null,0.5,1.25,0.33,11.8,480,0.56000000000000005,208,0.1,null,4,"ü ","OK"]
["Pflegeheim, Seniorenheim",2,0.63,0.78749999999999998,1.5625,0.9,null,0.5,1.5,0.33,5.6,230,0.25,106,0.1,5.6,2,"ü ","nein"]
["Physiotherapeut",4,0.63,0.78749999999999998,1.5625,0.9,null,0.5,1.25,0.33,2.6,90,null,98,0.1,null,1,"ü ","nein"]
["Plakatierer",0,2.5,3.125,3.7349999999999999,0.8,null,0.25,1.25,0.33,11.8,480,null,396,0.1,null,1,"VT","ok"]
["Planen- und Folienerzeugung",0,2.5,3.125,3.7850000000000001,0.8,null,0.35,0.625,0.33,8.4,350,0.38,396,1.3,11.1,1,"ü ","ok"]
["Plissier- u. Knopfpresswerkstätte",0,1.25,1.5625,2.2625000000000002,0.9,null,0.35,1.5,0.33,8.4,350,0.38,204,0.5,9.4,1,"ü ","ok"]
["Polstermöbelerzeugung",2,2.75,3.4375,4.2125000000000004,0.9,null,0.5,1.5,0.33,8.4,350,0.63,204,0.3,6.7,1,"ü ","OK"]
["Portalbau",2,1.1299999999999999,1.4125000000000001,2.0724999999999998,0.8,null,0.35,1.25,0.33,34.4,1475,1.5,405,2,null,4,"ü ","OK"]
["Porzellanhandel",3,1.1299999999999999,1.4125000000000001,2.1875,0.9,null,0.5,1.5,0.33,2.6,110,0.13,102,0.2,null,1,null,"ok"]
["Porzellanwarenerzeugung",2,1.25,1.5625,2.2625000000000002,0.9,null,0.35,0.625,0.33,8.4,350,0.38,396,0.5,9.4,1,null,"ok"]
["Posamentierwarenerzeugung",2,1.1299999999999999,1.4125000000000001,2.1124999999999998,0.9,null,0.35,0.625,0.33,6.9,275,0.38,300,0.5,null,1,null,"ok"]
["Posamentierwarenhandel",3,1.1299999999999999,1.4125000000000001,2.1124999999999998,0.9,null,0.35,1.25,0.33,2.6,110,0.13,102,0.5,null,1,null,"ok"]
["Postpartner",3,1.25,1.5625,2.2625000000000002,0.9,null,0.35,0.625,0.33,5.6,230,0.25,185,0.1,3.3,1,null,"OK"]
["Postversand",3,1.25,1.5625,2.2225000000000001,0.8,null,0.35,0.625,0.33,5.6,230,0.25,185,0.1,3.3,1,null,"OK"]
["PR und Eventmarketing",4,0.5,0.625,1.2350000000000001,0.8,null,0.25,1.25,0.33,11.8,480,0.56000000000000005,360,0.1,null,"VT","VT","OK"]
["Putz- u. Reinigungsmittelerzeugung",0,2.5,3.125,3.7850000000000001,0.8,null,0.35,0.625,0.33,"VT","VT","VT","VT","VT",7.2,1,"ü ","ok"]
["Putzerei, auch mit chemischen Putzautomaten **)",2,1.38,1.7250000000000001,2.5,0.9,null,0.5,1.25,0.33,8.4,350,null,600,1.4,13.3,1,"ü ","ok"]
["Putzereiübernahmestelle",3,1.1299999999999999,1.4125000000000001,2.1124999999999998,0.9,null,0.35,1.25,0.33,5.6,230,null,98,1.4,null,1,"ü ","OK"]
["Pyrotechnische Artikel – Erzeugung ",0,4.88,6.1,6.8,0.9,null,0.35,0.625,0.33,"VT","VT","VT","VT",null,null,1,null,"nein"]
["Pyrotechnische Artikel – Handel",3,4.88,6.1,6.8,0.9,null,0.35,1.25,0.33,"VT","VT","VT","VT",null,null,1,null,"nein"]
["Rauchfangkehrer  ***)",4,0.38,0.47499999999999998,1.085,0.8,null,0.25,1.5,0.33,16.899999999999999,725,null,396,0.1,null,1,"ü ","ok"]
["Raumausstatter",2,1.88,2.35,3.125,0.9,null,0.5,1.25,0.33,8.4,350,0.38,204,0.3,null,1,"ü ","OK"]
["Reformhäuser",5,1.25,1.5625,2.3374999999999999,0.9,null,0.5,1.25,0.33,5.6,135,0.25,102,0.2,null,1,"ü ","ok"]
["Reinigungsunternehmen",2,1.88,2.35,2.96,0.8,null,0.25,1.5,0.33,16.899999999999999,725,null,396,0.2,null,1,"ü ","nein"]
["Reise- u. Kartenbüros",4,0.5,0.625,1.2350000000000001,0.8,null,0.25,1.5,0.33,2.6,110,null,98,0.1,null,1,null,"OK"]
["Reiseleiter",4,0.5,0.625,1.2350000000000001,0.8,null,0.25,1.25,0.33,2.6,90,null,98,0.1,null,1,"VT","OK"]
["Reitlehrer",4,0.5,0.625,1.2350000000000001,0.8,null,0.25,1.25,0.33,2.6,100,null,98,0.1,null,1,"VT","OK"]
["Reitstall, Pferdeeinstellbetrieb",2,0.88,1.1000000000000001,1.8,0.9,null,0.35,1.25,0.33,8.4,350,0.38,185,0.2,null,1,"ü  ","OK"]
["Restaurator",2,2.13,2.6625000000000001,3.3624999999999998,0.9,null,0.35,1.5,0.33,10,410,0.38,204,0.1,null,1,null,"OK"]
["Rodelerzeugung",0,4,5,5.66,0.8,null,0.35,0.625,0.33,11.8,480,0.56000000000000005,396,0.3,5,1,"ü ","nein"]
["Rohrreinigung",0,1.88,2.35,2.96,0.8,null,0.25,1.25,0.33,16.899999999999999,725,null,396,0.2,null,1,"ü ","ok"]
["Saatgutreinigung- und -erzeugung",3,2.13,2.6625000000000001,3.3975,0.8,null,0.5,1.5,0.33,2.6,110,0.13,102,0.2,null,2,"ü ","ok"]
["Sägewerk",2,4.75,5.9375,6.5975000000000001,0.8,null,0.35,0.625,0.33,16.899999999999999,725,0.75,396,0.3,16.7,1,"ü ","nein"]
["Samenhandlung",3,2.13,2.6625000000000001,3.3975,0.8,null,0.5,1.5,0.33,2.6,110,0.13,102,0.2,null,2,"ü ","OK"]
["Sand- u. Schottergrube, Steinbruch mit Sprengung",0,1.25,1.5625,2.1724999999999999,0.8,null,0.25,0.625,0.33,21.3,910,0.75,405,0.6,null,4,null,"nein"]
["Sanitärhandel",3,1.1299999999999999,1.4125000000000001,2.1875,0.9,null,0.5,1.25,0.33,4.4000000000000004,180,0.25,102,0.8,null,1,"ü  ","OK"]
["Sattlerei",2,1.5,1.875,2.5750000000000002,0.9,null,0.35,1.25,0.33,8.4,350,0.38,204,0.5,8.9,1,"VT","ok"]
["Sauerkrauterzeugung",2,0.63,0.78749999999999998,1.3975,0.8,null,0.25,1.25,0.33,5.6,230,0.25,204,0.2,null,3,"ü ","ok"]
["Saunabetrieb",2,0.63,0.78749999999999998,1.5625,0.9,null,0.5,1.25,0.33,5.6,230,0.25,106,0.1,null,1,"ü ","OK"]
["Schädlingsbekämpfung",0,1.5,1.875,2.4849999999999999,0.8,null,0.25,0.625,0.33,16.899999999999999,725,0.75,396,0.5,null,1,"ü ","OK"]
["Schallplattenerzeugung ",0,1.25,1.5625,2.2225000000000001,0.8,null,0.35,0.625,0.33,6.3,275,0.38,300,0.2,6.7,1,"ü ","ok"]
["Schallplattenhandel, CD´s, MC´s",3,1.25,1.5625,2.3374999999999999,0.9,null,0.5,1.25,0.33,2.6,110,0.13,102,0.2,null,1,"ü ","ok"]
["Schaufenster- u. Dekorbedarfhandel",3,1.5,1.875,2.65,0.9,null,0.5,1.25,0.33,5.6,230,0.25,102,0.3,null,1,"ü ","OK"]
["Schaufensterdekorateur",2,2.13,2.6625000000000001,3.4375,0.9,null,0.5,1.25,0.33,8.4,350,0.38,108,0.1,null,1,"ü ","OK"]
["Schiessplatz",0,1.25,1.5625,2.2625000000000002,0.9,null,0.35,0.625,0.33,16.899999999999999,725,0.75,396,0.1,null,1,null,"OK"]
["Schifffahrtsbetrieb",0,0.63,0.78749999999999998,1.3975,0.8,null,0.25,1.25,0.33,"VT","VT","VT","VT",null,null,1,null,"nein"]
["Schildererzeugung inkl. Montage",2,1.25,1.5625,2.2225000000000001,0.8,null,0.35,1.25,0.33,11.8,480,0.56000000000000005,300,0.3,null,1,"ü  ","ok"]
["Schilehrer",4,0.5,0.625,1.2350000000000001,0.8,null,0.25,1.25,0.33,2.6,100,null,98,0.1,null,1,"VT","ok"]
["Schirmbar",2,0.63,0.78749999999999998,1.5625,0.9,null,0.5,1.25,0.33,5.6,230,null,106,0.2,7.2,2,"VT","ok"]
["Schirmerzeugung",2,1.1299999999999999,1.4125000000000001,2.0724999999999998,0.8,null,0.35,0.625,0.33,8.4,350,0.38,204,0.2,5.6,1,"ü  ","ok"]
["Schlachthof",0,0.63,0.78749999999999998,1.4875,0.9,null,0.35,0.625,0.33,13.1,590,0.75,396,0.2,4.4000000000000004,3,null,"OK"]
["Schleif- u. Schmiergelpapiererzeugung",0,1.5,1.875,2.5350000000000001,0.8,null,0.35,0.625,0.33,5.6,230,0.25,480,0.6,5,1,"ü  ","ok"]
["Schleifsteinerzeugung",0,0.88,1.1000000000000001,1.76,0.8,null,0.35,0.625,0.33,6.9,275,0.38,396,0.9,9.4,1,null,"ok"]
["Schlosserei",2,0.88,1.1000000000000001,1.8,0.9,null,0.35,1.25,0.33,11.8,480,0.56000000000000005,204,0.8,6.7,1,"ü ","OK"]
["Schlüsseldienst",2,0.88,1.1000000000000001,1.8,0.9,null,0.35,1.25,0.33,11.8,480,0.56000000000000005,204,0.1,5.6,1,"ü ","OK"]
["Schmiede – mit Hufbeschlag  ****)",2,0.88,1.1000000000000001,1.8,0.9,null,0.35,1.25,0.33,11.8,480,0.63,204,0.8,9.4,1,"ü ","ok"]
["Schmiede ohne Hufbeschlag",2,0.88,1.1000000000000001,1.8,0.9,null,0.35,1.25,0.33,8.4,350,0.38,204,0.8,9.4,1,"ü ","OK"]
["Schmierfetterzeugung",0,2.5,3.125,3.7850000000000001,0.8,null,0.35,0.625,0.33,11.8,480,0.56000000000000005,600,null,6.7,1,"ü ","OK"]
["Schmuckdesigner",2,1.1299999999999999,1.4125000000000001,2.4725000000000001,1.8,"JT",0.35,1.25,0.33,5.6,230,0.25,108,0.6,null,1,null,"OK"]
["Schneeräumung",2,1.88,2.35,2.96,0.8,null,0.25,1.25,0.33,16.899999999999999,725,null,396,0.1,null,1,"ü ","OK"]
["Schneiderei",2,1.1299999999999999,1.4125000000000001,2.1875,0.9,null,0.5,1.5,0.33,5.6,230,0.25,108,0.5,6.1,1,"ü ","OK"]
["Schokolade- u. Schokoladewarenerzeugung",0,2.13,2.6625000000000001,3.3224999999999998,0.8,null,0.35,0.625,0.33,5.6,230,0.25,396,0.2,6.1,3,"ü ","ok"]
["Schönheitspflegesalon",3,0.88,1.1000000000000001,1.875,0.9,null,0.5,1.25,0.33,11.8,480,0.63,98,1.4,null,1,"ü ","OK"]
["Schotterwerk",0,1.25,1.5625,2.1724999999999999,0.8,null,0.25,0.625,0.33,21.3,910,0.75,405,0.6,null,4,"ü ","nein"]
["Schuherzeugung, ",2,1.5,1.875,2.5750000000000002,0.9,null,0.35,1.25,0.33,5.6,230,0.25,300,0.5,8.9,1,"ü ","ok"]
["Schuhhandel",3,1.25,1.5625,2.3374999999999999,0.9,null,0.5,1.25,0.33,2.6,110,0.13,102,0.5,null,1,"ü ","OK"]
["Schwarzdeckerei",2,1.1299999999999999,1.4125000000000001,2.0225,0.8,null,0.25,1.25,0.33,34.4,1475,null,405,0.2,null,4,"ü ","OK"]
["Schweinemastbetrieb",0,0.88,1.1000000000000001,1.8,0.9,null,0.35,1.25,0.33,8.4,350,0.38,204,0.2,null,1,null,"OK"]
["Schweißunternehmen",2,1.1299999999999999,1.4125000000000001,2.0625,0.9,null,0.25,1.25,0.33,25,1100,0.75,204,0.8,null,1,"ü ","ok"]
["Schwimmbadhandel inkl. Montage",2,1.25,1.5625,2.2625000000000002,0.9,null,0.35,0.625,0.33,11.8,480,0.75,405,1.4,null,1,"ü ","OK"]
["Second Hand Shop",3,2.5,3.125,3.9,0.9,null,0.5,1.5,0.33,3.8,180,0.25,102,0.5,null,1,"VT","OK"]
["Seifenerzeugung",0,1.5,1.875,2.5350000000000001,0.8,null,0.35,0.625,0.33,13.1,590,0.63,396,0.7,5,1,"ü ","OK"]
["Seilerei",0,1.1299999999999999,1.4125000000000001,2.1124999999999998,0.9,null,0.35,0.625,0.33,8.4,350,0.38,300,0.5,3.9,1,"ü ","OK"]
["Senferzeugung",0,0.63,0.78749999999999998,1.3975,0.8,null,0.25,0.625,0.33,5.6,230,0.25,204,0.2,3.9,3,"ü ","ok"]
["Senkgrubenräumer",2,1.88,2.35,2.96,0.8,null,0.25,1.5,0.33,8.4,350,null,396,0.1,null,1,"ü ","ok"]
["Sex-Shop",3,2.13,2.6625000000000001,3.4375,0.9,null,0.5,1.5,0.33,3.8,180,0.25,102,0.1,null,1,null,"ok"]
["Skierzeugung",0,4,5,5.7,0.9,null,0.35,0.625,0.33,13.1,725,0.63,600,0.3,5,1,"ü ","nein"]
["Snowboarderzeugung",0,4,5,5.7,0.9,null,0.35,0.625,0.33,13.1,725,0.63,600,0.3,5,1,"ü ","nein"]
["Sodawassererzeugung",2,0.75,0.9375,1.6375,0.9,null,0.35,0.625,0.33,8.4,350,0.38,396,0.2,3.9,3,"ü ","ok"]
["Sodawasserhandel",3,1,1.25,2.0249999999999999,0.9,null,0.5,1.25,0.33,5.6,230,0.25,193,0.2,null,2,"ü ","ok"]
["Solarien",3,0.88,1.1000000000000001,1.875,0.9,null,0.5,1.25,0.33,11.8,480,0.56000000000000005,98,0.1,null,1,null,"OK"]
["Souvenierhandel",3,1.88,2.35,3.125,0.9,null,0.5,1.5,0.33,2.6,110,0.13,102,0.2,null,1,null,"OK"]
["Speditionsunternehmen",1,1.88,2.35,3,0.9,null,0.25,1.5,0.33,8.4,350,0.38,185,0.1,null,5,null,"OK"]
["Spenglerei",2,1,1.25,1.95,0.9,null,0.35,1.25,0.33,11.8,480,0.56000000000000005,208,0.8,null,4," ü ","OK"]
["Spiegelerzeugung",0,0.88,1.1000000000000001,1.76,0.8,null,0.35,1.25,0.33,8.4,350,0.38,300,0.5,6.7,1,"VT","ok"]
["Spielkarten – Spieleerzeugung",0,1.1299999999999999,1.4125000000000001,2.0724999999999998,0.8,null,0.35,0.625,0.33,5.6,230,0.25,204,0.2,5,1,"ü ","ok"]
["Spielwarenerzeugung",0,1.88,2.35,3.05,0.9,null,0.35,0.625,0.33,8.4,350,0.38,204,0.2,6.7,1,"ü ","OK"]
["Spielwarenhandel",3,1.88,2.35,3.05,0.9,null,0.35,1.25,0.33,2.6,110,0.13,102,0.2,null,1,"ü ","OK"]
["Spinnerei",0,2.5,3.125,3.7850000000000001,0.8,null,0.35,0.625,0.33,8.4,350,0.38,300,0.9,3.9,1,"ü ","ok"]
["Spirituosenerzeugung",2,2.5,3.125,3.8250000000000002,0.9,null,0.35,0.625,0.33,8.4,350,0.38,396,0.2,8.3000000000000007,3,"ü ","OK"]
["Sportanlage-Betrieb",3,0.88,1.1000000000000001,1.9550000000000001,1.1000000000000001,null,0.5,1.875,0.33,6.9,275,null,98,0.1,null,1,"ü ","nein"]
["Sportanlagenbau",2,0.88,1.1000000000000001,1.71,0.8,null,0.25,1.5,0.33,16.899999999999999,725,0.75,405,1.4,null,4,"ü ","OK"]
["Sportartikelhandel inkl. Montage",3,1.5,1.875,2.65,0.9,null,0.5,1.25,0.33,6.3,350,0.38,156,0.7,null,1,"ü ","OK"]
["Sportberatung",4,0.5,0.625,1.2350000000000001,0.8,null,0.25,1.25,0.33,2.6,90,null,98,0.1,null,1,"ü ","OK"]
["Sportgeräteerzeugung",0,4,5,5.66,0.8,null,0.35,0.625,0.33,11.8,480,0.56000000000000005,396,0.3,null,1,"ü ","ok"]
["Sportlehrer, Kinderturnlehrer",4,0.5,0.625,1.2350000000000001,0.8,null,0.25,1.25,0.33,2.6,100,null,98,0.1,null,1,"ü ","OK"]
["Sprachschule",3,0.5,0.625,1.2350000000000001,0.8,null,0.25,1.25,0.33,2.6,110,null,98,0.1,null,1,"ü ","OK"]
["Sprengmittelerzeugung",0,12.38,15.475,16.175000000000001,0.9,null,0.35,0.625,0.33,"VT","VT","VT","VT",null,null,1,null,"nein"]
["Stahlbauunternehmen",2,1.1299999999999999,1.4125000000000001,2.0225,0.8,null,0.25,0.625,0.33,34.4,1475,1.5,405,0.3,null,4,"ü ","nein"]
["Stahlwarenerzeugung",0,1.1299999999999999,1.4125000000000001,2.0724999999999998,0.8,null,0.35,0.625,0.33,8.4,350,0.38,396,0.3,6.1,1,"ü ","OK"]
["Stärkeerzeugung",2,0.75,0.9375,1.6375,0.9,null,0.35,0.625,0.33,8.4,350,0.38,396,0.2,5.8,3,"ü ","ok"]
["Steinbruch",0,1.25,1.5625,2.1724999999999999,0.8,null,0.25,0.625,0.33,21.3,910,0.75,405,0.6,null,4,null,"nein"]
["Steinmetz",2,0.63,0.78749999999999998,1.4375,0.9,null,0.25,1.25,0.33,11.8,480,0.56000000000000005,208,0.9,null,1,null,"OK"]
["Stempelerzeugung",2,2.5,3.125,3.7850000000000001,0.8,null,0.35,0.625,0.33,8.4,350,0.38,204,0.2,4.4000000000000004,1,"ü ","ok"]
["Stickereiwarenerzeugung",2,1.1299999999999999,1.4125000000000001,2.0724999999999998,0.8,null,0.35,0.625,0.33,5.6,230,0.25,204,0.5,6.1,1,"ü ","ok"]
["Stofftiererzeugung",0,1.1299999999999999,1.4125000000000001,2.1124999999999998,0.9,null,0.35,0.625,0.33,5.6,230,0.25,108,0.2,6.1,1,"ü ","ok"]
["Straßenreinigung (nicht Gehsteigreinigung)",0,1.25,1.5625,2.1724999999999999,0.8,null,0.25,1.5,0.33,8.4,350,null,108,0.1,null,1,"ü ","ok"]
["Strohkränzeerzeugung",2,2.13,2.6625000000000001,3.3975,0.8,null,0.5,0.625,0.33,5.6,230,0.25,204,0.2,null,1,"ü ","ok"]
["Strohpressen",0,1.5,1.875,2.65,0.9,null,0.5,1.25,0.33,8.4,350,0.38,108,0.2,null,1,"ü ","OK"]
["Strohwarenerzeugung",2,2.13,2.6625000000000001,3.3975,0.8,null,0.5,0.625,0.33,5.6,230,0.25,204,0.2,null,1,"ü ","ok"]
["Strohwarenhandel",2,2.13,2.6625000000000001,3.3975,0.8,null,0.5,0.625,0.33,5.6,230,0.25,204,0.2,null,1,"ü ","ok"]
["Stuckateur",2,1.1299999999999999,1.4125000000000001,2.1475,0.8,null,0.5,1.25,0.33,16.899999999999999,725,null,208,2,null,4,"ü ","OK"]
["Supermarkt",5,1.5,1.875,2.65,0.9,null,0.5,1.25,0.33,5.6,230,0.25,193,0.2,null,2,"ü ","ok"]
["Surfbretterzeugung",0,4,5,5.7,0.9,null,0.35,0.625,0.33,11.8,480,0.56000000000000005,600,0.3,5,1,"ü ","nein"]
["Tabaktrafik",3,1.5,1.875,3.09,2,"S",0.5,1.875,0.33,2.6,110,0.13,102,0.2,null,1,null,"OK"]
["Taek won do Schule",3,0.88,1.1000000000000001,1.8,0.9,null,0.35,1.25,0.33,6.9,275,null,98,0.1,null,1,"ü ","OK"]
["Taek won do Trainer",4,0.5,0.625,1.2350000000000001,0.8,null,0.25,1.25,0.33,2.6,100,null,98,0.1,null,1,"ü ","nein"]
["Tagesmutter",3,0.5,0.625,1.2350000000000001,0.8,null,0.25,1.25,0.33,2.6,150,null,98,0.1,null,1,"ü ","nein"]
["Tankstellen",2,1.5,1.875,2.5750000000000002,0.9,null,0.35,1.25,0.33,5.6,230,0.25,852,0.1,13.3,1,null,"OK"]
["Tanzlehrer",4,0.5,0.625,1.2350000000000001,0.8,null,0.25,1.25,0.33,2.6,100,null,98,0.1,null,1,"ü ","OK"]
["Tanzschule",3,0.5,0.625,1.2350000000000001,0.8,null,0.25,1.25,0.33,2.6,110,null,98,0.1,null,1,"ü ","OK"]
["Tapetenerzeugung",0,1.1299999999999999,1.4125000000000001,2.0724999999999998,0.8,null,0.35,0.625,0.33,5.6,230,0.25,396,0.5,5,1,"ü ","ok"]
["Tapetenhandel",3,1.1299999999999999,1.4125000000000001,2.1875,0.9,null,0.5,1.25,0.33,2.6,110,0.13,102,0.5,null,1,"ü ","ok"]
["Tapezierer und Dekorateur",2,1.88,2.35,3.125,0.9,null,0.5,1.25,0.33,8.4,350,0.38,208,0.5,null,1,"ü ","OK"]
["Tätowier- und Piercingstudio",3,0.88,1.1000000000000001,1.8,0.9,null,0.35,1.25,0.33,11.8,480,0.63,98,0.1,null,1,"ü  ","OK"]
["Tauschzentralen",3,2.5,3.125,3.9,0.9,null,0.5,1.5,0.33,3.8,180,0.25,102,0.1,null,1,null,"OK"]
["Taxiunternehmen",2,0.5,0.625,1.2350000000000001,0.8,null,0.25,1.5,0.33,2.6,110,null,185,0.1,null,1,null,"OK"]
["Teigwarenerzeugung",2,1.25,1.5625,2.2225000000000001,0.8,null,0.35,0.625,0.33,6.3,275,0.38,204,0.2,8.9,3,"ü ","ok"]
["Teigwarenhandel",5,0.88,1.1000000000000001,1.835,0.8,null,0.5,1.25,0.33,3.8,180,0.25,102,0.2,null,2,"ü ","ok"]
["Teppichaufbewahrung und Reinigung ",2,1.5,1.875,2.65,0.9,null,0.5,1.25,0.33,5.6,230,null,204,1.4,null,1,"ü ","ok"]
["Teppichehandel mit Verlegung",2,2.13,2.6625000000000001,3.4375,0.9,null,0.5,1.25,0.33,8.4,350,0.38,110,0.7,null,4,"ü ","ok"]
["Teppicherzeugung",0,1.1299999999999999,1.4125000000000001,2.0724999999999998,0.8,null,0.35,0.625,0.33,8.4,350,0.38,204,0.5,7.2,1,"ü ","ok"]
["Teppichhandel ohne Verlegung",3,2.13,2.6625000000000001,3.4375,0.9,null,0.5,1.25,0.33,2.6,110,0.13,102,0.7,null,1,"ü ","ok"]
["Textildruckereien",2,1.63,2.0375000000000001,2.6974999999999998,0.8,null,0.35,0.625,0.33,5.6,230,0.25,600,0.5,5,1,"ü ","OK"]
["Textilwarenerzeugung",0,1.1299999999999999,1.4125000000000001,2.0724999999999998,0.8,null,0.35,0.625,0.33,5.6,230,0.25,204,0.5,6.1,1,"ü ","OK"]
["Textilwarenhandel ",3,1.1299999999999999,1.4125000000000001,2.1875,0.9,null,0.5,1.5,0.33,2.6,110,0.13,102,0.5,null,1,"ü ","ok"]
["Theater, Kino",3,2.13,2.6625000000000001,3.4375,0.9,null,0.5,1.25,0.33,"VT","VT","VT","VT","VT",null,1,"VT","OK"]
["Therme",0,0.63,0.78749999999999998,1.5625,0.9,null,0.5,0.625,0.33,5.6,230,0.25,106,0.1,5.6,2,"ü ","nein"]
["Tiefbohrunternehmen *****)",0,0.5,0.625,1.2350000000000001,0.8,null,0.25,1.875,0.33,34.4,1475,null,208,2,null,4,"ü ","nein"]
["Tiefkühlwarenerzeugung",0,0.88,1.1000000000000001,1.71,0.8,null,0.25,0.625,0.33,8.4,350,0.38,204,0.2,7.2,3,"VT","OK"]
["Tiefkühlwarenhandel",5,1.1299999999999999,1.4125000000000001,2.1924999999999999,1.1000000000000001,null,0.35,1.875,0.33,5.6,230,0.25,102,0.2,null,2,null,"ok"]
["Tierhandlung",3,1.88,2.35,3.125,0.9,null,0.5,1.5,0.33,6.9,275,0.38,375,0.2,null,1,null,"OK"]
["Tiermuseum",0,1.88,2.35,3.125,0.9,null,0.5,1.25,0.33,2.6,110,0.13,98,0.1,null,1,null,"ok"]
["Tierpension",2,1.88,2.35,3.125,0.9,null,0.5,1.5,0.33,6.9,275,0.38,360,0.2,null,1,null,"OK"]
["Tierpräparator",2,1.88,2.35,3.125,0.9,null,0.5,1.5,0.33,8.4,350,0.38,396,0.1,null,1,null,"OK"]
["Tiertrainer",4,0.5,0.625,1.2350000000000001,0.8,null,0.25,1.25,0.33,2.6,100,null,108,0.1,null,1,null,"OK"]
["Tierzucht",0,0.88,1.1000000000000001,1.8,0.9,null,0.35,1.25,0.33,8.4,350,0.38,204,0.2,null,1,null,"ok"]
["Tischlerei",2,5.0999999999999996,6.375,7.0350000000000001,0.8,null,0.35,1.25,0.33,11.8,480,0.63,405,0.2,5.6,1,"ü  ","nein"]
["Tongewinnung",0,3.13,3.9125000000000001,4.5225,0.8,null,0.25,0.625,0.33,6.9,275,0.25,204,0.6,null,1,null,"ok"]
["Tonstudio",0,2.13,2.6625000000000001,3.4375,0.9,null,0.5,1.25,0.33,5.6,230,null,108,0.1,null,1,null,"OK"]
["Tonwarenerzeugung",2,2.25,2.8125,3.4224999999999999,0.8,null,0.25,0.625,0.33,6.9,275,0.38,396,0.6,8.9,1,null,"ok"]
["Töpferei",2,3.13,3.9125000000000001,4.5225,0.8,null,0.25,1.25,0.33,6.9,275,0.38,396,0.6,8.9,1,null,"OK"]
["Torfgewinnung u. Verarbeitung",0,3.13,3.9125000000000001,4.5225,0.8,null,0.25,0.625,0.33,6.9,275,0.25,204,0.6,null,1,"ü  ","ok"]
["Totengräber",4,0.5,0.625,1.2350000000000001,0.8,null,0.25,1.25,0.33,8.4,125,null,108,0.1,null,1,null,"OK"]
["Trafostation",0,1.1299999999999999,1.4125000000000001,2.0724999999999998,0.8,null,0.35,0.625,0.33,"VT","VT","VT","VT","VT",null,1,"VT","nein"]
["Transportunternehmung",2,1.88,2.35,2.96,0.8,null,0.25,1.5,0.33,8.4,350,null,360,0.1,null,5,null,"OK"]
["Trockeninnenausbau",2,0.88,1.1000000000000001,1.875,0.9,null,0.5,1.25,0.33,11.8,480,0.56000000000000005,208,2,null,4,"ü  ","OK"]
["Trödler",1,2.5,3.125,3.9,0.9,null,0.5,2.5,0.33,5.6,230,0.25,102,0.2,null,1,null,"ok"]
["Uhrenerzeugung",2,1,1.25,1.95,0.9,null,0.35,0.625,0.33,5.6,230,0.25,204,0.4,null,1,null,"OK"]
["Uhrmacher, Handel und Reparatur",2,1.1299999999999999,1.4125000000000001,2.5474999999999999,1.8,"JT",0.5,1.5,0.33,2.6,110,0.13,108,0.4,null,1,null,"nein"]
["Veranstaltungsbetrieb",4,0.5,0.625,1.2350000000000001,0.8,null,0.25,1.25,0.33,11.8,480,0.56000000000000005,396,0.1,null,1,"VT","OK"]
["Vergnügungspark",3,0.88,1.1000000000000001,1.9550000000000001,1.1000000000000001,null,0.5,1.875,0.33,"VT","VT",null,"VT","VT",null,1,null,"nein"]
["Verkehrssicherungs u. Überwachungsmaßnahmen",0,0.88,1.1000000000000001,1.875,0.9,null,0.5,1.25,0.33,11.8,480,0.63,98,0.1,null,1,"ü  ","ok"]
["Vermietung von WC-Anlagen",0,2.5,3.125,3.7850000000000001,0.8,null,0.35,0.625,0.33,11.8,480,0.56000000000000005,545,0.1,null,1,"VT","OK"]
["Verschrottungsunternehmen",2,1.1299999999999999,1.4125000000000001,2.0724999999999998,0.8,null,0.35,0.625,0.33,34.4,1475,1.5,613,null,null,4,null,"nein"]
["Videothek",3,1.88,2.35,3.4849999999999999,1.8,"S",0.5,1.5,0.33,2.6,110,0.13,102,0.1,null,1,null,"OK"]
["Viehhandel",3,1.88,2.35,3.125,0.9,null,0.5,1.5,0.33,6.9,275,0.75,375,0.2,null,1,null,"OK"]
["Vinothek",3,1,1.25,2.0249999999999999,0.9,null,0.5,1.25,0.33,5.6,230,0.25,193,0.2,null,2,"ü  ","OK"]
["Vulkanisierbetrieb",2,1.1299999999999999,1.4125000000000001,2.1875,0.9,null,0.5,1.25,0.33,8.4,350,null,420,null,null,1,null,"OK"]
["Waagenerzeugung",2,1,1.25,1.91,0.8,null,0.35,0.625,0.33,8.4,350,0.38,204,0.7,3.3,1,"ü ","ok"]
["Wachdienst",4,0.5,0.625,1.2350000000000001,0.8,null,0.25,1.25,0.33,2.6,110,null,98,0.1,null,1,"ü ","OK"]
["Wachszieherei",0,1.88,2.35,3.01,0.8,null,0.35,1.25,0.33,5.6,230,0.25,204,0.7,7.2,1,"ü ","ok"]
["Waffenhandlung",3,1.5,1.875,3.01,1.8,"S ",0.5,1.5,0.33,6.3,275,0.25,102,0.4,null,1,null,"nein"]
["Wagnerei",2,2.75,3.4375,4.0975000000000001,0.8,null,0.35,1.25,0.33,11.8,480,0.63,204,0.2,null,1,"ü ","nein"]
["Waren- u. Kaufhaus, Supermarkt",5,1.5,1.875,2.65,0.9,null,0.5,1.25,0.33,5.6,230,0.25,193,0.2,null,2,"ü ","OK"]
["Waschautomat-Selbstbedienung  **)",2,1.1299999999999999,1.4125000000000001,2.1124999999999998,0.9,null,0.35,1.25,0.33,5.6,230,null,204,0.1,11.1,1,null,"ok"]
["Wäschebügeln",0,0.5,0.625,1.2350000000000001,0.8,null,0.25,1.25,0.33,2.6,110,null,108,0.1,null,1,"ü ","ok"]
["Wäscheerzeugung",0,1.1299999999999999,1.4125000000000001,2.1124999999999998,0.9,null,0.35,0.625,0.33,5.6,230,0.25,204,0.5,6.1,1,"ü ","ok"]
["Wäscherei  **)",2,1.1299999999999999,1.4125000000000001,2.1124999999999998,0.9,null,0.35,1.25,0.33,5.6,230,null,204,0.1,11.1,1,"ü ","ok"]
["Wasseraufbereitungsanlagenhandel inkl. Montage",2,1.1299999999999999,1.4125000000000001,2.1875,0.9,null,0.5,1.25,0.33,8.4,350,0.38,204,0.7,null,1,"ü ","ok"]
["Wasserwerke",0,0.63,0.78749999999999998,1.4475,0.8,null,0.35,0.625,0.33,11.8,410,0.56000000000000005,360,0.2,5,1,"ü ","OK"]
["Watteerzeugung",0,6.13,7.6624999999999996,8.3224999999999998,0.8,null,0.35,0.625,0.33,5.6,230,0.25,300,0.5,null,1,"ü ","ok"]
["Webereien",0,1.1299999999999999,1.4125000000000001,2.0724999999999998,0.8,null,0.35,0.625,0.33,5.6,230,0.25,204,0.5,3.9,1,"ü ","ok"]
["Wein- u. Schaumweinerzeugung",2,0.75,0.9375,1.6375,0.9,null,0.35,0.625,0.33,8.4,350,0.38,396,0.2,5.8,3,"ü ","OK"]
["Wein- und Schaumweinhandel",1,1,1.25,2.0249999999999999,0.9,null,0.5,1.25,0.33,5.6,230,0.25,193,0.2,null,2,"ü ","OK"]
["Weinreben einpflanzen",0,0.88,1.1000000000000001,1.71,0.8,null,0.25,1.25,0.33,10,410,0.56000000000000005,204,0.3,null,1,"ü ","ok"]
["Werbeagentur",4,0.88,1.1000000000000001,1.875,0.9,null,0.5,1.25,0.33,2.6,110,0.13,98,0.3,null,"VT","ü ","OK"]
["Werbeartikelerzeugung",0,0.88,1.1000000000000001,1.875,0.9,null,0.5,0.625,0.33,5.6,230,0.25,600,0.3,null,1,"ü ","OK"]
["Werbeartikelhandel",3,0.88,1.1000000000000001,1.875,0.9,null,0.5,1.25,0.33,2.6,110,0.13,102,0.2,null,1,"ü ","OK"]
["Werkzeugerzeugung",2,1.25,1.5625,2.2625000000000002,0.9,null,0.35,0.625,0.33,8.4,350,0.38,204,0.7,5.6,1,"ü ","ok"]
["Werkzeughandel",3,1.25,1.5625,2.2625000000000002,0.9,null,0.35,0.625,0.33,8.4,350,0.38,193,0.7,null,1,"ü ","OK"]
["Wildprethandlung",5,1.1299999999999999,1.4125000000000001,2.1924999999999999,1.1000000000000001,null,0.35,1.875,0.33,5.6,230,0.25,102,0.2,null,2,"VT","ok"]
["Woll-, Wirk- u. Garnwarenerzeugung",0,1.88,2.35,3.05,0.9,null,0.35,1.25,0.33,5.6,230,0.25,204,0.5,3.9,1,"VT","OK"]
["Woll-, Wirk- u. Garnwarenhandel",3,1.88,2.35,3.05,0.9,null,0.35,1.25,0.33,2.6,110,0.13,102,0.5,null,1,"VT","ok"]
["Würstelstand",2,0.88,1.1000000000000001,"VT","VT",null,0.35,2.5,0.33,5.6,230,null,106,0.2,7.2,2,"ü ","OK"]
["Zahntechnisches Atelier",2,0.63,0.78749999999999998,1.5625,0.9,null,0.5,1.25,0.33,8.4,350,0.38,396,0.2,null,1,"ü ","OK"]
["Zauberer",4,0.5,0.625,1.2350000000000001,0.8,null,0.25,1.25,0.33,2.6,110,null,98,0.1,null,1,"ü ","OK"]
["Zeitschriftenhandel",3,0.88,1.1000000000000001,1.835,0.8,null,0.5,1.25,0.33,2.6,110,null,102,0.2,null,1,null,"ok"]
["Zellwolleerzeugung",0,1.5,1.875,2.5350000000000001,0.8,null,0.35,0.625,0.33,10,410,0.56000000000000005,396,0.5,5,1," ü ","nein"]
["Zementerzeugung",0,1.1299999999999999,1.4125000000000001,2.0724999999999998,0.8,null,0.35,0.625,0.33,8.4,350,0.38,600,2,6.7,1,null,"nein"]
["Ziegelei",0,3.13,3.9125000000000001,4.5724999999999998,0.8,null,0.35,0.625,0.33,11.8,480,0.56000000000000005,600,2,8.9,1,null,"nein"]
["Zimmerei (ohne Sägewerk)",2,3.25,4.0625,4.7225000000000001,0.8,null,0.35,0.625,0.33,20.6,910,0.75,208,0.2,5,4,"ü ","nein"]
["Zusammenbau von Möbelbausätzen",0,1.5,1.875,2.65,0.9,null,0.5,1.25,0.33,10,410,0.56000000000000005,300,0.2,null,1,"ü ","OK"]